{"text_format":"1","workbook":"xlsx","n_sheets":23,"sheets":["Instruction","Coding","Master","Reporting","Transaction Details","P&L","BalSheet","Rcpts & Pymts","BankRec Main Acct","BankRec Sub Bank Acct","DebitCard Rec ","PettyCash Rec","Bookshop Stmnt","Tuckshop Stmnt","Uniformshop Stmnt","Stock Reg","Asset Reg","Loan Reg","Prepaid Reg","Provision Reg","Annual P&L","Annual BalSheet","Annual Rcpts & Pymts"],"not_rendered":{"charts":0,"images":0,"macros":1,"external_links":1,"defined_names":75,"comments":8,"pivot_tables":0},"unopened":[],"bounds":{"document_bytes":16777216,"sheet_cells":100000,"rows_first":2000,"rows_last":500,"rows_between":2000,"halvings":0,"cell_chars":16384,"cell_head_chars":4096},"cells_cut":0,"cells_raw":0,"read":"whole","date_system":"1900"}

{"sheet":"Instruction","index":0,"n_rows":352,"n_cols":3,"rows_kept":352,"cut":false,"hidden":false,"merged":[[88,1,88,2],[165,1,165,2],[1,1,1,2]]}
[]
[null,"Instruction"]
[null,"P&C Financial Recording and Reporting Requirements "]
[null,null,"P&Cs are required to maintain transaction records for all receipts and payments."]
[null,null,"P&Cs are required to  produce financial statements for the P&C meetings held during the year  and an audited annual financial statements for the AGM."]
[]
[null,"P&C Cashbook"]
[null,null,"The P&C Cashbook is an excel-based finance system that combines the recording, reconciliation process and financial reporting requirements in one simple excel workbook which allows for increased transparency and compliance."]
[null,null,"The P&C Cashbook is made up of a number of worksheets, the majority of these require little or no input by the user, but they will produce all the required reports and statements a P&C needs to meet their financial requirements."]
[]
[null,"Key Features"]
[null,"• ","All receipts and payments transactions are easily recorded in the one Transactions Details worksheet."]
[null,"• ","The Cashbook caters for 1 main bank account, 1 sub bank account, 1 debit card account and 1 petty cash account."]
[null,"• ","The reconciliation processes for the bank statements, debit card statement and petty cash are automated."]
[null,"• ","The  monthly Balance Sheet, Profit and Loss, and Receipts and Payments statements as well as the Annual Financial Statements are automatically created."]
[null,"• ","Trading statements are also automatically generated.  The Cashbook is set up for  3 trading statements for commercial activities run by Tuckshop, Uniform shop and Bookshop."]
[null,"• ","Additional Registers are available for Stock, Asset, Loan, Prepayments and Provisions. The Specific Instruction section below on Registrars  provides more detailed information."]
[]
[null,"Transaction Processing"]
[null,"• ","Financial approval must be sought before making a purchase"]
[null,"• ","Receipts for all purchases and transactions must be retained"]
[null,"• ","All transactions for bank account, debit card and petty cash are recorded. "]
[null,"• ","A monthly reconciliation of the account/s must be performed, to ensure that the accounts and financial records are in agreement."]
[null,"• ","The cashbook and bank statement items are matched to identify outstanding or unidentified transactions."]
[null,"• ","All bank charges must be accounted for."]
[null,"• ","All unclaimed money must be accounted for. "]
[null,"• ","Only legitimate payments are presented on the account."]
[]
[null,"Quick Guide"]
[null,1," Initial Set Up"]
[null,"a.","Complete the yellow input cells on the Master tab when starting a new financial year or if it is the first time a P&C starts using the Cashbook. "]
[null,null,"The opening balances of the balance sheet accounts equal to the previous year closing balances which was reported in the balance sheet statement."]
[null,"b.","Enter any unpresented receipts and payments transactions on the Transaction Details tab.  "]
[null,null,"The unpresented transactions were the transactions that had been recorded in your previous finance system but not yet presented on the bank statements.  "]
[]
[null,2,"Routine recording"]
[null,null,"Record receipts and payments transactions in the Transaction Details tab."]
[null,null,"Col A to Col U are data input cells, containing free text or drop down cell data selection cells."]
[null,null,"Col W to Col AX are formula to generate financial reports."]
[]
[null,3,"Registers "]
[null,null,"Complete the relevant Register tab where applicable."]
[null,null,"Enter Asset Register if an asset is created in the reporting month."]
[null,null,"Enter Loan Register if a new loan is set up in the reporting month."]
[null,null,"Enter Prepaid register if a new prepayment is set up in the reporting month."]
[null,null,"Take up the provisions for Annual Leave or LSL if required."]
[]
[null,4,"Reconciliations"]
[null,null,"Receive bank statements or debit card statements from financial institution."]
[null,null,"Match transactions recorded in the Transaction Details tab against transactions on the bank/debit card statements."]
[null,null,"Enter first day of statement date (e.g. 01/01/2019) Col O, S or U when there is a confirmed match of transactions."]
[null,null,"Enter transactions that shown on the statements but not previously recorded in the Transaction Details tab and then enter first day of statement date in Col O, S or U."]
[]
[null,5,"Generate Monthly Reports"]
[null,null,"Complete required enters in the yellow cells on Reporting tab."]
[null,null,"Click on Macro Buttons in blue where required."]
[null,null,"Enter the stock value if required."]
[null,null,"Check the Verification section to ensure there are no errors."]
[null,null,"Print the monthly reports."]
[]
[null,6,"Generate Annual Financial Statements "]
[null,null,"Annual Financial Statements will be automatically created. "]
[null,null,"Click on the relevant Annual P&L, Balance Sheet and Receipts and Payments tabs and print statements."]
[]
[null,"House Keeping"]
[null,"• ","All the formulas and calculations are password protected.  The password to unprotect the sheet is Cashbook2019.  Alternatively, click the \"Unprotect all worksheets\" or \"Protect all worksheets\" macro to unprotect & protect the spreadsheets.  It is highly recommended to have the worksheets protected whilst entering data to prevent formula being accidentally deleted. "]
[null,"• ","All  formula are displayed to enable the users to understand or trace the formula. "]
[null,"• ","Date must be entered as per the format required - 01/01/2019."]
[null,"• ","Data is only entered into the yellow input cells in the various worksheets, except for the Transaction Details tab where data is entered in columns A to O."]
[null,"• ","The formula Type column in each tab indicates the formula type used for the line item based on where it sources the data from.  Line items with same formula type Number sourced the data from using the same formula. "]
[null,"• ","The cashbook is designed for small to medium sized P&C Associations, and has its limitations. "]
[null,"• ","If you have a larger P&C which has numerous bank accounts, staff, assets, commercial activities etc. it may be better to use a commercial package like MYOB that caters for more complex requirements. "]
[null,"• ","Due to this Cashbook being an excel based tool it is unable to cater for all P&C scenarios in its current configuration. "]
[null,null,"Certain modifications can be made to the Cashbook where a P&C may need to add additional register items or bank accounts. "]
[]
[null,"Where to Seek Assistance"]
[null,null,"It is recommended if you have the following questions or wish to make any changes regarding: "]
[null,"• ","How to use the Cashbook."]
[null,"• ","How to migrate from the current account keeping tool (cashbook) into this new Cashbook model."]
[null,"• ","How to modify/create additional coding, registers, trading statements, bank accounts."]
[]
[null,"For assistance or enquires contact the Department of Education, Financial Business Policy team: "]
[null,"Email:  ","financialpolicy.finance@qed.qld.gov.au"]
[]
[null,"For information and documents refer to: "]
[null,"Website: ","https://education.qld.gov.au/parents-and-carers/parent-participation/p-and-c "]
[]
[]
[null,"Specific Instruction"]
[null,"Master"]
[null,null,"The master data is the basic financial information required to start the P&C Cashbook. "]
[null,null,"This is to be completed when creating a new cashbook or at the start of a new financial year."]
[null,null,"Based on the information provided in the previous year's balance sheet, enter the opening balance values for the balance sheet items."]
[]
[null,"Transaction Details"]
[null,null,"Enter details of all payments and receipts in the data entry and data selection cells (columns A-U)."]
[null,null,"For cells containing data selections click on the cell, by using the commands of Alt + Down Arrow will bring up the drop down selections for the cell."]
[null,"Column A","Transaction Date (mandatory) This is the date on which a document will be recorded into the relevant posting period. Dates must be entered in 01/01/2019 format."]
[null,"Column B","Transaction Method (mandatory) Select the transaction method.  Cash_Main, Cheque_Main & EFT_Main and Cash_Sub, Cheque_Sub and EFT_Sub are transactions processed via the main bank account and sub main bank account respectively.  Debit card and Petty cash are for transactions processed by debit card and petty cash."]
[null,"Column C","Transaction Type (mandatory) Select between ‘Payment’ (expense/money going out) or ‘Receipt’ (income/money coming in) for each transaction."]
[null,"Column D","Receipt Category (mandatory) Where ‘Receipt’ has been selected in the transaction type column, select the relevant type of receipt here."]
[null,"Column E","Payment Category (mandatory) Where ‘Payment’ has been selected in the transaction type column, select the relevant type of payment here."]
[null,"Column F","Activity (mandatory) Based on the ‘Payment’ or ‘Receipt’ category select the relevant type of P&C activity.   The purpose of this column is to enable the data to be captured or reported for each  commercial activity or for more specific purposes (e.g. the transaction is for Fundraising FETE, rather than for Fundraising.   Leave blank if the transaction does not require to report in the activity level."]
[null,"Column G","Registers (optional) Select from the options to identify if the transaction relates to the initial transaction for an asset, loan, or a prepaid expense."]
[null,"Column H","Name (optional) Enter the customer or suppliers name to help identify transactions and assist with reconciliations."]
[null,"Column I","Description (mandatory) Enter a description to explain and provide details about the transaction."]
[null,"Column J","Ref/Chq Number (optional) Enter any relevant invoice, receipt, cheque number etc."]
[null,"Column K","Amount (mandatory) Enter the total transaction amount (GST inclusive where applicable)."]
[null,"Column M","Date of Banking (optional).  Col M to O is for the Main Bank Account.   Where cash or cheque are deposited into the main bank account, enter the date of banking. Dates must be entered in 01/01/2019 format."]
[null,"Column N","Total Amount Banked (optional) Enter the total amount banked into the main bank account. If a number of transactions are deposited together enter the total amount once and highlight the matching amounts."]
[null,"Column O","Bank Statement Month (mandatory) Is used for main bank statement reconciliation purposes. Data is entered into the cell after you receive a bank statement and the transaction appears in the bank statement. If the bank statement is for the month of January 2019, enter 1/1/2019."]
[null,"Column Q","Date of Banking (optional).  Col Q to S is for the Sub Bank Account.   Where cash or cheque are deposited into the sub bank account, enter the date of banking. Dates must be entered in 01/01/2019 format."]
[null,"Column R","Total Amount Banked (optional) Enter the total amount banked into the sub bank account. If a number of transactions are deposited together enter the total amount once and highlight the matching amounts."]
[null,"Column S","Bank Statement Month (mandatory) Is used for sub bank statement reconciliation purposes. Data is entered into the cell after you receive a bank statement and the transaction appears in the bank statement. If the bank statement is for the month of January 2019, enter 1/1/2019."]
[null,"Column U","Debit card Bank Statement Month (optional) Is used for debit card bank statement reconciliation purposes. Data is entered into the cell after you receive a debit card bank statement and the transaction appears in the bank statement. If the debit card bank statement is for the month of January 2019, you enter 1/1/2019."]
[null,"Reconciliations"]
[null,"• ","The cashbook automatically produces the reconciliation statements in separate worksheet tabs based on calculations and data entered. "]
[null,"• ","Main Bank Statement Reconciliation"]
[null,"• ","Sub Bank Statement Reconciliation"]
[null,"• ","Debit Card Reconciliation "]
[null,"• ","Petty Cash Reconciliation"]
[null,null,"Each reconciliation will highlight any errors and discrepancies that will need to be addressed. "]
[]
[null,null,"Transactions that require adjustment"]
[null,"• ","Unpresented Payments (outstanding withdrawals) – These are withdrawals or cheques that the P&C has sent to suppliers/vendors and entered into the cashbook but which did not show up at the bank by the closing date of your bank statement."]
[null,"• ","Unpresented Receipts (outstanding deposits/receipts) – These are receipts that the P&C have entered into the cashbook, but which were not deposited to the bank before the bank statement closing date.  Alternatively, the deposit might have deposited to the bank but not yet recorded on the bank statement. "]
[null,"• ","Bank Fees and Interest – These are charges that you would normally only know about after receiving your bank statement. You will need to enter these into the cashbook."]
[null,"• ","Other unidentified entries – If there are any other entries missing from either the cashbook or bank statements you will need to investigate and make the necessary adjustments."]
[]
[null,"Reporting"]
[null,"• ","Start the Reporting processes only after all the transactions relating to the reporting period are entered onto the Transaction Details tab and the bank statements relating to the reporting period are received."]
[null,"• ","Enter the month of reporting and the preceding month and click on the macro button to create the opening balances for the financial statements. "]
[null,"• ","Complete Steps 1 to 4 to create and check the opening and ending balances for the main & sub bank accounts, debit card and petty cash accounts. "]
[null,"• ","Where a P&C runs a commercial activity, click on the \"Go to Stock Register Tab\" macro the closing stock values will need to be recorded and entered in stock register tab."]
[null,"• ","The worksheet will produce a financial snapshot and go through an automated verification process and highlight any reconciliation or balancing issues."]
[]
[null,null,"Printing Statements and Reconciliations"]
[null,null,"To print a statement and/or reconciliation"]
[null,"• ","Click on the relevant macro buttons under the \"Print Financial Statements\" section. "]
[]
[null,"Financial Statements"]
[null,null,"The cashbook automatically produces the financial statements in separate worksheets based on calculations and data entered. "]
[]
[null,"Profit and Loss Statement (Statement of Comprehensive Income / Income Statement)"]
[null,null,"A profit and loss statement provides information on if the P&C is making a profit or a loss. "]
[null,null,"This includes income, cost of goods sold, expenses, accounting profit or loss result."]
[null,null,"Used to pinpoint if the P&C is recouping its cost of goods sold and analyse business-trading trends."]
[]
[null,"Balance Sheet (Statement of Financial Position) "]
[null,null,"A balance sheet is a financial report providing a quick view of a P&C's financial position."]
[null,null,"It is a summary of assets, liabilities and equity."]
[null,null,"Used to establish: "]
[null,"• ","The sources of funds the P&C uses (equity and liabilities)"]
[null,"• ","What the funds have been used on (assets)"]
[null,"• ","How much money is in the bank accounts or petty cash "]
[null,"• ","The value of assets (equipment) that the P&C owns"]
[null,"• ","How much money customers owe to the P&C"]
[null,"• ","How much is owed by the P&C to suppliers"]
[null,"• ","How much is left to repay loans"]
[]
[null,"Statement of Receipts and Payments"]
[null,null,"This is simply a summary of the cash and bank transactions, analysed and classified under suitable headings, including the opening and closing balances."]
[null,null,"The portion of income or expenditure which has been received or paid in cash this year, is recorded."]
[null,null,"Both capital and revenue transactions are captured."]
[]
[null,"Trading Statements"]
[null,null,"A trading statement is similar to a P&L but shows the activity from a P&C commercial activity. "]
[null,null,"The trading statement will show gross profitability of each commercial activity during a particular period, showing total sales, total purchases and all direct expenses relating to purchase and sales."]
[null,null,"It shows opening stock, closing stock, purchases of goods, sales of goods and all expenses which are directly related to the commercial activity."]
[]
[null,"Stock Register"]
[null,"Purposes:"]
[null,null,"The Stock Register is only to be completed if a P&C has commercial activities with inventory stock."]
[null,null,"The Stock Register allows users to calculate the monthly and end of year opening and closing stock values. "]
[null,null,"The closing stock value is used to calculate the cost of good sold (in the Income Statement) and to recognise the stock value (in the Balance Sheet) for the reporting period."]
[null,null,"The closing stock values can be based on the value taken by a physical stock take or calculated by the Stock Calculator."]
[null,null,"P&C has to undertake a physical stock take at least once a year, preferably before the end of the financial year.   For other reporting periods,  P&C may use the Stock Value Calculator to estimate the closing stock value."]
[null,null,"The Stock Register is not an Inventory Register which provides a detailed record of how many items for each inventory stock. "]
[]
[null,"How to use:"]
[null,null,"Mark Up %"]
[null,"• ","The mark up % is the average mark up % for all the stock items for the associated commercial activity."]
[null,"• ","The mark up is used to cover the operating expenses for the commercial activity and also save some earnings for future capital replacement/replenishment."]
[null,"• ","Enter the mark up % for each commercial activity in cells K6, K7 or K8."]
[null,"• ","When setting up the price for each sale item, the P&C may apply a fixed mark up % for all sales items or alternatively apply a different mark up % for some specific items (0% for milk, 2% for bread) and a fixed mark up % (20%) for all other items.  "]
[]
[null,"The Stock Value Calculator:"]
[null,null,"The closing stock value is calculated based on the opening stock + the stock purchased - sales (1-sales mark up%)."]
[]
[null,"Enter the Closing Stock Value:"]
[null,null,"Enter the closing stock value, based on the value sourced from the physical stock take or the stock value calculator into Columns D, F or H for the respective months."]
[]
[null,"Asset Register"]
[null,"Purposes:"]
[null,null,"The Asset Register is only to be completed if a P&C has an asset with a useful life that is greater than 1 year and the purchase value is greater than $5,000. "]
[null,null,"The Asset Register allows the calculation of one asset monthly and yearly depreciation (recognised in the Income Statement) and opening and ending balances of the asset value (in the Balance Sheet)."]
[null,null,"The Asset Register is not a equipment register where a record of all portable and attractive items are kept for control and governance purposes."]
[]
[null,"Limitations:"]
[null,null,"The Register is currently catered for one asset only.  "]
[null,null,"An assumption has been made that the asset is owned by the Tuckshop and therefore the depreciation expenses and the asset value is recognised in the Tuckshop statement. "]
[null,null,"An additional asset register will need to be created if there is more than one asset. "]
[null,null,"The formulas in the Cashbook needs to be updated if the asset is not owned by the Tuckshop."]
[null,null,"For assistance in setting up a new asset register or for changing the formula contact:"]
[null,null,"financialpolicy.finance@qed.qld.gov.au"]
[]
[null,"How to Use:"]
[null,null,"Enter the asset information into cells B3, B4, G5, G6 and G7."]
[]
[null,"Formula:"]
[null,null,"The opening balance and the closing balance of an asset recorded in the asset register is recognised in the Balance Sheet."]
[]
[null,null,"Notional Opening Balance:"]
[null,null,"When an asset is firstly purchased, the value in the Notional Opening Balance is the original purchase value of the asset, i.e. value equal to G6."]
[null,null,"Starting from the second month after the asset is purchased, the value in the Notional Opening Balance is the ending balance of an asset carried over from the previous month."]
[null,null,"The value in the Notional Opening Balance is zero when the asset is fully depreciated i.e. the previous month closing balance equals to zero."]
[]
[null,null,"Adjusted Opening Balance:"]
[null,null,"In the Balance Sheet, the opening balance of the month when an asset is firstly purchased should be zero.  "]
[null,null,"The formula in the Adjusted Opening Balance will adjust the 1st month opening balance from the Notional Opening Balance to zero.   "]
[null,null,"Starting from the 2nd month, the balance in the adjusted opening balance equals to the notional opening balance. "]
[]
[null,"Loan Register"]
[null,"Purpose:"]
[null,null,"The Loan Register is only to be completed if a P&C has a loan."]
[null,null,"If a new loan is obtained in the reporting year, the cash received from the loan will increase the cash balance in the bank account with a corresponding increase in liability.  These two corresponding transactions are reflected in the Balance Sheet. "]
[null,null,"When payment is made  to repay the principal and interest expenses associated with the loan, the loan liability in the balance sheet is reduced by the \"repayment - principal\" component (reflected in the Balance Sheet) and the \"repayment - interest expenses\" component will be recorded in the Income Statement.  "]
[]
[null,"Limitations"]
[null,null,"The Loan Register currently caters for one loan only.  "]
[null,null,"An assumption has been made that the loan is set up for the Tuckshop. "]
[null,null,"An additional loan register will need to be created if there is more than one loan. "]
[null,null,"The text in F10 & G11 needs to be updated if the loan is not sourced for the Tuckshop (refer to the Formula section below)"]
[null,null,"For assistance in setting up a new loan register or for changing the formula contact:"]
[null,null,"financialpolicy.finance@qed.qld.gov.au"]
[]
[null,"How to Use:"]
[null,null,"Enter the loan information in B3, H4 to H9. "]
[]
[null,"Formula:"]
[null,null,"Column C  picks up any cash receipt for a new loan recorded in the Transaction Details tab."]
[null,null,"Column F picks up payments recorded in the Transaction Details tab for  \"repayment - principal\" component. "]
[null,null,"Column G picks up payments recorded in the Transaction Details tab for  \"repayment - interest Expenses\" component. "]
[null,null,"Column F & Column G are currently set up assuming the loan is for the Tuckshop.  If the loan is for the P&C general use or other commercial activities, copy the text in Column AL of the Transaction Details tab for loan repayments and interest components into F10 & G10 respectively on the Loan Register tab. "]
[]
[null,null,"Notional Opening Balance:"]
[null,null,"If the loan is firstly set up (i.e. a new loan) in the reporting financial year, the value in the Notional Opening Balance is the original loan amount  i.e. the value in H7."]
[null,null,"If the loan is carried forward from the previous year, the notional opening balance equals to H9."]
[null,null,"Starting from the second month after the loan is set up, the value in the Notional Opening Balance is the ending balance of the loan carried over from the previous month."]
[null,null,"The value in the Notional Opening Balance is zero when the loan has fully paid back  i.e. the previous month closing balance equals to zero."]
[]
[null,null,"Adjusted Opening Balance:"]
[null,null,"In the Balance Sheet, the opening balance of the month when a loan is firstly set up should be zero.  "]
[null,null,"The formula in the Adjusted Opening Balance will adjust the 1st month opening balance from the Notional Opening Balance to zero.   "]
[null,null,"Starting from the 2nd month, the balance in the adjusted opening balance equals to the notional opening balance. "]
[]
[null,"Prepaid Register"]
[null,"Purposes:"]
[null,null,"The Prepaid Register is only to be completed if a P&C has made a payment where the benefit lasts beyond the month where the payment is made e.g. for 12 months."]
[null,null,"The Register allows the calculation to amortise the prepaid expenses in the Income Statement and update  the opening and ending balances of the prepaid value in the Balance Sheet."]
[]
[null,"Limitations:"]
[null,null,"The worksheet caters for two prepayments only"]
[]
[null,"How to Use:"]
[null,"• ","Enter into yellow cells the information relating to the 1st prepayment in Register 1 and the 2nd prepayment in Register 2. "]
[null,"• ","Enter the date the prepayment is made into M7 (or S7)."]
[null,"• ","Enter the month the prepayment amortisation starts into M6 or (S6)."]
[null,"• ","Take the following actions if the Association has made a prepayment in a month earlier than the amortisation starts.    "]
[null,"• ","For example, a payment of $1,200 was made in January 2019 for an annual subscription starts in March 2019 and ends in February 2020.  "]
[null,"• ","As payment has been made in January, the balance sheet should reflect a closing balance of $1,200 in the prepayment account for the months of January & February."]
[null,1,"In January, enter 01/01/2019 in the yellow input cell for the \"Month - Prepayment Amortisation starts\".  "]
[null,2,"In January, enter 1000000000 in the yellow input cell for the \"Prepaid Period in Months\". "]
[null,3,"Enter 1/1/2019 in the yellow input cell for the \"Date - Prepayment paid\".  This cell is for information only."]
[null,4,"Steps 1 & 2 will trigger the formula in the Monthly Amortisation column to calculate the monthly amortisation expenses for the months of January & February which will literally equal  to  0 (i.e.. 1200/1000000000000 = 0.0000000000) and the closing balances for the months of January & February equal to $1,200 (i.e. $1,200 - 0.000000000000)."]
[null,5,"In March, enter the correct prepaid period in the yellow input cell for the \"prepaid period in Months\" and enter 1/3/2019 in the yellow input cell for \"Month-Prepayment Amortisation Starts\"."]
[]
[null,"Formula"]
[null,null,"Column C  picks up any payment  recorded as \"pre-paid expenses\" in Column E of the Transaction Details tab."]
[]
[null,null,"Notional Opening Balance:"]
[null,null,"The first month when the prepayment starts amortising, the value in the Notional Opening Balance is the total prepaid amount i.e. value equal to M5 (or S5)."]
[null,null,"Starting from the second month after the prepayment starts amortising, the value in the Notional Opening Balance is the ending balance of an prepaid expenses carried over from the previous month."]
[null,null,"The value in the Notional Opening Balance is zero when the prepayment is fully amortised i.e. the previous month closing balance equals to zero."]
[]
[null,null,"Adjusted Opening Balance:"]
[null,null,"In the Balance Sheet, the opening balance of the month when a prepayment is paid should be zero.  "]
[null,null,"The formula in the Adjusted Opening Balance will adjust the 1st month opening balance from the Notional Opening Balance to zero.   "]
[null,null,"Starting from the 2nd month, the balance in the adjusted opening balance equals to the notional opening balance. "]
[]
[null,"Provision Register"]
[null,"Purposes:"]
[null,null,"The Provision Register is only to be completed if a P&C wishes to accrue for a liability where payment has not yet made to settle the liability at the reporting period."]
[null,null,"The worksheet captures provisions for two major liabilities  i.e. Provisions for annual and long service leave."]
[null,null,"Liabilities can be taken up for the Association itself or for each commercial activity, depending on where the employee works.  "]
[null,null,"The Association should only take up an accrual/provision if the liability is material."]
[null,null,"Accrual is not necessarily to be taken up on a monthly basis.  They can be taken up on a quarterly or yearly basis."]
[]
[null,"Limitations:"]
[null,null,"The Register is currently catered for taking provisions for AL and LSL.  "]
[null,null,"Extra register needs to be created for other provisions."]
[null,null,"For assistance in setting up new register or changing formula contact:"]
[null,null,"financialpolicy.finance@qed.qld.gov.au"]
[]
[null,"How to Use:"]
[null,"• ","The Register enables the Association to take up an accrual by entering the accrued amount in the \"Month\" Column.  The accrued expenses are recognised in the Income Statement. "]
[null,"• ","The liability accrued (i.e. the entry in the Month column) will increase the liability which will be reduced when the employee takes the leave and payment is made to the employee."]
[null,null,"An Example:"]
[null,"• ","An employee works in the Tuckshop is entitled for a 4 weeks Annual Leave and 1 week LSL. "]
[null,"• ","Enter equivalent to 1 week of wages in AB8, AB11, AB14 & AB17 for the AL liability."]
[null,"• ","Enter equivalent to 1.25 days of wages in AB25, AB28, AB31 and AB34 for the LSL liability."]
[null,"• ","When an employee takes the leave and payment is made and recorded in the Transaction Details tab, the payment made up to the employee will be captured in the Cash Payment column."]
[]
[null,"Coding"]
[null,null,"This worksheet contains all the coding and data validations that are used in the cashbook"]
[null,null,"The data validation (drop down list) categories in the Transaction Details tab is based on the categories in the coding tables."]
[null,null,"These categories are used as the basis of the financial statements which are automatically produced. "]
[null,null,"Any changes to the coding categories need to be reflected in changes to any corresponding formulas and the categories in the financial statements tabs. "]
[null,null,"If the changes are not made correctly the financial statements produced will not be accurate. "]
[]
[null,"Change an activity name "]
[null,null,"A simple change of an Activity name is done by replacing a category name in Column F"]
[null,null,"It is highly recommended you copy the text value in column AL of the \"Transaction Details\" tab to replace the old category cell name of the \"Rcpts & Pymts\" tab.  \nPlease make sure you copy and paste the text as value.  Copy the format in the above cell to tidy up the formatting.   "]
[]
[null,null,"For assistance in setting up new coding categories:"]
[null,null,"financialpolicy.finance@qed.qld.gov.au"]
[]
[null,"Macro Buttons"]
[null,"Create Opening Balances:"]
[null,"• ","The purpose of the macro is to automate (record) a series of manual steps to calculate the opening balances and closing balances of the main and sub bank accounts, debit card and petty cash accounts.    The balances are used to reconcile the bank, debit cards and petty cash account balances. "]
[null,"• ","The macro records the following steps"]
[null,null,"Copy Reporting C7 into P&L E8"]
[null,null,"Copy BankRec Main Acct J15 to K15, paste value K15"]
[null,null,"Copy BankRec Main Acct J21 to K21, paste value K21"]
[null,null,"Copy BankRec Sub_Bank Acct J15 to K15, paste value K15"]
[null,null,"Copy BankRec Sub_Bank Acct J21 to K21, paste value K21"]
[null,null,"Copy DebitCard Rec J15 to K15, paste value K15"]
[null,null,"Copy DebitCard Rec J21 to K21, paste value K21"]
[null,null,"Copy PettyCash Rec J15 to K15, paste value K15"]
[null,null,"Copy Reporting C6 into P&L E8"]
[]
[null,"Hide No Data Rows:"]
[null,"• ","The macro  is  assist users to hide those rows that have no financial data reported against the rows.  "]
[]
[null,"Unhide All Rows:"]
[null,"• ","The macro is to unhide all rows"]
[]
[null,"Protect all worksheets:"]
[null,"• ","The macro is to protect all formula created in the worksheet."]
[]
[null,"UnProtect all worksheets:"]
[null,"• ","The macro is to unprotect the worksheet.  Changes can be made to the worksheets after the worksheets are unprotected.   "]

{"sheet":"Coding","index":1,"n_rows":34,"n_cols":7,"rows_kept":34,"cut":false,"hidden":false,"merged":[[0,4,0,5],[1,1,1,6]]}
[]
[null,"Transaction Details Drop Down Lists Coding Table"]
[null,"Transaction Method\n(Column B)","Transaction Type\n(Column C)","Receipt Category\n(Column D)","Payment Category\n(Column E)","Activity\n(Column F)","Balance Sheet items, Accountable Form\n(Column G)"]
[]
[null,"Cash_Main","Payment","Petty Cash float top up","Petty Cash top up","Bookshop","Asset Register"]
[null,"Cheque_Main","Receipt","Debit Card account top up","Debit Card top up","Tuckshop","Loan Register"]
[null,"EFT_Main",null,"Sales","Stock purchase","Uniform Shop","Prepaid Expenses Register"]
[null,"Debit card",null,"Fundraising ","Fundraising expenses","Swim Club","Provision Register"]
[null,"Petty cash",null,"Donations","Asset purchases ","Art show","Stock Register"]
[null,"Cash_Sub",null,"Grant ","Pre-paid expense","Auction"]
[null,"Cheque_Sub",null,"Interest earned","Accountant fees","Cake stall"]
[null,"EFT_Sub",null,"Other income","Advertising and marketing","Car wash"]
[null,null,null,"Loan","Audit fees","Chocolate drive"]
[null,null,null,null,"Bank charges","Christmas"]
[null,null,null,null,"Donations","Coin drive"]
[null,null,null,null,"Equipment/tools","Concert"]
[null,null,null,null,"Loan repayment - principal component","Container Refund Scheme"]
[null,null,null,null,"Loan repayment - interest expenses","Cookie dough drive"]
[null,null,null,null,"Insurance","Disco"]
[null,null,null,null,"Membership and subscriptions","Easter"]
[null,null,null,null,"Printing","Entertainment book"]
[null,null,null,null,"Repairs and maintenance","Fathers day"]
[null,null,null,null,"School premise/facility hire","Fete"]
[null,null,null,null,"Stationery and postage","Fun run"]
[null,null,null,null,"Superannuation","Market stall"]
[null,null,null,null,"Wages","Mothers day"]
[null,null,null,null,"Other expenses","Movie night"]
[null,null,null,null,"Long Service Leave","Pie drive"]
[null,null,null,null,"Annual Leave","Raffle"]
[null,null,null,null,null,"Sausage sizzle"]
[null,null,null,null,null,"School banking"]
[null,null,null,null,null,"School camp"]
[null,null,null,null,null,"Sport carnival"]
[null,null,null,null,null,"Trivia night"]

{"sheet":"Master","index":2,"n_rows":54,"n_cols":3,"rows_kept":54,"cut":false,"hidden":false,"merged":[[1,1,1,2],[2,1,2,2]]}
[]
[null,"Master Data"]
[null,"Enter the master data below when starting a new financial year.\n"]
[null,"Name of the P&C Association","The Sesame St State School \nP&C Association"]
[null,"Enter the Year of Reporting"]
[null,"Enter the year of reporting (e.g. 2019)",2019]
[null,"Enter the first month of the reporting year e.g. 1/1/2019 for Jan 19","2019-01-01"]
[null,"Hit the Macro to the right to copy C7 to the P&L statement"]
[]
[]
[null,"Enter the Opening Balances for the balance sheet accounts.   The opening balance for a new financial year should equal the previous year's closing balance."]
[]
[null,"Current Assets:"]
[null,"Cash in Bank - Main Bank Account",900]
[null,"Cash in Bank - Sub Bank Account",0]
[null,"Cash in Hand - Petty Cash Account",100]
[null,"Debit Card Account",500]
[null,"Pre-paid expenses",600]
[null,"Stock on hand - Bookshop",0]
[null,"Stock on hand - Tuckshop",120]
[null,"Stock on hand - Uniform Shop",1250]
[]
[null,"Non-Current Assets"]
[null,"Plant and Equipment",25500]
[]
[null,"Total Assets",{"$f":"SUM(C14:C21)+C24","v":28970}]
[]
[]
[null,"Liabilities:"]
[null,"Balance of Loans",6250]
[]
[null,"Total Provision for Annual Leave Liability",{"$f":"SUM(C33:C36)","v":900}]
[null,"- Provision for Annual Leave Liability (Association)"]
[null,"- Provision for Annual Leave Liability (Bookshop)"]
[null,"- Provision for Annual Leave Liability (Tuckshop)",900]
[null,"- Provision for Annual Leave Liability (Uniform Shop)"]
[]
[null,"Total Provision for Long Service Leave Liability ",{"$f":"SUM(C39:C42)","v":500}]
[null,"- Provision for Long Service Leave Liability (Association)"]
[null,"- Provision for Long Service Leave Liability (Bookshop)"]
[null,"- Provision for Long Service Leave Liability (Tuckshop)",500]
[null,"- Provision for Long Service Leave Liability (Uniform Shop)"]
[]
[null,"Total Liabilities",{"$f":"C30+C32+C38","v":7650}]
[]
[null,"Net Assets",{"$f":"C26-C44","v":21320}]
[]
[null,"Accumulated Surplus"]
[null,"Opening Balance",12750]
[null,"Profit/(Loss) for year",8570]
[]
[null,"Accumulated Surplus at end of year",{"$f":"SUM(C49:C51)","v":21320}]
[]
[null,"Reconciliation",{"$f":"IF(ABS(C46-C52)<1,\"Bal Sheet balanced\",\"Bal Sheet not Balance\")","v":"Bal Sheet balanced"}]

{"sheet":"Reporting","index":3,"n_rows":71,"n_cols":4,"rows_kept":71,"cut":false,"hidden":false,"merged":[[2,1,2,2],[1,1,1,2]]}
[]
[null,{"$f":"Master!C4","v":"The Sesame St State School \nP&C Association"}]
[null,"Generating Financial Statements",null,"Calculations"]
[null,"Enter the Month of Reporting:"]
[]
[null,"Enter the month of reporting  (e.g. 1/2/2019 for the month of Feb 2019) ","2019-03-01"]
[null,"Enter the month preceding the month of reporting (e.g. 1/1/2019)","2019-02-01"]
[]
[null,"Based on the bank statements, check the opening balances and enter the closing balances of the main bank account, sub-bank account, debt card and petty cash accounts. "]
[]
[null,"Step 1:"]
[null,"Click on the macro button to the right to generate the calculated opening balance for the month of reporting.  The calculated balances will show up in cells D16 to D19."]
[]
[null,"Step 2:"]
[null,"Cross check the calculated balances shown in cells D16 to D19 to the opening balances shown on the Main Bank & Sub-Bank Account Statements, Debit Card Statement and the Petty Cash Record.     These should match."]
[null,"Main Bank Account: ",null,{"$f":"'BankRec Main Acct'!K15","v":9170.2000000000007}]
[null,"Sub Bank Account:",null,{"$f":"'BankRec Sub Bank Acct'!K15","v":0}]
[null,"Debit Card:",null,{"$f":"'DebitCard Rec '!K15","v":27}]
[null,"Petty Cash On Hand:",null,{"$f":"'PettyCash Rec'!K15","v":53}]
[]
[null,"Step 3:"]
[null,"Ensure all receipts and payments shown on the bank or debit card statements are recorded in Transaction Details tab.  "]
[]
[null,"3a. If transactions recorded in the Transaction Details tab match transactions on the bank/debit card statements, enter the month details into the Bank Statement Month Column (i.e. column O, S or U)."]
[]
[null,"3b.  For any tansaction that was directly processed by the bank account and appears on the bank statement but a transaction not yet recorded in tranaction details tab (e.g. bank charges), enter the transaction into the transaction details tab."]
[]
[null,"Step 4:"]
[null,"Enter the closing balances shown on the Bank Statements, Debit Card and the Petty Cash Record in cells C30 to C33.  They should agree with the values derived from relevant bank statement tabs, as shown in cells D30 to D33."]
[null,"Main Bank Account: ",15273,{"$f":"'BankRec Main Acct'!E15","v":15273}]
[null,"Sub Bank Account:",0,{"$f":"'BankRec Sub Bank Acct'!E15","v":0}]
[null,"Debit Card:",305,{"$f":"'DebitCard Rec '!E15","v":305}]
[null,"Petty Cash On Hand",82.7,{"$f":"'PettyCash Rec'!E15","v":82.7}]
[]
[]
[null,"Complete this section only if an Association has inventory stock reported at the balance sheet. "]
[]
[null,"Hit the macro button to the right to go the Stock Register Tab and then enter the closing stock value for the reporting month."]
[]
[]
[null,"Verification:   Pop-up messages in D44 to D49 must be \"Yes\""]
[]
[null,"Is the closing balance on the Main Bank AccountStatement reconciled with the financial records?",null,{"$f":"'BankRec Main Acct'!$E$29","v":"Yes"}]
[null,"Is the closing balance on the SuB_Bank Account Statement reconciled with the financial records?",null,{"$f":"'BankRec Sub Bank Acct'!E29","v":"Yes"}]
[null,"Is the closing balance on the Debit Card Statement reconciled with the financial records?",null,{"$f":"'DebitCard Rec '!$E$29","v":"Yes"}]
[null,"Is the closing balance on the Petty Cash Account reconciled with the financial records?",null,{"$f":"'PettyCash Rec'!$E$24","v":"Yes"}]
[null,"Is Balance Sheet Balanced?",null,{"$f":"BalSheet!$I$48","v":"Yes"}]
[null,"Is the Net Receipts/Payments calculated in the Receipts and Payments equal to the closing cash position held in the major bank, debit card and petty cash accounts? ",null,{"$f":"'Rcpts & Pymts'!$I$114","v":"Yes"}]
[]
[null,"Financial Snapshot:"]
[]
[null,{"$f":"CONCATENATE(\"Profit/Loss for the month of \", TEXT('P&L'!$E$8, \"MMM-YY\"))","v":"Profit/Loss for the month of Mar-19"},null,{"$f":"'P&L'!$E$57","v":7234.5}]
[null,{"$f":"CONCATENATE(\"Profit/Loss for \", 'P&L'!$G$8)","v":"Profit/Loss for YTD ending Mar-19"},null,{"$f":"'P&L'!$G$57","v":18929.559999999998}]
[null,"Net Asset/Liabilities",null,{"$f":"BalSheet!$I$46","v":40249.56}]
[null,"Total Cash Balance",null,{"$f":"BalSheet!$I$12+BalSheet!I13+BalSheet!$I$14+BalSheet!$I$15","v":11730.7}]
[null,"Loan Balance Liabilities",null,{"$f":"BalSheet!$I$32","v":2500}]
[]
[null,"Preview and print Monthly Financial Statements"]
[]
[]
[]
[]
[]
[]
[]
[]
[]
[]
[]
[]
[null,"Preview and print Annual Financial Statements"]

{"sheet":"Transaction Details","index":4,"n_rows":5016,"n_cols":50,"rows_kept":1125,"cut":true,"hidden":false,"merged":[[0,22,0,49],[0,0,0,20]],"bounds":{"rows_first":500,"rows_last":125,"rows_between":500,"halvings":2}}
[{"$f":"Master!C4","v":"The Sesame St State School \nP&C Association"},null,null,null,null,null,null,null,null,null,null,null,null,null,null,null,null,null,null,null,null,null,"Calculations"]
["All","All","All","All","All","All","All","All","All","All","All",null,"Main Bank Acct","Main Bank Acct","Main Bank Acct",null,"Sub_Bank Acct","Sub_Bank Acct","Sub_Bank Acct",null,"Debit card ",null,"All","All","All","Main Bank Rec","Main Bank Rec","Main Bank Rec","Main Bank Rec","Main Bank Rec","Main Bank Rec","Sub_Bank Rec","Sub_Bank Rec","Sub_Bank Rec","Sub_Bank Rec","Sub_Bank Rec","Sub_Bank Rec","Debit Card","Debit Card","Debit Card","Debit Card","Debit Card","Debit Card","Petty Cash","Petty Cash","Petty Cash","Petty Cash","Petty Cash","P&L, Trading Statements, Loan Register","Trading Statement, Asset Register, Loan Register, Prepaid Register"]
["Transaction Date","Transaction Method","Transaction Type","Receipt Category","Payment Category","Activity"," Registers","Name (Free-Text)","Description (Free-Text)","Ref/Chq No.","Amount\n$",null,"Date of Banking","Total Amount Banked\n$","Bank Statement Month",null,"Date of Banking","Total Amount Banked\n$","Bank Statement Month",null,"Bank Statement Month",null,"Month & Year","Year","For YTD Amount","All Receipts to Bank Acct","YTD Receipts presented on Bank Statement","Unpresented Receipts up to the Month of Reporting","All Payments to Bank Acct","YTD Payments presented on Bank Statement","Unpresented Payments up to the Month of Reporting","All Receipts to Sub_Bank Acct","YTD Receipts presented on Sub_Bank Statement","Unpresented Receipts up to the Month of Reporting","All Payments to Sub_Bank Acct","YTD Payments presented on Sub_Bank Statement","Unpresented Payments up to the Month of Reporting","All Receipts presented on Debit Card Statement","YTD Receipts presented on Debit Card Statement","Unpresented Receipts up to the Month of Reporting","All Payments presented on Debit Card Statement","YTD Payments presented on Debit Card Statement","Unpresented Payments up to the Month of Reporting","Receipts","YTD Receipts","Payments","YTD Payments","Concatenate \n(Transaction Method + Transaction Type)","Concatenate Columns D & F\n(Receipt Category & Activity)","Concatenate Columns E & F\n(Payment Category + Activity)"]
["2019-01-15","EFT_Main","Payment",null,"Stock purchase","Uniform Shop",null,"The school supply shop","200 school bag stock purchase ","9a",8500,null,null,null,"2019-01-01",null,null,null,null,null,null,null,{"$f":"TEXT($A4, \"mmm-yy\")","v":"Jan-19"},{"$f":"YEAR($A4)","v":2019},{"$f":"IF(AND($A4<'P&L'!$P$8, YEAR($A4)=Master!$C$6), $K4, 0)","v":8500},{"$f":"IF(AND($C4=\"Receipt\",$B4<>\"debit card\",$B4<>\"petty cash\",$B4<>\"Cash_Sub\",$B4<>\"Cheque_Sub\", $B4<>\"EFT_Sub\"),$K4,0)","v":0},{"$f":"IF(AND(NOT(ISBLANK($O4)), $O4<'P&L'!$P$8), Z4, 0)","v":0},{"$f":"IF(OR(ISBLANK($O4), $O4>'BankRec Main Acct'!$E$8), Z4, 0)","v":0},{"$f":"IF(AND($C4=\"Payment\", $B4<>\"debit card\", $B4<>\"petty cash\", $B4<>\"Cash_Sub\", $B4<>\"Cheque_Sub\", $B4<>\"EFT_Sub\"), $K4, 0)","v":8500},{"$f":"IF(AND(NOT(ISBLANK($O4)), $O4<'P&L'!$P$8), AC4, 0)","v":8500},{"$f":"IF(OR(ISBLANK($O4), $O4>'BankRec Main Acct'!$E$8), AC4, 0)","v":0},{"$f":"IF(AND($C4=\"Receipt\",$B4<>\"debit card\",$B4<>\"petty cash\",$B4<>\"Cash_Main\",$B4<>\"Cheque_Main\", $B4<>\"EFT_Main\"),$K4,0)","v":0},{"$f":"IF(AND(NOT(ISBLANK($S4)), $S4<'P&L'!$P$8), AF4, 0)","v":0},{"$f":"IF(OR(ISBLANK($S4), $S4>'BankRec Main Acct'!$E$8), AF4, 0)","v":0},{"$f":"IF(AND($C4=\"Payment\", $B4<>\"debit card\", $B4<>\"petty cash\", $B4<>\"Cash_Main\", $B4<>\"Cheque_Main\", $B4<>\"EFT_Main\"), $K4, 0)","v":0},{"$f":"IF(AND(NOT(ISBLANK($S4)), $S4<'P&L'!$P$8), AI4, 0)","v":0},{"$f":"IF(OR(ISBLANK($S4), $S4>'BankRec Main Acct'!$E$8), AI4, 0)","v":0},{"$f":"IF(AND($C4=\"Receipt\",$B4=\"Debit card\"),$K4,0)","v":0},{"$f":"IF(AND(NOT(ISBLANK($U4)), $U4<'P&L'!$P$8), $AL4, 0)","v":0},{"$f":"IF(OR(ISBLANK($U4), $U4>'DebitCard Rec '!$E$8), $AL4, 0)","v":0},{"$f":"IF(AND($C4=\"Payment\",$B4=\"Debit card\"),$K4,0)","v":0},{"$f":"IF(AND(NOT(ISBLANK($U4)), $U4<'P&L'!$P$8), $AO4, 0)","v":0},{"$f":"IF(OR(ISBLANK($U4), $U4>'DebitCard Rec '!$E$8), $AO4, 0)","v":0},{"$f":"IF($AV4=\"Petty cash Receipt\", $K4, 0)","v":0},{"$f":"IF(AND($A4<'P&L'!$P$8, $X4='P&L'!$G$6), $AR4, 0)","v":0},{"$f":"IF($AV4=\"Petty cash Payment\", $K4, 0)","v":0},{"$f":"IF(AND($A4<'P&L'!$P$8, $X4='P&L'!$G$6), $AT4, 0)","v":0},{"$f":"CONCATENATE(B4,\" \",C4)","v":"EFT_Main Payment"},{"$f":"IF(C4=\"Receipt\",CONCATENATE(D4,\" \", F4), \" \")","v":" "},{"$f":"IF(C4= \"Payment\", CONCATENATE(F4,\" \",E4), \" \")","v":"Uniform Shop Stock purchase"}]
["2019-01-22","EFT_Main","Payment",null,"Stock purchase","Tuckshop",null,"Freshfood company","January Tuckshop food order","9b",5800,null,null,null,"2019-01-01",null,null,null,null,null,null,null,"Jan-19",2019,{"$f":"IF(AND($A5<'P&L'!$P$8, YEAR($A5)=Master!$C$6), $K5, 0)","v":5800},{"$f":"IF(AND($C5=\"Receipt\",$B5<>\"debit card\",$B5<>\"petty cash\",$B5<>\"Cash_Sub\",$B5<>\"Cheque_Sub\", $B5<>\"EFT_Sub\"),$K5,0)","v":0},{"$f":"IF(AND(NOT(ISBLANK($O5)), $O5<'P&L'!$P$8), Z5, 0)","v":0},{"$f":"IF(OR(ISBLANK($O5), $O5>'BankRec Main Acct'!$E$8), Z5, 0)","v":0},5800,{"$f":"IF(AND(NOT(ISBLANK($O5)), $O5<'P&L'!$P$8), AC5, 0)","v":5800},{"$f":"IF(OR(ISBLANK($O5), $O5>'BankRec Main Acct'!$E$8), AC5, 0)","v":0},{"$f":"IF(AND($C5=\"Receipt\",$B5<>\"debit card\",$B5<>\"petty cash\",$B5<>\"Cash_Main\",$B5<>\"Cheque_Main\", $B5<>\"EFT_Main\"),$K5,0)","v":0},{"$f":"IF(AND(NOT(ISBLANK($S5)), $S5<'P&L'!$P$8), AF5, 0)","v":0},{"$f":"IF(OR(ISBLANK($S5), $S5>'BankRec Main Acct'!$E$8), AF5, 0)","v":0},0,{"$f":"IF(AND(NOT(ISBLANK($S5)), $S5<'P&L'!$P$8), AI5, 0)","v":0},{"$f":"IF(OR(ISBLANK($S5), $S5>'BankRec Main Acct'!$E$8), AI5, 0)","v":0},0,{"$f":"IF(AND(NOT(ISBLANK($U5)), $U5<'P&L'!$P$8), $AL5, 0)","v":0},{"$f":"IF(OR(ISBLANK($U5), $U5>'DebitCard Rec '!$E$8), $AL5, 0)","v":0},0,{"$f":"IF(AND(NOT(ISBLANK($U5)), $U5<'P&L'!$P$8), $AO5, 0)","v":0},{"$f":"IF(OR(ISBLANK($U5), $U5>'DebitCard Rec '!$E$8), $AO5, 0)","v":0},0,{"$f":"IF(AND($A5<'P&L'!$P$8, $X5='P&L'!$G$6), $AR5, 0)","v":0},0,{"$f":"IF(AND($A5<'P&L'!$P$8, $X5='P&L'!$G$6), $AT5, 0)","v":0},"EFT_Main Payment"," ",{"$f":"IF(C5= \"Payment\", CONCATENATE(F5,\" \",E5), \" \")","v":"Tuckshop Stock purchase"}]
["2019-01-29","Cash_Main","Receipt","Sales",null,"Uniform Shop",null,null,"Total of Jan sales","9c",9580,null,"2019-01-29",9580,"2019-01-01",null,null,null,null,null,null,null,"Jan-19",2019,{"$f":"IF(AND($A6<'P&L'!$P$8, YEAR($A6)=Master!$C$6), $K6, 0)","v":9580},9580,{"$f":"IF(AND(NOT(ISBLANK($O6)), $O6<'P&L'!$P$8), Z6, 0)","v":9580},{"$f":"IF(OR(ISBLANK($O6), $O6>'BankRec Main Acct'!$E$8), Z6, 0)","v":0},0,{"$f":"IF(AND(NOT(ISBLANK($O6)), $O6<'P&L'!$P$8), AC6, 0)","v":0},{"$f":"IF(OR(ISBLANK($O6), $O6>'BankRec Main Acct'!$E$8), AC6, 0)","v":0},0,{"$f":"IF(AND(NOT(ISBLANK($S6)), $S6<'P&L'!$P$8), AF6, 0)","v":0},{"$f":"IF(OR(ISBLANK($S6), $S6>'BankRec Main Acct'!$E$8), AF6, 0)","v":0},0,{"$f":"IF(AND(NOT(ISBLANK($S6)), $S6<'P&L'!$P$8), AI6, 0)","v":0},{"$f":"IF(OR(ISBLANK($S6), $S6>'BankRec Main Acct'!$E$8), AI6, 0)","v":0},0,{"$f":"IF(AND(NOT(ISBLANK($U6)), $U6<'P&L'!$P$8), $AL6, 0)","v":0},{"$f":"IF(OR(ISBLANK($U6), $U6>'DebitCard Rec '!$E$8), $AL6, 0)","v":0},0,{"$f":"IF(AND(NOT(ISBLANK($U6)), $U6<'P&L'!$P$8), $AO6, 0)","v":0},{"$f":"IF(OR(ISBLANK($U6), $U6>'DebitCard Rec '!$E$8), $AO6, 0)","v":0},0,{"$f":"IF(AND($A6<'P&L'!$P$8, $X6='P&L'!$G$6), $AR6, 0)","v":0},0,{"$f":"IF(AND($A6<'P&L'!$P$8, $X6='P&L'!$G$6), $AT6, 0)","v":0},"Cash_Main Receipt","Sales Uniform Shop"," "]
["2019-01-29","Cash_Main","Receipt","Sales",null,"Tuckshop",null,null,"Total of Jan sales","9d",7500,null,"2019-01-29",7500,"2019-01-01",null,null,null,null,null,null,null,"Jan-19",2019,{"$f":"IF(AND($A7<'P&L'!$P$8, YEAR($A7)=Master!$C$6), $K7, 0)","v":7500},7500,{"$f":"IF(AND(NOT(ISBLANK($O7)), $O7<'P&L'!$P$8), Z7, 0)","v":7500},{"$f":"IF(OR(ISBLANK($O7), $O7>'BankRec Main Acct'!$E$8), Z7, 0)","v":0},0,{"$f":"IF(AND(NOT(ISBLANK($O7)), $O7<'P&L'!$P$8), AC7, 0)","v":0},{"$f":"IF(OR(ISBLANK($O7), $O7>'BankRec Main Acct'!$E$8), AC7, 0)","v":0},0,{"$f":"IF(AND(NOT(ISBLANK($S7)), $S7<'P&L'!$P$8), AF7, 0)","v":0},{"$f":"IF(OR(ISBLANK($S7), $S7>'BankRec Main Acct'!$E$8), AF7, 0)","v":0},0,{"$f":"IF(AND(NOT(ISBLANK($S7)), $S7<'P&L'!$P$8), AI7, 0)","v":0},{"$f":"IF(OR(ISBLANK($S7), $S7>'BankRec Main Acct'!$E$8), AI7, 0)","v":0},0,{"$f":"IF(AND(NOT(ISBLANK($U7)), $U7<'P&L'!$P$8), $AL7, 0)","v":0},{"$f":"IF(OR(ISBLANK($U7), $U7>'DebitCard Rec '!$E$8), $AL7, 0)","v":0},0,{"$f":"IF(AND(NOT(ISBLANK($U7)), $U7<'P&L'!$P$8), $AO7, 0)","v":0},{"$f":"IF(OR(ISBLANK($U7), $U7>'DebitCard Rec '!$E$8), $AO7, 0)","v":0},0,{"$f":"IF(AND($A7<'P&L'!$P$8, $X7='P&L'!$G$6), $AR7, 0)","v":0},0,{"$f":"IF(AND($A7<'P&L'!$P$8, $X7='P&L'!$G$6), $AT7, 0)","v":0},"Cash_Main Receipt",{"$f":"IF(C7=\"Receipt\",CONCATENATE(D7,\" \", F7), \" \")","v":"Sales Tuckshop"},{"$f":"IF(C7= \"Payment\", CONCATENATE(F7,\" \",E7), \" \")","v":" "}]
["2019-01-31","Cheque_Main","Payment",null,"Wages","Tuckshop",null,null,"J Smith","9e",800,null,null,null,"2019-02-01",null,null,null,null,null,null,null,"Jan-19",2019,{"$f":"IF(AND($A8<'P&L'!$P$8, YEAR($A8)=Master!$C$6), $K8, 0)","v":800},0,{"$f":"IF(AND(NOT(ISBLANK($O8)), $O8<'P&L'!$P$8), Z8, 0)","v":0},{"$f":"IF(OR(ISBLANK($O8), $O8>'BankRec Main Acct'!$E$8), Z8, 0)","v":0},800,{"$f":"IF(AND(NOT(ISBLANK($O8)), $O8<'P&L'!$P$8), AC8, 0)","v":800},{"$f":"IF(OR(ISBLANK($O8), $O8>'BankRec Main Acct'!$E$8), AC8, 0)","v":0},0,{"$f":"IF(AND(NOT(ISBLANK($S8)), $S8<'P&L'!$P$8), AF8, 0)","v":0},{"$f":"IF(OR(ISBLANK($S8), $S8>'BankRec Main Acct'!$E$8), AF8, 0)","v":0},0,{"$f":"IF(AND(NOT(ISBLANK($S8)), $S8<'P&L'!$P$8), AI8, 0)","v":0},{"$f":"IF(OR(ISBLANK($S8), $S8>'BankRec Main Acct'!$E$8), AI8, 0)","v":0},0,{"$f":"IF(AND(NOT(ISBLANK($U8)), $U8<'P&L'!$P$8), $AL8, 0)","v":0},{"$f":"IF(OR(ISBLANK($U8), $U8>'DebitCard Rec '!$E$8), $AL8, 0)","v":0},0,{"$f":"IF(AND(NOT(ISBLANK($U8)), $U8<'P&L'!$P$8), $AO8, 0)","v":0},{"$f":"IF(OR(ISBLANK($U8), $U8>'DebitCard Rec '!$E$8), $AO8, 0)","v":0},0,{"$f":"IF(AND($A8<'P&L'!$P$8, $X8='P&L'!$G$6), $AR8, 0)","v":0},0,{"$f":"IF(AND($A8<'P&L'!$P$8, $X8='P&L'!$G$6), $AT8, 0)","v":0},"Cheque_Main Payment"," ","Tuckshop Wages"]
["2019-01-31","Cheque_Main","Payment",null,"Wages",null,null,null,"J Doe","9f",150,null,null,null,"2019-02-01",null,null,null,null,null,null,null,"Jan-19",2019,{"$f":"IF(AND($A9<'P&L'!$P$8, YEAR($A9)=Master!$C$6), $K9, 0)","v":150},0,{"$f":"IF(AND(NOT(ISBLANK($O9)), $O9<'P&L'!$P$8), Z9, 0)","v":0},{"$f":"IF(OR(ISBLANK($O9), $O9>'BankRec Main Acct'!$E$8), Z9, 0)","v":0},150,{"$f":"IF(AND(NOT(ISBLANK($O9)), $O9<'P&L'!$P$8), AC9, 0)","v":150},{"$f":"IF(OR(ISBLANK($O9), $O9>'BankRec Main Acct'!$E$8), AC9, 0)","v":0},0,{"$f":"IF(AND(NOT(ISBLANK($S9)), $S9<'P&L'!$P$8), AF9, 0)","v":0},{"$f":"IF(OR(ISBLANK($S9), $S9>'BankRec Main Acct'!$E$8), AF9, 0)","v":0},0,{"$f":"IF(AND(NOT(ISBLANK($S9)), $S9<'P&L'!$P$8), AI9, 0)","v":0},{"$f":"IF(OR(ISBLANK($S9), $S9>'BankRec Main Acct'!$E$8), AI9, 0)","v":0},0,{"$f":"IF(AND(NOT(ISBLANK($U9)), $U9<'P&L'!$P$8), $AL9, 0)","v":0},{"$f":"IF(OR(ISBLANK($U9), $U9>'DebitCard Rec '!$E$8), $AL9, 0)","v":0},0,{"$f":"IF(AND(NOT(ISBLANK($U9)), $U9<'P&L'!$P$8), $AO9, 0)","v":0},{"$f":"IF(OR(ISBLANK($U9), $U9>'DebitCard Rec '!$E$8), $AO9, 0)","v":0},0,{"$f":"IF(AND($A9<'P&L'!$P$8, $X9='P&L'!$G$6), $AR9, 0)","v":0},0,{"$f":"IF(AND($A9<'P&L'!$P$8, $X9='P&L'!$G$6), $AT9, 0)","v":0},"Cheque_Main Payment"," "," Wages"]
["2019-01-31","EFT_Main","Payment",null,"Bank charges",null,null,"Sunshine bank","Bank transaction fees","11a",10,null,null,null,"2019-01-01",null,null,null,null,null,null,null,"Jan-19",2019,{"$f":"IF(AND($A10<'P&L'!$P$8, YEAR($A10)=Master!$C$6), $K10, 0)","v":10},0,{"$f":"IF(AND(NOT(ISBLANK($O10)), $O10<'P&L'!$P$8), Z10, 0)","v":0},{"$f":"IF(OR(ISBLANK($O10), $O10>'BankRec Main Acct'!$E$8), Z10, 0)","v":0},10,{"$f":"IF(AND(NOT(ISBLANK($O10)), $O10<'P&L'!$P$8), AC10, 0)","v":10},{"$f":"IF(OR(ISBLANK($O10), $O10>'BankRec Main Acct'!$E$8), AC10, 0)","v":0},0,{"$f":"IF(AND(NOT(ISBLANK($S10)), $S10<'P&L'!$P$8), AF10, 0)","v":0},{"$f":"IF(OR(ISBLANK($S10), $S10>'BankRec Main Acct'!$E$8), AF10, 0)","v":0},0,{"$f":"IF(AND(NOT(ISBLANK($S10)), $S10<'P&L'!$P$8), AI10, 0)","v":0},{"$f":"IF(OR(ISBLANK($S10), $S10>'BankRec Main Acct'!$E$8), AI10, 0)","v":0},0,{"$f":"IF(AND(NOT(ISBLANK($U10)), $U10<'P&L'!$P$8), $AL10, 0)","v":0},{"$f":"IF(OR(ISBLANK($U10), $U10>'DebitCard Rec '!$E$8), $AL10, 0)","v":0},0,{"$f":"IF(AND(NOT(ISBLANK($U10)), $U10<'P&L'!$P$8), $AO10, 0)","v":0},{"$f":"IF(OR(ISBLANK($U10), $U10>'DebitCard Rec '!$E$8), $AO10, 0)","v":0},0,{"$f":"IF(AND($A10<'P&L'!$P$8, $X10='P&L'!$G$6), $AR10, 0)","v":0},0,{"$f":"IF(AND($A10<'P&L'!$P$8, $X10='P&L'!$G$6), $AT10, 0)","v":0},"EFT_Main Payment"," "," Bank charges"]
["2019-01-31","EFT_Main","Payment",null,"Loan repayment - principal component","Tuckshop",null,"Sunshine bank","Bank Loan for fitout","12a",1250,null,null,1350,"2019-01-01",null,null,null,null,null,null,null,"Jan-19",2019,{"$f":"IF(AND($A11<'P&L'!$P$8, YEAR($A11)=Master!$C$6), $K11, 0)","v":1250},0,{"$f":"IF(AND(NOT(ISBLANK($O11)), $O11<'P&L'!$P$8), Z11, 0)","v":0},{"$f":"IF(OR(ISBLANK($O11), $O11>'BankRec Main Acct'!$E$8), Z11, 0)","v":0},1250,{"$f":"IF(AND(NOT(ISBLANK($O11)), $O11<'P&L'!$P$8), AC11, 0)","v":1250},{"$f":"IF(OR(ISBLANK($O11), $O11>'BankRec Main Acct'!$E$8), AC11, 0)","v":0},0,{"$f":"IF(AND(NOT(ISBLANK($S11)), $S11<'P&L'!$P$8), AF11, 0)","v":0},{"$f":"IF(OR(ISBLANK($S11), $S11>'BankRec Main Acct'!$E$8), AF11, 0)","v":0},0,{"$f":"IF(AND(NOT(ISBLANK($S11)), $S11<'P&L'!$P$8), AI11, 0)","v":0},{"$f":"IF(OR(ISBLANK($S11), $S11>'BankRec Main Acct'!$E$8), AI11, 0)","v":0},0,{"$f":"IF(AND(NOT(ISBLANK($U11)), $U11<'P&L'!$P$8), $AL11, 0)","v":0},{"$f":"IF(OR(ISBLANK($U11), $U11>'DebitCard Rec '!$E$8), $AL11, 0)","v":0},0,{"$f":"IF(AND(NOT(ISBLANK($U11)), $U11<'P&L'!$P$8), $AO11, 0)","v":0},{"$f":"IF(OR(ISBLANK($U11), $U11>'DebitCard Rec '!$E$8), $AO11, 0)","v":0},0,{"$f":"IF(AND($A11<'P&L'!$P$8, $X11='P&L'!$G$6), $AR11, 0)","v":0},0,{"$f":"IF(AND($A11<'P&L'!$P$8, $X11='P&L'!$G$6), $AT11, 0)","v":0},"EFT_Main Payment"," ","Tuckshop Loan repayment - principal component"]
["2019-01-31","EFT_Main","Payment",null,"Loan repayment - interest expenses","Tuckshop",null,"Sunshine bank","Bank Loan for fitout","12b",100,null,null,null,"2019-01-01",null,null,null,null,null,null,null,"Jan-19",2019,{"$f":"IF(AND($A12<'P&L'!$P$8, YEAR($A12)=Master!$C$6), $K12, 0)","v":100},0,{"$f":"IF(AND(NOT(ISBLANK($O12)), $O12<'P&L'!$P$8), Z12, 0)","v":0},{"$f":"IF(OR(ISBLANK($O12), $O12>'BankRec Main Acct'!$E$8), Z12, 0)","v":0},100,{"$f":"IF(AND(NOT(ISBLANK($O12)), $O12<'P&L'!$P$8), AC12, 0)","v":100},{"$f":"IF(OR(ISBLANK($O12), $O12>'BankRec Main Acct'!$E$8), AC12, 0)","v":0},0,{"$f":"IF(AND(NOT(ISBLANK($S12)), $S12<'P&L'!$P$8), AF12, 0)","v":0},{"$f":"IF(OR(ISBLANK($S12), $S12>'BankRec Main Acct'!$E$8), AF12, 0)","v":0},0,{"$f":"IF(AND(NOT(ISBLANK($S12)), $S12<'P&L'!$P$8), AI12, 0)","v":0},{"$f":"IF(OR(ISBLANK($S12), $S12>'BankRec Main Acct'!$E$8), AI12, 0)","v":0},0,{"$f":"IF(AND(NOT(ISBLANK($U12)), $U12<'P&L'!$P$8), $AL12, 0)","v":0},{"$f":"IF(OR(ISBLANK($U12), $U12>'DebitCard Rec '!$E$8), $AL12, 0)","v":0},0,{"$f":"IF(AND(NOT(ISBLANK($U12)), $U12<'P&L'!$P$8), $AO12, 0)","v":0},{"$f":"IF(OR(ISBLANK($U12), $U12>'DebitCard Rec '!$E$8), $AO12, 0)","v":0},0,{"$f":"IF(AND($A12<'P&L'!$P$8, $X12='P&L'!$G$6), $AR12, 0)","v":0},0,{"$f":"IF(AND($A12<'P&L'!$P$8, $X12='P&L'!$G$6), $AT12, 0)","v":0},"EFT_Main Payment"," ","Tuckshop Loan repayment - interest expenses"]
["2019-02-07","EFT_Main","Payment",null,"Stock purchase","Uniform Shop",null,"The school supply shop","50 Hats","20a",270,null,null,null,"2019-02-01",null,null,null,null,null,null,null,"Feb-19",2019,{"$f":"IF(AND($A13<'P&L'!$P$8, YEAR($A13)=Master!$C$6), $K13, 0)","v":270},0,{"$f":"IF(AND(NOT(ISBLANK($O13)), $O13<'P&L'!$P$8), Z13, 0)","v":0},{"$f":"IF(OR(ISBLANK($O13), $O13>'BankRec Main Acct'!$E$8), Z13, 0)","v":0},270,{"$f":"IF(AND(NOT(ISBLANK($O13)), $O13<'P&L'!$P$8), AC13, 0)","v":270},{"$f":"IF(OR(ISBLANK($O13), $O13>'BankRec Main Acct'!$E$8), AC13, 0)","v":0},0,{"$f":"IF(AND(NOT(ISBLANK($S13)), $S13<'P&L'!$P$8), AF13, 0)","v":0},{"$f":"IF(OR(ISBLANK($S13), $S13>'BankRec Main Acct'!$E$8), AF13, 0)","v":0},0,{"$f":"IF(AND(NOT(ISBLANK($S13)), $S13<'P&L'!$P$8), AI13, 0)","v":0},{"$f":"IF(OR(ISBLANK($S13), $S13>'BankRec Main Acct'!$E$8), AI13, 0)","v":0},0,{"$f":"IF(AND(NOT(ISBLANK($U13)), $U13<'P&L'!$P$8), $AL13, 0)","v":0},{"$f":"IF(OR(ISBLANK($U13), $U13>'DebitCard Rec '!$E$8), $AL13, 0)","v":0},0,{"$f":"IF(AND(NOT(ISBLANK($U13)), $U13<'P&L'!$P$8), $AO13, 0)","v":0},{"$f":"IF(OR(ISBLANK($U13), $U13>'DebitCard Rec '!$E$8), $AO13, 0)","v":0},0,{"$f":"IF(AND($A13<'P&L'!$P$8, $X13='P&L'!$G$6), $AR13, 0)","v":0},0,{"$f":"IF(AND($A13<'P&L'!$P$8, $X13='P&L'!$G$6), $AT13, 0)","v":0},"EFT_Main Payment"," ","Uniform Shop Stock purchase"]
["2019-02-08","Petty cash","Payment",null,"Stock purchase","Tuckshop",null,"Lisa's Bakery","10 Loaves bread","20b",22,null,null,null,null,null,null,null,null,null,null,null,"Feb-19",2019,{"$f":"IF(AND($A14<'P&L'!$P$8, YEAR($A14)=Master!$C$6), $K14, 0)","v":22},0,{"$f":"IF(AND(NOT(ISBLANK($O14)), $O14<'P&L'!$P$8), Z14, 0)","v":0},{"$f":"IF(OR(ISBLANK($O14), $O14>'BankRec Main Acct'!$E$8), Z14, 0)","v":0},0,{"$f":"IF(AND(NOT(ISBLANK($O14)), $O14<'P&L'!$P$8), AC14, 0)","v":0},{"$f":"IF(OR(ISBLANK($O14), $O14>'BankRec Main Acct'!$E$8), AC14, 0)","v":0},0,{"$f":"IF(AND(NOT(ISBLANK($S14)), $S14<'P&L'!$P$8), AF14, 0)","v":0},{"$f":"IF(OR(ISBLANK($S14), $S14>'BankRec Main Acct'!$E$8), AF14, 0)","v":0},0,{"$f":"IF(AND(NOT(ISBLANK($S14)), $S14<'P&L'!$P$8), AI14, 0)","v":0},{"$f":"IF(OR(ISBLANK($S14), $S14>'BankRec Main Acct'!$E$8), AI14, 0)","v":0},0,{"$f":"IF(AND(NOT(ISBLANK($U14)), $U14<'P&L'!$P$8), $AL14, 0)","v":0},{"$f":"IF(OR(ISBLANK($U14), $U14>'DebitCard Rec '!$E$8), $AL14, 0)","v":0},0,{"$f":"IF(AND(NOT(ISBLANK($U14)), $U14<'P&L'!$P$8), $AO14, 0)","v":0},{"$f":"IF(OR(ISBLANK($U14), $U14>'DebitCard Rec '!$E$8), $AO14, 0)","v":0},0,{"$f":"IF(AND($A14<'P&L'!$P$8, $X14='P&L'!$G$6), $AR14, 0)","v":0},22,{"$f":"IF(AND($A14<'P&L'!$P$8, $X14='P&L'!$G$6), $AT14, 0)","v":22},"Petty cash Payment"," ","Tuckshop Stock purchase"]
["2019-02-12","Debit card","Payment",null,"Fundraising expenses","Car wash",null,"Kevins car supplies ","Detergent , sponges and buckets","20c",420,null,null,null,null,null,null,null,null,null,"2019-02-01",null,"Feb-19",2019,{"$f":"IF(AND($A15<'P&L'!$P$8, YEAR($A15)=Master!$C$6), $K15, 0)","v":420},0,{"$f":"IF(AND(NOT(ISBLANK($O15)), $O15<'P&L'!$P$8), Z15, 0)","v":0},{"$f":"IF(OR(ISBLANK($O15), $O15>'BankRec Main Acct'!$E$8), Z15, 0)","v":0},0,{"$f":"IF(AND(NOT(ISBLANK($O15)), $O15<'P&L'!$P$8), AC15, 0)","v":0},{"$f":"IF(OR(ISBLANK($O15), $O15>'BankRec Main Acct'!$E$8), AC15, 0)","v":0},0,{"$f":"IF(AND(NOT(ISBLANK($S15)), $S15<'P&L'!$P$8), AF15, 0)","v":0},{"$f":"IF(OR(ISBLANK($S15), $S15>'BankRec Main Acct'!$E$8), AF15, 0)","v":0},0,{"$f":"IF(AND(NOT(ISBLANK($S15)), $S15<'P&L'!$P$8), AI15, 0)","v":0},{"$f":"IF(OR(ISBLANK($S15), $S15>'BankRec Main Acct'!$E$8), AI15, 0)","v":0},0,{"$f":"IF(AND(NOT(ISBLANK($U15)), $U15<'P&L'!$P$8), $AL15, 0)","v":0},{"$f":"IF(OR(ISBLANK($U15), $U15>'DebitCard Rec '!$E$8), $AL15, 0)","v":0},420,{"$f":"IF(AND(NOT(ISBLANK($U15)), $U15<'P&L'!$P$8), $AO15, 0)","v":420},{"$f":"IF(OR(ISBLANK($U15), $U15>'DebitCard Rec '!$E$8), $AO15, 0)","v":0},0,{"$f":"IF(AND($A15<'P&L'!$P$8, $X15='P&L'!$G$6), $AR15, 0)","v":0},0,{"$f":"IF(AND($A15<'P&L'!$P$8, $X15='P&L'!$G$6), $AT15, 0)","v":0},"Debit card Payment"," ","Car wash Fundraising expenses"]
["2019-02-14","Debit card","Payment",null,"Fundraising expenses","Car wash",null,"Kevins car supplies ","Extra detergent for car wash","20d",53,null,null,null,null,null,null,null,null,null,"2019-02-01",null,"Feb-19",2019,{"$f":"IF(AND($A16<'P&L'!$P$8, YEAR($A16)=Master!$C$6), $K16, 0)","v":53},0,{"$f":"IF(AND(NOT(ISBLANK($O16)), $O16<'P&L'!$P$8), Z16, 0)","v":0},{"$f":"IF(OR(ISBLANK($O16), $O16>'BankRec Main Acct'!$E$8), Z16, 0)","v":0},0,{"$f":"IF(AND(NOT(ISBLANK($O16)), $O16<'P&L'!$P$8), AC16, 0)","v":0},{"$f":"IF(OR(ISBLANK($O16), $O16>'BankRec Main Acct'!$E$8), AC16, 0)","v":0},0,{"$f":"IF(AND(NOT(ISBLANK($S16)), $S16<'P&L'!$P$8), AF16, 0)","v":0},{"$f":"IF(OR(ISBLANK($S16), $S16>'BankRec Main Acct'!$E$8), AF16, 0)","v":0},0,{"$f":"IF(AND(NOT(ISBLANK($S16)), $S16<'P&L'!$P$8), AI16, 0)","v":0},{"$f":"IF(OR(ISBLANK($S16), $S16>'BankRec Main Acct'!$E$8), AI16, 0)","v":0},0,{"$f":"IF(AND(NOT(ISBLANK($U16)), $U16<'P&L'!$P$8), $AL16, 0)","v":0},{"$f":"IF(OR(ISBLANK($U16), $U16>'DebitCard Rec '!$E$8), $AL16, 0)","v":0},53,{"$f":"IF(AND(NOT(ISBLANK($U16)), $U16<'P&L'!$P$8), $AO16, 0)","v":53},{"$f":"IF(OR(ISBLANK($U16), $U16>'DebitCard Rec '!$E$8), $AO16, 0)","v":0},0,{"$f":"IF(AND($A16<'P&L'!$P$8, $X16='P&L'!$G$6), $AR16, 0)","v":0},0,{"$f":"IF(AND($A16<'P&L'!$P$8, $X16='P&L'!$G$6), $AT16, 0)","v":0},"Debit card Payment"," ","Car wash Fundraising expenses"]
["2019-02-14","Petty cash","Payment",null,"Fundraising expenses","Car wash",null,"Kevins car supplies ","Extra sponges for car wash","20e",25,null,null,null,null,null,null,null,null,null,null,null,"Feb-19",2019,{"$f":"IF(AND($A17<'P&L'!$P$8, YEAR($A17)=Master!$C$6), $K17, 0)","v":25},0,{"$f":"IF(AND(NOT(ISBLANK($O17)), $O17<'P&L'!$P$8), Z17, 0)","v":0},{"$f":"IF(OR(ISBLANK($O17), $O17>'BankRec Main Acct'!$E$8), Z17, 0)","v":0},0,{"$f":"IF(AND(NOT(ISBLANK($O17)), $O17<'P&L'!$P$8), AC17, 0)","v":0},{"$f":"IF(OR(ISBLANK($O17), $O17>'BankRec Main Acct'!$E$8), AC17, 0)","v":0},0,{"$f":"IF(AND(NOT(ISBLANK($S17)), $S17<'P&L'!$P$8), AF17, 0)","v":0},{"$f":"IF(OR(ISBLANK($S17), $S17>'BankRec Main Acct'!$E$8), AF17, 0)","v":0},0,{"$f":"IF(AND(NOT(ISBLANK($S17)), $S17<'P&L'!$P$8), AI17, 0)","v":0},{"$f":"IF(OR(ISBLANK($S17), $S17>'BankRec Main Acct'!$E$8), AI17, 0)","v":0},0,{"$f":"IF(AND(NOT(ISBLANK($U17)), $U17<'P&L'!$P$8), $AL17, 0)","v":0},{"$f":"IF(OR(ISBLANK($U17), $U17>'DebitCard Rec '!$E$8), $AL17, 0)","v":0},0,{"$f":"IF(AND(NOT(ISBLANK($U17)), $U17<'P&L'!$P$8), $AO17, 0)","v":0},{"$f":"IF(OR(ISBLANK($U17), $U17>'DebitCard Rec '!$E$8), $AO17, 0)","v":0},0,{"$f":"IF(AND($A17<'P&L'!$P$8, $X17='P&L'!$G$6), $AR17, 0)","v":0},25,{"$f":"IF(AND($A17<'P&L'!$P$8, $X17='P&L'!$G$6), $AT17, 0)","v":25},"Petty cash Payment"," ","Car wash Fundraising expenses"]
["2019-02-14","Cash_Main","Receipt","Fundraising ",null,"Car wash",null,null,"Car wash money raised","20f",9800,null,"2019-02-15",9800,"2019-02-01",null,null,null,null,null,null,null,"Feb-19",2019,{"$f":"IF(AND($A18<'P&L'!$P$8, YEAR($A18)=Master!$C$6), $K18, 0)","v":9800},9800,{"$f":"IF(AND(NOT(ISBLANK($O18)), $O18<'P&L'!$P$8), Z18, 0)","v":9800},{"$f":"IF(OR(ISBLANK($O18), $O18>'BankRec Main Acct'!$E$8), Z18, 0)","v":0},0,{"$f":"IF(AND(NOT(ISBLANK($O18)), $O18<'P&L'!$P$8), AC18, 0)","v":0},{"$f":"IF(OR(ISBLANK($O18), $O18>'BankRec Main Acct'!$E$8), AC18, 0)","v":0},0,{"$f":"IF(AND(NOT(ISBLANK($S18)), $S18<'P&L'!$P$8), AF18, 0)","v":0},{"$f":"IF(OR(ISBLANK($S18), $S18>'BankRec Main Acct'!$E$8), AF18, 0)","v":0},0,{"$f":"IF(AND(NOT(ISBLANK($S18)), $S18<'P&L'!$P$8), AI18, 0)","v":0},{"$f":"IF(OR(ISBLANK($S18), $S18>'BankRec Main Acct'!$E$8), AI18, 0)","v":0},0,{"$f":"IF(AND(NOT(ISBLANK($U18)), $U18<'P&L'!$P$8), $AL18, 0)","v":0},{"$f":"IF(OR(ISBLANK($U18), $U18>'DebitCard Rec '!$E$8), $AL18, 0)","v":0},0,{"$f":"IF(AND(NOT(ISBLANK($U18)), $U18<'P&L'!$P$8), $AO18, 0)","v":0},{"$f":"IF(OR(ISBLANK($U18), $U18>'DebitCard Rec '!$E$8), $AO18, 0)","v":0},0,{"$f":"IF(AND($A18<'P&L'!$P$8, $X18='P&L'!$G$6), $AR18, 0)","v":0},0,{"$f":"IF(AND($A18<'P&L'!$P$8, $X18='P&L'!$G$6), $AT18, 0)","v":0},"Cash_Main Receipt","Fundraising  Car wash"," "]
["2019-02-15","EFT_Main","Payment",null,"Stock purchase","Tuckshop",null,"Freshfood company","monthly stock purchase","20g",1200,null,null,null,"2019-02-01",null,null,null,null,null,null,null,"Feb-19",2019,{"$f":"IF(AND($A19<'P&L'!$P$8, YEAR($A19)=Master!$C$6), $K19, 0)","v":1200},0,{"$f":"IF(AND(NOT(ISBLANK($O19)), $O19<'P&L'!$P$8), Z19, 0)","v":0},{"$f":"IF(OR(ISBLANK($O19), $O19>'BankRec Main Acct'!$E$8), Z19, 0)","v":0},1200,{"$f":"IF(AND(NOT(ISBLANK($O19)), $O19<'P&L'!$P$8), AC19, 0)","v":1200},{"$f":"IF(OR(ISBLANK($O19), $O19>'BankRec Main Acct'!$E$8), AC19, 0)","v":0},0,{"$f":"IF(AND(NOT(ISBLANK($S19)), $S19<'P&L'!$P$8), AF19, 0)","v":0},{"$f":"IF(OR(ISBLANK($S19), $S19>'BankRec Main Acct'!$E$8), AF19, 0)","v":0},0,{"$f":"IF(AND(NOT(ISBLANK($S19)), $S19<'P&L'!$P$8), AI19, 0)","v":0},{"$f":"IF(OR(ISBLANK($S19), $S19>'BankRec Main Acct'!$E$8), AI19, 0)","v":0},0,{"$f":"IF(AND(NOT(ISBLANK($U19)), $U19<'P&L'!$P$8), $AL19, 0)","v":0},{"$f":"IF(OR(ISBLANK($U19), $U19>'DebitCard Rec '!$E$8), $AL19, 0)","v":0},0,{"$f":"IF(AND(NOT(ISBLANK($U19)), $U19<'P&L'!$P$8), $AO19, 0)","v":0},{"$f":"IF(OR(ISBLANK($U19), $U19>'DebitCard Rec '!$E$8), $AO19, 0)","v":0},0,{"$f":"IF(AND($A19<'P&L'!$P$8, $X19='P&L'!$G$6), $AR19, 0)","v":0},0,{"$f":"IF(AND($A19<'P&L'!$P$8, $X19='P&L'!$G$6), $AT19, 0)","v":0},"EFT_Main Payment"," ","Tuckshop Stock purchase"]
["2019-02-15","Cash_Main","Receipt","Sales",null,"Tuckshop",null,null,"Total of Feb sales","20h",1630.2,null,"2019-02-15",1630.2,"2019-02-01",null,null,null,null,null,null,null,"Feb-19",2019,{"$f":"IF(AND($A20<'P&L'!$P$8, YEAR($A20)=Master!$C$6), $K20, 0)","v":1630.2},1630.2,{"$f":"IF(AND(NOT(ISBLANK($O20)), $O20<'P&L'!$P$8), Z20, 0)","v":1630.2},{"$f":"IF(OR(ISBLANK($O20), $O20>'BankRec Main Acct'!$E$8), Z20, 0)","v":0},0,{"$f":"IF(AND(NOT(ISBLANK($O20)), $O20<'P&L'!$P$8), AC20, 0)","v":0},{"$f":"IF(OR(ISBLANK($O20), $O20>'BankRec Main Acct'!$E$8), AC20, 0)","v":0},0,{"$f":"IF(AND(NOT(ISBLANK($S20)), $S20<'P&L'!$P$8), AF20, 0)","v":0},{"$f":"IF(OR(ISBLANK($S20), $S20>'BankRec Main Acct'!$E$8), AF20, 0)","v":0},0,{"$f":"IF(AND(NOT(ISBLANK($S20)), $S20<'P&L'!$P$8), AI20, 0)","v":0},{"$f":"IF(OR(ISBLANK($S20), $S20>'BankRec Main Acct'!$E$8), AI20, 0)","v":0},0,{"$f":"IF(AND(NOT(ISBLANK($U20)), $U20<'P&L'!$P$8), $AL20, 0)","v":0},{"$f":"IF(OR(ISBLANK($U20), $U20>'DebitCard Rec '!$E$8), $AL20, 0)","v":0},0,{"$f":"IF(AND(NOT(ISBLANK($U20)), $U20<'P&L'!$P$8), $AO20, 0)","v":0},{"$f":"IF(OR(ISBLANK($U20), $U20>'DebitCard Rec '!$E$8), $AO20, 0)","v":0},0,{"$f":"IF(AND($A20<'P&L'!$P$8, $X20='P&L'!$G$6), $AR20, 0)","v":0},0,{"$f":"IF(AND($A20<'P&L'!$P$8, $X20='P&L'!$G$6), $AT20, 0)","v":0},"Cash_Main Receipt","Sales Tuckshop"," "]
["2019-02-19","Cheque_Main","Payment",null,"Wages","Tuckshop",null,null,"J Smith","20i",800,null,null,null,"2019-02-01",null,null,null,null,null,null,null,"Feb-19",2019,{"$f":"IF(AND($A21<'P&L'!$P$8, YEAR($A21)=Master!$C$6), $K21, 0)","v":800},0,{"$f":"IF(AND(NOT(ISBLANK($O21)), $O21<'P&L'!$P$8), Z21, 0)","v":0},{"$f":"IF(OR(ISBLANK($O21), $O21>'BankRec Main Acct'!$E$8), Z21, 0)","v":0},800,{"$f":"IF(AND(NOT(ISBLANK($O21)), $O21<'P&L'!$P$8), AC21, 0)","v":800},{"$f":"IF(OR(ISBLANK($O21), $O21>'BankRec Main Acct'!$E$8), AC21, 0)","v":0},0,{"$f":"IF(AND(NOT(ISBLANK($S21)), $S21<'P&L'!$P$8), AF21, 0)","v":0},{"$f":"IF(OR(ISBLANK($S21), $S21>'BankRec Main Acct'!$E$8), AF21, 0)","v":0},0,{"$f":"IF(AND(NOT(ISBLANK($S21)), $S21<'P&L'!$P$8), AI21, 0)","v":0},{"$f":"IF(OR(ISBLANK($S21), $S21>'BankRec Main Acct'!$E$8), AI21, 0)","v":0},0,{"$f":"IF(AND(NOT(ISBLANK($U21)), $U21<'P&L'!$P$8), $AL21, 0)","v":0},{"$f":"IF(OR(ISBLANK($U21), $U21>'DebitCard Rec '!$E$8), $AL21, 0)","v":0},0,{"$f":"IF(AND(NOT(ISBLANK($U21)), $U21<'P&L'!$P$8), $AO21, 0)","v":0},{"$f":"IF(OR(ISBLANK($U21), $U21>'DebitCard Rec '!$E$8), $AO21, 0)","v":0},0,{"$f":"IF(AND($A21<'P&L'!$P$8, $X21='P&L'!$G$6), $AR21, 0)","v":0},0,{"$f":"IF(AND($A21<'P&L'!$P$8, $X21='P&L'!$G$6), $AT21, 0)","v":0},"Cheque_Main Payment"," ","Tuckshop Wages"]
["2019-02-20","Cheque_Main","Payment",null,"Wages",null,null,null,"J Doe","20j",150,null,null,null,"2019-03-01",null,null,null,null,null,null,null,"Feb-19",2019,{"$f":"IF(AND($A22<'P&L'!$P$8, YEAR($A22)=Master!$C$6), $K22, 0)","v":150},0,{"$f":"IF(AND(NOT(ISBLANK($O22)), $O22<'P&L'!$P$8), Z22, 0)","v":0},{"$f":"IF(OR(ISBLANK($O22), $O22>'BankRec Main Acct'!$E$8), Z22, 0)","v":0},150,{"$f":"IF(AND(NOT(ISBLANK($O22)), $O22<'P&L'!$P$8), AC22, 0)","v":150},{"$f":"IF(OR(ISBLANK($O22), $O22>'BankRec Main Acct'!$E$8), AC22, 0)","v":0},0,{"$f":"IF(AND(NOT(ISBLANK($S22)), $S22<'P&L'!$P$8), AF22, 0)","v":0},{"$f":"IF(OR(ISBLANK($S22), $S22>'BankRec Main Acct'!$E$8), AF22, 0)","v":0},0,{"$f":"IF(AND(NOT(ISBLANK($S22)), $S22<'P&L'!$P$8), AI22, 0)","v":0},{"$f":"IF(OR(ISBLANK($S22), $S22>'BankRec Main Acct'!$E$8), AI22, 0)","v":0},0,{"$f":"IF(AND(NOT(ISBLANK($U22)), $U22<'P&L'!$P$8), $AL22, 0)","v":0},{"$f":"IF(OR(ISBLANK($U22), $U22>'DebitCard Rec '!$E$8), $AL22, 0)","v":0},0,{"$f":"IF(AND(NOT(ISBLANK($U22)), $U22<'P&L'!$P$8), $AO22, 0)","v":0},{"$f":"IF(OR(ISBLANK($U22), $U22>'DebitCard Rec '!$E$8), $AO22, 0)","v":0},0,{"$f":"IF(AND($A22<'P&L'!$P$8, $X22='P&L'!$G$6), $AR22, 0)","v":0},0,{"$f":"IF(AND($A22<'P&L'!$P$8, $X22='P&L'!$G$6), $AT22, 0)","v":0},"Cheque_Main Payment"," "," Wages"]
["2019-02-28","EFT_Main","Payment",null,"Bank charges",null,null,"Sunshine bank","Bank transaction fees","22a",10,null,null,null,"2019-02-01",null,null,null,null,null,null,null,"Feb-19",2019,{"$f":"IF(AND($A23<'P&L'!$P$8, YEAR($A23)=Master!$C$6), $K23, 0)","v":10},0,{"$f":"IF(AND(NOT(ISBLANK($O23)), $O23<'P&L'!$P$8), Z23, 0)","v":0},{"$f":"IF(OR(ISBLANK($O23), $O23>'BankRec Main Acct'!$E$8), Z23, 0)","v":0},10,{"$f":"IF(AND(NOT(ISBLANK($O23)), $O23<'P&L'!$P$8), AC23, 0)","v":10},{"$f":"IF(OR(ISBLANK($O23), $O23>'BankRec Main Acct'!$E$8), AC23, 0)","v":0},0,{"$f":"IF(AND(NOT(ISBLANK($S23)), $S23<'P&L'!$P$8), AF23, 0)","v":0},{"$f":"IF(OR(ISBLANK($S23), $S23>'BankRec Main Acct'!$E$8), AF23, 0)","v":0},0,{"$f":"IF(AND(NOT(ISBLANK($S23)), $S23<'P&L'!$P$8), AI23, 0)","v":0},{"$f":"IF(OR(ISBLANK($S23), $S23>'BankRec Main Acct'!$E$8), AI23, 0)","v":0},0,{"$f":"IF(AND(NOT(ISBLANK($U23)), $U23<'P&L'!$P$8), $AL23, 0)","v":0},{"$f":"IF(OR(ISBLANK($U23), $U23>'DebitCard Rec '!$E$8), $AL23, 0)","v":0},0,{"$f":"IF(AND(NOT(ISBLANK($U23)), $U23<'P&L'!$P$8), $AO23, 0)","v":0},{"$f":"IF(OR(ISBLANK($U23), $U23>'DebitCard Rec '!$E$8), $AO23, 0)","v":0},0,{"$f":"IF(AND($A23<'P&L'!$P$8, $X23='P&L'!$G$6), $AR23, 0)","v":0},0,{"$f":"IF(AND($A23<'P&L'!$P$8, $X23='P&L'!$G$6), $AT23, 0)","v":0},"EFT_Main Payment"," "," Bank charges"]
["2019-02-28","EFT_Main","Payment",null,"Loan repayment - principal component","Tuckshop",null,"Sunshine bank","Bank Loan for fitout","23a",1250,null,null,1350,"2019-02-01",null,null,null,null,null,null,null,"Feb-19",2019,{"$f":"IF(AND($A24<'P&L'!$P$8, YEAR($A24)=Master!$C$6), $K24, 0)","v":1250},0,{"$f":"IF(AND(NOT(ISBLANK($O24)), $O24<'P&L'!$P$8), Z24, 0)","v":0},{"$f":"IF(OR(ISBLANK($O24), $O24>'BankRec Main Acct'!$E$8), Z24, 0)","v":0},1250,{"$f":"IF(AND(NOT(ISBLANK($O24)), $O24<'P&L'!$P$8), AC24, 0)","v":1250},{"$f":"IF(OR(ISBLANK($O24), $O24>'BankRec Main Acct'!$E$8), AC24, 0)","v":0},0,{"$f":"IF(AND(NOT(ISBLANK($S24)), $S24<'P&L'!$P$8), AF24, 0)","v":0},{"$f":"IF(OR(ISBLANK($S24), $S24>'BankRec Main Acct'!$E$8), AF24, 0)","v":0},0,{"$f":"IF(AND(NOT(ISBLANK($S24)), $S24<'P&L'!$P$8), AI24, 0)","v":0},{"$f":"IF(OR(ISBLANK($S24), $S24>'BankRec Main Acct'!$E$8), AI24, 0)","v":0},0,{"$f":"IF(AND(NOT(ISBLANK($U24)), $U24<'P&L'!$P$8), $AL24, 0)","v":0},{"$f":"IF(OR(ISBLANK($U24), $U24>'DebitCard Rec '!$E$8), $AL24, 0)","v":0},0,{"$f":"IF(AND(NOT(ISBLANK($U24)), $U24<'P&L'!$P$8), $AO24, 0)","v":0},{"$f":"IF(OR(ISBLANK($U24), $U24>'DebitCard Rec '!$E$8), $AO24, 0)","v":0},0,{"$f":"IF(AND($A24<'P&L'!$P$8, $X24='P&L'!$G$6), $AR24, 0)","v":0},0,{"$f":"IF(AND($A24<'P&L'!$P$8, $X24='P&L'!$G$6), $AT24, 0)","v":0},"EFT_Main Payment"," ","Tuckshop Loan repayment - principal component"]
["2019-02-28","EFT_Main","Payment",null,"Loan repayment - interest expenses","Tuckshop",null,"Sunshine bank","Bank Loan for fitout","23b",100,null,null,null,"2019-02-01",null,null,null,null,null,null,null,"Feb-19",2019,{"$f":"IF(AND($A25<'P&L'!$P$8, YEAR($A25)=Master!$C$6), $K25, 0)","v":100},0,{"$f":"IF(AND(NOT(ISBLANK($O25)), $O25<'P&L'!$P$8), Z25, 0)","v":0},{"$f":"IF(OR(ISBLANK($O25), $O25>'BankRec Main Acct'!$E$8), Z25, 0)","v":0},100,{"$f":"IF(AND(NOT(ISBLANK($O25)), $O25<'P&L'!$P$8), AC25, 0)","v":100},{"$f":"IF(OR(ISBLANK($O25), $O25>'BankRec Main Acct'!$E$8), AC25, 0)","v":0},0,{"$f":"IF(AND(NOT(ISBLANK($S25)), $S25<'P&L'!$P$8), AF25, 0)","v":0},{"$f":"IF(OR(ISBLANK($S25), $S25>'BankRec Main Acct'!$E$8), AF25, 0)","v":0},0,{"$f":"IF(AND(NOT(ISBLANK($S25)), $S25<'P&L'!$P$8), AI25, 0)","v":0},{"$f":"IF(OR(ISBLANK($S25), $S25>'BankRec Main Acct'!$E$8), AI25, 0)","v":0},0,{"$f":"IF(AND(NOT(ISBLANK($U25)), $U25<'P&L'!$P$8), $AL25, 0)","v":0},{"$f":"IF(OR(ISBLANK($U25), $U25>'DebitCard Rec '!$E$8), $AL25, 0)","v":0},0,{"$f":"IF(AND(NOT(ISBLANK($U25)), $U25<'P&L'!$P$8), $AO25, 0)","v":0},{"$f":"IF(OR(ISBLANK($U25), $U25>'DebitCard Rec '!$E$8), $AO25, 0)","v":0},0,{"$f":"IF(AND($A25<'P&L'!$P$8, $X25='P&L'!$G$6), $AR25, 0)","v":0},0,{"$f":"IF(AND($A25<'P&L'!$P$8, $X25='P&L'!$G$6), $AT25, 0)","v":0},"EFT_Main Payment"," ","Tuckshop Loan repayment - interest expenses"]
["2019-03-01","EFT_Main","Payment",null,"Debit Card top up",null,null,null,"A Wood debit card ","30a",500,null,null,null,"2019-03-01",null,null,null,null,null,null,null,"Mar-19",2019,{"$f":"IF(AND($A26<'P&L'!$P$8, YEAR($A26)=Master!$C$6), $K26, 0)","v":500},0,{"$f":"IF(AND(NOT(ISBLANK($O26)), $O26<'P&L'!$P$8), Z26, 0)","v":0},{"$f":"IF(OR(ISBLANK($O26), $O26>'BankRec Main Acct'!$E$8), Z26, 0)","v":0},500,{"$f":"IF(AND(NOT(ISBLANK($O26)), $O26<'P&L'!$P$8), AC26, 0)","v":500},{"$f":"IF(OR(ISBLANK($O26), $O26>'BankRec Main Acct'!$E$8), AC26, 0)","v":0},0,{"$f":"IF(AND(NOT(ISBLANK($S26)), $S26<'P&L'!$P$8), AF26, 0)","v":0},{"$f":"IF(OR(ISBLANK($S26), $S26>'BankRec Main Acct'!$E$8), AF26, 0)","v":0},0,{"$f":"IF(AND(NOT(ISBLANK($S26)), $S26<'P&L'!$P$8), AI26, 0)","v":0},{"$f":"IF(OR(ISBLANK($S26), $S26>'BankRec Main Acct'!$E$8), AI26, 0)","v":0},0,{"$f":"IF(AND(NOT(ISBLANK($U26)), $U26<'P&L'!$P$8), $AL26, 0)","v":0},{"$f":"IF(OR(ISBLANK($U26), $U26>'DebitCard Rec '!$E$8), $AL26, 0)","v":0},0,{"$f":"IF(AND(NOT(ISBLANK($U26)), $U26<'P&L'!$P$8), $AO26, 0)","v":0},{"$f":"IF(OR(ISBLANK($U26), $U26>'DebitCard Rec '!$E$8), $AO26, 0)","v":0},0,{"$f":"IF(AND($A26<'P&L'!$P$8, $X26='P&L'!$G$6), $AR26, 0)","v":0},0,{"$f":"IF(AND($A26<'P&L'!$P$8, $X26='P&L'!$G$6), $AT26, 0)","v":0},"EFT_Main Payment"," "," Debit Card top up"]
["2019-03-01","Debit card","Receipt","Debit Card account top up",null,null,null,null,"A Wood debit card ","30b",500,null,null,null,null,null,null,null,null,null,"2019-03-01",null,"Mar-19",2019,{"$f":"IF(AND($A27<'P&L'!$P$8, YEAR($A27)=Master!$C$6), $K27, 0)","v":500},0,{"$f":"IF(AND(NOT(ISBLANK($O27)), $O27<'P&L'!$P$8), Z27, 0)","v":0},{"$f":"IF(OR(ISBLANK($O27), $O27>'BankRec Main Acct'!$E$8), Z27, 0)","v":0},0,{"$f":"IF(AND(NOT(ISBLANK($O27)), $O27<'P&L'!$P$8), AC27, 0)","v":0},{"$f":"IF(OR(ISBLANK($O27), $O27>'BankRec Main Acct'!$E$8), AC27, 0)","v":0},0,{"$f":"IF(AND(NOT(ISBLANK($S27)), $S27<'P&L'!$P$8), AF27, 0)","v":0},{"$f":"IF(OR(ISBLANK($S27), $S27>'BankRec Main Acct'!$E$8), AF27, 0)","v":0},0,{"$f":"IF(AND(NOT(ISBLANK($S27)), $S27<'P&L'!$P$8), AI27, 0)","v":0},{"$f":"IF(OR(ISBLANK($S27), $S27>'BankRec Main Acct'!$E$8), AI27, 0)","v":0},500,{"$f":"IF(AND(NOT(ISBLANK($U27)), $U27<'P&L'!$P$8), $AL27, 0)","v":500},{"$f":"IF(OR(ISBLANK($U27), $U27>'DebitCard Rec '!$E$8), $AL27, 0)","v":0},0,{"$f":"IF(AND(NOT(ISBLANK($U27)), $U27<'P&L'!$P$8), $AO27, 0)","v":0},{"$f":"IF(OR(ISBLANK($U27), $U27>'DebitCard Rec '!$E$8), $AO27, 0)","v":0},0,{"$f":"IF(AND($A27<'P&L'!$P$8, $X27='P&L'!$G$6), $AR27, 0)","v":0},0,{"$f":"IF(AND($A27<'P&L'!$P$8, $X27='P&L'!$G$6), $AT27, 0)","v":0},"Debit card Receipt","Debit Card account top up "," "]
["2019-03-01","Cheque_Main","Payment",null,"Petty Cash top up",null,null,null,"Top up petty cash","30c",47.2,null,null,null,"2019-03-01",null,null,null,null,null,null,null,"Mar-19",2019,{"$f":"IF(AND($A28<'P&L'!$P$8, YEAR($A28)=Master!$C$6), $K28, 0)","v":47.2},0,{"$f":"IF(AND(NOT(ISBLANK($O28)), $O28<'P&L'!$P$8), Z28, 0)","v":0},{"$f":"IF(OR(ISBLANK($O28), $O28>'BankRec Main Acct'!$E$8), Z28, 0)","v":0},47.2,{"$f":"IF(AND(NOT(ISBLANK($O28)), $O28<'P&L'!$P$8), AC28, 0)","v":47.2},{"$f":"IF(OR(ISBLANK($O28), $O28>'BankRec Main Acct'!$E$8), AC28, 0)","v":0},0,{"$f":"IF(AND(NOT(ISBLANK($S28)), $S28<'P&L'!$P$8), AF28, 0)","v":0},{"$f":"IF(OR(ISBLANK($S28), $S28>'BankRec Main Acct'!$E$8), AF28, 0)","v":0},0,{"$f":"IF(AND(NOT(ISBLANK($S28)), $S28<'P&L'!$P$8), AI28, 0)","v":0},{"$f":"IF(OR(ISBLANK($S28), $S28>'BankRec Main Acct'!$E$8), AI28, 0)","v":0},0,{"$f":"IF(AND(NOT(ISBLANK($U28)), $U28<'P&L'!$P$8), $AL28, 0)","v":0},{"$f":"IF(OR(ISBLANK($U28), $U28>'DebitCard Rec '!$E$8), $AL28, 0)","v":0},0,{"$f":"IF(AND(NOT(ISBLANK($U28)), $U28<'P&L'!$P$8), $AO28, 0)","v":0},{"$f":"IF(OR(ISBLANK($U28), $U28>'DebitCard Rec '!$E$8), $AO28, 0)","v":0},0,{"$f":"IF(AND($A28<'P&L'!$P$8, $X28='P&L'!$G$6), $AR28, 0)","v":0},0,{"$f":"IF(AND($A28<'P&L'!$P$8, $X28='P&L'!$G$6), $AT28, 0)","v":0},"Cheque_Main Payment"," "," Petty Cash top up"]
["2019-03-01","Petty cash","Receipt","Petty Cash float top up",null,null,null,null,"Petty cash top up","30d",47.2,null,null,null,null,null,null,null,null,null,null,null,"Mar-19",2019,{"$f":"IF(AND($A29<'P&L'!$P$8, YEAR($A29)=Master!$C$6), $K29, 0)","v":47.2},0,{"$f":"IF(AND(NOT(ISBLANK($O29)), $O29<'P&L'!$P$8), Z29, 0)","v":0},{"$f":"IF(OR(ISBLANK($O29), $O29>'BankRec Main Acct'!$E$8), Z29, 0)","v":0},0,{"$f":"IF(AND(NOT(ISBLANK($O29)), $O29<'P&L'!$P$8), AC29, 0)","v":0},{"$f":"IF(OR(ISBLANK($O29), $O29>'BankRec Main Acct'!$E$8), AC29, 0)","v":0},0,{"$f":"IF(AND(NOT(ISBLANK($S29)), $S29<'P&L'!$P$8), AF29, 0)","v":0},{"$f":"IF(OR(ISBLANK($S29), $S29>'BankRec Main Acct'!$E$8), AF29, 0)","v":0},0,{"$f":"IF(AND(NOT(ISBLANK($S29)), $S29<'P&L'!$P$8), AI29, 0)","v":0},{"$f":"IF(OR(ISBLANK($S29), $S29>'BankRec Main Acct'!$E$8), AI29, 0)","v":0},0,{"$f":"IF(AND(NOT(ISBLANK($U29)), $U29<'P&L'!$P$8), $AL29, 0)","v":0},{"$f":"IF(OR(ISBLANK($U29), $U29>'DebitCard Rec '!$E$8), $AL29, 0)","v":0},0,{"$f":"IF(AND(NOT(ISBLANK($U29)), $U29<'P&L'!$P$8), $AO29, 0)","v":0},{"$f":"IF(OR(ISBLANK($U29), $U29>'DebitCard Rec '!$E$8), $AO29, 0)","v":0},47.2,{"$f":"IF(AND($A29<'P&L'!$P$8, $X29='P&L'!$G$6), $AR29, 0)","v":47.2},0,{"$f":"IF(AND($A29<'P&L'!$P$8, $X29='P&L'!$G$6), $AT29, 0)","v":0},"Petty cash Receipt","Petty Cash float top up "," "]
["2019-03-01","EFT_Main","Payment",null,"Stock purchase","Uniform Shop",null,"The school supply shop","20 shirts ","30e",150,null,null,null,"2019-03-01",null,null,null,null,null,null,null,"Mar-19",2019,{"$f":"IF(AND($A30<'P&L'!$P$8, YEAR($A30)=Master!$C$6), $K30, 0)","v":150},0,{"$f":"IF(AND(NOT(ISBLANK($O30)), $O30<'P&L'!$P$8), Z30, 0)","v":0},{"$f":"IF(OR(ISBLANK($O30), $O30>'BankRec Main Acct'!$E$8), Z30, 0)","v":0},150,{"$f":"IF(AND(NOT(ISBLANK($O30)), $O30<'P&L'!$P$8), AC30, 0)","v":150},{"$f":"IF(OR(ISBLANK($O30), $O30>'BankRec Main Acct'!$E$8), AC30, 0)","v":0},0,{"$f":"IF(AND(NOT(ISBLANK($S30)), $S30<'P&L'!$P$8), AF30, 0)","v":0},{"$f":"IF(OR(ISBLANK($S30), $S30>'BankRec Main Acct'!$E$8), AF30, 0)","v":0},0,{"$f":"IF(AND(NOT(ISBLANK($S30)), $S30<'P&L'!$P$8), AI30, 0)","v":0},{"$f":"IF(OR(ISBLANK($S30), $S30>'BankRec Main Acct'!$E$8), AI30, 0)","v":0},0,{"$f":"IF(AND(NOT(ISBLANK($U30)), $U30<'P&L'!$P$8), $AL30, 0)","v":0},{"$f":"IF(OR(ISBLANK($U30), $U30>'DebitCard Rec '!$E$8), $AL30, 0)","v":0},0,{"$f":"IF(AND(NOT(ISBLANK($U30)), $U30<'P&L'!$P$8), $AO30, 0)","v":0},{"$f":"IF(OR(ISBLANK($U30), $U30>'DebitCard Rec '!$E$8), $AO30, 0)","v":0},0,{"$f":"IF(AND($A30<'P&L'!$P$8, $X30='P&L'!$G$6), $AR30, 0)","v":0},0,{"$f":"IF(AND($A30<'P&L'!$P$8, $X30='P&L'!$G$6), $AT30, 0)","v":0},"EFT_Main Payment"," ","Uniform Shop Stock purchase"]
["2019-03-04","Petty cash","Payment",null,"Stock purchase","Tuckshop",null,"Joes convenience store","Butter ","30f",5,null,null,null,null,null,null,null,null,null,null,null,"Mar-19",2019,{"$f":"IF(AND($A31<'P&L'!$P$8, YEAR($A31)=Master!$C$6), $K31, 0)","v":5},0,{"$f":"IF(AND(NOT(ISBLANK($O31)), $O31<'P&L'!$P$8), Z31, 0)","v":0},{"$f":"IF(OR(ISBLANK($O31), $O31>'BankRec Main Acct'!$E$8), Z31, 0)","v":0},0,{"$f":"IF(AND(NOT(ISBLANK($O31)), $O31<'P&L'!$P$8), AC31, 0)","v":0},{"$f":"IF(OR(ISBLANK($O31), $O31>'BankRec Main Acct'!$E$8), AC31, 0)","v":0},0,{"$f":"IF(AND(NOT(ISBLANK($S31)), $S31<'P&L'!$P$8), AF31, 0)","v":0},{"$f":"IF(OR(ISBLANK($S31), $S31>'BankRec Main Acct'!$E$8), AF31, 0)","v":0},0,{"$f":"IF(AND(NOT(ISBLANK($S31)), $S31<'P&L'!$P$8), AI31, 0)","v":0},{"$f":"IF(OR(ISBLANK($S31), $S31>'BankRec Main Acct'!$E$8), AI31, 0)","v":0},0,{"$f":"IF(AND(NOT(ISBLANK($U31)), $U31<'P&L'!$P$8), $AL31, 0)","v":0},{"$f":"IF(OR(ISBLANK($U31), $U31>'DebitCard Rec '!$E$8), $AL31, 0)","v":0},0,{"$f":"IF(AND(NOT(ISBLANK($U31)), $U31<'P&L'!$P$8), $AO31, 0)","v":0},{"$f":"IF(OR(ISBLANK($U31), $U31>'DebitCard Rec '!$E$8), $AO31, 0)","v":0},0,{"$f":"IF(AND($A31<'P&L'!$P$8, $X31='P&L'!$G$6), $AR31, 0)","v":0},5,{"$f":"IF(AND($A31<'P&L'!$P$8, $X31='P&L'!$G$6), $AT31, 0)","v":5},"Petty cash Payment"," ","Tuckshop Stock purchase"]
["2019-03-07","Debit card","Payment",null,"Fundraising expenses","Fete",null,"Bobs Meats ","Sausages for BBQ","30g",222,null,null,null,null,null,null,null,null,null,"2019-03-01",null,"Mar-19",2019,{"$f":"IF(AND($A32<'P&L'!$P$8, YEAR($A32)=Master!$C$6), $K32, 0)","v":222},0,{"$f":"IF(AND(NOT(ISBLANK($O32)), $O32<'P&L'!$P$8), Z32, 0)","v":0},{"$f":"IF(OR(ISBLANK($O32), $O32>'BankRec Main Acct'!$E$8), Z32, 0)","v":0},0,{"$f":"IF(AND(NOT(ISBLANK($O32)), $O32<'P&L'!$P$8), AC32, 0)","v":0},{"$f":"IF(OR(ISBLANK($O32), $O32>'BankRec Main Acct'!$E$8), AC32, 0)","v":0},0,{"$f":"IF(AND(NOT(ISBLANK($S32)), $S32<'P&L'!$P$8), AF32, 0)","v":0},{"$f":"IF(OR(ISBLANK($S32), $S32>'BankRec Main Acct'!$E$8), AF32, 0)","v":0},0,{"$f":"IF(AND(NOT(ISBLANK($S32)), $S32<'P&L'!$P$8), AI32, 0)","v":0},{"$f":"IF(OR(ISBLANK($S32), $S32>'BankRec Main Acct'!$E$8), AI32, 0)","v":0},0,{"$f":"IF(AND(NOT(ISBLANK($U32)), $U32<'P&L'!$P$8), $AL32, 0)","v":0},{"$f":"IF(OR(ISBLANK($U32), $U32>'DebitCard Rec '!$E$8), $AL32, 0)","v":0},222,{"$f":"IF(AND(NOT(ISBLANK($U32)), $U32<'P&L'!$P$8), $AO32, 0)","v":222},{"$f":"IF(OR(ISBLANK($U32), $U32>'DebitCard Rec '!$E$8), $AO32, 0)","v":0},0,{"$f":"IF(AND($A32<'P&L'!$P$8, $X32='P&L'!$G$6), $AR32, 0)","v":0},0,{"$f":"IF(AND($A32<'P&L'!$P$8, $X32='P&L'!$G$6), $AT32, 0)","v":0},"Debit card Payment"," ","Fete Fundraising expenses"]
["2019-03-14","Petty cash","Payment",null,"Fundraising expenses","Fete",null,null,"Raffle ticket books for fete","30h",12.5,null,null,null,null,null,null,null,null,null,null,null,"Mar-19",2019,{"$f":"IF(AND($A33<'P&L'!$P$8, YEAR($A33)=Master!$C$6), $K33, 0)","v":12.5},0,{"$f":"IF(AND(NOT(ISBLANK($O33)), $O33<'P&L'!$P$8), Z33, 0)","v":0},{"$f":"IF(OR(ISBLANK($O33), $O33>'BankRec Main Acct'!$E$8), Z33, 0)","v":0},0,{"$f":"IF(AND(NOT(ISBLANK($O33)), $O33<'P&L'!$P$8), AC33, 0)","v":0},{"$f":"IF(OR(ISBLANK($O33), $O33>'BankRec Main Acct'!$E$8), AC33, 0)","v":0},0,{"$f":"IF(AND(NOT(ISBLANK($S33)), $S33<'P&L'!$P$8), AF33, 0)","v":0},{"$f":"IF(OR(ISBLANK($S33), $S33>'BankRec Main Acct'!$E$8), AF33, 0)","v":0},0,{"$f":"IF(AND(NOT(ISBLANK($S33)), $S33<'P&L'!$P$8), AI33, 0)","v":0},{"$f":"IF(OR(ISBLANK($S33), $S33>'BankRec Main Acct'!$E$8), AI33, 0)","v":0},0,{"$f":"IF(AND(NOT(ISBLANK($U33)), $U33<'P&L'!$P$8), $AL33, 0)","v":0},{"$f":"IF(OR(ISBLANK($U33), $U33>'DebitCard Rec '!$E$8), $AL33, 0)","v":0},0,{"$f":"IF(AND(NOT(ISBLANK($U33)), $U33<'P&L'!$P$8), $AO33, 0)","v":0},{"$f":"IF(OR(ISBLANK($U33), $U33>'DebitCard Rec '!$E$8), $AO33, 0)","v":0},0,{"$f":"IF(AND($A33<'P&L'!$P$8, $X33='P&L'!$G$6), $AR33, 0)","v":0},12.5,{"$f":"IF(AND($A33<'P&L'!$P$8, $X33='P&L'!$G$6), $AT33, 0)","v":12.5},"Petty cash Payment"," ","Fete Fundraising expenses"]
["2019-03-15","Cash_Main","Receipt","Sales",null,"Tuckshop",null,null,"Total March sales","30i",530,null,"2019-03-15",530,"2019-03-01",null,null,null,null,null,null,null,"Mar-19",2019,{"$f":"IF(AND($A34<'P&L'!$P$8, YEAR($A34)=Master!$C$6), $K34, 0)","v":530},530,{"$f":"IF(AND(NOT(ISBLANK($O34)), $O34<'P&L'!$P$8), Z34, 0)","v":530},{"$f":"IF(OR(ISBLANK($O34), $O34>'BankRec Main Acct'!$E$8), Z34, 0)","v":0},0,{"$f":"IF(AND(NOT(ISBLANK($O34)), $O34<'P&L'!$P$8), AC34, 0)","v":0},{"$f":"IF(OR(ISBLANK($O34), $O34>'BankRec Main Acct'!$E$8), AC34, 0)","v":0},0,{"$f":"IF(AND(NOT(ISBLANK($S34)), $S34<'P&L'!$P$8), AF34, 0)","v":0},{"$f":"IF(OR(ISBLANK($S34), $S34>'BankRec Main Acct'!$E$8), AF34, 0)","v":0},0,{"$f":"IF(AND(NOT(ISBLANK($S34)), $S34<'P&L'!$P$8), AI34, 0)","v":0},{"$f":"IF(OR(ISBLANK($S34), $S34>'BankRec Main Acct'!$E$8), AI34, 0)","v":0},0,{"$f":"IF(AND(NOT(ISBLANK($U34)), $U34<'P&L'!$P$8), $AL34, 0)","v":0},{"$f":"IF(OR(ISBLANK($U34), $U34>'DebitCard Rec '!$E$8), $AL34, 0)","v":0},0,{"$f":"IF(AND(NOT(ISBLANK($U34)), $U34<'P&L'!$P$8), $AO34, 0)","v":0},{"$f":"IF(OR(ISBLANK($U34), $U34>'DebitCard Rec '!$E$8), $AO34, 0)","v":0},0,{"$f":"IF(AND($A34<'P&L'!$P$8, $X34='P&L'!$G$6), $AR34, 0)","v":0},0,{"$f":"IF(AND($A34<'P&L'!$P$8, $X34='P&L'!$G$6), $AT34, 0)","v":0},"Cash_Main Receipt","Sales Tuckshop"," "]
["2019-03-18","EFT_Main","Payment",null,"Stock purchase","Tuckshop",null,"Freshfood company","monthly stock purchase","30j",1100,null,null,null,"2019-03-01",null,null,null,null,null,null,null,"Mar-19",2019,{"$f":"IF(AND($A35<'P&L'!$P$8, YEAR($A35)=Master!$C$6), $K35, 0)","v":1100},0,{"$f":"IF(AND(NOT(ISBLANK($O35)), $O35<'P&L'!$P$8), Z35, 0)","v":0},{"$f":"IF(OR(ISBLANK($O35), $O35>'BankRec Main Acct'!$E$8), Z35, 0)","v":0},1100,{"$f":"IF(AND(NOT(ISBLANK($O35)), $O35<'P&L'!$P$8), AC35, 0)","v":1100},{"$f":"IF(OR(ISBLANK($O35), $O35>'BankRec Main Acct'!$E$8), AC35, 0)","v":0},0,{"$f":"IF(AND(NOT(ISBLANK($S35)), $S35<'P&L'!$P$8), AF35, 0)","v":0},{"$f":"IF(OR(ISBLANK($S35), $S35>'BankRec Main Acct'!$E$8), AF35, 0)","v":0},0,{"$f":"IF(AND(NOT(ISBLANK($S35)), $S35<'P&L'!$P$8), AI35, 0)","v":0},{"$f":"IF(OR(ISBLANK($S35), $S35>'BankRec Main Acct'!$E$8), AI35, 0)","v":0},0,{"$f":"IF(AND(NOT(ISBLANK($U35)), $U35<'P&L'!$P$8), $AL35, 0)","v":0},{"$f":"IF(OR(ISBLANK($U35), $U35>'DebitCard Rec '!$E$8), $AL35, 0)","v":0},0,{"$f":"IF(AND(NOT(ISBLANK($U35)), $U35<'P&L'!$P$8), $AO35, 0)","v":0},{"$f":"IF(OR(ISBLANK($U35), $U35>'DebitCard Rec '!$E$8), $AO35, 0)","v":0},0,{"$f":"IF(AND($A35<'P&L'!$P$8, $X35='P&L'!$G$6), $AR35, 0)","v":0},0,{"$f":"IF(AND($A35<'P&L'!$P$8, $X35='P&L'!$G$6), $AT35, 0)","v":0},"EFT_Main Payment"," ","Tuckshop Stock purchase"]
["2019-03-23","Cash_Main","Receipt","Fundraising ",null,"Fete",null,null,"Money raised from fete","30k",9200,null,"2019-03-25",9200,"2019-03-01",null,null,null,null,null,null,null,"Mar-19",2019,{"$f":"IF(AND($A36<'P&L'!$P$8, YEAR($A36)=Master!$C$6), $K36, 0)","v":9200},9200,{"$f":"IF(AND(NOT(ISBLANK($O36)), $O36<'P&L'!$P$8), Z36, 0)","v":9200},{"$f":"IF(OR(ISBLANK($O36), $O36>'BankRec Main Acct'!$E$8), Z36, 0)","v":0},0,{"$f":"IF(AND(NOT(ISBLANK($O36)), $O36<'P&L'!$P$8), AC36, 0)","v":0},{"$f":"IF(OR(ISBLANK($O36), $O36>'BankRec Main Acct'!$E$8), AC36, 0)","v":0},0,{"$f":"IF(AND(NOT(ISBLANK($S36)), $S36<'P&L'!$P$8), AF36, 0)","v":0},{"$f":"IF(OR(ISBLANK($S36), $S36>'BankRec Main Acct'!$E$8), AF36, 0)","v":0},0,{"$f":"IF(AND(NOT(ISBLANK($S36)), $S36<'P&L'!$P$8), AI36, 0)","v":0},{"$f":"IF(OR(ISBLANK($S36), $S36>'BankRec Main Acct'!$E$8), AI36, 0)","v":0},0,{"$f":"IF(AND(NOT(ISBLANK($U36)), $U36<'P&L'!$P$8), $AL36, 0)","v":0},{"$f":"IF(OR(ISBLANK($U36), $U36>'DebitCard Rec '!$E$8), $AL36, 0)","v":0},0,{"$f":"IF(AND(NOT(ISBLANK($U36)), $U36<'P&L'!$P$8), $AO36, 0)","v":0},{"$f":"IF(OR(ISBLANK($U36), $U36>'DebitCard Rec '!$E$8), $AO36, 0)","v":0},0,{"$f":"IF(AND($A36<'P&L'!$P$8, $X36='P&L'!$G$6), $AR36, 0)","v":0},0,{"$f":"IF(AND($A36<'P&L'!$P$8, $X36='P&L'!$G$6), $AT36, 0)","v":0},"Cash_Main Receipt","Fundraising  Fete"," "]
["2019-03-25","Cheque_Main","Payment",null,"Annual Leave","Tuckshop",null,null,"J Smith","30l",320,null,null,null,"2019-03-01",null,null,null,null,null,null,null,"Mar-19",2019,{"$f":"IF(AND($A37<'P&L'!$P$8, YEAR($A37)=Master!$C$6), $K37, 0)","v":320},0,{"$f":"IF(AND(NOT(ISBLANK($O37)), $O37<'P&L'!$P$8), Z37, 0)","v":0},{"$f":"IF(OR(ISBLANK($O37), $O37>'BankRec Main Acct'!$E$8), Z37, 0)","v":0},320,{"$f":"IF(AND(NOT(ISBLANK($O37)), $O37<'P&L'!$P$8), AC37, 0)","v":320},{"$f":"IF(OR(ISBLANK($O37), $O37>'BankRec Main Acct'!$E$8), AC37, 0)","v":0},0,{"$f":"IF(AND(NOT(ISBLANK($S37)), $S37<'P&L'!$P$8), AF37, 0)","v":0},{"$f":"IF(OR(ISBLANK($S37), $S37>'BankRec Main Acct'!$E$8), AF37, 0)","v":0},0,{"$f":"IF(AND(NOT(ISBLANK($S37)), $S37<'P&L'!$P$8), AI37, 0)","v":0},{"$f":"IF(OR(ISBLANK($S37), $S37>'BankRec Main Acct'!$E$8), AI37, 0)","v":0},0,{"$f":"IF(AND(NOT(ISBLANK($U37)), $U37<'P&L'!$P$8), $AL37, 0)","v":0},{"$f":"IF(OR(ISBLANK($U37), $U37>'DebitCard Rec '!$E$8), $AL37, 0)","v":0},0,{"$f":"IF(AND(NOT(ISBLANK($U37)), $U37<'P&L'!$P$8), $AO37, 0)","v":0},{"$f":"IF(OR(ISBLANK($U37), $U37>'DebitCard Rec '!$E$8), $AO37, 0)","v":0},0,{"$f":"IF(AND($A37<'P&L'!$P$8, $X37='P&L'!$G$6), $AR37, 0)","v":0},0,{"$f":"IF(AND($A37<'P&L'!$P$8, $X37='P&L'!$G$6), $AT37, 0)","v":0},"Cheque_Main Payment"," ","Tuckshop Annual Leave"]
["2019-03-31","EFT_Main","Payment",null,"Superannuation","Tuckshop",null,null,"J Smith","30m",300,null,null,null,null,null,null,null,null,null,null,null,"Mar-19",2019,{"$f":"IF(AND($A38<'P&L'!$P$8, YEAR($A38)=Master!$C$6), $K38, 0)","v":300},0,{"$f":"IF(AND(NOT(ISBLANK($O38)), $O38<'P&L'!$P$8), Z38, 0)","v":0},{"$f":"IF(OR(ISBLANK($O38), $O38>'BankRec Main Acct'!$E$8), Z38, 0)","v":0},300,{"$f":"IF(AND(NOT(ISBLANK($O38)), $O38<'P&L'!$P$8), AC38, 0)","v":0},{"$f":"IF(OR(ISBLANK($O38), $O38>'BankRec Main Acct'!$E$8), AC38, 0)","v":300},0,{"$f":"IF(AND(NOT(ISBLANK($S38)), $S38<'P&L'!$P$8), AF38, 0)","v":0},{"$f":"IF(OR(ISBLANK($S38), $S38>'BankRec Main Acct'!$E$8), AF38, 0)","v":0},0,{"$f":"IF(AND(NOT(ISBLANK($S38)), $S38<'P&L'!$P$8), AI38, 0)","v":0},{"$f":"IF(OR(ISBLANK($S38), $S38>'BankRec Main Acct'!$E$8), AI38, 0)","v":0},0,{"$f":"IF(AND(NOT(ISBLANK($U38)), $U38<'P&L'!$P$8), $AL38, 0)","v":0},{"$f":"IF(OR(ISBLANK($U38), $U38>'DebitCard Rec '!$E$8), $AL38, 0)","v":0},0,{"$f":"IF(AND(NOT(ISBLANK($U38)), $U38<'P&L'!$P$8), $AO38, 0)","v":0},{"$f":"IF(OR(ISBLANK($U38), $U38>'DebitCard Rec '!$E$8), $AO38, 0)","v":0},0,{"$f":"IF(AND($A38<'P&L'!$P$8, $X38='P&L'!$G$6), $AR38, 0)","v":0},0,{"$f":"IF(AND($A38<'P&L'!$P$8, $X38='P&L'!$G$6), $AT38, 0)","v":0},"EFT_Main Payment"," ","Tuckshop Superannuation"]
["2019-03-31","EFT_Main","Payment",null,"Superannuation",null,null,null,"J Doe","30n",30,null,null,null,null,null,null,null,null,null,null,null,"Mar-19",2019,{"$f":"IF(AND($A39<'P&L'!$P$8, YEAR($A39)=Master!$C$6), $K39, 0)","v":30},0,{"$f":"IF(AND(NOT(ISBLANK($O39)), $O39<'P&L'!$P$8), Z39, 0)","v":0},{"$f":"IF(OR(ISBLANK($O39), $O39>'BankRec Main Acct'!$E$8), Z39, 0)","v":0},30,{"$f":"IF(AND(NOT(ISBLANK($O39)), $O39<'P&L'!$P$8), AC39, 0)","v":0},{"$f":"IF(OR(ISBLANK($O39), $O39>'BankRec Main Acct'!$E$8), AC39, 0)","v":30},0,{"$f":"IF(AND(NOT(ISBLANK($S39)), $S39<'P&L'!$P$8), AF39, 0)","v":0},{"$f":"IF(OR(ISBLANK($S39), $S39>'BankRec Main Acct'!$E$8), AF39, 0)","v":0},0,{"$f":"IF(AND(NOT(ISBLANK($S39)), $S39<'P&L'!$P$8), AI39, 0)","v":0},{"$f":"IF(OR(ISBLANK($S39), $S39>'BankRec Main Acct'!$E$8), AI39, 0)","v":0},0,{"$f":"IF(AND(NOT(ISBLANK($U39)), $U39<'P&L'!$P$8), $AL39, 0)","v":0},{"$f":"IF(OR(ISBLANK($U39), $U39>'DebitCard Rec '!$E$8), $AL39, 0)","v":0},0,{"$f":"IF(AND(NOT(ISBLANK($U39)), $U39<'P&L'!$P$8), $AO39, 0)","v":0},{"$f":"IF(OR(ISBLANK($U39), $U39>'DebitCard Rec '!$E$8), $AO39, 0)","v":0},0,{"$f":"IF(AND($A39<'P&L'!$P$8, $X39='P&L'!$G$6), $AR39, 0)","v":0},0,{"$f":"IF(AND($A39<'P&L'!$P$8, $X39='P&L'!$G$6), $AT39, 0)","v":0},"EFT_Main Payment"," "," Superannuation"]
["2019-03-31","EFT_Main","Payment",null,"Pre-paid expense","Tuckshop","Prepaid Expenses Register","The Coffeee Experts","Coffee machine","30o",3600,null,null,null,null,null,null,null,null,null,null,null,"Mar-19",2019,{"$f":"IF(AND($A40<'P&L'!$P$8, YEAR($A40)=Master!$C$6), $K40, 0)","v":3600},0,{"$f":"IF(AND(NOT(ISBLANK($O40)), $O40<'P&L'!$P$8), Z40, 0)","v":0},{"$f":"IF(OR(ISBLANK($O40), $O40>'BankRec Main Acct'!$E$8), Z40, 0)","v":0},3600,{"$f":"IF(AND(NOT(ISBLANK($O40)), $O40<'P&L'!$P$8), AC40, 0)","v":0},{"$f":"IF(OR(ISBLANK($O40), $O40>'BankRec Main Acct'!$E$8), AC40, 0)","v":3600},0,{"$f":"IF(AND(NOT(ISBLANK($S40)), $S40<'P&L'!$P$8), AF40, 0)","v":0},{"$f":"IF(OR(ISBLANK($S40), $S40>'BankRec Main Acct'!$E$8), AF40, 0)","v":0},0,{"$f":"IF(AND(NOT(ISBLANK($S40)), $S40<'P&L'!$P$8), AI40, 0)","v":0},{"$f":"IF(OR(ISBLANK($S40), $S40>'BankRec Main Acct'!$E$8), AI40, 0)","v":0},0,{"$f":"IF(AND(NOT(ISBLANK($U40)), $U40<'P&L'!$P$8), $AL40, 0)","v":0},{"$f":"IF(OR(ISBLANK($U40), $U40>'DebitCard Rec '!$E$8), $AL40, 0)","v":0},0,{"$f":"IF(AND(NOT(ISBLANK($U40)), $U40<'P&L'!$P$8), $AO40, 0)","v":0},{"$f":"IF(OR(ISBLANK($U40), $U40>'DebitCard Rec '!$E$8), $AO40, 0)","v":0},0,{"$f":"IF(AND($A40<'P&L'!$P$8, $X40='P&L'!$G$6), $AR40, 0)","v":0},0,{"$f":"IF(AND($A40<'P&L'!$P$8, $X40='P&L'!$G$6), $AT40, 0)","v":0},"EFT_Main Payment"," ","Tuckshop Pre-paid expense"]
["2019-03-31","EFT_Main","Payment",null,"Bank charges",null,null,"Sunshine bank","Bank transaction fees","34a",10,null,null,null,"2019-03-01",null,null,null,null,null,null,null,"Mar-19",2019,{"$f":"IF(AND($A41<'P&L'!$P$8, YEAR($A41)=Master!$C$6), $K41, 0)","v":10},0,{"$f":"IF(AND(NOT(ISBLANK($O41)), $O41<'P&L'!$P$8), Z41, 0)","v":0},{"$f":"IF(OR(ISBLANK($O41), $O41>'BankRec Main Acct'!$E$8), Z41, 0)","v":0},10,{"$f":"IF(AND(NOT(ISBLANK($O41)), $O41<'P&L'!$P$8), AC41, 0)","v":10},{"$f":"IF(OR(ISBLANK($O41), $O41>'BankRec Main Acct'!$E$8), AC41, 0)","v":0},0,{"$f":"IF(AND(NOT(ISBLANK($S41)), $S41<'P&L'!$P$8), AF41, 0)","v":0},{"$f":"IF(OR(ISBLANK($S41), $S41>'BankRec Main Acct'!$E$8), AF41, 0)","v":0},0,{"$f":"IF(AND(NOT(ISBLANK($S41)), $S41<'P&L'!$P$8), AI41, 0)","v":0},{"$f":"IF(OR(ISBLANK($S41), $S41>'BankRec Main Acct'!$E$8), AI41, 0)","v":0},0,{"$f":"IF(AND(NOT(ISBLANK($U41)), $U41<'P&L'!$P$8), $AL41, 0)","v":0},{"$f":"IF(OR(ISBLANK($U41), $U41>'DebitCard Rec '!$E$8), $AL41, 0)","v":0},0,{"$f":"IF(AND(NOT(ISBLANK($U41)), $U41<'P&L'!$P$8), $AO41, 0)","v":0},{"$f":"IF(OR(ISBLANK($U41), $U41>'DebitCard Rec '!$E$8), $AO41, 0)","v":0},0,{"$f":"IF(AND($A41<'P&L'!$P$8, $X41='P&L'!$G$6), $AR41, 0)","v":0},0,{"$f":"IF(AND($A41<'P&L'!$P$8, $X41='P&L'!$G$6), $AT41, 0)","v":0},"EFT_Main Payment"," "," Bank charges"]
["2019-03-31","EFT_Main","Payment",null,"Loan repayment - principal component","Tuckshop",null,"Sunshine bank","Bank Loan for fitout","35a",1250,null,null,1350,"2019-03-01",null,null,null,null,null,null,null,"Mar-19",2019,{"$f":"IF(AND($A42<'P&L'!$P$8, YEAR($A42)=Master!$C$6), $K42, 0)","v":1250},0,{"$f":"IF(AND(NOT(ISBLANK($O42)), $O42<'P&L'!$P$8), Z42, 0)","v":0},{"$f":"IF(OR(ISBLANK($O42), $O42>'BankRec Main Acct'!$E$8), Z42, 0)","v":0},1250,{"$f":"IF(AND(NOT(ISBLANK($O42)), $O42<'P&L'!$P$8), AC42, 0)","v":1250},{"$f":"IF(OR(ISBLANK($O42), $O42>'BankRec Main Acct'!$E$8), AC42, 0)","v":0},0,{"$f":"IF(AND(NOT(ISBLANK($S42)), $S42<'P&L'!$P$8), AF42, 0)","v":0},{"$f":"IF(OR(ISBLANK($S42), $S42>'BankRec Main Acct'!$E$8), AF42, 0)","v":0},0,{"$f":"IF(AND(NOT(ISBLANK($S42)), $S42<'P&L'!$P$8), AI42, 0)","v":0},{"$f":"IF(OR(ISBLANK($S42), $S42>'BankRec Main Acct'!$E$8), AI42, 0)","v":0},0,{"$f":"IF(AND(NOT(ISBLANK($U42)), $U42<'P&L'!$P$8), $AL42, 0)","v":0},{"$f":"IF(OR(ISBLANK($U42), $U42>'DebitCard Rec '!$E$8), $AL42, 0)","v":0},0,{"$f":"IF(AND(NOT(ISBLANK($U42)), $U42<'P&L'!$P$8), $AO42, 0)","v":0},{"$f":"IF(OR(ISBLANK($U42), $U42>'DebitCard Rec '!$E$8), $AO42, 0)","v":0},0,{"$f":"IF(AND($A42<'P&L'!$P$8, $X42='P&L'!$G$6), $AR42, 0)","v":0},0,{"$f":"IF(AND($A42<'P&L'!$P$8, $X42='P&L'!$G$6), $AT42, 0)","v":0},"EFT_Main Payment"," ","Tuckshop Loan repayment - principal component"]
["2019-03-31","EFT_Main","Payment",null,"Loan repayment - interest expenses","Tuckshop",null,"Sunshine bank","Bank Loan for fitout","35b",100,null,null,null,"2019-03-01",null,null,null,null,null,null,null,"Mar-19",2019,{"$f":"IF(AND($A43<'P&L'!$P$8, YEAR($A43)=Master!$C$6), $K43, 0)","v":100},0,{"$f":"IF(AND(NOT(ISBLANK($O43)), $O43<'P&L'!$P$8), Z43, 0)","v":0},{"$f":"IF(OR(ISBLANK($O43), $O43>'BankRec Main Acct'!$E$8), Z43, 0)","v":0},100,{"$f":"IF(AND(NOT(ISBLANK($O43)), $O43<'P&L'!$P$8), AC43, 0)","v":100},{"$f":"IF(OR(ISBLANK($O43), $O43>'BankRec Main Acct'!$E$8), AC43, 0)","v":0},0,{"$f":"IF(AND(NOT(ISBLANK($S43)), $S43<'P&L'!$P$8), AF43, 0)","v":0},{"$f":"IF(OR(ISBLANK($S43), $S43>'BankRec Main Acct'!$E$8), AF43, 0)","v":0},0,{"$f":"IF(AND(NOT(ISBLANK($S43)), $S43<'P&L'!$P$8), AI43, 0)","v":0},{"$f":"IF(OR(ISBLANK($S43), $S43>'BankRec Main Acct'!$E$8), AI43, 0)","v":0},0,{"$f":"IF(AND(NOT(ISBLANK($U43)), $U43<'P&L'!$P$8), $AL43, 0)","v":0},{"$f":"IF(OR(ISBLANK($U43), $U43>'DebitCard Rec '!$E$8), $AL43, 0)","v":0},0,{"$f":"IF(AND(NOT(ISBLANK($U43)), $U43<'P&L'!$P$8), $AO43, 0)","v":0},{"$f":"IF(OR(ISBLANK($U43), $U43>'DebitCard Rec '!$E$8), $AO43, 0)","v":0},0,{"$f":"IF(AND($A43<'P&L'!$P$8, $X43='P&L'!$G$6), $AR43, 0)","v":0},0,{"$f":"IF(AND($A43<'P&L'!$P$8, $X43='P&L'!$G$6), $AT43, 0)","v":0},"EFT_Main Payment"," ","Tuckshop Loan repayment - interest expenses"]
[null,null,null,null,null,null,null,null,null,null,null,null,null,null,null,null,null,null,null,null,null,null,"Jan-00",1900,{"$f":"IF(AND($A44<'P&L'!$P$8, YEAR($A44)=Master!$C$6), $K44, 0)","v":0},0,{"$f":"IF(AND(NOT(ISBLANK($O44)), $O44<'P&L'!$P$8), Z44, 0)","v":0},{"$f":"IF(OR(ISBLANK($O44), $O44>'BankRec Main Acct'!$E$8), Z44, 0)","v":0},0,{"$f":"IF(AND(NOT(ISBLANK($O44)), $O44<'P&L'!$P$8), AC44, 0)","v":0},{"$f":"IF(OR(ISBLANK($O44), $O44>'BankRec Main Acct'!$E$8), AC44, 0)","v":0},0,{"$f":"IF(AND(NOT(ISBLANK($S44)), $S44<'P&L'!$P$8), AF44, 0)","v":0},{"$f":"IF(OR(ISBLANK($S44), $S44>'BankRec Main Acct'!$E$8), AF44, 0)","v":0},0,{"$f":"IF(AND(NOT(ISBLANK($S44)), $S44<'P&L'!$P$8), AI44, 0)","v":0},{"$f":"IF(OR(ISBLANK($S44), $S44>'BankRec Main Acct'!$E$8), AI44, 0)","v":0},0,{"$f":"IF(AND(NOT(ISBLANK($U44)), $U44<'P&L'!$P$8), $AL44, 0)","v":0},{"$f":"IF(OR(ISBLANK($U44), $U44>'DebitCard Rec '!$E$8), $AL44, 0)","v":0},0,{"$f":"IF(AND(NOT(ISBLANK($U44)), $U44<'P&L'!$P$8), $AO44, 0)","v":0},{"$f":"IF(OR(ISBLANK($U44), $U44>'DebitCard Rec '!$E$8), $AO44, 0)","v":0},0,{"$f":"IF(AND($A44<'P&L'!$P$8, $X44='P&L'!$G$6), $AR44, 0)","v":0},0,{"$f":"IF(AND($A44<'P&L'!$P$8, $X44='P&L'!$G$6), $AT44, 0)","v":0},{"$f":"CONCATENATE(B44,\" \",C44)","v":" "},{"$f":"IF(C44=\"Receipt\",CONCATENATE(D44,\" \", F44), \" \")","v":" "},{"$f":"IF(C44= \"Payment\", CONCATENATE(F44,\" \",E44), \" \")","v":" "}]
[null,null,null,null,null,null,null,null,null,null,null,null,null,null,null,null,null,null,null,null,null,null,"Jan-00",1900,{"$f":"IF(AND($A45<'P&L'!$P$8, YEAR($A45)=Master!$C$6), $K45, 0)","v":0},0,{"$f":"IF(AND(NOT(ISBLANK($O45)), $O45<'P&L'!$P$8), Z45, 0)","v":0},{"$f":"IF(OR(ISBLANK($O45), $O45>'BankRec Main Acct'!$E$8), Z45, 0)","v":0},0,{"$f":"IF(AND(NOT(ISBLANK($O45)), $O45<'P&L'!$P$8), AC45, 0)","v":0},{"$f":"IF(OR(ISBLANK($O45), $O45>'BankRec Main Acct'!$E$8), AC45, 0)","v":0},0,{"$f":"IF(AND(NOT(ISBLANK($S45)), $S45<'P&L'!$P$8), AF45, 0)","v":0},{"$f":"IF(OR(ISBLANK($S45), $S45>'BankRec Main Acct'!$E$8), AF45, 0)","v":0},0,{"$f":"IF(AND(NOT(ISBLANK($S45)), $S45<'P&L'!$P$8), AI45, 0)","v":0},{"$f":"IF(OR(ISBLANK($S45), $S45>'BankRec Main Acct'!$E$8), AI45, 0)","v":0},0,{"$f":"IF(AND(NOT(ISBLANK($U45)), $U45<'P&L'!$P$8), $AL45, 0)","v":0},{"$f":"IF(OR(ISBLANK($U45), $U45>'DebitCard Rec '!$E$8), $AL45, 0)","v":0},0,{"$f":"IF(AND(NOT(ISBLANK($U45)), $U45<'P&L'!$P$8), $AO45, 0)","v":0},{"$f":"IF(OR(ISBLANK($U45), $U45>'DebitCard Rec '!$E$8), $AO45, 0)","v":0},0,{"$f":"IF(AND($A45<'P&L'!$P$8, $X45='P&L'!$G$6), $AR45, 0)","v":0},0,{"$f":"IF(AND($A45<'P&L'!$P$8, $X45='P&L'!$G$6), $AT45, 0)","v":0}," "," "," "]
[null,null,null,null,null,null,null,null,null,null,null,null,null,null,null,null,null,null,null,null,null,null,"Jan-00",1900,{"$f":"IF(AND($A46<'P&L'!$P$8, YEAR($A46)=Master!$C$6), $K46, 0)","v":0},0,{"$f":"IF(AND(NOT(ISBLANK($O46)), $O46<'P&L'!$P$8), Z46, 0)","v":0},{"$f":"IF(OR(ISBLANK($O46), $O46>'BankRec Main Acct'!$E$8), Z46, 0)","v":0},0,{"$f":"IF(AND(NOT(ISBLANK($O46)), $O46<'P&L'!$P$8), AC46, 0)","v":0},{"$f":"IF(OR(ISBLANK($O46), $O46>'BankRec Main Acct'!$E$8), AC46, 0)","v":0},0,{"$f":"IF(AND(NOT(ISBLANK($S46)), $S46<'P&L'!$P$8), AF46, 0)","v":0},{"$f":"IF(OR(ISBLANK($S46), $S46>'BankRec Main Acct'!$E$8), AF46, 0)","v":0},0,{"$f":"IF(AND(NOT(ISBLANK($S46)), $S46<'P&L'!$P$8), AI46, 0)","v":0},{"$f":"IF(OR(ISBLANK($S46), $S46>'BankRec Main Acct'!$E$8), AI46, 0)","v":0},0,{"$f":"IF(AND(NOT(ISBLANK($U46)), $U46<'P&L'!$P$8), $AL46, 0)","v":0},{"$f":"IF(OR(ISBLANK($U46), $U46>'DebitCard Rec '!$E$8), $AL46, 0)","v":0},0,{"$f":"IF(AND(NOT(ISBLANK($U46)), $U46<'P&L'!$P$8), $AO46, 0)","v":0},{"$f":"IF(OR(ISBLANK($U46), $U46>'DebitCard Rec '!$E$8), $AO46, 0)","v":0},0,{"$f":"IF(AND($A46<'P&L'!$P$8, $X46='P&L'!$G$6), $AR46, 0)","v":0},0,{"$f":"IF(AND($A46<'P&L'!$P$8, $X46='P&L'!$G$6), $AT46, 0)","v":0}," "," "," "]
[null,null,null,null,null,null,null,null,null,null,null,null,null,null,null,null,null,null,null,null,null,null,"Jan-00",1900,{"$f":"IF(AND($A47<'P&L'!$P$8, YEAR($A47)=Master!$C$6), $K47, 0)","v":0},0,{"$f":"IF(AND(NOT(ISBLANK($O47)), $O47<'P&L'!$P$8), Z47, 0)","v":0},{"$f":"IF(OR(ISBLANK($O47), $O47>'BankRec Main Acct'!$E$8), Z47, 0)","v":0},0,{"$f":"IF(AND(NOT(ISBLANK($O47)), $O47<'P&L'!$P$8), AC47, 0)","v":0},{"$f":"IF(OR(ISBLANK($O47), $O47>'BankRec Main Acct'!$E$8), AC47, 0)","v":0},0,{"$f":"IF(AND(NOT(ISBLANK($S47)), $S47<'P&L'!$P$8), AF47, 0)","v":0},{"$f":"IF(OR(ISBLANK($S47), $S47>'BankRec Main Acct'!$E$8), AF47, 0)","v":0},0,{"$f":"IF(AND(NOT(ISBLANK($S47)), $S47<'P&L'!$P$8), AI47, 0)","v":0},{"$f":"IF(OR(ISBLANK($S47), $S47>'BankRec Main Acct'!$E$8), AI47, 0)","v":0},0,{"$f":"IF(AND(NOT(ISBLANK($U47)), $U47<'P&L'!$P$8), $AL47, 0)","v":0},{"$f":"IF(OR(ISBLANK($U47), $U47>'DebitCard Rec '!$E$8), $AL47, 0)","v":0},0,{"$f":"IF(AND(NOT(ISBLANK($U47)), $U47<'P&L'!$P$8), $AO47, 0)","v":0},{"$f":"IF(OR(ISBLANK($U47), $U47>'DebitCard Rec '!$E$8), $AO47, 0)","v":0},0,{"$f":"IF(AND($A47<'P&L'!$P$8, $X47='P&L'!$G$6), $AR47, 0)","v":0},0,{"$f":"IF(AND($A47<'P&L'!$P$8, $X47='P&L'!$G$6), $AT47, 0)","v":0}," "," "," "]
[null,null,null,null,null,null,null,null,null,null,null,null,null,null,null,null,null,null,null,null,null,null,"Jan-00",1900,{"$f":"IF(AND($A48<'P&L'!$P$8, YEAR($A48)=Master!$C$6), $K48, 0)","v":0},0,{"$f":"IF(AND(NOT(ISBLANK($O48)), $O48<'P&L'!$P$8), Z48, 0)","v":0},{"$f":"IF(OR(ISBLANK($O48), $O48>'BankRec Main Acct'!$E$8), Z48, 0)","v":0},0,{"$f":"IF(AND(NOT(ISBLANK($O48)), $O48<'P&L'!$P$8), AC48, 0)","v":0},{"$f":"IF(OR(ISBLANK($O48), $O48>'BankRec Main Acct'!$E$8), AC48, 0)","v":0},0,{"$f":"IF(AND(NOT(ISBLANK($S48)), $S48<'P&L'!$P$8), AF48, 0)","v":0},{"$f":"IF(OR(ISBLANK($S48), $S48>'BankRec Main Acct'!$E$8), AF48, 0)","v":0},0,{"$f":"IF(AND(NOT(ISBLANK($S48)), $S48<'P&L'!$P$8), AI48, 0)","v":0},{"$f":"IF(OR(ISBLANK($S48), $S48>'BankRec Main Acct'!$E$8), AI48, 0)","v":0},0,{"$f":"IF(AND(NOT(ISBLANK($U48)), $U48<'P&L'!$P$8), $AL48, 0)","v":0},{"$f":"IF(OR(ISBLANK($U48), $U48>'DebitCard Rec '!$E$8), $AL48, 0)","v":0},0,{"$f":"IF(AND(NOT(ISBLANK($U48)), $U48<'P&L'!$P$8), $AO48, 0)","v":0},{"$f":"IF(OR(ISBLANK($U48), $U48>'DebitCard Rec '!$E$8), $AO48, 0)","v":0},0,{"$f":"IF(AND($A48<'P&L'!$P$8, $X48='P&L'!$G$6), $AR48, 0)","v":0},0,{"$f":"IF(AND($A48<'P&L'!$P$8, $X48='P&L'!$G$6), $AT48, 0)","v":0}," "," "," "]
[null,null,null,null,null,null,null,null,null,null,null,null,null,null,null,null,null,null,null,null,null,null,"Jan-00",1900,{"$f":"IF(AND($A49<'P&L'!$P$8, YEAR($A49)=Master!$C$6), $K49, 0)","v":0},0,{"$f":"IF(AND(NOT(ISBLANK($O49)), $O49<'P&L'!$P$8), Z49, 0)","v":0},{"$f":"IF(OR(ISBLANK($O49), $O49>'BankRec Main Acct'!$E$8), Z49, 0)","v":0},0,{"$f":"IF(AND(NOT(ISBLANK($O49)), $O49<'P&L'!$P$8), AC49, 0)","v":0},{"$f":"IF(OR(ISBLANK($O49), $O49>'BankRec Main Acct'!$E$8), AC49, 0)","v":0},0,{"$f":"IF(AND(NOT(ISBLANK($S49)), $S49<'P&L'!$P$8), AF49, 0)","v":0},{"$f":"IF(OR(ISBLANK($S49), $S49>'BankRec Main Acct'!$E$8), AF49, 0)","v":0},0,{"$f":"IF(AND(NOT(ISBLANK($S49)), $S49<'P&L'!$P$8), AI49, 0)","v":0},{"$f":"IF(OR(ISBLANK($S49), $S49>'BankRec Main Acct'!$E$8), AI49, 0)","v":0},0,{"$f":"IF(AND(NOT(ISBLANK($U49)), $U49<'P&L'!$P$8), $AL49, 0)","v":0},{"$f":"IF(OR(ISBLANK($U49), $U49>'DebitCard Rec '!$E$8), $AL49, 0)","v":0},0,{"$f":"IF(AND(NOT(ISBLANK($U49)), $U49<'P&L'!$P$8), $AO49, 0)","v":0},{"$f":"IF(OR(ISBLANK($U49), $U49>'DebitCard Rec '!$E$8), $AO49, 0)","v":0},0,{"$f":"IF(AND($A49<'P&L'!$P$8, $X49='P&L'!$G$6), $AR49, 0)","v":0},0,{"$f":"IF(AND($A49<'P&L'!$P$8, $X49='P&L'!$G$6), $AT49, 0)","v":0}," "," "," "]
[null,null,null,null,null,null,null,null,null,null,null,null,null,null,null,null,null,null,null,null,null,null,"Jan-00",1900,{"$f":"IF(AND($A50<'P&L'!$P$8, YEAR($A50)=Master!$C$6), $K50, 0)","v":0},0,{"$f":"IF(AND(NOT(ISBLANK($O50)), $O50<'P&L'!$P$8), Z50, 0)","v":0},{"$f":"IF(OR(ISBLANK($O50), $O50>'BankRec Main Acct'!$E$8), Z50, 0)","v":0},0,{"$f":"IF(AND(NOT(ISBLANK($O50)), $O50<'P&L'!$P$8), AC50, 0)","v":0},{"$f":"IF(OR(ISBLANK($O50), $O50>'BankRec Main Acct'!$E$8), AC50, 0)","v":0},0,{"$f":"IF(AND(NOT(ISBLANK($S50)), $S50<'P&L'!$P$8), AF50, 0)","v":0},{"$f":"IF(OR(ISBLANK($S50), $S50>'BankRec Main Acct'!$E$8), AF50, 0)","v":0},0,{"$f":"IF(AND(NOT(ISBLANK($S50)), $S50<'P&L'!$P$8), AI50, 0)","v":0},{"$f":"IF(OR(ISBLANK($S50), $S50>'BankRec Main Acct'!$E$8), AI50, 0)","v":0},0,{"$f":"IF(AND(NOT(ISBLANK($U50)), $U50<'P&L'!$P$8), $AL50, 0)","v":0},{"$f":"IF(OR(ISBLANK($U50), $U50>'DebitCard Rec '!$E$8), $AL50, 0)","v":0},0,{"$f":"IF(AND(NOT(ISBLANK($U50)), $U50<'P&L'!$P$8), $AO50, 0)","v":0},{"$f":"IF(OR(ISBLANK($U50), $U50>'DebitCard Rec '!$E$8), $AO50, 0)","v":0},0,{"$f":"IF(AND($A50<'P&L'!$P$8, $X50='P&L'!$G$6), $AR50, 0)","v":0},0,{"$f":"IF(AND($A50<'P&L'!$P$8, $X50='P&L'!$G$6), $AT50, 0)","v":0}," "," "," "]
[null,null,null,null,null,null,null,null,null,null,null,null,null,null,null,null,null,null,null,null,null,null,"Jan-00",1900,{"$f":"IF(AND($A51<'P&L'!$P$8, YEAR($A51)=Master!$C$6), $K51, 0)","v":0},0,{"$f":"IF(AND(NOT(ISBLANK($O51)), $O51<'P&L'!$P$8), Z51, 0)","v":0},{"$f":"IF(OR(ISBLANK($O51), $O51>'BankRec Main Acct'!$E$8), Z51, 0)","v":0},0,{"$f":"IF(AND(NOT(ISBLANK($O51)), $O51<'P&L'!$P$8), AC51, 0)","v":0},{"$f":"IF(OR(ISBLANK($O51), $O51>'BankRec Main Acct'!$E$8), AC51, 0)","v":0},0,{"$f":"IF(AND(NOT(ISBLANK($S51)), $S51<'P&L'!$P$8), AF51, 0)","v":0},{"$f":"IF(OR(ISBLANK($S51), $S51>'BankRec Main Acct'!$E$8), AF51, 0)","v":0},0,{"$f":"IF(AND(NOT(ISBLANK($S51)), $S51<'P&L'!$P$8), AI51, 0)","v":0},{"$f":"IF(OR(ISBLANK($S51), $S51>'BankRec Main Acct'!$E$8), AI51, 0)","v":0},0,{"$f":"IF(AND(NOT(ISBLANK($U51)), $U51<'P&L'!$P$8), $AL51, 0)","v":0},{"$f":"IF(OR(ISBLANK($U51), $U51>'DebitCard Rec '!$E$8), $AL51, 0)","v":0},0,{"$f":"IF(AND(NOT(ISBLANK($U51)), $U51<'P&L'!$P$8), $AO51, 0)","v":0},{"$f":"IF(OR(ISBLANK($U51), $U51>'DebitCard Rec '!$E$8), $AO51, 0)","v":0},0,{"$f":"IF(AND($A51<'P&L'!$P$8, $X51='P&L'!$G$6), $AR51, 0)","v":0},0,{"$f":"IF(AND($A51<'P&L'!$P$8, $X51='P&L'!$G$6), $AT51, 0)","v":0}," "," "," "]
[null,null,null,null,null,null,null,null,null,null,null,null,null,null,null,null,null,null,null,null,null,null,"Jan-00",1900,{"$f":"IF(AND($A52<'P&L'!$P$8, YEAR($A52)=Master!$C$6), $K52, 0)","v":0},0,{"$f":"IF(AND(NOT(ISBLANK($O52)), $O52<'P&L'!$P$8), Z52, 0)","v":0},{"$f":"IF(OR(ISBLANK($O52), $O52>'BankRec Main Acct'!$E$8), Z52, 0)","v":0},0,{"$f":"IF(AND(NOT(ISBLANK($O52)), $O52<'P&L'!$P$8), AC52, 0)","v":0},{"$f":"IF(OR(ISBLANK($O52), $O52>'BankRec Main Acct'!$E$8), AC52, 0)","v":0},0,{"$f":"IF(AND(NOT(ISBLANK($S52)), $S52<'P&L'!$P$8), AF52, 0)","v":0},{"$f":"IF(OR(ISBLANK($S52), $S52>'BankRec Main Acct'!$E$8), AF52, 0)","v":0},0,{"$f":"IF(AND(NOT(ISBLANK($S52)), $S52<'P&L'!$P$8), AI52, 0)","v":0},{"$f":"IF(OR(ISBLANK($S52), $S52>'BankRec Main Acct'!$E$8), AI52, 0)","v":0},0,{"$f":"IF(AND(NOT(ISBLANK($U52)), $U52<'P&L'!$P$8), $AL52, 0)","v":0},{"$f":"IF(OR(ISBLANK($U52), $U52>'DebitCard Rec '!$E$8), $AL52, 0)","v":0},0,{"$f":"IF(AND(NOT(ISBLANK($U52)), $U52<'P&L'!$P$8), $AO52, 0)","v":0},{"$f":"IF(OR(ISBLANK($U52), $U52>'DebitCard Rec '!$E$8), $AO52, 0)","v":0},0,{"$f":"IF(AND($A52<'P&L'!$P$8, $X52='P&L'!$G$6), $AR52, 0)","v":0},0,{"$f":"IF(AND($A52<'P&L'!$P$8, $X52='P&L'!$G$6), $AT52, 0)","v":0}," "," "," "]
[null,null,null,null,null,null,null,null,null,null,null,null,null,null,null,null,null,null,null,null,null,null,"Jan-00",1900,{"$f":"IF(AND($A53<'P&L'!$P$8, YEAR($A53)=Master!$C$6), $K53, 0)","v":0},0,{"$f":"IF(AND(NOT(ISBLANK($O53)), $O53<'P&L'!$P$8), Z53, 0)","v":0},{"$f":"IF(OR(ISBLANK($O53), $O53>'BankRec Main Acct'!$E$8), Z53, 0)","v":0},0,{"$f":"IF(AND(NOT(ISBLANK($O53)), $O53<'P&L'!$P$8), AC53, 0)","v":0},{"$f":"IF(OR(ISBLANK($O53), $O53>'BankRec Main Acct'!$E$8), AC53, 0)","v":0},0,{"$f":"IF(AND(NOT(ISBLANK($S53)), $S53<'P&L'!$P$8), AF53, 0)","v":0},{"$f":"IF(OR(ISBLANK($S53), $S53>'BankRec Main Acct'!$E$8), AF53, 0)","v":0},0,{"$f":"IF(AND(NOT(ISBLANK($S53)), $S53<'P&L'!$P$8), AI53, 0)","v":0},{"$f":"IF(OR(ISBLANK($S53), $S53>'BankRec Main Acct'!$E$8), AI53, 0)","v":0},0,{"$f":"IF(AND(NOT(ISBLANK($U53)), $U53<'P&L'!$P$8), $AL53, 0)","v":0},{"$f":"IF(OR(ISBLANK($U53), $U53>'DebitCard Rec '!$E$8), $AL53, 0)","v":0},0,{"$f":"IF(AND(NOT(ISBLANK($U53)), $U53<'P&L'!$P$8), $AO53, 0)","v":0},{"$f":"IF(OR(ISBLANK($U53), $U53>'DebitCard Rec '!$E$8), $AO53, 0)","v":0},0,{"$f":"IF(AND($A53<'P&L'!$P$8, $X53='P&L'!$G$6), $AR53, 0)","v":0},0,{"$f":"IF(AND($A53<'P&L'!$P$8, $X53='P&L'!$G$6), $AT53, 0)","v":0}," "," "," "]
[null,null,null,null,null,null,null,null,null,null,null,null,null,null,null,null,null,null,null,null,null,null,"Jan-00",1900,{"$f":"IF(AND($A54<'P&L'!$P$8, YEAR($A54)=Master!$C$6), $K54, 0)","v":0},0,{"$f":"IF(AND(NOT(ISBLANK($O54)), $O54<'P&L'!$P$8), Z54, 0)","v":0},{"$f":"IF(OR(ISBLANK($O54), $O54>'BankRec Main Acct'!$E$8), Z54, 0)","v":0},0,{"$f":"IF(AND(NOT(ISBLANK($O54)), $O54<'P&L'!$P$8), AC54, 0)","v":0},{"$f":"IF(OR(ISBLANK($O54), $O54>'BankRec Main Acct'!$E$8), AC54, 0)","v":0},0,{"$f":"IF(AND(NOT(ISBLANK($S54)), $S54<'P&L'!$P$8), AF54, 0)","v":0},{"$f":"IF(OR(ISBLANK($S54), $S54>'BankRec Main Acct'!$E$8), AF54, 0)","v":0},0,{"$f":"IF(AND(NOT(ISBLANK($S54)), $S54<'P&L'!$P$8), AI54, 0)","v":0},{"$f":"IF(OR(ISBLANK($S54), $S54>'BankRec Main Acct'!$E$8), AI54, 0)","v":0},0,{"$f":"IF(AND(NOT(ISBLANK($U54)), $U54<'P&L'!$P$8), $AL54, 0)","v":0},{"$f":"IF(OR(ISBLANK($U54), $U54>'DebitCard Rec '!$E$8), $AL54, 0)","v":0},0,{"$f":"IF(AND(NOT(ISBLANK($U54)), $U54<'P&L'!$P$8), $AO54, 0)","v":0},{"$f":"IF(OR(ISBLANK($U54), $U54>'DebitCard Rec '!$E$8), $AO54, 0)","v":0},0,{"$f":"IF(AND($A54<'P&L'!$P$8, $X54='P&L'!$G$6), $AR54, 0)","v":0},0,{"$f":"IF(AND($A54<'P&L'!$P$8, $X54='P&L'!$G$6), $AT54, 0)","v":0}," "," "," "]
[null,null,null,null,null,null,null,null,null,null,null,null,null,null,null,null,null,null,null,null,null,null,"Jan-00",1900,{"$f":"IF(AND($A55<'P&L'!$P$8, YEAR($A55)=Master!$C$6), $K55, 0)","v":0},0,{"$f":"IF(AND(NOT(ISBLANK($O55)), $O55<'P&L'!$P$8), Z55, 0)","v":0},{"$f":"IF(OR(ISBLANK($O55), $O55>'BankRec Main Acct'!$E$8), Z55, 0)","v":0},0,{"$f":"IF(AND(NOT(ISBLANK($O55)), $O55<'P&L'!$P$8), AC55, 0)","v":0},{"$f":"IF(OR(ISBLANK($O55), $O55>'BankRec Main Acct'!$E$8), AC55, 0)","v":0},0,{"$f":"IF(AND(NOT(ISBLANK($S55)), $S55<'P&L'!$P$8), AF55, 0)","v":0},{"$f":"IF(OR(ISBLANK($S55), $S55>'BankRec Main Acct'!$E$8), AF55, 0)","v":0},0,{"$f":"IF(AND(NOT(ISBLANK($S55)), $S55<'P&L'!$P$8), AI55, 0)","v":0},{"$f":"IF(OR(ISBLANK($S55), $S55>'BankRec Main Acct'!$E$8), AI55, 0)","v":0},0,{"$f":"IF(AND(NOT(ISBLANK($U55)), $U55<'P&L'!$P$8), $AL55, 0)","v":0},{"$f":"IF(OR(ISBLANK($U55), $U55>'DebitCard Rec '!$E$8), $AL55, 0)","v":0},0,{"$f":"IF(AND(NOT(ISBLANK($U55)), $U55<'P&L'!$P$8), $AO55, 0)","v":0},{"$f":"IF(OR(ISBLANK($U55), $U55>'DebitCard Rec '!$E$8), $AO55, 0)","v":0},0,{"$f":"IF(AND($A55<'P&L'!$P$8, $X55='P&L'!$G$6), $AR55, 0)","v":0},0,{"$f":"IF(AND($A55<'P&L'!$P$8, $X55='P&L'!$G$6), $AT55, 0)","v":0}," "," "," "]
[null,null,null,null,null,null,null,null,null,null,null,null,null,null,null,null,null,null,null,null,null,null,"Jan-00",1900,{"$f":"IF(AND($A56<'P&L'!$P$8, YEAR($A56)=Master!$C$6), $K56, 0)","v":0},0,{"$f":"IF(AND(NOT(ISBLANK($O56)), $O56<'P&L'!$P$8), Z56, 0)","v":0},{"$f":"IF(OR(ISBLANK($O56), $O56>'BankRec Main Acct'!$E$8), Z56, 0)","v":0},0,{"$f":"IF(AND(NOT(ISBLANK($O56)), $O56<'P&L'!$P$8), AC56, 0)","v":0},{"$f":"IF(OR(ISBLANK($O56), $O56>'BankRec Main Acct'!$E$8), AC56, 0)","v":0},0,{"$f":"IF(AND(NOT(ISBLANK($S56)), $S56<'P&L'!$P$8), AF56, 0)","v":0},{"$f":"IF(OR(ISBLANK($S56), $S56>'BankRec Main Acct'!$E$8), AF56, 0)","v":0},0,{"$f":"IF(AND(NOT(ISBLANK($S56)), $S56<'P&L'!$P$8), AI56, 0)","v":0},{"$f":"IF(OR(ISBLANK($S56), $S56>'BankRec Main Acct'!$E$8), AI56, 0)","v":0},0,{"$f":"IF(AND(NOT(ISBLANK($U56)), $U56<'P&L'!$P$8), $AL56, 0)","v":0},{"$f":"IF(OR(ISBLANK($U56), $U56>'DebitCard Rec '!$E$8), $AL56, 0)","v":0},0,{"$f":"IF(AND(NOT(ISBLANK($U56)), $U56<'P&L'!$P$8), $AO56, 0)","v":0},{"$f":"IF(OR(ISBLANK($U56), $U56>'DebitCard Rec '!$E$8), $AO56, 0)","v":0},0,{"$f":"IF(AND($A56<'P&L'!$P$8, $X56='P&L'!$G$6), $AR56, 0)","v":0},0,{"$f":"IF(AND($A56<'P&L'!$P$8, $X56='P&L'!$G$6), $AT56, 0)","v":0}," "," "," "]
[null,null,null,null,null,null,null,null,null,null,null,null,null,null,null,null,null,null,null,null,null,null,"Jan-00",1900,{"$f":"IF(AND($A57<'P&L'!$P$8, YEAR($A57)=Master!$C$6), $K57, 0)","v":0},0,{"$f":"IF(AND(NOT(ISBLANK($O57)), $O57<'P&L'!$P$8), Z57, 0)","v":0},{"$f":"IF(OR(ISBLANK($O57), $O57>'BankRec Main Acct'!$E$8), Z57, 0)","v":0},0,{"$f":"IF(AND(NOT(ISBLANK($O57)), $O57<'P&L'!$P$8), AC57, 0)","v":0},{"$f":"IF(OR(ISBLANK($O57), $O57>'BankRec Main Acct'!$E$8), AC57, 0)","v":0},0,{"$f":"IF(AND(NOT(ISBLANK($S57)), $S57<'P&L'!$P$8), AF57, 0)","v":0},{"$f":"IF(OR(ISBLANK($S57), $S57>'BankRec Main Acct'!$E$8), AF57, 0)","v":0},0,{"$f":"IF(AND(NOT(ISBLANK($S57)), $S57<'P&L'!$P$8), AI57, 0)","v":0},{"$f":"IF(OR(ISBLANK($S57), $S57>'BankRec Main Acct'!$E$8), AI57, 0)","v":0},0,{"$f":"IF(AND(NOT(ISBLANK($U57)), $U57<'P&L'!$P$8), $AL57, 0)","v":0},{"$f":"IF(OR(ISBLANK($U57), $U57>'DebitCard Rec '!$E$8), $AL57, 0)","v":0},0,{"$f":"IF(AND(NOT(ISBLANK($U57)), $U57<'P&L'!$P$8), $AO57, 0)","v":0},{"$f":"IF(OR(ISBLANK($U57), $U57>'DebitCard Rec '!$E$8), $AO57, 0)","v":0},0,{"$f":"IF(AND($A57<'P&L'!$P$8, $X57='P&L'!$G$6), $AR57, 0)","v":0},0,{"$f":"IF(AND($A57<'P&L'!$P$8, $X57='P&L'!$G$6), $AT57, 0)","v":0}," "," "," "]
[null,null,null,null,null,null,null,null,null,null,null,null,null,null,null,null,null,null,null,null,null,null,"Jan-00",1900,{"$f":"IF(AND($A58<'P&L'!$P$8, YEAR($A58)=Master!$C$6), $K58, 0)","v":0},0,{"$f":"IF(AND(NOT(ISBLANK($O58)), $O58<'P&L'!$P$8), Z58, 0)","v":0},{"$f":"IF(OR(ISBLANK($O58), $O58>'BankRec Main Acct'!$E$8), Z58, 0)","v":0},0,{"$f":"IF(AND(NOT(ISBLANK($O58)), $O58<'P&L'!$P$8), AC58, 0)","v":0},{"$f":"IF(OR(ISBLANK($O58), $O58>'BankRec Main Acct'!$E$8), AC58, 0)","v":0},0,{"$f":"IF(AND(NOT(ISBLANK($S58)), $S58<'P&L'!$P$8), AF58, 0)","v":0},{"$f":"IF(OR(ISBLANK($S58), $S58>'BankRec Main Acct'!$E$8), AF58, 0)","v":0},0,{"$f":"IF(AND(NOT(ISBLANK($S58)), $S58<'P&L'!$P$8), AI58, 0)","v":0},{"$f":"IF(OR(ISBLANK($S58), $S58>'BankRec Main Acct'!$E$8), AI58, 0)","v":0},0,{"$f":"IF(AND(NOT(ISBLANK($U58)), $U58<'P&L'!$P$8), $AL58, 0)","v":0},{"$f":"IF(OR(ISBLANK($U58), $U58>'DebitCard Rec '!$E$8), $AL58, 0)","v":0},0,{"$f":"IF(AND(NOT(ISBLANK($U58)), $U58<'P&L'!$P$8), $AO58, 0)","v":0},{"$f":"IF(OR(ISBLANK($U58), $U58>'DebitCard Rec '!$E$8), $AO58, 0)","v":0},0,{"$f":"IF(AND($A58<'P&L'!$P$8, $X58='P&L'!$G$6), $AR58, 0)","v":0},0,{"$f":"IF(AND($A58<'P&L'!$P$8, $X58='P&L'!$G$6), $AT58, 0)","v":0}," "," "," "]
[null,null,null,null,null,null,null,null,null,null,null,null,null,null,null,null,null,null,null,null,null,null,"Jan-00",1900,{"$f":"IF(AND($A59<'P&L'!$P$8, YEAR($A59)=Master!$C$6), $K59, 0)","v":0},0,{"$f":"IF(AND(NOT(ISBLANK($O59)), $O59<'P&L'!$P$8), Z59, 0)","v":0},{"$f":"IF(OR(ISBLANK($O59), $O59>'BankRec Main Acct'!$E$8), Z59, 0)","v":0},0,{"$f":"IF(AND(NOT(ISBLANK($O59)), $O59<'P&L'!$P$8), AC59, 0)","v":0},{"$f":"IF(OR(ISBLANK($O59), $O59>'BankRec Main Acct'!$E$8), AC59, 0)","v":0},0,{"$f":"IF(AND(NOT(ISBLANK($S59)), $S59<'P&L'!$P$8), AF59, 0)","v":0},{"$f":"IF(OR(ISBLANK($S59), $S59>'BankRec Main Acct'!$E$8), AF59, 0)","v":0},0,{"$f":"IF(AND(NOT(ISBLANK($S59)), $S59<'P&L'!$P$8), AI59, 0)","v":0},{"$f":"IF(OR(ISBLANK($S59), $S59>'BankRec Main Acct'!$E$8), AI59, 0)","v":0},0,{"$f":"IF(AND(NOT(ISBLANK($U59)), $U59<'P&L'!$P$8), $AL59, 0)","v":0},{"$f":"IF(OR(ISBLANK($U59), $U59>'DebitCard Rec '!$E$8), $AL59, 0)","v":0},0,{"$f":"IF(AND(NOT(ISBLANK($U59)), $U59<'P&L'!$P$8), $AO59, 0)","v":0},{"$f":"IF(OR(ISBLANK($U59), $U59>'DebitCard Rec '!$E$8), $AO59, 0)","v":0},0,{"$f":"IF(AND($A59<'P&L'!$P$8, $X59='P&L'!$G$6), $AR59, 0)","v":0},0,{"$f":"IF(AND($A59<'P&L'!$P$8, $X59='P&L'!$G$6), $AT59, 0)","v":0}," "," "," "]
[null,null,null,null,null,null,null,null,null,null,null,null,null,null,null,null,null,null,null,null,null,null,"Jan-00",1900,{"$f":"IF(AND($A60<'P&L'!$P$8, YEAR($A60)=Master!$C$6), $K60, 0)","v":0},0,{"$f":"IF(AND(NOT(ISBLANK($O60)), $O60<'P&L'!$P$8), Z60, 0)","v":0},{"$f":"IF(OR(ISBLANK($O60), $O60>'BankRec Main Acct'!$E$8), Z60, 0)","v":0},0,{"$f":"IF(AND(NOT(ISBLANK($O60)), $O60<'P&L'!$P$8), AC60, 0)","v":0},{"$f":"IF(OR(ISBLANK($O60), $O60>'BankRec Main Acct'!$E$8), AC60, 0)","v":0},0,{"$f":"IF(AND(NOT(ISBLANK($S60)), $S60<'P&L'!$P$8), AF60, 0)","v":0},{"$f":"IF(OR(ISBLANK($S60), $S60>'BankRec Main Acct'!$E$8), AF60, 0)","v":0},0,{"$f":"IF(AND(NOT(ISBLANK($S60)), $S60<'P&L'!$P$8), AI60, 0)","v":0},{"$f":"IF(OR(ISBLANK($S60), $S60>'BankRec Main Acct'!$E$8), AI60, 0)","v":0},0,{"$f":"IF(AND(NOT(ISBLANK($U60)), $U60<'P&L'!$P$8), $AL60, 0)","v":0},{"$f":"IF(OR(ISBLANK($U60), $U60>'DebitCard Rec '!$E$8), $AL60, 0)","v":0},0,{"$f":"IF(AND(NOT(ISBLANK($U60)), $U60<'P&L'!$P$8), $AO60, 0)","v":0},{"$f":"IF(OR(ISBLANK($U60), $U60>'DebitCard Rec '!$E$8), $AO60, 0)","v":0},0,{"$f":"IF(AND($A60<'P&L'!$P$8, $X60='P&L'!$G$6), $AR60, 0)","v":0},0,{"$f":"IF(AND($A60<'P&L'!$P$8, $X60='P&L'!$G$6), $AT60, 0)","v":0}," "," "," "]
[null,null,null,null,null,null,null,null,null,null,null,null,null,null,null,null,null,null,null,null,null,null,"Jan-00",1900,{"$f":"IF(AND($A61<'P&L'!$P$8, YEAR($A61)=Master!$C$6), $K61, 0)","v":0},0,{"$f":"IF(AND(NOT(ISBLANK($O61)), $O61<'P&L'!$P$8), Z61, 0)","v":0},{"$f":"IF(OR(ISBLANK($O61), $O61>'BankRec Main Acct'!$E$8), Z61, 0)","v":0},0,{"$f":"IF(AND(NOT(ISBLANK($O61)), $O61<'P&L'!$P$8), AC61, 0)","v":0},{"$f":"IF(OR(ISBLANK($O61), $O61>'BankRec Main Acct'!$E$8), AC61, 0)","v":0},0,{"$f":"IF(AND(NOT(ISBLANK($S61)), $S61<'P&L'!$P$8), AF61, 0)","v":0},{"$f":"IF(OR(ISBLANK($S61), $S61>'BankRec Main Acct'!$E$8), AF61, 0)","v":0},0,{"$f":"IF(AND(NOT(ISBLANK($S61)), $S61<'P&L'!$P$8), AI61, 0)","v":0},{"$f":"IF(OR(ISBLANK($S61), $S61>'BankRec Main Acct'!$E$8), AI61, 0)","v":0},0,{"$f":"IF(AND(NOT(ISBLANK($U61)), $U61<'P&L'!$P$8), $AL61, 0)","v":0},{"$f":"IF(OR(ISBLANK($U61), $U61>'DebitCard Rec '!$E$8), $AL61, 0)","v":0},0,{"$f":"IF(AND(NOT(ISBLANK($U61)), $U61<'P&L'!$P$8), $AO61, 0)","v":0},{"$f":"IF(OR(ISBLANK($U61), $U61>'DebitCard Rec '!$E$8), $AO61, 0)","v":0},0,{"$f":"IF(AND($A61<'P&L'!$P$8, $X61='P&L'!$G$6), $AR61, 0)","v":0},0,{"$f":"IF(AND($A61<'P&L'!$P$8, $X61='P&L'!$G$6), $AT61, 0)","v":0}," "," "," "]
[null,null,null,null,null,null,null,null,null,null,null,null,null,null,null,null,null,null,null,null,null,null,"Jan-00",1900,{"$f":"IF(AND($A62<'P&L'!$P$8, YEAR($A62)=Master!$C$6), $K62, 0)","v":0},0,{"$f":"IF(AND(NOT(ISBLANK($O62)), $O62<'P&L'!$P$8), Z62, 0)","v":0},{"$f":"IF(OR(ISBLANK($O62), $O62>'BankRec Main Acct'!$E$8), Z62, 0)","v":0},0,{"$f":"IF(AND(NOT(ISBLANK($O62)), $O62<'P&L'!$P$8), AC62, 0)","v":0},{"$f":"IF(OR(ISBLANK($O62), $O62>'BankRec Main Acct'!$E$8), AC62, 0)","v":0},0,{"$f":"IF(AND(NOT(ISBLANK($S62)), $S62<'P&L'!$P$8), AF62, 0)","v":0},{"$f":"IF(OR(ISBLANK($S62), $S62>'BankRec Main Acct'!$E$8), AF62, 0)","v":0},0,{"$f":"IF(AND(NOT(ISBLANK($S62)), $S62<'P&L'!$P$8), AI62, 0)","v":0},{"$f":"IF(OR(ISBLANK($S62), $S62>'BankRec Main Acct'!$E$8), AI62, 0)","v":0},0,{"$f":"IF(AND(NOT(ISBLANK($U62)), $U62<'P&L'!$P$8), $AL62, 0)","v":0},{"$f":"IF(OR(ISBLANK($U62), $U62>'DebitCard Rec '!$E$8), $AL62, 0)","v":0},0,{"$f":"IF(AND(NOT(ISBLANK($U62)), $U62<'P&L'!$P$8), $AO62, 0)","v":0},{"$f":"IF(OR(ISBLANK($U62), $U62>'DebitCard Rec '!$E$8), $AO62, 0)","v":0},0,{"$f":"IF(AND($A62<'P&L'!$P$8, $X62='P&L'!$G$6), $AR62, 0)","v":0},0,{"$f":"IF(AND($A62<'P&L'!$P$8, $X62='P&L'!$G$6), $AT62, 0)","v":0}," "," "," "]
[null,null,null,null,null,null,null,null,null,null,null,null,null,null,null,null,null,null,null,null,null,null,"Jan-00",1900,{"$f":"IF(AND($A63<'P&L'!$P$8, YEAR($A63)=Master!$C$6), $K63, 0)","v":0},0,{"$f":"IF(AND(NOT(ISBLANK($O63)), $O63<'P&L'!$P$8), Z63, 0)","v":0},{"$f":"IF(OR(ISBLANK($O63), $O63>'BankRec Main Acct'!$E$8), Z63, 0)","v":0},0,{"$f":"IF(AND(NOT(ISBLANK($O63)), $O63<'P&L'!$P$8), AC63, 0)","v":0},{"$f":"IF(OR(ISBLANK($O63), $O63>'BankRec Main Acct'!$E$8), AC63, 0)","v":0},0,{"$f":"IF(AND(NOT(ISBLANK($S63)), $S63<'P&L'!$P$8), AF63, 0)","v":0},{"$f":"IF(OR(ISBLANK($S63), $S63>'BankRec Main Acct'!$E$8), AF63, 0)","v":0},0,{"$f":"IF(AND(NOT(ISBLANK($S63)), $S63<'P&L'!$P$8), AI63, 0)","v":0},{"$f":"IF(OR(ISBLANK($S63), $S63>'BankRec Main Acct'!$E$8), AI63, 0)","v":0},0,{"$f":"IF(AND(NOT(ISBLANK($U63)), $U63<'P&L'!$P$8), $AL63, 0)","v":0},{"$f":"IF(OR(ISBLANK($U63), $U63>'DebitCard Rec '!$E$8), $AL63, 0)","v":0},0,{"$f":"IF(AND(NOT(ISBLANK($U63)), $U63<'P&L'!$P$8), $AO63, 0)","v":0},{"$f":"IF(OR(ISBLANK($U63), $U63>'DebitCard Rec '!$E$8), $AO63, 0)","v":0},0,{"$f":"IF(AND($A63<'P&L'!$P$8, $X63='P&L'!$G$6), $AR63, 0)","v":0},0,{"$f":"IF(AND($A63<'P&L'!$P$8, $X63='P&L'!$G$6), $AT63, 0)","v":0}," "," "," "]
[null,null,null,null,null,null,null,null,null,null,null,null,null,null,null,null,null,null,null,null,null,null,"Jan-00",1900,{"$f":"IF(AND($A64<'P&L'!$P$8, YEAR($A64)=Master!$C$6), $K64, 0)","v":0},0,{"$f":"IF(AND(NOT(ISBLANK($O64)), $O64<'P&L'!$P$8), Z64, 0)","v":0},{"$f":"IF(OR(ISBLANK($O64), $O64>'BankRec Main Acct'!$E$8), Z64, 0)","v":0},0,{"$f":"IF(AND(NOT(ISBLANK($O64)), $O64<'P&L'!$P$8), AC64, 0)","v":0},{"$f":"IF(OR(ISBLANK($O64), $O64>'BankRec Main Acct'!$E$8), AC64, 0)","v":0},0,{"$f":"IF(AND(NOT(ISBLANK($S64)), $S64<'P&L'!$P$8), AF64, 0)","v":0},{"$f":"IF(OR(ISBLANK($S64), $S64>'BankRec Main Acct'!$E$8), AF64, 0)","v":0},0,{"$f":"IF(AND(NOT(ISBLANK($S64)), $S64<'P&L'!$P$8), AI64, 0)","v":0},{"$f":"IF(OR(ISBLANK($S64), $S64>'BankRec Main Acct'!$E$8), AI64, 0)","v":0},0,{"$f":"IF(AND(NOT(ISBLANK($U64)), $U64<'P&L'!$P$8), $AL64, 0)","v":0},{"$f":"IF(OR(ISBLANK($U64), $U64>'DebitCard Rec '!$E$8), $AL64, 0)","v":0},0,{"$f":"IF(AND(NOT(ISBLANK($U64)), $U64<'P&L'!$P$8), $AO64, 0)","v":0},{"$f":"IF(OR(ISBLANK($U64), $U64>'DebitCard Rec '!$E$8), $AO64, 0)","v":0},0,{"$f":"IF(AND($A64<'P&L'!$P$8, $X64='P&L'!$G$6), $AR64, 0)","v":0},0,{"$f":"IF(AND($A64<'P&L'!$P$8, $X64='P&L'!$G$6), $AT64, 0)","v":0}," "," "," "]
[null,null,null,null,null,null,null,null,null,null,null,null,null,null,null,null,null,null,null,null,null,null,"Jan-00",1900,{"$f":"IF(AND($A65<'P&L'!$P$8, YEAR($A65)=Master!$C$6), $K65, 0)","v":0},0,{"$f":"IF(AND(NOT(ISBLANK($O65)), $O65<'P&L'!$P$8), Z65, 0)","v":0},{"$f":"IF(OR(ISBLANK($O65), $O65>'BankRec Main Acct'!$E$8), Z65, 0)","v":0},0,{"$f":"IF(AND(NOT(ISBLANK($O65)), $O65<'P&L'!$P$8), AC65, 0)","v":0},{"$f":"IF(OR(ISBLANK($O65), $O65>'BankRec Main Acct'!$E$8), AC65, 0)","v":0},0,{"$f":"IF(AND(NOT(ISBLANK($S65)), $S65<'P&L'!$P$8), AF65, 0)","v":0},{"$f":"IF(OR(ISBLANK($S65), $S65>'BankRec Main Acct'!$E$8), AF65, 0)","v":0},0,{"$f":"IF(AND(NOT(ISBLANK($S65)), $S65<'P&L'!$P$8), AI65, 0)","v":0},{"$f":"IF(OR(ISBLANK($S65), $S65>'BankRec Main Acct'!$E$8), AI65, 0)","v":0},0,{"$f":"IF(AND(NOT(ISBLANK($U65)), $U65<'P&L'!$P$8), $AL65, 0)","v":0},{"$f":"IF(OR(ISBLANK($U65), $U65>'DebitCard Rec '!$E$8), $AL65, 0)","v":0},0,{"$f":"IF(AND(NOT(ISBLANK($U65)), $U65<'P&L'!$P$8), $AO65, 0)","v":0},{"$f":"IF(OR(ISBLANK($U65), $U65>'DebitCard Rec '!$E$8), $AO65, 0)","v":0},0,{"$f":"IF(AND($A65<'P&L'!$P$8, $X65='P&L'!$G$6), $AR65, 0)","v":0},0,{"$f":"IF(AND($A65<'P&L'!$P$8, $X65='P&L'!$G$6), $AT65, 0)","v":0}," "," "," "]
[null,null,null,null,null,null,null,null,null,null,null,null,null,null,null,null,null,null,null,null,null,null,"Jan-00",1900,{"$f":"IF(AND($A66<'P&L'!$P$8, YEAR($A66)=Master!$C$6), $K66, 0)","v":0},0,{"$f":"IF(AND(NOT(ISBLANK($O66)), $O66<'P&L'!$P$8), Z66, 0)","v":0},{"$f":"IF(OR(ISBLANK($O66), $O66>'BankRec Main Acct'!$E$8), Z66, 0)","v":0},0,{"$f":"IF(AND(NOT(ISBLANK($O66)), $O66<'P&L'!$P$8), AC66, 0)","v":0},{"$f":"IF(OR(ISBLANK($O66), $O66>'BankRec Main Acct'!$E$8), AC66, 0)","v":0},0,{"$f":"IF(AND(NOT(ISBLANK($S66)), $S66<'P&L'!$P$8), AF66, 0)","v":0},{"$f":"IF(OR(ISBLANK($S66), $S66>'BankRec Main Acct'!$E$8), AF66, 0)","v":0},0,{"$f":"IF(AND(NOT(ISBLANK($S66)), $S66<'P&L'!$P$8), AI66, 0)","v":0},{"$f":"IF(OR(ISBLANK($S66), $S66>'BankRec Main Acct'!$E$8), AI66, 0)","v":0},0,{"$f":"IF(AND(NOT(ISBLANK($U66)), $U66<'P&L'!$P$8), $AL66, 0)","v":0},{"$f":"IF(OR(ISBLANK($U66), $U66>'DebitCard Rec '!$E$8), $AL66, 0)","v":0},0,{"$f":"IF(AND(NOT(ISBLANK($U66)), $U66<'P&L'!$P$8), $AO66, 0)","v":0},{"$f":"IF(OR(ISBLANK($U66), $U66>'DebitCard Rec '!$E$8), $AO66, 0)","v":0},0,{"$f":"IF(AND($A66<'P&L'!$P$8, $X66='P&L'!$G$6), $AR66, 0)","v":0},0,{"$f":"IF(AND($A66<'P&L'!$P$8, $X66='P&L'!$G$6), $AT66, 0)","v":0}," "," "," "]
[null,null,null,null,null,null,null,null,null,null,null,null,null,null,null,null,null,null,null,null,null,null,"Jan-00",1900,{"$f":"IF(AND($A67<'P&L'!$P$8, YEAR($A67)=Master!$C$6), $K67, 0)","v":0},0,{"$f":"IF(AND(NOT(ISBLANK($O67)), $O67<'P&L'!$P$8), Z67, 0)","v":0},{"$f":"IF(OR(ISBLANK($O67), $O67>'BankRec Main Acct'!$E$8), Z67, 0)","v":0},0,{"$f":"IF(AND(NOT(ISBLANK($O67)), $O67<'P&L'!$P$8), AC67, 0)","v":0},{"$f":"IF(OR(ISBLANK($O67), $O67>'BankRec Main Acct'!$E$8), AC67, 0)","v":0},0,{"$f":"IF(AND(NOT(ISBLANK($S67)), $S67<'P&L'!$P$8), AF67, 0)","v":0},{"$f":"IF(OR(ISBLANK($S67), $S67>'BankRec Main Acct'!$E$8), AF67, 0)","v":0},0,{"$f":"IF(AND(NOT(ISBLANK($S67)), $S67<'P&L'!$P$8), AI67, 0)","v":0},{"$f":"IF(OR(ISBLANK($S67), $S67>'BankRec Main Acct'!$E$8), AI67, 0)","v":0},0,{"$f":"IF(AND(NOT(ISBLANK($U67)), $U67<'P&L'!$P$8), $AL67, 0)","v":0},{"$f":"IF(OR(ISBLANK($U67), $U67>'DebitCard Rec '!$E$8), $AL67, 0)","v":0},0,{"$f":"IF(AND(NOT(ISBLANK($U67)), $U67<'P&L'!$P$8), $AO67, 0)","v":0},{"$f":"IF(OR(ISBLANK($U67), $U67>'DebitCard Rec '!$E$8), $AO67, 0)","v":0},0,{"$f":"IF(AND($A67<'P&L'!$P$8, $X67='P&L'!$G$6), $AR67, 0)","v":0},0,{"$f":"IF(AND($A67<'P&L'!$P$8, $X67='P&L'!$G$6), $AT67, 0)","v":0}," "," "," "]
[null,null,null,null,null,null,null,null,null,null,null,null,null,null,null,null,null,null,null,null,null,null,"Jan-00",1900,{"$f":"IF(AND($A68<'P&L'!$P$8, YEAR($A68)=Master!$C$6), $K68, 0)","v":0},0,{"$f":"IF(AND(NOT(ISBLANK($O68)), $O68<'P&L'!$P$8), Z68, 0)","v":0},{"$f":"IF(OR(ISBLANK($O68), $O68>'BankRec Main Acct'!$E$8), Z68, 0)","v":0},0,{"$f":"IF(AND(NOT(ISBLANK($O68)), $O68<'P&L'!$P$8), AC68, 0)","v":0},{"$f":"IF(OR(ISBLANK($O68), $O68>'BankRec Main Acct'!$E$8), AC68, 0)","v":0},0,{"$f":"IF(AND(NOT(ISBLANK($S68)), $S68<'P&L'!$P$8), AF68, 0)","v":0},{"$f":"IF(OR(ISBLANK($S68), $S68>'BankRec Main Acct'!$E$8), AF68, 0)","v":0},0,{"$f":"IF(AND(NOT(ISBLANK($S68)), $S68<'P&L'!$P$8), AI68, 0)","v":0},{"$f":"IF(OR(ISBLANK($S68), $S68>'BankRec Main Acct'!$E$8), AI68, 0)","v":0},0,{"$f":"IF(AND(NOT(ISBLANK($U68)), $U68<'P&L'!$P$8), $AL68, 0)","v":0},{"$f":"IF(OR(ISBLANK($U68), $U68>'DebitCard Rec '!$E$8), $AL68, 0)","v":0},0,{"$f":"IF(AND(NOT(ISBLANK($U68)), $U68<'P&L'!$P$8), $AO68, 0)","v":0},{"$f":"IF(OR(ISBLANK($U68), $U68>'DebitCard Rec '!$E$8), $AO68, 0)","v":0},{"$f":"IF($AV68=\"Petty cash Receipt\", $K68, 0)","v":0},{"$f":"IF(AND($A68<'P&L'!$P$8, $X68='P&L'!$G$6), $AR68, 0)","v":0},{"$f":"IF($AV68=\"Petty cash Payment\", $K68, 0)","v":0},{"$f":"IF(AND($A68<'P&L'!$P$8, $X68='P&L'!$G$6), $AT68, 0)","v":0}," ",{"$f":"IF(C68=\"Receipt\",CONCATENATE(D68,\" \", F68), \" \")","v":" "},{"$f":"IF(C68= \"Payment\", CONCATENATE(F68,\" \",E68), \" \")","v":" "}]
[null,null,null,null,null,null,null,null,null,null,null,null,null,null,null,null,null,null,null,null,null,null,"Jan-00",1900,{"$f":"IF(AND($A69<'P&L'!$P$8, YEAR($A69)=Master!$C$6), $K69, 0)","v":0},{"$f":"IF(AND($C69=\"Receipt\",$B69<>\"debit card\",$B69<>\"petty cash\",$B69<>\"Cash_Sub\",$B69<>\"Cheque_Sub\", $B69<>\"EFT_Sub\"),$K69,0)","v":0},{"$f":"IF(AND(NOT(ISBLANK($O69)), $O69<'P&L'!$P$8), Z69, 0)","v":0},{"$f":"IF(OR(ISBLANK($O69), $O69>'BankRec Main Acct'!$E$8), Z69, 0)","v":0},{"$f":"IF(AND($C69=\"Payment\", $B69<>\"debit card\", $B69<>\"petty cash\", $B69<>\"Cash_Sub\", $B69<>\"Cheque_Sub\", $B69<>\"EFT_Sub\"), $K69, 0)","v":0},{"$f":"IF(AND(NOT(ISBLANK($O69)), $O69<'P&L'!$P$8), AC69, 0)","v":0},{"$f":"IF(OR(ISBLANK($O69), $O69>'BankRec Main Acct'!$E$8), AC69, 0)","v":0},{"$f":"IF(AND($C69=\"Receipt\",$B69<>\"debit card\",$B69<>\"petty cash\",$B69<>\"Cash_Main\",$B69<>\"Cheque_Main\", $B69<>\"EFT_Main\"),$K69,0)","v":0},{"$f":"IF(AND(NOT(ISBLANK($S69)), $S69<'P&L'!$P$8), AF69, 0)","v":0},{"$f":"IF(OR(ISBLANK($S69), $S69>'BankRec Main Acct'!$E$8), AF69, 0)","v":0},{"$f":"IF(AND($C69=\"Payment\", $B69<>\"debit card\", $B69<>\"petty cash\", $B69<>\"Cash_Main\", $B69<>\"Cheque_Main\", $B69<>\"EFT_Main\"), $K69, 0)","v":0},{"$f":"IF(AND(NOT(ISBLANK($S69)), $S69<'P&L'!$P$8), AI69, 0)","v":0},{"$f":"IF(OR(ISBLANK($S69), $S69>'BankRec Main Acct'!$E$8), AI69, 0)","v":0},0,{"$f":"IF(AND(NOT(ISBLANK($U69)), $U69<'P&L'!$P$8), $AL69, 0)","v":0},{"$f":"IF(OR(ISBLANK($U69), $U69>'DebitCard Rec '!$E$8), $AL69, 0)","v":0},0,{"$f":"IF(AND(NOT(ISBLANK($U69)), $U69<'P&L'!$P$8), $AO69, 0)","v":0},{"$f":"IF(OR(ISBLANK($U69), $U69>'DebitCard Rec '!$E$8), $AO69, 0)","v":0},0,{"$f":"IF(AND($A69<'P&L'!$P$8, $X69='P&L'!$G$6), $AR69, 0)","v":0},0,{"$f":"IF(AND($A69<'P&L'!$P$8, $X69='P&L'!$G$6), $AT69, 0)","v":0}," "," "," "]
[null,null,null,null,null,null,null,null,null,null,null,null,null,null,null,null,null,null,null,null,null,null,"Jan-00",1900,{"$f":"IF(AND($A70<'P&L'!$P$8, YEAR($A70)=Master!$C$6), $K70, 0)","v":0},0,{"$f":"IF(AND(NOT(ISBLANK($O70)), $O70<'P&L'!$P$8), Z70, 0)","v":0},{"$f":"IF(OR(ISBLANK($O70), $O70>'BankRec Main Acct'!$E$8), Z70, 0)","v":0},0,{"$f":"IF(AND(NOT(ISBLANK($O70)), $O70<'P&L'!$P$8), AC70, 0)","v":0},{"$f":"IF(OR(ISBLANK($O70), $O70>'BankRec Main Acct'!$E$8), AC70, 0)","v":0},0,{"$f":"IF(AND(NOT(ISBLANK($S70)), $S70<'P&L'!$P$8), AF70, 0)","v":0},{"$f":"IF(OR(ISBLANK($S70), $S70>'BankRec Main Acct'!$E$8), AF70, 0)","v":0},0,{"$f":"IF(AND(NOT(ISBLANK($S70)), $S70<'P&L'!$P$8), AI70, 0)","v":0},{"$f":"IF(OR(ISBLANK($S70), $S70>'BankRec Main Acct'!$E$8), AI70, 0)","v":0},0,{"$f":"IF(AND(NOT(ISBLANK($U70)), $U70<'P&L'!$P$8), $AL70, 0)","v":0},{"$f":"IF(OR(ISBLANK($U70), $U70>'DebitCard Rec '!$E$8), $AL70, 0)","v":0},0,{"$f":"IF(AND(NOT(ISBLANK($U70)), $U70<'P&L'!$P$8), $AO70, 0)","v":0},{"$f":"IF(OR(ISBLANK($U70), $U70>'DebitCard Rec '!$E$8), $AO70, 0)","v":0},0,{"$f":"IF(AND($A70<'P&L'!$P$8, $X70='P&L'!$G$6), $AR70, 0)","v":0},0,{"$f":"IF(AND($A70<'P&L'!$P$8, $X70='P&L'!$G$6), $AT70, 0)","v":0}," "," "," "]
[null,null,null,null,null,null,null,null,null,null,null,null,null,null,null,null,null,null,null,null,null,null,"Jan-00",1900,{"$f":"IF(AND($A71<'P&L'!$P$8, YEAR($A71)=Master!$C$6), $K71, 0)","v":0},0,{"$f":"IF(AND(NOT(ISBLANK($O71)), $O71<'P&L'!$P$8), Z71, 0)","v":0},{"$f":"IF(OR(ISBLANK($O71), $O71>'BankRec Main Acct'!$E$8), Z71, 0)","v":0},0,{"$f":"IF(AND(NOT(ISBLANK($O71)), $O71<'P&L'!$P$8), AC71, 0)","v":0},{"$f":"IF(OR(ISBLANK($O71), $O71>'BankRec Main Acct'!$E$8), AC71, 0)","v":0},0,{"$f":"IF(AND(NOT(ISBLANK($S71)), $S71<'P&L'!$P$8), AF71, 0)","v":0},{"$f":"IF(OR(ISBLANK($S71), $S71>'BankRec Main Acct'!$E$8), AF71, 0)","v":0},0,{"$f":"IF(AND(NOT(ISBLANK($S71)), $S71<'P&L'!$P$8), AI71, 0)","v":0},{"$f":"IF(OR(ISBLANK($S71), $S71>'BankRec Main Acct'!$E$8), AI71, 0)","v":0},0,{"$f":"IF(AND(NOT(ISBLANK($U71)), $U71<'P&L'!$P$8), $AL71, 0)","v":0},{"$f":"IF(OR(ISBLANK($U71), $U71>'DebitCard Rec '!$E$8), $AL71, 0)","v":0},0,{"$f":"IF(AND(NOT(ISBLANK($U71)), $U71<'P&L'!$P$8), $AO71, 0)","v":0},{"$f":"IF(OR(ISBLANK($U71), $U71>'DebitCard Rec '!$E$8), $AO71, 0)","v":0},0,{"$f":"IF(AND($A71<'P&L'!$P$8, $X71='P&L'!$G$6), $AR71, 0)","v":0},0,{"$f":"IF(AND($A71<'P&L'!$P$8, $X71='P&L'!$G$6), $AT71, 0)","v":0}," "," "," "]
[null,null,null,null,null,null,null,null,null,null,null,null,null,null,null,null,null,null,null,null,null,null,"Jan-00",1900,{"$f":"IF(AND($A72<'P&L'!$P$8, YEAR($A72)=Master!$C$6), $K72, 0)","v":0},0,{"$f":"IF(AND(NOT(ISBLANK($O72)), $O72<'P&L'!$P$8), Z72, 0)","v":0},{"$f":"IF(OR(ISBLANK($O72), $O72>'BankRec Main Acct'!$E$8), Z72, 0)","v":0},0,{"$f":"IF(AND(NOT(ISBLANK($O72)), $O72<'P&L'!$P$8), AC72, 0)","v":0},{"$f":"IF(OR(ISBLANK($O72), $O72>'BankRec Main Acct'!$E$8), AC72, 0)","v":0},0,{"$f":"IF(AND(NOT(ISBLANK($S72)), $S72<'P&L'!$P$8), AF72, 0)","v":0},{"$f":"IF(OR(ISBLANK($S72), $S72>'BankRec Main Acct'!$E$8), AF72, 0)","v":0},0,{"$f":"IF(AND(NOT(ISBLANK($S72)), $S72<'P&L'!$P$8), AI72, 0)","v":0},{"$f":"IF(OR(ISBLANK($S72), $S72>'BankRec Main Acct'!$E$8), AI72, 0)","v":0},0,{"$f":"IF(AND(NOT(ISBLANK($U72)), $U72<'P&L'!$P$8), $AL72, 0)","v":0},{"$f":"IF(OR(ISBLANK($U72), $U72>'DebitCard Rec '!$E$8), $AL72, 0)","v":0},0,{"$f":"IF(AND(NOT(ISBLANK($U72)), $U72<'P&L'!$P$8), $AO72, 0)","v":0},{"$f":"IF(OR(ISBLANK($U72), $U72>'DebitCard Rec '!$E$8), $AO72, 0)","v":0},0,{"$f":"IF(AND($A72<'P&L'!$P$8, $X72='P&L'!$G$6), $AR72, 0)","v":0},0,{"$f":"IF(AND($A72<'P&L'!$P$8, $X72='P&L'!$G$6), $AT72, 0)","v":0}," "," "," "]
[null,null,null,null,null,null,null,null,null,null,null,null,null,null,null,null,null,null,null,null,null,null,{"$f":"TEXT($A73, \"mmm-yy\")","v":"Jan-00"},{"$f":"YEAR($A73)","v":1900},{"$f":"IF(AND($A73<'P&L'!$P$8, YEAR($A73)=Master!$C$6), $K73, 0)","v":0},0,{"$f":"IF(AND(NOT(ISBLANK($O73)), $O73<'P&L'!$P$8), Z73, 0)","v":0},{"$f":"IF(OR(ISBLANK($O73), $O73>'BankRec Main Acct'!$E$8), Z73, 0)","v":0},0,{"$f":"IF(AND(NOT(ISBLANK($O73)), $O73<'P&L'!$P$8), AC73, 0)","v":0},{"$f":"IF(OR(ISBLANK($O73), $O73>'BankRec Main Acct'!$E$8), AC73, 0)","v":0},0,{"$f":"IF(AND(NOT(ISBLANK($S73)), $S73<'P&L'!$P$8), AF73, 0)","v":0},{"$f":"IF(OR(ISBLANK($S73), $S73>'BankRec Main Acct'!$E$8), AF73, 0)","v":0},0,{"$f":"IF(AND(NOT(ISBLANK($S73)), $S73<'P&L'!$P$8), AI73, 0)","v":0},{"$f":"IF(OR(ISBLANK($S73), $S73>'BankRec Main Acct'!$E$8), AI73, 0)","v":0},{"$f":"IF(AND($C73=\"Receipt\",$B73=\"Debit card\"),$K73,0)","v":0},{"$f":"IF(AND(NOT(ISBLANK($U73)), $U73<'P&L'!$P$8), $AL73, 0)","v":0},{"$f":"IF(OR(ISBLANK($U73), $U73>'DebitCard Rec '!$E$8), $AL73, 0)","v":0},{"$f":"IF(AND($C73=\"Payment\",$B73=\"Debit card\"),$K73,0)","v":0},{"$f":"IF(AND(NOT(ISBLANK($U73)), $U73<'P&L'!$P$8), $AO73, 0)","v":0},{"$f":"IF(OR(ISBLANK($U73), $U73>'DebitCard Rec '!$E$8), $AO73, 0)","v":0},0,{"$f":"IF(AND($A73<'P&L'!$P$8, $X73='P&L'!$G$6), $AR73, 0)","v":0},0,{"$f":"IF(AND($A73<'P&L'!$P$8, $X73='P&L'!$G$6), $AT73, 0)","v":0}," "," "," "]
[null,null,null,null,null,null,null,null,null,null,null,null,null,null,null,null,null,null,null,null,null,null,"Jan-00",1900,{"$f":"IF(AND($A74<'P&L'!$P$8, YEAR($A74)=Master!$C$6), $K74, 0)","v":0},0,{"$f":"IF(AND(NOT(ISBLANK($O74)), $O74<'P&L'!$P$8), Z74, 0)","v":0},{"$f":"IF(OR(ISBLANK($O74), $O74>'BankRec Main Acct'!$E$8), Z74, 0)","v":0},0,{"$f":"IF(AND(NOT(ISBLANK($O74)), $O74<'P&L'!$P$8), AC74, 0)","v":0},{"$f":"IF(OR(ISBLANK($O74), $O74>'BankRec Main Acct'!$E$8), AC74, 0)","v":0},0,{"$f":"IF(AND(NOT(ISBLANK($S74)), $S74<'P&L'!$P$8), AF74, 0)","v":0},{"$f":"IF(OR(ISBLANK($S74), $S74>'BankRec Main Acct'!$E$8), AF74, 0)","v":0},0,{"$f":"IF(AND(NOT(ISBLANK($S74)), $S74<'P&L'!$P$8), AI74, 0)","v":0},{"$f":"IF(OR(ISBLANK($S74), $S74>'BankRec Main Acct'!$E$8), AI74, 0)","v":0},0,{"$f":"IF(AND(NOT(ISBLANK($U74)), $U74<'P&L'!$P$8), $AL74, 0)","v":0},{"$f":"IF(OR(ISBLANK($U74), $U74>'DebitCard Rec '!$E$8), $AL74, 0)","v":0},0,{"$f":"IF(AND(NOT(ISBLANK($U74)), $U74<'P&L'!$P$8), $AO74, 0)","v":0},{"$f":"IF(OR(ISBLANK($U74), $U74>'DebitCard Rec '!$E$8), $AO74, 0)","v":0},0,{"$f":"IF(AND($A74<'P&L'!$P$8, $X74='P&L'!$G$6), $AR74, 0)","v":0},0,{"$f":"IF(AND($A74<'P&L'!$P$8, $X74='P&L'!$G$6), $AT74, 0)","v":0}," "," "," "]
[null,null,null,null,null,null,null,null,null,null,null,null,null,null,null,null,null,null,null,null,null,null,"Jan-00",1900,{"$f":"IF(AND($A75<'P&L'!$P$8, YEAR($A75)=Master!$C$6), $K75, 0)","v":0},0,{"$f":"IF(AND(NOT(ISBLANK($O75)), $O75<'P&L'!$P$8), Z75, 0)","v":0},{"$f":"IF(OR(ISBLANK($O75), $O75>'BankRec Main Acct'!$E$8), Z75, 0)","v":0},0,{"$f":"IF(AND(NOT(ISBLANK($O75)), $O75<'P&L'!$P$8), AC75, 0)","v":0},{"$f":"IF(OR(ISBLANK($O75), $O75>'BankRec Main Acct'!$E$8), AC75, 0)","v":0},0,{"$f":"IF(AND(NOT(ISBLANK($S75)), $S75<'P&L'!$P$8), AF75, 0)","v":0},{"$f":"IF(OR(ISBLANK($S75), $S75>'BankRec Main Acct'!$E$8), AF75, 0)","v":0},0,{"$f":"IF(AND(NOT(ISBLANK($S75)), $S75<'P&L'!$P$8), AI75, 0)","v":0},{"$f":"IF(OR(ISBLANK($S75), $S75>'BankRec Main Acct'!$E$8), AI75, 0)","v":0},0,{"$f":"IF(AND(NOT(ISBLANK($U75)), $U75<'P&L'!$P$8), $AL75, 0)","v":0},{"$f":"IF(OR(ISBLANK($U75), $U75>'DebitCard Rec '!$E$8), $AL75, 0)","v":0},0,{"$f":"IF(AND(NOT(ISBLANK($U75)), $U75<'P&L'!$P$8), $AO75, 0)","v":0},{"$f":"IF(OR(ISBLANK($U75), $U75>'DebitCard Rec '!$E$8), $AO75, 0)","v":0},0,{"$f":"IF(AND($A75<'P&L'!$P$8, $X75='P&L'!$G$6), $AR75, 0)","v":0},0,{"$f":"IF(AND($A75<'P&L'!$P$8, $X75='P&L'!$G$6), $AT75, 0)","v":0},{"$f":"CONCATENATE(B75,\" \",C75)","v":" "}," "," "]
[null,null,null,null,null,null,null,null,null,null,null,null,null,null,null,null,null,null,null,null,null,null,"Jan-00",1900,{"$f":"IF(AND($A76<'P&L'!$P$8, YEAR($A76)=Master!$C$6), $K76, 0)","v":0},0,{"$f":"IF(AND(NOT(ISBLANK($O76)), $O76<'P&L'!$P$8), Z76, 0)","v":0},{"$f":"IF(OR(ISBLANK($O76), $O76>'BankRec Main Acct'!$E$8), Z76, 0)","v":0},0,{"$f":"IF(AND(NOT(ISBLANK($O76)), $O76<'P&L'!$P$8), AC76, 0)","v":0},{"$f":"IF(OR(ISBLANK($O76), $O76>'BankRec Main Acct'!$E$8), AC76, 0)","v":0},0,{"$f":"IF(AND(NOT(ISBLANK($S76)), $S76<'P&L'!$P$8), AF76, 0)","v":0},{"$f":"IF(OR(ISBLANK($S76), $S76>'BankRec Main Acct'!$E$8), AF76, 0)","v":0},0,{"$f":"IF(AND(NOT(ISBLANK($S76)), $S76<'P&L'!$P$8), AI76, 0)","v":0},{"$f":"IF(OR(ISBLANK($S76), $S76>'BankRec Main Acct'!$E$8), AI76, 0)","v":0},0,{"$f":"IF(AND(NOT(ISBLANK($U76)), $U76<'P&L'!$P$8), $AL76, 0)","v":0},{"$f":"IF(OR(ISBLANK($U76), $U76>'DebitCard Rec '!$E$8), $AL76, 0)","v":0},0,{"$f":"IF(AND(NOT(ISBLANK($U76)), $U76<'P&L'!$P$8), $AO76, 0)","v":0},{"$f":"IF(OR(ISBLANK($U76), $U76>'DebitCard Rec '!$E$8), $AO76, 0)","v":0},0,{"$f":"IF(AND($A76<'P&L'!$P$8, $X76='P&L'!$G$6), $AR76, 0)","v":0},0,{"$f":"IF(AND($A76<'P&L'!$P$8, $X76='P&L'!$G$6), $AT76, 0)","v":0}," "," "," "]
[null,null,null,null,null,null,null,null,null,null,null,null,null,null,null,null,null,null,null,null,null,null,"Jan-00",1900,{"$f":"IF(AND($A77<'P&L'!$P$8, YEAR($A77)=Master!$C$6), $K77, 0)","v":0},0,{"$f":"IF(AND(NOT(ISBLANK($O77)), $O77<'P&L'!$P$8), Z77, 0)","v":0},{"$f":"IF(OR(ISBLANK($O77), $O77>'BankRec Main Acct'!$E$8), Z77, 0)","v":0},0,{"$f":"IF(AND(NOT(ISBLANK($O77)), $O77<'P&L'!$P$8), AC77, 0)","v":0},{"$f":"IF(OR(ISBLANK($O77), $O77>'BankRec Main Acct'!$E$8), AC77, 0)","v":0},0,{"$f":"IF(AND(NOT(ISBLANK($S77)), $S77<'P&L'!$P$8), AF77, 0)","v":0},{"$f":"IF(OR(ISBLANK($S77), $S77>'BankRec Main Acct'!$E$8), AF77, 0)","v":0},0,{"$f":"IF(AND(NOT(ISBLANK($S77)), $S77<'P&L'!$P$8), AI77, 0)","v":0},{"$f":"IF(OR(ISBLANK($S77), $S77>'BankRec Main Acct'!$E$8), AI77, 0)","v":0},0,{"$f":"IF(AND(NOT(ISBLANK($U77)), $U77<'P&L'!$P$8), $AL77, 0)","v":0},{"$f":"IF(OR(ISBLANK($U77), $U77>'DebitCard Rec '!$E$8), $AL77, 0)","v":0},0,{"$f":"IF(AND(NOT(ISBLANK($U77)), $U77<'P&L'!$P$8), $AO77, 0)","v":0},{"$f":"IF(OR(ISBLANK($U77), $U77>'DebitCard Rec '!$E$8), $AO77, 0)","v":0},0,{"$f":"IF(AND($A77<'P&L'!$P$8, $X77='P&L'!$G$6), $AR77, 0)","v":0},0,{"$f":"IF(AND($A77<'P&L'!$P$8, $X77='P&L'!$G$6), $AT77, 0)","v":0}," "," "," "]
[null,null,null,null,null,null,null,null,null,null,null,null,null,null,null,null,null,null,null,null,null,null,"Jan-00",1900,{"$f":"IF(AND($A78<'P&L'!$P$8, YEAR($A78)=Master!$C$6), $K78, 0)","v":0},0,{"$f":"IF(AND(NOT(ISBLANK($O78)), $O78<'P&L'!$P$8), Z78, 0)","v":0},{"$f":"IF(OR(ISBLANK($O78), $O78>'BankRec Main Acct'!$E$8), Z78, 0)","v":0},0,{"$f":"IF(AND(NOT(ISBLANK($O78)), $O78<'P&L'!$P$8), AC78, 0)","v":0},{"$f":"IF(OR(ISBLANK($O78), $O78>'BankRec Main Acct'!$E$8), AC78, 0)","v":0},0,{"$f":"IF(AND(NOT(ISBLANK($S78)), $S78<'P&L'!$P$8), AF78, 0)","v":0},{"$f":"IF(OR(ISBLANK($S78), $S78>'BankRec Main Acct'!$E$8), AF78, 0)","v":0},0,{"$f":"IF(AND(NOT(ISBLANK($S78)), $S78<'P&L'!$P$8), AI78, 0)","v":0},{"$f":"IF(OR(ISBLANK($S78), $S78>'BankRec Main Acct'!$E$8), AI78, 0)","v":0},0,{"$f":"IF(AND(NOT(ISBLANK($U78)), $U78<'P&L'!$P$8), $AL78, 0)","v":0},{"$f":"IF(OR(ISBLANK($U78), $U78>'DebitCard Rec '!$E$8), $AL78, 0)","v":0},0,{"$f":"IF(AND(NOT(ISBLANK($U78)), $U78<'P&L'!$P$8), $AO78, 0)","v":0},{"$f":"IF(OR(ISBLANK($U78), $U78>'DebitCard Rec '!$E$8), $AO78, 0)","v":0},0,{"$f":"IF(AND($A78<'P&L'!$P$8, $X78='P&L'!$G$6), $AR78, 0)","v":0},0,{"$f":"IF(AND($A78<'P&L'!$P$8, $X78='P&L'!$G$6), $AT78, 0)","v":0}," "," "," "]
[null,null,null,null,null,null,null,null,null,null,null,null,null,null,null,null,null,null,null,null,null,null,"Jan-00",1900,{"$f":"IF(AND($A79<'P&L'!$P$8, YEAR($A79)=Master!$C$6), $K79, 0)","v":0},0,{"$f":"IF(AND(NOT(ISBLANK($O79)), $O79<'P&L'!$P$8), Z79, 0)","v":0},{"$f":"IF(OR(ISBLANK($O79), $O79>'BankRec Main Acct'!$E$8), Z79, 0)","v":0},0,{"$f":"IF(AND(NOT(ISBLANK($O79)), $O79<'P&L'!$P$8), AC79, 0)","v":0},{"$f":"IF(OR(ISBLANK($O79), $O79>'BankRec Main Acct'!$E$8), AC79, 0)","v":0},0,{"$f":"IF(AND(NOT(ISBLANK($S79)), $S79<'P&L'!$P$8), AF79, 0)","v":0},{"$f":"IF(OR(ISBLANK($S79), $S79>'BankRec Main Acct'!$E$8), AF79, 0)","v":0},0,{"$f":"IF(AND(NOT(ISBLANK($S79)), $S79<'P&L'!$P$8), AI79, 0)","v":0},{"$f":"IF(OR(ISBLANK($S79), $S79>'BankRec Main Acct'!$E$8), AI79, 0)","v":0},0,{"$f":"IF(AND(NOT(ISBLANK($U79)), $U79<'P&L'!$P$8), $AL79, 0)","v":0},{"$f":"IF(OR(ISBLANK($U79), $U79>'DebitCard Rec '!$E$8), $AL79, 0)","v":0},0,{"$f":"IF(AND(NOT(ISBLANK($U79)), $U79<'P&L'!$P$8), $AO79, 0)","v":0},{"$f":"IF(OR(ISBLANK($U79), $U79>'DebitCard Rec '!$E$8), $AO79, 0)","v":0},0,{"$f":"IF(AND($A79<'P&L'!$P$8, $X79='P&L'!$G$6), $AR79, 0)","v":0},0,{"$f":"IF(AND($A79<'P&L'!$P$8, $X79='P&L'!$G$6), $AT79, 0)","v":0}," "," "," "]
[null,null,null,null,null,null,null,null,null,null,null,null,null,null,null,null,null,null,null,null,null,null,"Jan-00",1900,{"$f":"IF(AND($A80<'P&L'!$P$8, YEAR($A80)=Master!$C$6), $K80, 0)","v":0},0,{"$f":"IF(AND(NOT(ISBLANK($O80)), $O80<'P&L'!$P$8), Z80, 0)","v":0},{"$f":"IF(OR(ISBLANK($O80), $O80>'BankRec Main Acct'!$E$8), Z80, 0)","v":0},0,{"$f":"IF(AND(NOT(ISBLANK($O80)), $O80<'P&L'!$P$8), AC80, 0)","v":0},{"$f":"IF(OR(ISBLANK($O80), $O80>'BankRec Main Acct'!$E$8), AC80, 0)","v":0},0,{"$f":"IF(AND(NOT(ISBLANK($S80)), $S80<'P&L'!$P$8), AF80, 0)","v":0},{"$f":"IF(OR(ISBLANK($S80), $S80>'BankRec Main Acct'!$E$8), AF80, 0)","v":0},0,{"$f":"IF(AND(NOT(ISBLANK($S80)), $S80<'P&L'!$P$8), AI80, 0)","v":0},{"$f":"IF(OR(ISBLANK($S80), $S80>'BankRec Main Acct'!$E$8), AI80, 0)","v":0},0,{"$f":"IF(AND(NOT(ISBLANK($U80)), $U80<'P&L'!$P$8), $AL80, 0)","v":0},{"$f":"IF(OR(ISBLANK($U80), $U80>'DebitCard Rec '!$E$8), $AL80, 0)","v":0},0,{"$f":"IF(AND(NOT(ISBLANK($U80)), $U80<'P&L'!$P$8), $AO80, 0)","v":0},{"$f":"IF(OR(ISBLANK($U80), $U80>'DebitCard Rec '!$E$8), $AO80, 0)","v":0},0,{"$f":"IF(AND($A80<'P&L'!$P$8, $X80='P&L'!$G$6), $AR80, 0)","v":0},0,{"$f":"IF(AND($A80<'P&L'!$P$8, $X80='P&L'!$G$6), $AT80, 0)","v":0}," "," "," "]
[null,null,null,null,null,null,null,null,null,null,null,null,null,null,null,null,null,null,null,null,null,null,"Jan-00",1900,{"$f":"IF(AND($A81<'P&L'!$P$8, YEAR($A81)=Master!$C$6), $K81, 0)","v":0},0,{"$f":"IF(AND(NOT(ISBLANK($O81)), $O81<'P&L'!$P$8), Z81, 0)","v":0},{"$f":"IF(OR(ISBLANK($O81), $O81>'BankRec Main Acct'!$E$8), Z81, 0)","v":0},0,{"$f":"IF(AND(NOT(ISBLANK($O81)), $O81<'P&L'!$P$8), AC81, 0)","v":0},{"$f":"IF(OR(ISBLANK($O81), $O81>'BankRec Main Acct'!$E$8), AC81, 0)","v":0},0,{"$f":"IF(AND(NOT(ISBLANK($S81)), $S81<'P&L'!$P$8), AF81, 0)","v":0},{"$f":"IF(OR(ISBLANK($S81), $S81>'BankRec Main Acct'!$E$8), AF81, 0)","v":0},0,{"$f":"IF(AND(NOT(ISBLANK($S81)), $S81<'P&L'!$P$8), AI81, 0)","v":0},{"$f":"IF(OR(ISBLANK($S81), $S81>'BankRec Main Acct'!$E$8), AI81, 0)","v":0},0,{"$f":"IF(AND(NOT(ISBLANK($U81)), $U81<'P&L'!$P$8), $AL81, 0)","v":0},{"$f":"IF(OR(ISBLANK($U81), $U81>'DebitCard Rec '!$E$8), $AL81, 0)","v":0},0,{"$f":"IF(AND(NOT(ISBLANK($U81)), $U81<'P&L'!$P$8), $AO81, 0)","v":0},{"$f":"IF(OR(ISBLANK($U81), $U81>'DebitCard Rec '!$E$8), $AO81, 0)","v":0},0,{"$f":"IF(AND($A81<'P&L'!$P$8, $X81='P&L'!$G$6), $AR81, 0)","v":0},0,{"$f":"IF(AND($A81<'P&L'!$P$8, $X81='P&L'!$G$6), $AT81, 0)","v":0}," "," "," "]
[null,null,null,null,null,null,null,null,null,null,null,null,null,null,null,null,null,null,null,null,null,null,"Jan-00",1900,{"$f":"IF(AND($A82<'P&L'!$P$8, YEAR($A82)=Master!$C$6), $K82, 0)","v":0},0,{"$f":"IF(AND(NOT(ISBLANK($O82)), $O82<'P&L'!$P$8), Z82, 0)","v":0},{"$f":"IF(OR(ISBLANK($O82), $O82>'BankRec Main Acct'!$E$8), Z82, 0)","v":0},0,{"$f":"IF(AND(NOT(ISBLANK($O82)), $O82<'P&L'!$P$8), AC82, 0)","v":0},{"$f":"IF(OR(ISBLANK($O82), $O82>'BankRec Main Acct'!$E$8), AC82, 0)","v":0},0,{"$f":"IF(AND(NOT(ISBLANK($S82)), $S82<'P&L'!$P$8), AF82, 0)","v":0},{"$f":"IF(OR(ISBLANK($S82), $S82>'BankRec Main Acct'!$E$8), AF82, 0)","v":0},0,{"$f":"IF(AND(NOT(ISBLANK($S82)), $S82<'P&L'!$P$8), AI82, 0)","v":0},{"$f":"IF(OR(ISBLANK($S82), $S82>'BankRec Main Acct'!$E$8), AI82, 0)","v":0},0,{"$f":"IF(AND(NOT(ISBLANK($U82)), $U82<'P&L'!$P$8), $AL82, 0)","v":0},{"$f":"IF(OR(ISBLANK($U82), $U82>'DebitCard Rec '!$E$8), $AL82, 0)","v":0},0,{"$f":"IF(AND(NOT(ISBLANK($U82)), $U82<'P&L'!$P$8), $AO82, 0)","v":0},{"$f":"IF(OR(ISBLANK($U82), $U82>'DebitCard Rec '!$E$8), $AO82, 0)","v":0},0,{"$f":"IF(AND($A82<'P&L'!$P$8, $X82='P&L'!$G$6), $AR82, 0)","v":0},0,{"$f":"IF(AND($A82<'P&L'!$P$8, $X82='P&L'!$G$6), $AT82, 0)","v":0}," "," "," "]
[null,null,null,null,null,null,null,null,null,null,null,null,null,null,null,null,null,null,null,null,null,null,"Jan-00",1900,{"$f":"IF(AND($A83<'P&L'!$P$8, YEAR($A83)=Master!$C$6), $K83, 0)","v":0},0,{"$f":"IF(AND(NOT(ISBLANK($O83)), $O83<'P&L'!$P$8), Z83, 0)","v":0},{"$f":"IF(OR(ISBLANK($O83), $O83>'BankRec Main Acct'!$E$8), Z83, 0)","v":0},0,{"$f":"IF(AND(NOT(ISBLANK($O83)), $O83<'P&L'!$P$8), AC83, 0)","v":0},{"$f":"IF(OR(ISBLANK($O83), $O83>'BankRec Main Acct'!$E$8), AC83, 0)","v":0},0,{"$f":"IF(AND(NOT(ISBLANK($S83)), $S83<'P&L'!$P$8), AF83, 0)","v":0},{"$f":"IF(OR(ISBLANK($S83), $S83>'BankRec Main Acct'!$E$8), AF83, 0)","v":0},0,{"$f":"IF(AND(NOT(ISBLANK($S83)), $S83<'P&L'!$P$8), AI83, 0)","v":0},{"$f":"IF(OR(ISBLANK($S83), $S83>'BankRec Main Acct'!$E$8), AI83, 0)","v":0},0,{"$f":"IF(AND(NOT(ISBLANK($U83)), $U83<'P&L'!$P$8), $AL83, 0)","v":0},{"$f":"IF(OR(ISBLANK($U83), $U83>'DebitCard Rec '!$E$8), $AL83, 0)","v":0},0,{"$f":"IF(AND(NOT(ISBLANK($U83)), $U83<'P&L'!$P$8), $AO83, 0)","v":0},{"$f":"IF(OR(ISBLANK($U83), $U83>'DebitCard Rec '!$E$8), $AO83, 0)","v":0},0,{"$f":"IF(AND($A83<'P&L'!$P$8, $X83='P&L'!$G$6), $AR83, 0)","v":0},0,{"$f":"IF(AND($A83<'P&L'!$P$8, $X83='P&L'!$G$6), $AT83, 0)","v":0}," "," "," "]
[null,null,null,null,null,null,null,null,null,null,null,null,null,null,null,null,null,null,null,null,null,null,"Jan-00",1900,{"$f":"IF(AND($A84<'P&L'!$P$8, YEAR($A84)=Master!$C$6), $K84, 0)","v":0},0,{"$f":"IF(AND(NOT(ISBLANK($O84)), $O84<'P&L'!$P$8), Z84, 0)","v":0},{"$f":"IF(OR(ISBLANK($O84), $O84>'BankRec Main Acct'!$E$8), Z84, 0)","v":0},0,{"$f":"IF(AND(NOT(ISBLANK($O84)), $O84<'P&L'!$P$8), AC84, 0)","v":0},{"$f":"IF(OR(ISBLANK($O84), $O84>'BankRec Main Acct'!$E$8), AC84, 0)","v":0},0,{"$f":"IF(AND(NOT(ISBLANK($S84)), $S84<'P&L'!$P$8), AF84, 0)","v":0},{"$f":"IF(OR(ISBLANK($S84), $S84>'BankRec Main Acct'!$E$8), AF84, 0)","v":0},0,{"$f":"IF(AND(NOT(ISBLANK($S84)), $S84<'P&L'!$P$8), AI84, 0)","v":0},{"$f":"IF(OR(ISBLANK($S84), $S84>'BankRec Main Acct'!$E$8), AI84, 0)","v":0},0,{"$f":"IF(AND(NOT(ISBLANK($U84)), $U84<'P&L'!$P$8), $AL84, 0)","v":0},{"$f":"IF(OR(ISBLANK($U84), $U84>'DebitCard Rec '!$E$8), $AL84, 0)","v":0},0,{"$f":"IF(AND(NOT(ISBLANK($U84)), $U84<'P&L'!$P$8), $AO84, 0)","v":0},{"$f":"IF(OR(ISBLANK($U84), $U84>'DebitCard Rec '!$E$8), $AO84, 0)","v":0},0,{"$f":"IF(AND($A84<'P&L'!$P$8, $X84='P&L'!$G$6), $AR84, 0)","v":0},0,{"$f":"IF(AND($A84<'P&L'!$P$8, $X84='P&L'!$G$6), $AT84, 0)","v":0}," "," "," "]
[null,null,null,null,null,null,null,null,null,null,null,null,null,null,null,null,null,null,null,null,null,null,"Jan-00",1900,{"$f":"IF(AND($A85<'P&L'!$P$8, YEAR($A85)=Master!$C$6), $K85, 0)","v":0},0,{"$f":"IF(AND(NOT(ISBLANK($O85)), $O85<'P&L'!$P$8), Z85, 0)","v":0},{"$f":"IF(OR(ISBLANK($O85), $O85>'BankRec Main Acct'!$E$8), Z85, 0)","v":0},0,{"$f":"IF(AND(NOT(ISBLANK($O85)), $O85<'P&L'!$P$8), AC85, 0)","v":0},{"$f":"IF(OR(ISBLANK($O85), $O85>'BankRec Main Acct'!$E$8), AC85, 0)","v":0},0,{"$f":"IF(AND(NOT(ISBLANK($S85)), $S85<'P&L'!$P$8), AF85, 0)","v":0},{"$f":"IF(OR(ISBLANK($S85), $S85>'BankRec Main Acct'!$E$8), AF85, 0)","v":0},0,{"$f":"IF(AND(NOT(ISBLANK($S85)), $S85<'P&L'!$P$8), AI85, 0)","v":0},{"$f":"IF(OR(ISBLANK($S85), $S85>'BankRec Main Acct'!$E$8), AI85, 0)","v":0},0,{"$f":"IF(AND(NOT(ISBLANK($U85)), $U85<'P&L'!$P$8), $AL85, 0)","v":0},{"$f":"IF(OR(ISBLANK($U85), $U85>'DebitCard Rec '!$E$8), $AL85, 0)","v":0},0,{"$f":"IF(AND(NOT(ISBLANK($U85)), $U85<'P&L'!$P$8), $AO85, 0)","v":0},{"$f":"IF(OR(ISBLANK($U85), $U85>'DebitCard Rec '!$E$8), $AO85, 0)","v":0},0,{"$f":"IF(AND($A85<'P&L'!$P$8, $X85='P&L'!$G$6), $AR85, 0)","v":0},0,{"$f":"IF(AND($A85<'P&L'!$P$8, $X85='P&L'!$G$6), $AT85, 0)","v":0}," "," "," "]
[null,null,null,null,null,null,null,null,null,null,null,null,null,null,null,null,null,null,null,null,null,null,"Jan-00",1900,{"$f":"IF(AND($A86<'P&L'!$P$8, YEAR($A86)=Master!$C$6), $K86, 0)","v":0},0,{"$f":"IF(AND(NOT(ISBLANK($O86)), $O86<'P&L'!$P$8), Z86, 0)","v":0},{"$f":"IF(OR(ISBLANK($O86), $O86>'BankRec Main Acct'!$E$8), Z86, 0)","v":0},0,{"$f":"IF(AND(NOT(ISBLANK($O86)), $O86<'P&L'!$P$8), AC86, 0)","v":0},{"$f":"IF(OR(ISBLANK($O86), $O86>'BankRec Main Acct'!$E$8), AC86, 0)","v":0},0,{"$f":"IF(AND(NOT(ISBLANK($S86)), $S86<'P&L'!$P$8), AF86, 0)","v":0},{"$f":"IF(OR(ISBLANK($S86), $S86>'BankRec Main Acct'!$E$8), AF86, 0)","v":0},0,{"$f":"IF(AND(NOT(ISBLANK($S86)), $S86<'P&L'!$P$8), AI86, 0)","v":0},{"$f":"IF(OR(ISBLANK($S86), $S86>'BankRec Main Acct'!$E$8), AI86, 0)","v":0},0,{"$f":"IF(AND(NOT(ISBLANK($U86)), $U86<'P&L'!$P$8), $AL86, 0)","v":0},{"$f":"IF(OR(ISBLANK($U86), $U86>'DebitCard Rec '!$E$8), $AL86, 0)","v":0},0,{"$f":"IF(AND(NOT(ISBLANK($U86)), $U86<'P&L'!$P$8), $AO86, 0)","v":0},{"$f":"IF(OR(ISBLANK($U86), $U86>'DebitCard Rec '!$E$8), $AO86, 0)","v":0},0,{"$f":"IF(AND($A86<'P&L'!$P$8, $X86='P&L'!$G$6), $AR86, 0)","v":0},0,{"$f":"IF(AND($A86<'P&L'!$P$8, $X86='P&L'!$G$6), $AT86, 0)","v":0}," "," "," "]
[null,null,null,null,null,null,null,null,null,null,null,null,null,null,null,null,null,null,null,null,null,null,"Jan-00",1900,{"$f":"IF(AND($A87<'P&L'!$P$8, YEAR($A87)=Master!$C$6), $K87, 0)","v":0},0,{"$f":"IF(AND(NOT(ISBLANK($O87)), $O87<'P&L'!$P$8), Z87, 0)","v":0},{"$f":"IF(OR(ISBLANK($O87), $O87>'BankRec Main Acct'!$E$8), Z87, 0)","v":0},0,{"$f":"IF(AND(NOT(ISBLANK($O87)), $O87<'P&L'!$P$8), AC87, 0)","v":0},{"$f":"IF(OR(ISBLANK($O87), $O87>'BankRec Main Acct'!$E$8), AC87, 0)","v":0},0,{"$f":"IF(AND(NOT(ISBLANK($S87)), $S87<'P&L'!$P$8), AF87, 0)","v":0},{"$f":"IF(OR(ISBLANK($S87), $S87>'BankRec Main Acct'!$E$8), AF87, 0)","v":0},0,{"$f":"IF(AND(NOT(ISBLANK($S87)), $S87<'P&L'!$P$8), AI87, 0)","v":0},{"$f":"IF(OR(ISBLANK($S87), $S87>'BankRec Main Acct'!$E$8), AI87, 0)","v":0},0,{"$f":"IF(AND(NOT(ISBLANK($U87)), $U87<'P&L'!$P$8), $AL87, 0)","v":0},{"$f":"IF(OR(ISBLANK($U87), $U87>'DebitCard Rec '!$E$8), $AL87, 0)","v":0},0,{"$f":"IF(AND(NOT(ISBLANK($U87)), $U87<'P&L'!$P$8), $AO87, 0)","v":0},{"$f":"IF(OR(ISBLANK($U87), $U87>'DebitCard Rec '!$E$8), $AO87, 0)","v":0},0,{"$f":"IF(AND($A87<'P&L'!$P$8, $X87='P&L'!$G$6), $AR87, 0)","v":0},0,{"$f":"IF(AND($A87<'P&L'!$P$8, $X87='P&L'!$G$6), $AT87, 0)","v":0}," "," "," "]
[null,null,null,null,null,null,null,null,null,null,null,null,null,null,null,null,null,null,null,null,null,null,"Jan-00",1900,{"$f":"IF(AND($A88<'P&L'!$P$8, YEAR($A88)=Master!$C$6), $K88, 0)","v":0},0,{"$f":"IF(AND(NOT(ISBLANK($O88)), $O88<'P&L'!$P$8), Z88, 0)","v":0},{"$f":"IF(OR(ISBLANK($O88), $O88>'BankRec Main Acct'!$E$8), Z88, 0)","v":0},0,{"$f":"IF(AND(NOT(ISBLANK($O88)), $O88<'P&L'!$P$8), AC88, 0)","v":0},{"$f":"IF(OR(ISBLANK($O88), $O88>'BankRec Main Acct'!$E$8), AC88, 0)","v":0},0,{"$f":"IF(AND(NOT(ISBLANK($S88)), $S88<'P&L'!$P$8), AF88, 0)","v":0},{"$f":"IF(OR(ISBLANK($S88), $S88>'BankRec Main Acct'!$E$8), AF88, 0)","v":0},0,{"$f":"IF(AND(NOT(ISBLANK($S88)), $S88<'P&L'!$P$8), AI88, 0)","v":0},{"$f":"IF(OR(ISBLANK($S88), $S88>'BankRec Main Acct'!$E$8), AI88, 0)","v":0},0,{"$f":"IF(AND(NOT(ISBLANK($U88)), $U88<'P&L'!$P$8), $AL88, 0)","v":0},{"$f":"IF(OR(ISBLANK($U88), $U88>'DebitCard Rec '!$E$8), $AL88, 0)","v":0},0,{"$f":"IF(AND(NOT(ISBLANK($U88)), $U88<'P&L'!$P$8), $AO88, 0)","v":0},{"$f":"IF(OR(ISBLANK($U88), $U88>'DebitCard Rec '!$E$8), $AO88, 0)","v":0},0,{"$f":"IF(AND($A88<'P&L'!$P$8, $X88='P&L'!$G$6), $AR88, 0)","v":0},0,{"$f":"IF(AND($A88<'P&L'!$P$8, $X88='P&L'!$G$6), $AT88, 0)","v":0}," "," "," "]
[null,null,null,null,null,null,null,null,null,null,null,null,null,null,null,null,null,null,null,null,null,null,"Jan-00",1900,{"$f":"IF(AND($A89<'P&L'!$P$8, YEAR($A89)=Master!$C$6), $K89, 0)","v":0},0,{"$f":"IF(AND(NOT(ISBLANK($O89)), $O89<'P&L'!$P$8), Z89, 0)","v":0},{"$f":"IF(OR(ISBLANK($O89), $O89>'BankRec Main Acct'!$E$8), Z89, 0)","v":0},0,{"$f":"IF(AND(NOT(ISBLANK($O89)), $O89<'P&L'!$P$8), AC89, 0)","v":0},{"$f":"IF(OR(ISBLANK($O89), $O89>'BankRec Main Acct'!$E$8), AC89, 0)","v":0},0,{"$f":"IF(AND(NOT(ISBLANK($S89)), $S89<'P&L'!$P$8), AF89, 0)","v":0},{"$f":"IF(OR(ISBLANK($S89), $S89>'BankRec Main Acct'!$E$8), AF89, 0)","v":0},0,{"$f":"IF(AND(NOT(ISBLANK($S89)), $S89<'P&L'!$P$8), AI89, 0)","v":0},{"$f":"IF(OR(ISBLANK($S89), $S89>'BankRec Main Acct'!$E$8), AI89, 0)","v":0},0,{"$f":"IF(AND(NOT(ISBLANK($U89)), $U89<'P&L'!$P$8), $AL89, 0)","v":0},{"$f":"IF(OR(ISBLANK($U89), $U89>'DebitCard Rec '!$E$8), $AL89, 0)","v":0},0,{"$f":"IF(AND(NOT(ISBLANK($U89)), $U89<'P&L'!$P$8), $AO89, 0)","v":0},{"$f":"IF(OR(ISBLANK($U89), $U89>'DebitCard Rec '!$E$8), $AO89, 0)","v":0},0,{"$f":"IF(AND($A89<'P&L'!$P$8, $X89='P&L'!$G$6), $AR89, 0)","v":0},0,{"$f":"IF(AND($A89<'P&L'!$P$8, $X89='P&L'!$G$6), $AT89, 0)","v":0}," "," "," "]
[null,null,null,null,null,null,null,null,null,null,null,null,null,null,null,null,null,null,null,null,null,null,"Jan-00",1900,{"$f":"IF(AND($A90<'P&L'!$P$8, YEAR($A90)=Master!$C$6), $K90, 0)","v":0},0,{"$f":"IF(AND(NOT(ISBLANK($O90)), $O90<'P&L'!$P$8), Z90, 0)","v":0},{"$f":"IF(OR(ISBLANK($O90), $O90>'BankRec Main Acct'!$E$8), Z90, 0)","v":0},0,{"$f":"IF(AND(NOT(ISBLANK($O90)), $O90<'P&L'!$P$8), AC90, 0)","v":0},{"$f":"IF(OR(ISBLANK($O90), $O90>'BankRec Main Acct'!$E$8), AC90, 0)","v":0},0,{"$f":"IF(AND(NOT(ISBLANK($S90)), $S90<'P&L'!$P$8), AF90, 0)","v":0},{"$f":"IF(OR(ISBLANK($S90), $S90>'BankRec Main Acct'!$E$8), AF90, 0)","v":0},0,{"$f":"IF(AND(NOT(ISBLANK($S90)), $S90<'P&L'!$P$8), AI90, 0)","v":0},{"$f":"IF(OR(ISBLANK($S90), $S90>'BankRec Main Acct'!$E$8), AI90, 0)","v":0},0,{"$f":"IF(AND(NOT(ISBLANK($U90)), $U90<'P&L'!$P$8), $AL90, 0)","v":0},{"$f":"IF(OR(ISBLANK($U90), $U90>'DebitCard Rec '!$E$8), $AL90, 0)","v":0},0,{"$f":"IF(AND(NOT(ISBLANK($U90)), $U90<'P&L'!$P$8), $AO90, 0)","v":0},{"$f":"IF(OR(ISBLANK($U90), $U90>'DebitCard Rec '!$E$8), $AO90, 0)","v":0},0,{"$f":"IF(AND($A90<'P&L'!$P$8, $X90='P&L'!$G$6), $AR90, 0)","v":0},0,{"$f":"IF(AND($A90<'P&L'!$P$8, $X90='P&L'!$G$6), $AT90, 0)","v":0}," "," "," "]
[null,null,null,null,null,null,null,null,null,null,null,null,null,null,null,null,null,null,null,null,null,null,"Jan-00",1900,{"$f":"IF(AND($A91<'P&L'!$P$8, YEAR($A91)=Master!$C$6), $K91, 0)","v":0},0,{"$f":"IF(AND(NOT(ISBLANK($O91)), $O91<'P&L'!$P$8), Z91, 0)","v":0},{"$f":"IF(OR(ISBLANK($O91), $O91>'BankRec Main Acct'!$E$8), Z91, 0)","v":0},0,{"$f":"IF(AND(NOT(ISBLANK($O91)), $O91<'P&L'!$P$8), AC91, 0)","v":0},{"$f":"IF(OR(ISBLANK($O91), $O91>'BankRec Main Acct'!$E$8), AC91, 0)","v":0},0,{"$f":"IF(AND(NOT(ISBLANK($S91)), $S91<'P&L'!$P$8), AF91, 0)","v":0},{"$f":"IF(OR(ISBLANK($S91), $S91>'BankRec Main Acct'!$E$8), AF91, 0)","v":0},0,{"$f":"IF(AND(NOT(ISBLANK($S91)), $S91<'P&L'!$P$8), AI91, 0)","v":0},{"$f":"IF(OR(ISBLANK($S91), $S91>'BankRec Main Acct'!$E$8), AI91, 0)","v":0},0,{"$f":"IF(AND(NOT(ISBLANK($U91)), $U91<'P&L'!$P$8), $AL91, 0)","v":0},{"$f":"IF(OR(ISBLANK($U91), $U91>'DebitCard Rec '!$E$8), $AL91, 0)","v":0},0,{"$f":"IF(AND(NOT(ISBLANK($U91)), $U91<'P&L'!$P$8), $AO91, 0)","v":0},{"$f":"IF(OR(ISBLANK($U91), $U91>'DebitCard Rec '!$E$8), $AO91, 0)","v":0},0,{"$f":"IF(AND($A91<'P&L'!$P$8, $X91='P&L'!$G$6), $AR91, 0)","v":0},0,{"$f":"IF(AND($A91<'P&L'!$P$8, $X91='P&L'!$G$6), $AT91, 0)","v":0}," "," "," "]
[null,null,null,null,null,null,null,null,null,null,null,null,null,null,null,null,null,null,null,null,null,null,"Jan-00",1900,{"$f":"IF(AND($A92<'P&L'!$P$8, YEAR($A92)=Master!$C$6), $K92, 0)","v":0},0,{"$f":"IF(AND(NOT(ISBLANK($O92)), $O92<'P&L'!$P$8), Z92, 0)","v":0},{"$f":"IF(OR(ISBLANK($O92), $O92>'BankRec Main Acct'!$E$8), Z92, 0)","v":0},0,{"$f":"IF(AND(NOT(ISBLANK($O92)), $O92<'P&L'!$P$8), AC92, 0)","v":0},{"$f":"IF(OR(ISBLANK($O92), $O92>'BankRec Main Acct'!$E$8), AC92, 0)","v":0},0,{"$f":"IF(AND(NOT(ISBLANK($S92)), $S92<'P&L'!$P$8), AF92, 0)","v":0},{"$f":"IF(OR(ISBLANK($S92), $S92>'BankRec Main Acct'!$E$8), AF92, 0)","v":0},0,{"$f":"IF(AND(NOT(ISBLANK($S92)), $S92<'P&L'!$P$8), AI92, 0)","v":0},{"$f":"IF(OR(ISBLANK($S92), $S92>'BankRec Main Acct'!$E$8), AI92, 0)","v":0},0,{"$f":"IF(AND(NOT(ISBLANK($U92)), $U92<'P&L'!$P$8), $AL92, 0)","v":0},{"$f":"IF(OR(ISBLANK($U92), $U92>'DebitCard Rec '!$E$8), $AL92, 0)","v":0},0,{"$f":"IF(AND(NOT(ISBLANK($U92)), $U92<'P&L'!$P$8), $AO92, 0)","v":0},{"$f":"IF(OR(ISBLANK($U92), $U92>'DebitCard Rec '!$E$8), $AO92, 0)","v":0},0,{"$f":"IF(AND($A92<'P&L'!$P$8, $X92='P&L'!$G$6), $AR92, 0)","v":0},0,{"$f":"IF(AND($A92<'P&L'!$P$8, $X92='P&L'!$G$6), $AT92, 0)","v":0}," "," "," "]
[null,null,null,null,null,null,null,null,null,null,null,null,null,null,null,null,null,null,null,null,null,null,"Jan-00",1900,{"$f":"IF(AND($A93<'P&L'!$P$8, YEAR($A93)=Master!$C$6), $K93, 0)","v":0},0,{"$f":"IF(AND(NOT(ISBLANK($O93)), $O93<'P&L'!$P$8), Z93, 0)","v":0},{"$f":"IF(OR(ISBLANK($O93), $O93>'BankRec Main Acct'!$E$8), Z93, 0)","v":0},0,{"$f":"IF(AND(NOT(ISBLANK($O93)), $O93<'P&L'!$P$8), AC93, 0)","v":0},{"$f":"IF(OR(ISBLANK($O93), $O93>'BankRec Main Acct'!$E$8), AC93, 0)","v":0},0,{"$f":"IF(AND(NOT(ISBLANK($S93)), $S93<'P&L'!$P$8), AF93, 0)","v":0},{"$f":"IF(OR(ISBLANK($S93), $S93>'BankRec Main Acct'!$E$8), AF93, 0)","v":0},0,{"$f":"IF(AND(NOT(ISBLANK($S93)), $S93<'P&L'!$P$8), AI93, 0)","v":0},{"$f":"IF(OR(ISBLANK($S93), $S93>'BankRec Main Acct'!$E$8), AI93, 0)","v":0},0,{"$f":"IF(AND(NOT(ISBLANK($U93)), $U93<'P&L'!$P$8), $AL93, 0)","v":0},{"$f":"IF(OR(ISBLANK($U93), $U93>'DebitCard Rec '!$E$8), $AL93, 0)","v":0},0,{"$f":"IF(AND(NOT(ISBLANK($U93)), $U93<'P&L'!$P$8), $AO93, 0)","v":0},{"$f":"IF(OR(ISBLANK($U93), $U93>'DebitCard Rec '!$E$8), $AO93, 0)","v":0},0,{"$f":"IF(AND($A93<'P&L'!$P$8, $X93='P&L'!$G$6), $AR93, 0)","v":0},0,{"$f":"IF(AND($A93<'P&L'!$P$8, $X93='P&L'!$G$6), $AT93, 0)","v":0}," "," "," "]
[null,null,null,null,null,null,null,null,null,null,null,null,null,null,null,null,null,null,null,null,null,null,"Jan-00",1900,{"$f":"IF(AND($A94<'P&L'!$P$8, YEAR($A94)=Master!$C$6), $K94, 0)","v":0},0,{"$f":"IF(AND(NOT(ISBLANK($O94)), $O94<'P&L'!$P$8), Z94, 0)","v":0},{"$f":"IF(OR(ISBLANK($O94), $O94>'BankRec Main Acct'!$E$8), Z94, 0)","v":0},0,{"$f":"IF(AND(NOT(ISBLANK($O94)), $O94<'P&L'!$P$8), AC94, 0)","v":0},{"$f":"IF(OR(ISBLANK($O94), $O94>'BankRec Main Acct'!$E$8), AC94, 0)","v":0},0,{"$f":"IF(AND(NOT(ISBLANK($S94)), $S94<'P&L'!$P$8), AF94, 0)","v":0},{"$f":"IF(OR(ISBLANK($S94), $S94>'BankRec Main Acct'!$E$8), AF94, 0)","v":0},0,{"$f":"IF(AND(NOT(ISBLANK($S94)), $S94<'P&L'!$P$8), AI94, 0)","v":0},{"$f":"IF(OR(ISBLANK($S94), $S94>'BankRec Main Acct'!$E$8), AI94, 0)","v":0},0,{"$f":"IF(AND(NOT(ISBLANK($U94)), $U94<'P&L'!$P$8), $AL94, 0)","v":0},{"$f":"IF(OR(ISBLANK($U94), $U94>'DebitCard Rec '!$E$8), $AL94, 0)","v":0},0,{"$f":"IF(AND(NOT(ISBLANK($U94)), $U94<'P&L'!$P$8), $AO94, 0)","v":0},{"$f":"IF(OR(ISBLANK($U94), $U94>'DebitCard Rec '!$E$8), $AO94, 0)","v":0},0,{"$f":"IF(AND($A94<'P&L'!$P$8, $X94='P&L'!$G$6), $AR94, 0)","v":0},0,{"$f":"IF(AND($A94<'P&L'!$P$8, $X94='P&L'!$G$6), $AT94, 0)","v":0}," "," "," "]
[null,null,null,null,null,null,null,null,null,null,null,null,null,null,null,null,null,null,null,null,null,null,"Jan-00",1900,{"$f":"IF(AND($A95<'P&L'!$P$8, YEAR($A95)=Master!$C$6), $K95, 0)","v":0},0,{"$f":"IF(AND(NOT(ISBLANK($O95)), $O95<'P&L'!$P$8), Z95, 0)","v":0},{"$f":"IF(OR(ISBLANK($O95), $O95>'BankRec Main Acct'!$E$8), Z95, 0)","v":0},0,{"$f":"IF(AND(NOT(ISBLANK($O95)), $O95<'P&L'!$P$8), AC95, 0)","v":0},{"$f":"IF(OR(ISBLANK($O95), $O95>'BankRec Main Acct'!$E$8), AC95, 0)","v":0},0,{"$f":"IF(AND(NOT(ISBLANK($S95)), $S95<'P&L'!$P$8), AF95, 0)","v":0},{"$f":"IF(OR(ISBLANK($S95), $S95>'BankRec Main Acct'!$E$8), AF95, 0)","v":0},0,{"$f":"IF(AND(NOT(ISBLANK($S95)), $S95<'P&L'!$P$8), AI95, 0)","v":0},{"$f":"IF(OR(ISBLANK($S95), $S95>'BankRec Main Acct'!$E$8), AI95, 0)","v":0},0,{"$f":"IF(AND(NOT(ISBLANK($U95)), $U95<'P&L'!$P$8), $AL95, 0)","v":0},{"$f":"IF(OR(ISBLANK($U95), $U95>'DebitCard Rec '!$E$8), $AL95, 0)","v":0},0,{"$f":"IF(AND(NOT(ISBLANK($U95)), $U95<'P&L'!$P$8), $AO95, 0)","v":0},{"$f":"IF(OR(ISBLANK($U95), $U95>'DebitCard Rec '!$E$8), $AO95, 0)","v":0},0,{"$f":"IF(AND($A95<'P&L'!$P$8, $X95='P&L'!$G$6), $AR95, 0)","v":0},0,{"$f":"IF(AND($A95<'P&L'!$P$8, $X95='P&L'!$G$6), $AT95, 0)","v":0}," "," "," "]
[null,null,null,null,null,null,null,null,null,null,null,null,null,null,null,null,null,null,null,null,null,null,"Jan-00",1900,{"$f":"IF(AND($A96<'P&L'!$P$8, YEAR($A96)=Master!$C$6), $K96, 0)","v":0},0,{"$f":"IF(AND(NOT(ISBLANK($O96)), $O96<'P&L'!$P$8), Z96, 0)","v":0},{"$f":"IF(OR(ISBLANK($O96), $O96>'BankRec Main Acct'!$E$8), Z96, 0)","v":0},0,{"$f":"IF(AND(NOT(ISBLANK($O96)), $O96<'P&L'!$P$8), AC96, 0)","v":0},{"$f":"IF(OR(ISBLANK($O96), $O96>'BankRec Main Acct'!$E$8), AC96, 0)","v":0},0,{"$f":"IF(AND(NOT(ISBLANK($S96)), $S96<'P&L'!$P$8), AF96, 0)","v":0},{"$f":"IF(OR(ISBLANK($S96), $S96>'BankRec Main Acct'!$E$8), AF96, 0)","v":0},0,{"$f":"IF(AND(NOT(ISBLANK($S96)), $S96<'P&L'!$P$8), AI96, 0)","v":0},{"$f":"IF(OR(ISBLANK($S96), $S96>'BankRec Main Acct'!$E$8), AI96, 0)","v":0},0,{"$f":"IF(AND(NOT(ISBLANK($U96)), $U96<'P&L'!$P$8), $AL96, 0)","v":0},{"$f":"IF(OR(ISBLANK($U96), $U96>'DebitCard Rec '!$E$8), $AL96, 0)","v":0},0,{"$f":"IF(AND(NOT(ISBLANK($U96)), $U96<'P&L'!$P$8), $AO96, 0)","v":0},{"$f":"IF(OR(ISBLANK($U96), $U96>'DebitCard Rec '!$E$8), $AO96, 0)","v":0},0,{"$f":"IF(AND($A96<'P&L'!$P$8, $X96='P&L'!$G$6), $AR96, 0)","v":0},0,{"$f":"IF(AND($A96<'P&L'!$P$8, $X96='P&L'!$G$6), $AT96, 0)","v":0}," "," "," "]
[null,null,null,null,null,null,null,null,null,null,null,null,null,null,null,null,null,null,null,null,null,null,"Jan-00",1900,{"$f":"IF(AND($A97<'P&L'!$P$8, YEAR($A97)=Master!$C$6), $K97, 0)","v":0},0,{"$f":"IF(AND(NOT(ISBLANK($O97)), $O97<'P&L'!$P$8), Z97, 0)","v":0},{"$f":"IF(OR(ISBLANK($O97), $O97>'BankRec Main Acct'!$E$8), Z97, 0)","v":0},0,{"$f":"IF(AND(NOT(ISBLANK($O97)), $O97<'P&L'!$P$8), AC97, 0)","v":0},{"$f":"IF(OR(ISBLANK($O97), $O97>'BankRec Main Acct'!$E$8), AC97, 0)","v":0},0,{"$f":"IF(AND(NOT(ISBLANK($S97)), $S97<'P&L'!$P$8), AF97, 0)","v":0},{"$f":"IF(OR(ISBLANK($S97), $S97>'BankRec Main Acct'!$E$8), AF97, 0)","v":0},0,{"$f":"IF(AND(NOT(ISBLANK($S97)), $S97<'P&L'!$P$8), AI97, 0)","v":0},{"$f":"IF(OR(ISBLANK($S97), $S97>'BankRec Main Acct'!$E$8), AI97, 0)","v":0},0,{"$f":"IF(AND(NOT(ISBLANK($U97)), $U97<'P&L'!$P$8), $AL97, 0)","v":0},{"$f":"IF(OR(ISBLANK($U97), $U97>'DebitCard Rec '!$E$8), $AL97, 0)","v":0},0,{"$f":"IF(AND(NOT(ISBLANK($U97)), $U97<'P&L'!$P$8), $AO97, 0)","v":0},{"$f":"IF(OR(ISBLANK($U97), $U97>'DebitCard Rec '!$E$8), $AO97, 0)","v":0},0,{"$f":"IF(AND($A97<'P&L'!$P$8, $X97='P&L'!$G$6), $AR97, 0)","v":0},0,{"$f":"IF(AND($A97<'P&L'!$P$8, $X97='P&L'!$G$6), $AT97, 0)","v":0}," "," "," "]
[null,null,null,null,null,null,null,null,null,null,null,null,null,null,null,null,null,null,null,null,null,null,"Jan-00",1900,{"$f":"IF(AND($A98<'P&L'!$P$8, YEAR($A98)=Master!$C$6), $K98, 0)","v":0},0,{"$f":"IF(AND(NOT(ISBLANK($O98)), $O98<'P&L'!$P$8), Z98, 0)","v":0},{"$f":"IF(OR(ISBLANK($O98), $O98>'BankRec Main Acct'!$E$8), Z98, 0)","v":0},0,{"$f":"IF(AND(NOT(ISBLANK($O98)), $O98<'P&L'!$P$8), AC98, 0)","v":0},{"$f":"IF(OR(ISBLANK($O98), $O98>'BankRec Main Acct'!$E$8), AC98, 0)","v":0},0,{"$f":"IF(AND(NOT(ISBLANK($S98)), $S98<'P&L'!$P$8), AF98, 0)","v":0},{"$f":"IF(OR(ISBLANK($S98), $S98>'BankRec Main Acct'!$E$8), AF98, 0)","v":0},0,{"$f":"IF(AND(NOT(ISBLANK($S98)), $S98<'P&L'!$P$8), AI98, 0)","v":0},{"$f":"IF(OR(ISBLANK($S98), $S98>'BankRec Main Acct'!$E$8), AI98, 0)","v":0},0,{"$f":"IF(AND(NOT(ISBLANK($U98)), $U98<'P&L'!$P$8), $AL98, 0)","v":0},{"$f":"IF(OR(ISBLANK($U98), $U98>'DebitCard Rec '!$E$8), $AL98, 0)","v":0},0,{"$f":"IF(AND(NOT(ISBLANK($U98)), $U98<'P&L'!$P$8), $AO98, 0)","v":0},{"$f":"IF(OR(ISBLANK($U98), $U98>'DebitCard Rec '!$E$8), $AO98, 0)","v":0},0,{"$f":"IF(AND($A98<'P&L'!$P$8, $X98='P&L'!$G$6), $AR98, 0)","v":0},0,{"$f":"IF(AND($A98<'P&L'!$P$8, $X98='P&L'!$G$6), $AT98, 0)","v":0}," "," "," "]
[null,null,null,null,null,null,null,null,null,null,null,null,null,null,null,null,null,null,null,null,null,null,"Jan-00",1900,{"$f":"IF(AND($A99<'P&L'!$P$8, YEAR($A99)=Master!$C$6), $K99, 0)","v":0},0,{"$f":"IF(AND(NOT(ISBLANK($O99)), $O99<'P&L'!$P$8), Z99, 0)","v":0},{"$f":"IF(OR(ISBLANK($O99), $O99>'BankRec Main Acct'!$E$8), Z99, 0)","v":0},0,{"$f":"IF(AND(NOT(ISBLANK($O99)), $O99<'P&L'!$P$8), AC99, 0)","v":0},{"$f":"IF(OR(ISBLANK($O99), $O99>'BankRec Main Acct'!$E$8), AC99, 0)","v":0},0,{"$f":"IF(AND(NOT(ISBLANK($S99)), $S99<'P&L'!$P$8), AF99, 0)","v":0},{"$f":"IF(OR(ISBLANK($S99), $S99>'BankRec Main Acct'!$E$8), AF99, 0)","v":0},0,{"$f":"IF(AND(NOT(ISBLANK($S99)), $S99<'P&L'!$P$8), AI99, 0)","v":0},{"$f":"IF(OR(ISBLANK($S99), $S99>'BankRec Main Acct'!$E$8), AI99, 0)","v":0},0,{"$f":"IF(AND(NOT(ISBLANK($U99)), $U99<'P&L'!$P$8), $AL99, 0)","v":0},{"$f":"IF(OR(ISBLANK($U99), $U99>'DebitCard Rec '!$E$8), $AL99, 0)","v":0},0,{"$f":"IF(AND(NOT(ISBLANK($U99)), $U99<'P&L'!$P$8), $AO99, 0)","v":0},{"$f":"IF(OR(ISBLANK($U99), $U99>'DebitCard Rec '!$E$8), $AO99, 0)","v":0},0,{"$f":"IF(AND($A99<'P&L'!$P$8, $X99='P&L'!$G$6), $AR99, 0)","v":0},0,{"$f":"IF(AND($A99<'P&L'!$P$8, $X99='P&L'!$G$6), $AT99, 0)","v":0}," "," "," "]
[null,null,null,null,null,null,null,null,null,null,null,null,null,null,null,null,null,null,null,null,null,null,"Jan-00",1900,{"$f":"IF(AND($A100<'P&L'!$P$8, YEAR($A100)=Master!$C$6), $K100, 0)","v":0},0,{"$f":"IF(AND(NOT(ISBLANK($O100)), $O100<'P&L'!$P$8), Z100, 0)","v":0},{"$f":"IF(OR(ISBLANK($O100), $O100>'BankRec Main Acct'!$E$8), Z100, 0)","v":0},0,{"$f":"IF(AND(NOT(ISBLANK($O100)), $O100<'P&L'!$P$8), AC100, 0)","v":0},{"$f":"IF(OR(ISBLANK($O100), $O100>'BankRec Main Acct'!$E$8), AC100, 0)","v":0},0,{"$f":"IF(AND(NOT(ISBLANK($S100)), $S100<'P&L'!$P$8), AF100, 0)","v":0},{"$f":"IF(OR(ISBLANK($S100), $S100>'BankRec Main Acct'!$E$8), AF100, 0)","v":0},0,{"$f":"IF(AND(NOT(ISBLANK($S100)), $S100<'P&L'!$P$8), AI100, 0)","v":0},{"$f":"IF(OR(ISBLANK($S100), $S100>'BankRec Main Acct'!$E$8), AI100, 0)","v":0},0,{"$f":"IF(AND(NOT(ISBLANK($U100)), $U100<'P&L'!$P$8), $AL100, 0)","v":0},{"$f":"IF(OR(ISBLANK($U100), $U100>'DebitCard Rec '!$E$8), $AL100, 0)","v":0},0,{"$f":"IF(AND(NOT(ISBLANK($U100)), $U100<'P&L'!$P$8), $AO100, 0)","v":0},{"$f":"IF(OR(ISBLANK($U100), $U100>'DebitCard Rec '!$E$8), $AO100, 0)","v":0},0,{"$f":"IF(AND($A100<'P&L'!$P$8, $X100='P&L'!$G$6), $AR100, 0)","v":0},0,{"$f":"IF(AND($A100<'P&L'!$P$8, $X100='P&L'!$G$6), $AT100, 0)","v":0}," "," "," "]
[null,null,null,null,null,null,null,null,null,null,null,null,null,null,null,null,null,null,null,null,null,null,"Jan-00",1900,{"$f":"IF(AND($A101<'P&L'!$P$8, YEAR($A101)=Master!$C$6), $K101, 0)","v":0},0,{"$f":"IF(AND(NOT(ISBLANK($O101)), $O101<'P&L'!$P$8), Z101, 0)","v":0},{"$f":"IF(OR(ISBLANK($O101), $O101>'BankRec Main Acct'!$E$8), Z101, 0)","v":0},0,{"$f":"IF(AND(NOT(ISBLANK($O101)), $O101<'P&L'!$P$8), AC101, 0)","v":0},{"$f":"IF(OR(ISBLANK($O101), $O101>'BankRec Main Acct'!$E$8), AC101, 0)","v":0},0,{"$f":"IF(AND(NOT(ISBLANK($S101)), $S101<'P&L'!$P$8), AF101, 0)","v":0},{"$f":"IF(OR(ISBLANK($S101), $S101>'BankRec Main Acct'!$E$8), AF101, 0)","v":0},0,{"$f":"IF(AND(NOT(ISBLANK($S101)), $S101<'P&L'!$P$8), AI101, 0)","v":0},{"$f":"IF(OR(ISBLANK($S101), $S101>'BankRec Main Acct'!$E$8), AI101, 0)","v":0},0,{"$f":"IF(AND(NOT(ISBLANK($U101)), $U101<'P&L'!$P$8), $AL101, 0)","v":0},{"$f":"IF(OR(ISBLANK($U101), $U101>'DebitCard Rec '!$E$8), $AL101, 0)","v":0},0,{"$f":"IF(AND(NOT(ISBLANK($U101)), $U101<'P&L'!$P$8), $AO101, 0)","v":0},{"$f":"IF(OR(ISBLANK($U101), $U101>'DebitCard Rec '!$E$8), $AO101, 0)","v":0},0,{"$f":"IF(AND($A101<'P&L'!$P$8, $X101='P&L'!$G$6), $AR101, 0)","v":0},0,{"$f":"IF(AND($A101<'P&L'!$P$8, $X101='P&L'!$G$6), $AT101, 0)","v":0}," "," "," "]
[null,null,null,null,null,null,null,null,null,null,null,null,null,null,null,null,null,null,null,null,null,null,"Jan-00",1900,{"$f":"IF(AND($A102<'P&L'!$P$8, YEAR($A102)=Master!$C$6), $K102, 0)","v":0},0,{"$f":"IF(AND(NOT(ISBLANK($O102)), $O102<'P&L'!$P$8), Z102, 0)","v":0},{"$f":"IF(OR(ISBLANK($O102), $O102>'BankRec Main Acct'!$E$8), Z102, 0)","v":0},0,{"$f":"IF(AND(NOT(ISBLANK($O102)), $O102<'P&L'!$P$8), AC102, 0)","v":0},{"$f":"IF(OR(ISBLANK($O102), $O102>'BankRec Main Acct'!$E$8), AC102, 0)","v":0},0,{"$f":"IF(AND(NOT(ISBLANK($S102)), $S102<'P&L'!$P$8), AF102, 0)","v":0},{"$f":"IF(OR(ISBLANK($S102), $S102>'BankRec Main Acct'!$E$8), AF102, 0)","v":0},0,{"$f":"IF(AND(NOT(ISBLANK($S102)), $S102<'P&L'!$P$8), AI102, 0)","v":0},{"$f":"IF(OR(ISBLANK($S102), $S102>'BankRec Main Acct'!$E$8), AI102, 0)","v":0},0,{"$f":"IF(AND(NOT(ISBLANK($U102)), $U102<'P&L'!$P$8), $AL102, 0)","v":0},{"$f":"IF(OR(ISBLANK($U102), $U102>'DebitCard Rec '!$E$8), $AL102, 0)","v":0},0,{"$f":"IF(AND(NOT(ISBLANK($U102)), $U102<'P&L'!$P$8), $AO102, 0)","v":0},{"$f":"IF(OR(ISBLANK($U102), $U102>'DebitCard Rec '!$E$8), $AO102, 0)","v":0},0,{"$f":"IF(AND($A102<'P&L'!$P$8, $X102='P&L'!$G$6), $AR102, 0)","v":0},0,{"$f":"IF(AND($A102<'P&L'!$P$8, $X102='P&L'!$G$6), $AT102, 0)","v":0}," "," "," "]
[null,null,null,null,null,null,null,null,null,null,null,null,null,null,null,null,null,null,null,null,null,null,"Jan-00",1900,{"$f":"IF(AND($A103<'P&L'!$P$8, YEAR($A103)=Master!$C$6), $K103, 0)","v":0},0,{"$f":"IF(AND(NOT(ISBLANK($O103)), $O103<'P&L'!$P$8), Z103, 0)","v":0},{"$f":"IF(OR(ISBLANK($O103), $O103>'BankRec Main Acct'!$E$8), Z103, 0)","v":0},0,{"$f":"IF(AND(NOT(ISBLANK($O103)), $O103<'P&L'!$P$8), AC103, 0)","v":0},{"$f":"IF(OR(ISBLANK($O103), $O103>'BankRec Main Acct'!$E$8), AC103, 0)","v":0},0,{"$f":"IF(AND(NOT(ISBLANK($S103)), $S103<'P&L'!$P$8), AF103, 0)","v":0},{"$f":"IF(OR(ISBLANK($S103), $S103>'BankRec Main Acct'!$E$8), AF103, 0)","v":0},0,{"$f":"IF(AND(NOT(ISBLANK($S103)), $S103<'P&L'!$P$8), AI103, 0)","v":0},{"$f":"IF(OR(ISBLANK($S103), $S103>'BankRec Main Acct'!$E$8), AI103, 0)","v":0},0,{"$f":"IF(AND(NOT(ISBLANK($U103)), $U103<'P&L'!$P$8), $AL103, 0)","v":0},{"$f":"IF(OR(ISBLANK($U103), $U103>'DebitCard Rec '!$E$8), $AL103, 0)","v":0},0,{"$f":"IF(AND(NOT(ISBLANK($U103)), $U103<'P&L'!$P$8), $AO103, 0)","v":0},{"$f":"IF(OR(ISBLANK($U103), $U103>'DebitCard Rec '!$E$8), $AO103, 0)","v":0},0,{"$f":"IF(AND($A103<'P&L'!$P$8, $X103='P&L'!$G$6), $AR103, 0)","v":0},0,{"$f":"IF(AND($A103<'P&L'!$P$8, $X103='P&L'!$G$6), $AT103, 0)","v":0}," "," "," "]
[null,null,null,null,null,null,null,null,null,null,null,null,null,null,null,null,null,null,null,null,null,null,"Jan-00",1900,{"$f":"IF(AND($A104<'P&L'!$P$8, YEAR($A104)=Master!$C$6), $K104, 0)","v":0},0,{"$f":"IF(AND(NOT(ISBLANK($O104)), $O104<'P&L'!$P$8), Z104, 0)","v":0},{"$f":"IF(OR(ISBLANK($O104), $O104>'BankRec Main Acct'!$E$8), Z104, 0)","v":0},0,{"$f":"IF(AND(NOT(ISBLANK($O104)), $O104<'P&L'!$P$8), AC104, 0)","v":0},{"$f":"IF(OR(ISBLANK($O104), $O104>'BankRec Main Acct'!$E$8), AC104, 0)","v":0},0,{"$f":"IF(AND(NOT(ISBLANK($S104)), $S104<'P&L'!$P$8), AF104, 0)","v":0},{"$f":"IF(OR(ISBLANK($S104), $S104>'BankRec Main Acct'!$E$8), AF104, 0)","v":0},0,{"$f":"IF(AND(NOT(ISBLANK($S104)), $S104<'P&L'!$P$8), AI104, 0)","v":0},{"$f":"IF(OR(ISBLANK($S104), $S104>'BankRec Main Acct'!$E$8), AI104, 0)","v":0},0,{"$f":"IF(AND(NOT(ISBLANK($U104)), $U104<'P&L'!$P$8), $AL104, 0)","v":0},{"$f":"IF(OR(ISBLANK($U104), $U104>'DebitCard Rec '!$E$8), $AL104, 0)","v":0},0,{"$f":"IF(AND(NOT(ISBLANK($U104)), $U104<'P&L'!$P$8), $AO104, 0)","v":0},{"$f":"IF(OR(ISBLANK($U104), $U104>'DebitCard Rec '!$E$8), $AO104, 0)","v":0},0,{"$f":"IF(AND($A104<'P&L'!$P$8, $X104='P&L'!$G$6), $AR104, 0)","v":0},0,{"$f":"IF(AND($A104<'P&L'!$P$8, $X104='P&L'!$G$6), $AT104, 0)","v":0}," "," "," "]
[null,null,null,null,null,null,null,null,null,null,null,null,null,null,null,null,null,null,null,null,null,null,"Jan-00",1900,{"$f":"IF(AND($A105<'P&L'!$P$8, YEAR($A105)=Master!$C$6), $K105, 0)","v":0},0,{"$f":"IF(AND(NOT(ISBLANK($O105)), $O105<'P&L'!$P$8), Z105, 0)","v":0},{"$f":"IF(OR(ISBLANK($O105), $O105>'BankRec Main Acct'!$E$8), Z105, 0)","v":0},0,{"$f":"IF(AND(NOT(ISBLANK($O105)), $O105<'P&L'!$P$8), AC105, 0)","v":0},{"$f":"IF(OR(ISBLANK($O105), $O105>'BankRec Main Acct'!$E$8), AC105, 0)","v":0},0,{"$f":"IF(AND(NOT(ISBLANK($S105)), $S105<'P&L'!$P$8), AF105, 0)","v":0},{"$f":"IF(OR(ISBLANK($S105), $S105>'BankRec Main Acct'!$E$8), AF105, 0)","v":0},0,{"$f":"IF(AND(NOT(ISBLANK($S105)), $S105<'P&L'!$P$8), AI105, 0)","v":0},{"$f":"IF(OR(ISBLANK($S105), $S105>'BankRec Main Acct'!$E$8), AI105, 0)","v":0},0,{"$f":"IF(AND(NOT(ISBLANK($U105)), $U105<'P&L'!$P$8), $AL105, 0)","v":0},{"$f":"IF(OR(ISBLANK($U105), $U105>'DebitCard Rec '!$E$8), $AL105, 0)","v":0},0,{"$f":"IF(AND(NOT(ISBLANK($U105)), $U105<'P&L'!$P$8), $AO105, 0)","v":0},{"$f":"IF(OR(ISBLANK($U105), $U105>'DebitCard Rec '!$E$8), $AO105, 0)","v":0},0,{"$f":"IF(AND($A105<'P&L'!$P$8, $X105='P&L'!$G$6), $AR105, 0)","v":0},0,{"$f":"IF(AND($A105<'P&L'!$P$8, $X105='P&L'!$G$6), $AT105, 0)","v":0}," "," "," "]
[null,null,null,null,null,null,null,null,null,null,null,null,null,null,null,null,null,null,null,null,null,null,"Jan-00",1900,{"$f":"IF(AND($A106<'P&L'!$P$8, YEAR($A106)=Master!$C$6), $K106, 0)","v":0},0,{"$f":"IF(AND(NOT(ISBLANK($O106)), $O106<'P&L'!$P$8), Z106, 0)","v":0},{"$f":"IF(OR(ISBLANK($O106), $O106>'BankRec Main Acct'!$E$8), Z106, 0)","v":0},0,{"$f":"IF(AND(NOT(ISBLANK($O106)), $O106<'P&L'!$P$8), AC106, 0)","v":0},{"$f":"IF(OR(ISBLANK($O106), $O106>'BankRec Main Acct'!$E$8), AC106, 0)","v":0},0,{"$f":"IF(AND(NOT(ISBLANK($S106)), $S106<'P&L'!$P$8), AF106, 0)","v":0},{"$f":"IF(OR(ISBLANK($S106), $S106>'BankRec Main Acct'!$E$8), AF106, 0)","v":0},0,{"$f":"IF(AND(NOT(ISBLANK($S106)), $S106<'P&L'!$P$8), AI106, 0)","v":0},{"$f":"IF(OR(ISBLANK($S106), $S106>'BankRec Main Acct'!$E$8), AI106, 0)","v":0},0,{"$f":"IF(AND(NOT(ISBLANK($U106)), $U106<'P&L'!$P$8), $AL106, 0)","v":0},{"$f":"IF(OR(ISBLANK($U106), $U106>'DebitCard Rec '!$E$8), $AL106, 0)","v":0},0,{"$f":"IF(AND(NOT(ISBLANK($U106)), $U106<'P&L'!$P$8), $AO106, 0)","v":0},{"$f":"IF(OR(ISBLANK($U106), $U106>'DebitCard Rec '!$E$8), $AO106, 0)","v":0},0,{"$f":"IF(AND($A106<'P&L'!$P$8, $X106='P&L'!$G$6), $AR106, 0)","v":0},0,{"$f":"IF(AND($A106<'P&L'!$P$8, $X106='P&L'!$G$6), $AT106, 0)","v":0}," "," "," "]
[null,null,null,null,null,null,null,null,null,null,null,null,null,null,null,null,null,null,null,null,null,null,"Jan-00",1900,{"$f":"IF(AND($A107<'P&L'!$P$8, YEAR($A107)=Master!$C$6), $K107, 0)","v":0},0,{"$f":"IF(AND(NOT(ISBLANK($O107)), $O107<'P&L'!$P$8), Z107, 0)","v":0},{"$f":"IF(OR(ISBLANK($O107), $O107>'BankRec Main Acct'!$E$8), Z107, 0)","v":0},0,{"$f":"IF(AND(NOT(ISBLANK($O107)), $O107<'P&L'!$P$8), AC107, 0)","v":0},{"$f":"IF(OR(ISBLANK($O107), $O107>'BankRec Main Acct'!$E$8), AC107, 0)","v":0},0,{"$f":"IF(AND(NOT(ISBLANK($S107)), $S107<'P&L'!$P$8), AF107, 0)","v":0},{"$f":"IF(OR(ISBLANK($S107), $S107>'BankRec Main Acct'!$E$8), AF107, 0)","v":0},0,{"$f":"IF(AND(NOT(ISBLANK($S107)), $S107<'P&L'!$P$8), AI107, 0)","v":0},{"$f":"IF(OR(ISBLANK($S107), $S107>'BankRec Main Acct'!$E$8), AI107, 0)","v":0},0,{"$f":"IF(AND(NOT(ISBLANK($U107)), $U107<'P&L'!$P$8), $AL107, 0)","v":0},{"$f":"IF(OR(ISBLANK($U107), $U107>'DebitCard Rec '!$E$8), $AL107, 0)","v":0},0,{"$f":"IF(AND(NOT(ISBLANK($U107)), $U107<'P&L'!$P$8), $AO107, 0)","v":0},{"$f":"IF(OR(ISBLANK($U107), $U107>'DebitCard Rec '!$E$8), $AO107, 0)","v":0},0,{"$f":"IF(AND($A107<'P&L'!$P$8, $X107='P&L'!$G$6), $AR107, 0)","v":0},0,{"$f":"IF(AND($A107<'P&L'!$P$8, $X107='P&L'!$G$6), $AT107, 0)","v":0}," "," "," "]
[null,null,null,null,null,null,null,null,null,null,null,null,null,null,null,null,null,null,null,null,null,null,"Jan-00",1900,{"$f":"IF(AND($A108<'P&L'!$P$8, YEAR($A108)=Master!$C$6), $K108, 0)","v":0},0,{"$f":"IF(AND(NOT(ISBLANK($O108)), $O108<'P&L'!$P$8), Z108, 0)","v":0},{"$f":"IF(OR(ISBLANK($O108), $O108>'BankRec Main Acct'!$E$8), Z108, 0)","v":0},0,{"$f":"IF(AND(NOT(ISBLANK($O108)), $O108<'P&L'!$P$8), AC108, 0)","v":0},{"$f":"IF(OR(ISBLANK($O108), $O108>'BankRec Main Acct'!$E$8), AC108, 0)","v":0},0,{"$f":"IF(AND(NOT(ISBLANK($S108)), $S108<'P&L'!$P$8), AF108, 0)","v":0},{"$f":"IF(OR(ISBLANK($S108), $S108>'BankRec Main Acct'!$E$8), AF108, 0)","v":0},0,{"$f":"IF(AND(NOT(ISBLANK($S108)), $S108<'P&L'!$P$8), AI108, 0)","v":0},{"$f":"IF(OR(ISBLANK($S108), $S108>'BankRec Main Acct'!$E$8), AI108, 0)","v":0},0,{"$f":"IF(AND(NOT(ISBLANK($U108)), $U108<'P&L'!$P$8), $AL108, 0)","v":0},{"$f":"IF(OR(ISBLANK($U108), $U108>'DebitCard Rec '!$E$8), $AL108, 0)","v":0},0,{"$f":"IF(AND(NOT(ISBLANK($U108)), $U108<'P&L'!$P$8), $AO108, 0)","v":0},{"$f":"IF(OR(ISBLANK($U108), $U108>'DebitCard Rec '!$E$8), $AO108, 0)","v":0},0,{"$f":"IF(AND($A108<'P&L'!$P$8, $X108='P&L'!$G$6), $AR108, 0)","v":0},0,{"$f":"IF(AND($A108<'P&L'!$P$8, $X108='P&L'!$G$6), $AT108, 0)","v":0}," "," "," "]
[null,null,null,null,null,null,null,null,null,null,null,null,null,null,null,null,null,null,null,null,null,null,"Jan-00",1900,{"$f":"IF(AND($A109<'P&L'!$P$8, YEAR($A109)=Master!$C$6), $K109, 0)","v":0},0,{"$f":"IF(AND(NOT(ISBLANK($O109)), $O109<'P&L'!$P$8), Z109, 0)","v":0},{"$f":"IF(OR(ISBLANK($O109), $O109>'BankRec Main Acct'!$E$8), Z109, 0)","v":0},0,{"$f":"IF(AND(NOT(ISBLANK($O109)), $O109<'P&L'!$P$8), AC109, 0)","v":0},{"$f":"IF(OR(ISBLANK($O109), $O109>'BankRec Main Acct'!$E$8), AC109, 0)","v":0},0,{"$f":"IF(AND(NOT(ISBLANK($S109)), $S109<'P&L'!$P$8), AF109, 0)","v":0},{"$f":"IF(OR(ISBLANK($S109), $S109>'BankRec Main Acct'!$E$8), AF109, 0)","v":0},0,{"$f":"IF(AND(NOT(ISBLANK($S109)), $S109<'P&L'!$P$8), AI109, 0)","v":0},{"$f":"IF(OR(ISBLANK($S109), $S109>'BankRec Main Acct'!$E$8), AI109, 0)","v":0},0,{"$f":"IF(AND(NOT(ISBLANK($U109)), $U109<'P&L'!$P$8), $AL109, 0)","v":0},{"$f":"IF(OR(ISBLANK($U109), $U109>'DebitCard Rec '!$E$8), $AL109, 0)","v":0},0,{"$f":"IF(AND(NOT(ISBLANK($U109)), $U109<'P&L'!$P$8), $AO109, 0)","v":0},{"$f":"IF(OR(ISBLANK($U109), $U109>'DebitCard Rec '!$E$8), $AO109, 0)","v":0},0,{"$f":"IF(AND($A109<'P&L'!$P$8, $X109='P&L'!$G$6), $AR109, 0)","v":0},0,{"$f":"IF(AND($A109<'P&L'!$P$8, $X109='P&L'!$G$6), $AT109, 0)","v":0}," "," "," "]
[null,null,null,null,null,null,null,null,null,null,null,null,null,null,null,null,null,null,null,null,null,null,"Jan-00",1900,{"$f":"IF(AND($A110<'P&L'!$P$8, YEAR($A110)=Master!$C$6), $K110, 0)","v":0},0,{"$f":"IF(AND(NOT(ISBLANK($O110)), $O110<'P&L'!$P$8), Z110, 0)","v":0},{"$f":"IF(OR(ISBLANK($O110), $O110>'BankRec Main Acct'!$E$8), Z110, 0)","v":0},0,{"$f":"IF(AND(NOT(ISBLANK($O110)), $O110<'P&L'!$P$8), AC110, 0)","v":0},{"$f":"IF(OR(ISBLANK($O110), $O110>'BankRec Main Acct'!$E$8), AC110, 0)","v":0},0,{"$f":"IF(AND(NOT(ISBLANK($S110)), $S110<'P&L'!$P$8), AF110, 0)","v":0},{"$f":"IF(OR(ISBLANK($S110), $S110>'BankRec Main Acct'!$E$8), AF110, 0)","v":0},0,{"$f":"IF(AND(NOT(ISBLANK($S110)), $S110<'P&L'!$P$8), AI110, 0)","v":0},{"$f":"IF(OR(ISBLANK($S110), $S110>'BankRec Main Acct'!$E$8), AI110, 0)","v":0},0,{"$f":"IF(AND(NOT(ISBLANK($U110)), $U110<'P&L'!$P$8), $AL110, 0)","v":0},{"$f":"IF(OR(ISBLANK($U110), $U110>'DebitCard Rec '!$E$8), $AL110, 0)","v":0},0,{"$f":"IF(AND(NOT(ISBLANK($U110)), $U110<'P&L'!$P$8), $AO110, 0)","v":0},{"$f":"IF(OR(ISBLANK($U110), $U110>'DebitCard Rec '!$E$8), $AO110, 0)","v":0},0,{"$f":"IF(AND($A110<'P&L'!$P$8, $X110='P&L'!$G$6), $AR110, 0)","v":0},0,{"$f":"IF(AND($A110<'P&L'!$P$8, $X110='P&L'!$G$6), $AT110, 0)","v":0}," "," "," "]
[null,null,null,null,null,null,null,null,null,null,null,null,null,null,null,null,null,null,null,null,null,null,"Jan-00",1900,{"$f":"IF(AND($A111<'P&L'!$P$8, YEAR($A111)=Master!$C$6), $K111, 0)","v":0},0,{"$f":"IF(AND(NOT(ISBLANK($O111)), $O111<'P&L'!$P$8), Z111, 0)","v":0},{"$f":"IF(OR(ISBLANK($O111), $O111>'BankRec Main Acct'!$E$8), Z111, 0)","v":0},0,{"$f":"IF(AND(NOT(ISBLANK($O111)), $O111<'P&L'!$P$8), AC111, 0)","v":0},{"$f":"IF(OR(ISBLANK($O111), $O111>'BankRec Main Acct'!$E$8), AC111, 0)","v":0},0,{"$f":"IF(AND(NOT(ISBLANK($S111)), $S111<'P&L'!$P$8), AF111, 0)","v":0},{"$f":"IF(OR(ISBLANK($S111), $S111>'BankRec Main Acct'!$E$8), AF111, 0)","v":0},0,{"$f":"IF(AND(NOT(ISBLANK($S111)), $S111<'P&L'!$P$8), AI111, 0)","v":0},{"$f":"IF(OR(ISBLANK($S111), $S111>'BankRec Main Acct'!$E$8), AI111, 0)","v":0},0,{"$f":"IF(AND(NOT(ISBLANK($U111)), $U111<'P&L'!$P$8), $AL111, 0)","v":0},{"$f":"IF(OR(ISBLANK($U111), $U111>'DebitCard Rec '!$E$8), $AL111, 0)","v":0},0,{"$f":"IF(AND(NOT(ISBLANK($U111)), $U111<'P&L'!$P$8), $AO111, 0)","v":0},{"$f":"IF(OR(ISBLANK($U111), $U111>'DebitCard Rec '!$E$8), $AO111, 0)","v":0},0,{"$f":"IF(AND($A111<'P&L'!$P$8, $X111='P&L'!$G$6), $AR111, 0)","v":0},0,{"$f":"IF(AND($A111<'P&L'!$P$8, $X111='P&L'!$G$6), $AT111, 0)","v":0}," "," "," "]
[null,null,null,null,null,null,null,null,null,null,null,null,null,null,null,null,null,null,null,null,null,null,"Jan-00",1900,{"$f":"IF(AND($A112<'P&L'!$P$8, YEAR($A112)=Master!$C$6), $K112, 0)","v":0},0,{"$f":"IF(AND(NOT(ISBLANK($O112)), $O112<'P&L'!$P$8), Z112, 0)","v":0},{"$f":"IF(OR(ISBLANK($O112), $O112>'BankRec Main Acct'!$E$8), Z112, 0)","v":0},0,{"$f":"IF(AND(NOT(ISBLANK($O112)), $O112<'P&L'!$P$8), AC112, 0)","v":0},{"$f":"IF(OR(ISBLANK($O112), $O112>'BankRec Main Acct'!$E$8), AC112, 0)","v":0},0,{"$f":"IF(AND(NOT(ISBLANK($S112)), $S112<'P&L'!$P$8), AF112, 0)","v":0},{"$f":"IF(OR(ISBLANK($S112), $S112>'BankRec Main Acct'!$E$8), AF112, 0)","v":0},0,{"$f":"IF(AND(NOT(ISBLANK($S112)), $S112<'P&L'!$P$8), AI112, 0)","v":0},{"$f":"IF(OR(ISBLANK($S112), $S112>'BankRec Main Acct'!$E$8), AI112, 0)","v":0},0,{"$f":"IF(AND(NOT(ISBLANK($U112)), $U112<'P&L'!$P$8), $AL112, 0)","v":0},{"$f":"IF(OR(ISBLANK($U112), $U112>'DebitCard Rec '!$E$8), $AL112, 0)","v":0},0,{"$f":"IF(AND(NOT(ISBLANK($U112)), $U112<'P&L'!$P$8), $AO112, 0)","v":0},{"$f":"IF(OR(ISBLANK($U112), $U112>'DebitCard Rec '!$E$8), $AO112, 0)","v":0},0,{"$f":"IF(AND($A112<'P&L'!$P$8, $X112='P&L'!$G$6), $AR112, 0)","v":0},0,{"$f":"IF(AND($A112<'P&L'!$P$8, $X112='P&L'!$G$6), $AT112, 0)","v":0}," "," "," "]
[null,null,null,null,null,null,null,null,null,null,null,null,null,null,null,null,null,null,null,null,null,null,"Jan-00",1900,{"$f":"IF(AND($A113<'P&L'!$P$8, YEAR($A113)=Master!$C$6), $K113, 0)","v":0},0,{"$f":"IF(AND(NOT(ISBLANK($O113)), $O113<'P&L'!$P$8), Z113, 0)","v":0},{"$f":"IF(OR(ISBLANK($O113), $O113>'BankRec Main Acct'!$E$8), Z113, 0)","v":0},0,{"$f":"IF(AND(NOT(ISBLANK($O113)), $O113<'P&L'!$P$8), AC113, 0)","v":0},{"$f":"IF(OR(ISBLANK($O113), $O113>'BankRec Main Acct'!$E$8), AC113, 0)","v":0},0,{"$f":"IF(AND(NOT(ISBLANK($S113)), $S113<'P&L'!$P$8), AF113, 0)","v":0},{"$f":"IF(OR(ISBLANK($S113), $S113>'BankRec Main Acct'!$E$8), AF113, 0)","v":0},0,{"$f":"IF(AND(NOT(ISBLANK($S113)), $S113<'P&L'!$P$8), AI113, 0)","v":0},{"$f":"IF(OR(ISBLANK($S113), $S113>'BankRec Main Acct'!$E$8), AI113, 0)","v":0},0,{"$f":"IF(AND(NOT(ISBLANK($U113)), $U113<'P&L'!$P$8), $AL113, 0)","v":0},{"$f":"IF(OR(ISBLANK($U113), $U113>'DebitCard Rec '!$E$8), $AL113, 0)","v":0},0,{"$f":"IF(AND(NOT(ISBLANK($U113)), $U113<'P&L'!$P$8), $AO113, 0)","v":0},{"$f":"IF(OR(ISBLANK($U113), $U113>'DebitCard Rec '!$E$8), $AO113, 0)","v":0},0,{"$f":"IF(AND($A113<'P&L'!$P$8, $X113='P&L'!$G$6), $AR113, 0)","v":0},0,{"$f":"IF(AND($A113<'P&L'!$P$8, $X113='P&L'!$G$6), $AT113, 0)","v":0}," "," "," "]
[null,null,null,null,null,null,null,null,null,null,null,null,null,null,null,null,null,null,null,null,null,null,"Jan-00",1900,{"$f":"IF(AND($A114<'P&L'!$P$8, YEAR($A114)=Master!$C$6), $K114, 0)","v":0},0,{"$f":"IF(AND(NOT(ISBLANK($O114)), $O114<'P&L'!$P$8), Z114, 0)","v":0},{"$f":"IF(OR(ISBLANK($O114), $O114>'BankRec Main Acct'!$E$8), Z114, 0)","v":0},0,{"$f":"IF(AND(NOT(ISBLANK($O114)), $O114<'P&L'!$P$8), AC114, 0)","v":0},{"$f":"IF(OR(ISBLANK($O114), $O114>'BankRec Main Acct'!$E$8), AC114, 0)","v":0},0,{"$f":"IF(AND(NOT(ISBLANK($S114)), $S114<'P&L'!$P$8), AF114, 0)","v":0},{"$f":"IF(OR(ISBLANK($S114), $S114>'BankRec Main Acct'!$E$8), AF114, 0)","v":0},0,{"$f":"IF(AND(NOT(ISBLANK($S114)), $S114<'P&L'!$P$8), AI114, 0)","v":0},{"$f":"IF(OR(ISBLANK($S114), $S114>'BankRec Main Acct'!$E$8), AI114, 0)","v":0},0,{"$f":"IF(AND(NOT(ISBLANK($U114)), $U114<'P&L'!$P$8), $AL114, 0)","v":0},{"$f":"IF(OR(ISBLANK($U114), $U114>'DebitCard Rec '!$E$8), $AL114, 0)","v":0},0,{"$f":"IF(AND(NOT(ISBLANK($U114)), $U114<'P&L'!$P$8), $AO114, 0)","v":0},{"$f":"IF(OR(ISBLANK($U114), $U114>'DebitCard Rec '!$E$8), $AO114, 0)","v":0},0,{"$f":"IF(AND($A114<'P&L'!$P$8, $X114='P&L'!$G$6), $AR114, 0)","v":0},0,{"$f":"IF(AND($A114<'P&L'!$P$8, $X114='P&L'!$G$6), $AT114, 0)","v":0}," "," "," "]
[null,null,null,null,null,null,null,null,null,null,null,null,null,null,null,null,null,null,null,null,null,null,"Jan-00",1900,{"$f":"IF(AND($A115<'P&L'!$P$8, YEAR($A115)=Master!$C$6), $K115, 0)","v":0},0,{"$f":"IF(AND(NOT(ISBLANK($O115)), $O115<'P&L'!$P$8), Z115, 0)","v":0},{"$f":"IF(OR(ISBLANK($O115), $O115>'BankRec Main Acct'!$E$8), Z115, 0)","v":0},0,{"$f":"IF(AND(NOT(ISBLANK($O115)), $O115<'P&L'!$P$8), AC115, 0)","v":0},{"$f":"IF(OR(ISBLANK($O115), $O115>'BankRec Main Acct'!$E$8), AC115, 0)","v":0},0,{"$f":"IF(AND(NOT(ISBLANK($S115)), $S115<'P&L'!$P$8), AF115, 0)","v":0},{"$f":"IF(OR(ISBLANK($S115), $S115>'BankRec Main Acct'!$E$8), AF115, 0)","v":0},0,{"$f":"IF(AND(NOT(ISBLANK($S115)), $S115<'P&L'!$P$8), AI115, 0)","v":0},{"$f":"IF(OR(ISBLANK($S115), $S115>'BankRec Main Acct'!$E$8), AI115, 0)","v":0},0,{"$f":"IF(AND(NOT(ISBLANK($U115)), $U115<'P&L'!$P$8), $AL115, 0)","v":0},{"$f":"IF(OR(ISBLANK($U115), $U115>'DebitCard Rec '!$E$8), $AL115, 0)","v":0},0,{"$f":"IF(AND(NOT(ISBLANK($U115)), $U115<'P&L'!$P$8), $AO115, 0)","v":0},{"$f":"IF(OR(ISBLANK($U115), $U115>'DebitCard Rec '!$E$8), $AO115, 0)","v":0},0,{"$f":"IF(AND($A115<'P&L'!$P$8, $X115='P&L'!$G$6), $AR115, 0)","v":0},0,{"$f":"IF(AND($A115<'P&L'!$P$8, $X115='P&L'!$G$6), $AT115, 0)","v":0}," "," "," "]
[null,null,null,null,null,null,null,null,null,null,null,null,null,null,null,null,null,null,null,null,null,null,"Jan-00",1900,{"$f":"IF(AND($A116<'P&L'!$P$8, YEAR($A116)=Master!$C$6), $K116, 0)","v":0},0,{"$f":"IF(AND(NOT(ISBLANK($O116)), $O116<'P&L'!$P$8), Z116, 0)","v":0},{"$f":"IF(OR(ISBLANK($O116), $O116>'BankRec Main Acct'!$E$8), Z116, 0)","v":0},0,{"$f":"IF(AND(NOT(ISBLANK($O116)), $O116<'P&L'!$P$8), AC116, 0)","v":0},{"$f":"IF(OR(ISBLANK($O116), $O116>'BankRec Main Acct'!$E$8), AC116, 0)","v":0},0,{"$f":"IF(AND(NOT(ISBLANK($S116)), $S116<'P&L'!$P$8), AF116, 0)","v":0},{"$f":"IF(OR(ISBLANK($S116), $S116>'BankRec Main Acct'!$E$8), AF116, 0)","v":0},0,{"$f":"IF(AND(NOT(ISBLANK($S116)), $S116<'P&L'!$P$8), AI116, 0)","v":0},{"$f":"IF(OR(ISBLANK($S116), $S116>'BankRec Main Acct'!$E$8), AI116, 0)","v":0},0,{"$f":"IF(AND(NOT(ISBLANK($U116)), $U116<'P&L'!$P$8), $AL116, 0)","v":0},{"$f":"IF(OR(ISBLANK($U116), $U116>'DebitCard Rec '!$E$8), $AL116, 0)","v":0},0,{"$f":"IF(AND(NOT(ISBLANK($U116)), $U116<'P&L'!$P$8), $AO116, 0)","v":0},{"$f":"IF(OR(ISBLANK($U116), $U116>'DebitCard Rec '!$E$8), $AO116, 0)","v":0},0,{"$f":"IF(AND($A116<'P&L'!$P$8, $X116='P&L'!$G$6), $AR116, 0)","v":0},0,{"$f":"IF(AND($A116<'P&L'!$P$8, $X116='P&L'!$G$6), $AT116, 0)","v":0}," "," "," "]
[null,null,null,null,null,null,null,null,null,null,null,null,null,null,null,null,null,null,null,null,null,null,"Jan-00",1900,{"$f":"IF(AND($A117<'P&L'!$P$8, YEAR($A117)=Master!$C$6), $K117, 0)","v":0},0,{"$f":"IF(AND(NOT(ISBLANK($O117)), $O117<'P&L'!$P$8), Z117, 0)","v":0},{"$f":"IF(OR(ISBLANK($O117), $O117>'BankRec Main Acct'!$E$8), Z117, 0)","v":0},0,{"$f":"IF(AND(NOT(ISBLANK($O117)), $O117<'P&L'!$P$8), AC117, 0)","v":0},{"$f":"IF(OR(ISBLANK($O117), $O117>'BankRec Main Acct'!$E$8), AC117, 0)","v":0},0,{"$f":"IF(AND(NOT(ISBLANK($S117)), $S117<'P&L'!$P$8), AF117, 0)","v":0},{"$f":"IF(OR(ISBLANK($S117), $S117>'BankRec Main Acct'!$E$8), AF117, 0)","v":0},0,{"$f":"IF(AND(NOT(ISBLANK($S117)), $S117<'P&L'!$P$8), AI117, 0)","v":0},{"$f":"IF(OR(ISBLANK($S117), $S117>'BankRec Main Acct'!$E$8), AI117, 0)","v":0},0,{"$f":"IF(AND(NOT(ISBLANK($U117)), $U117<'P&L'!$P$8), $AL117, 0)","v":0},{"$f":"IF(OR(ISBLANK($U117), $U117>'DebitCard Rec '!$E$8), $AL117, 0)","v":0},0,{"$f":"IF(AND(NOT(ISBLANK($U117)), $U117<'P&L'!$P$8), $AO117, 0)","v":0},{"$f":"IF(OR(ISBLANK($U117), $U117>'DebitCard Rec '!$E$8), $AO117, 0)","v":0},0,{"$f":"IF(AND($A117<'P&L'!$P$8, $X117='P&L'!$G$6), $AR117, 0)","v":0},0,{"$f":"IF(AND($A117<'P&L'!$P$8, $X117='P&L'!$G$6), $AT117, 0)","v":0}," "," "," "]
[null,null,null,null,null,null,null,null,null,null,null,null,null,null,null,null,null,null,null,null,null,null,"Jan-00",1900,{"$f":"IF(AND($A118<'P&L'!$P$8, YEAR($A118)=Master!$C$6), $K118, 0)","v":0},0,{"$f":"IF(AND(NOT(ISBLANK($O118)), $O118<'P&L'!$P$8), Z118, 0)","v":0},{"$f":"IF(OR(ISBLANK($O118), $O118>'BankRec Main Acct'!$E$8), Z118, 0)","v":0},0,{"$f":"IF(AND(NOT(ISBLANK($O118)), $O118<'P&L'!$P$8), AC118, 0)","v":0},{"$f":"IF(OR(ISBLANK($O118), $O118>'BankRec Main Acct'!$E$8), AC118, 0)","v":0},0,{"$f":"IF(AND(NOT(ISBLANK($S118)), $S118<'P&L'!$P$8), AF118, 0)","v":0},{"$f":"IF(OR(ISBLANK($S118), $S118>'BankRec Main Acct'!$E$8), AF118, 0)","v":0},0,{"$f":"IF(AND(NOT(ISBLANK($S118)), $S118<'P&L'!$P$8), AI118, 0)","v":0},{"$f":"IF(OR(ISBLANK($S118), $S118>'BankRec Main Acct'!$E$8), AI118, 0)","v":0},0,{"$f":"IF(AND(NOT(ISBLANK($U118)), $U118<'P&L'!$P$8), $AL118, 0)","v":0},{"$f":"IF(OR(ISBLANK($U118), $U118>'DebitCard Rec '!$E$8), $AL118, 0)","v":0},0,{"$f":"IF(AND(NOT(ISBLANK($U118)), $U118<'P&L'!$P$8), $AO118, 0)","v":0},{"$f":"IF(OR(ISBLANK($U118), $U118>'DebitCard Rec '!$E$8), $AO118, 0)","v":0},0,{"$f":"IF(AND($A118<'P&L'!$P$8, $X118='P&L'!$G$6), $AR118, 0)","v":0},0,{"$f":"IF(AND($A118<'P&L'!$P$8, $X118='P&L'!$G$6), $AT118, 0)","v":0}," "," "," "]
[null,null,null,null,null,null,null,null,null,null,null,null,null,null,null,null,null,null,null,null,null,null,"Jan-00",1900,{"$f":"IF(AND($A119<'P&L'!$P$8, YEAR($A119)=Master!$C$6), $K119, 0)","v":0},0,{"$f":"IF(AND(NOT(ISBLANK($O119)), $O119<'P&L'!$P$8), Z119, 0)","v":0},{"$f":"IF(OR(ISBLANK($O119), $O119>'BankRec Main Acct'!$E$8), Z119, 0)","v":0},0,{"$f":"IF(AND(NOT(ISBLANK($O119)), $O119<'P&L'!$P$8), AC119, 0)","v":0},{"$f":"IF(OR(ISBLANK($O119), $O119>'BankRec Main Acct'!$E$8), AC119, 0)","v":0},0,{"$f":"IF(AND(NOT(ISBLANK($S119)), $S119<'P&L'!$P$8), AF119, 0)","v":0},{"$f":"IF(OR(ISBLANK($S119), $S119>'BankRec Main Acct'!$E$8), AF119, 0)","v":0},0,{"$f":"IF(AND(NOT(ISBLANK($S119)), $S119<'P&L'!$P$8), AI119, 0)","v":0},{"$f":"IF(OR(ISBLANK($S119), $S119>'BankRec Main Acct'!$E$8), AI119, 0)","v":0},0,{"$f":"IF(AND(NOT(ISBLANK($U119)), $U119<'P&L'!$P$8), $AL119, 0)","v":0},{"$f":"IF(OR(ISBLANK($U119), $U119>'DebitCard Rec '!$E$8), $AL119, 0)","v":0},0,{"$f":"IF(AND(NOT(ISBLANK($U119)), $U119<'P&L'!$P$8), $AO119, 0)","v":0},{"$f":"IF(OR(ISBLANK($U119), $U119>'DebitCard Rec '!$E$8), $AO119, 0)","v":0},0,{"$f":"IF(AND($A119<'P&L'!$P$8, $X119='P&L'!$G$6), $AR119, 0)","v":0},0,{"$f":"IF(AND($A119<'P&L'!$P$8, $X119='P&L'!$G$6), $AT119, 0)","v":0}," "," "," "]
[null,null,null,null,null,null,null,null,null,null,null,null,null,null,null,null,null,null,null,null,null,null,"Jan-00",1900,{"$f":"IF(AND($A120<'P&L'!$P$8, YEAR($A120)=Master!$C$6), $K120, 0)","v":0},0,{"$f":"IF(AND(NOT(ISBLANK($O120)), $O120<'P&L'!$P$8), Z120, 0)","v":0},{"$f":"IF(OR(ISBLANK($O120), $O120>'BankRec Main Acct'!$E$8), Z120, 0)","v":0},0,{"$f":"IF(AND(NOT(ISBLANK($O120)), $O120<'P&L'!$P$8), AC120, 0)","v":0},{"$f":"IF(OR(ISBLANK($O120), $O120>'BankRec Main Acct'!$E$8), AC120, 0)","v":0},0,{"$f":"IF(AND(NOT(ISBLANK($S120)), $S120<'P&L'!$P$8), AF120, 0)","v":0},{"$f":"IF(OR(ISBLANK($S120), $S120>'BankRec Main Acct'!$E$8), AF120, 0)","v":0},0,{"$f":"IF(AND(NOT(ISBLANK($S120)), $S120<'P&L'!$P$8), AI120, 0)","v":0},{"$f":"IF(OR(ISBLANK($S120), $S120>'BankRec Main Acct'!$E$8), AI120, 0)","v":0},0,{"$f":"IF(AND(NOT(ISBLANK($U120)), $U120<'P&L'!$P$8), $AL120, 0)","v":0},{"$f":"IF(OR(ISBLANK($U120), $U120>'DebitCard Rec '!$E$8), $AL120, 0)","v":0},0,{"$f":"IF(AND(NOT(ISBLANK($U120)), $U120<'P&L'!$P$8), $AO120, 0)","v":0},{"$f":"IF(OR(ISBLANK($U120), $U120>'DebitCard Rec '!$E$8), $AO120, 0)","v":0},0,{"$f":"IF(AND($A120<'P&L'!$P$8, $X120='P&L'!$G$6), $AR120, 0)","v":0},0,{"$f":"IF(AND($A120<'P&L'!$P$8, $X120='P&L'!$G$6), $AT120, 0)","v":0}," "," "," "]
[null,null,null,null,null,null,null,null,null,null,null,null,null,null,null,null,null,null,null,null,null,null,"Jan-00",1900,{"$f":"IF(AND($A121<'P&L'!$P$8, YEAR($A121)=Master!$C$6), $K121, 0)","v":0},0,{"$f":"IF(AND(NOT(ISBLANK($O121)), $O121<'P&L'!$P$8), Z121, 0)","v":0},{"$f":"IF(OR(ISBLANK($O121), $O121>'BankRec Main Acct'!$E$8), Z121, 0)","v":0},0,{"$f":"IF(AND(NOT(ISBLANK($O121)), $O121<'P&L'!$P$8), AC121, 0)","v":0},{"$f":"IF(OR(ISBLANK($O121), $O121>'BankRec Main Acct'!$E$8), AC121, 0)","v":0},0,{"$f":"IF(AND(NOT(ISBLANK($S121)), $S121<'P&L'!$P$8), AF121, 0)","v":0},{"$f":"IF(OR(ISBLANK($S121), $S121>'BankRec Main Acct'!$E$8), AF121, 0)","v":0},0,{"$f":"IF(AND(NOT(ISBLANK($S121)), $S121<'P&L'!$P$8), AI121, 0)","v":0},{"$f":"IF(OR(ISBLANK($S121), $S121>'BankRec Main Acct'!$E$8), AI121, 0)","v":0},0,{"$f":"IF(AND(NOT(ISBLANK($U121)), $U121<'P&L'!$P$8), $AL121, 0)","v":0},{"$f":"IF(OR(ISBLANK($U121), $U121>'DebitCard Rec '!$E$8), $AL121, 0)","v":0},0,{"$f":"IF(AND(NOT(ISBLANK($U121)), $U121<'P&L'!$P$8), $AO121, 0)","v":0},{"$f":"IF(OR(ISBLANK($U121), $U121>'DebitCard Rec '!$E$8), $AO121, 0)","v":0},0,{"$f":"IF(AND($A121<'P&L'!$P$8, $X121='P&L'!$G$6), $AR121, 0)","v":0},0,{"$f":"IF(AND($A121<'P&L'!$P$8, $X121='P&L'!$G$6), $AT121, 0)","v":0}," "," "," "]
[null,null,null,null,null,null,null,null,null,null,null,null,null,null,null,null,null,null,null,null,null,null,"Jan-00",1900,{"$f":"IF(AND($A122<'P&L'!$P$8, YEAR($A122)=Master!$C$6), $K122, 0)","v":0},0,{"$f":"IF(AND(NOT(ISBLANK($O122)), $O122<'P&L'!$P$8), Z122, 0)","v":0},{"$f":"IF(OR(ISBLANK($O122), $O122>'BankRec Main Acct'!$E$8), Z122, 0)","v":0},0,{"$f":"IF(AND(NOT(ISBLANK($O122)), $O122<'P&L'!$P$8), AC122, 0)","v":0},{"$f":"IF(OR(ISBLANK($O122), $O122>'BankRec Main Acct'!$E$8), AC122, 0)","v":0},0,{"$f":"IF(AND(NOT(ISBLANK($S122)), $S122<'P&L'!$P$8), AF122, 0)","v":0},{"$f":"IF(OR(ISBLANK($S122), $S122>'BankRec Main Acct'!$E$8), AF122, 0)","v":0},0,{"$f":"IF(AND(NOT(ISBLANK($S122)), $S122<'P&L'!$P$8), AI122, 0)","v":0},{"$f":"IF(OR(ISBLANK($S122), $S122>'BankRec Main Acct'!$E$8), AI122, 0)","v":0},0,{"$f":"IF(AND(NOT(ISBLANK($U122)), $U122<'P&L'!$P$8), $AL122, 0)","v":0},{"$f":"IF(OR(ISBLANK($U122), $U122>'DebitCard Rec '!$E$8), $AL122, 0)","v":0},0,{"$f":"IF(AND(NOT(ISBLANK($U122)), $U122<'P&L'!$P$8), $AO122, 0)","v":0},{"$f":"IF(OR(ISBLANK($U122), $U122>'DebitCard Rec '!$E$8), $AO122, 0)","v":0},0,{"$f":"IF(AND($A122<'P&L'!$P$8, $X122='P&L'!$G$6), $AR122, 0)","v":0},0,{"$f":"IF(AND($A122<'P&L'!$P$8, $X122='P&L'!$G$6), $AT122, 0)","v":0}," "," "," "]
[null,null,null,null,null,null,null,null,null,null,null,null,null,null,null,null,null,null,null,null,null,null,"Jan-00",1900,{"$f":"IF(AND($A123<'P&L'!$P$8, YEAR($A123)=Master!$C$6), $K123, 0)","v":0},0,{"$f":"IF(AND(NOT(ISBLANK($O123)), $O123<'P&L'!$P$8), Z123, 0)","v":0},{"$f":"IF(OR(ISBLANK($O123), $O123>'BankRec Main Acct'!$E$8), Z123, 0)","v":0},0,{"$f":"IF(AND(NOT(ISBLANK($O123)), $O123<'P&L'!$P$8), AC123, 0)","v":0},{"$f":"IF(OR(ISBLANK($O123), $O123>'BankRec Main Acct'!$E$8), AC123, 0)","v":0},0,{"$f":"IF(AND(NOT(ISBLANK($S123)), $S123<'P&L'!$P$8), AF123, 0)","v":0},{"$f":"IF(OR(ISBLANK($S123), $S123>'BankRec Main Acct'!$E$8), AF123, 0)","v":0},0,{"$f":"IF(AND(NOT(ISBLANK($S123)), $S123<'P&L'!$P$8), AI123, 0)","v":0},{"$f":"IF(OR(ISBLANK($S123), $S123>'BankRec Main Acct'!$E$8), AI123, 0)","v":0},0,{"$f":"IF(AND(NOT(ISBLANK($U123)), $U123<'P&L'!$P$8), $AL123, 0)","v":0},{"$f":"IF(OR(ISBLANK($U123), $U123>'DebitCard Rec '!$E$8), $AL123, 0)","v":0},0,{"$f":"IF(AND(NOT(ISBLANK($U123)), $U123<'P&L'!$P$8), $AO123, 0)","v":0},{"$f":"IF(OR(ISBLANK($U123), $U123>'DebitCard Rec '!$E$8), $AO123, 0)","v":0},0,{"$f":"IF(AND($A123<'P&L'!$P$8, $X123='P&L'!$G$6), $AR123, 0)","v":0},0,{"$f":"IF(AND($A123<'P&L'!$P$8, $X123='P&L'!$G$6), $AT123, 0)","v":0}," "," "," "]
[null,null,null,null,null,null,null,null,null,null,null,null,null,null,null,null,null,null,null,null,null,null,"Jan-00",1900,{"$f":"IF(AND($A124<'P&L'!$P$8, YEAR($A124)=Master!$C$6), $K124, 0)","v":0},0,{"$f":"IF(AND(NOT(ISBLANK($O124)), $O124<'P&L'!$P$8), Z124, 0)","v":0},{"$f":"IF(OR(ISBLANK($O124), $O124>'BankRec Main Acct'!$E$8), Z124, 0)","v":0},0,{"$f":"IF(AND(NOT(ISBLANK($O124)), $O124<'P&L'!$P$8), AC124, 0)","v":0},{"$f":"IF(OR(ISBLANK($O124), $O124>'BankRec Main Acct'!$E$8), AC124, 0)","v":0},0,{"$f":"IF(AND(NOT(ISBLANK($S124)), $S124<'P&L'!$P$8), AF124, 0)","v":0},{"$f":"IF(OR(ISBLANK($S124), $S124>'BankRec Main Acct'!$E$8), AF124, 0)","v":0},0,{"$f":"IF(AND(NOT(ISBLANK($S124)), $S124<'P&L'!$P$8), AI124, 0)","v":0},{"$f":"IF(OR(ISBLANK($S124), $S124>'BankRec Main Acct'!$E$8), AI124, 0)","v":0},0,{"$f":"IF(AND(NOT(ISBLANK($U124)), $U124<'P&L'!$P$8), $AL124, 0)","v":0},{"$f":"IF(OR(ISBLANK($U124), $U124>'DebitCard Rec '!$E$8), $AL124, 0)","v":0},0,{"$f":"IF(AND(NOT(ISBLANK($U124)), $U124<'P&L'!$P$8), $AO124, 0)","v":0},{"$f":"IF(OR(ISBLANK($U124), $U124>'DebitCard Rec '!$E$8), $AO124, 0)","v":0},0,{"$f":"IF(AND($A124<'P&L'!$P$8, $X124='P&L'!$G$6), $AR124, 0)","v":0},0,{"$f":"IF(AND($A124<'P&L'!$P$8, $X124='P&L'!$G$6), $AT124, 0)","v":0}," "," "," "]
[null,null,null,null,null,null,null,null,null,null,null,null,null,null,null,null,null,null,null,null,null,null,"Jan-00",1900,{"$f":"IF(AND($A125<'P&L'!$P$8, YEAR($A125)=Master!$C$6), $K125, 0)","v":0},0,{"$f":"IF(AND(NOT(ISBLANK($O125)), $O125<'P&L'!$P$8), Z125, 0)","v":0},{"$f":"IF(OR(ISBLANK($O125), $O125>'BankRec Main Acct'!$E$8), Z125, 0)","v":0},0,{"$f":"IF(AND(NOT(ISBLANK($O125)), $O125<'P&L'!$P$8), AC125, 0)","v":0},{"$f":"IF(OR(ISBLANK($O125), $O125>'BankRec Main Acct'!$E$8), AC125, 0)","v":0},0,{"$f":"IF(AND(NOT(ISBLANK($S125)), $S125<'P&L'!$P$8), AF125, 0)","v":0},{"$f":"IF(OR(ISBLANK($S125), $S125>'BankRec Main Acct'!$E$8), AF125, 0)","v":0},0,{"$f":"IF(AND(NOT(ISBLANK($S125)), $S125<'P&L'!$P$8), AI125, 0)","v":0},{"$f":"IF(OR(ISBLANK($S125), $S125>'BankRec Main Acct'!$E$8), AI125, 0)","v":0},0,{"$f":"IF(AND(NOT(ISBLANK($U125)), $U125<'P&L'!$P$8), $AL125, 0)","v":0},{"$f":"IF(OR(ISBLANK($U125), $U125>'DebitCard Rec '!$E$8), $AL125, 0)","v":0},0,{"$f":"IF(AND(NOT(ISBLANK($U125)), $U125<'P&L'!$P$8), $AO125, 0)","v":0},{"$f":"IF(OR(ISBLANK($U125), $U125>'DebitCard Rec '!$E$8), $AO125, 0)","v":0},0,{"$f":"IF(AND($A125<'P&L'!$P$8, $X125='P&L'!$G$6), $AR125, 0)","v":0},0,{"$f":"IF(AND($A125<'P&L'!$P$8, $X125='P&L'!$G$6), $AT125, 0)","v":0}," "," "," "]
[null,null,null,null,null,null,null,null,null,null,null,null,null,null,null,null,null,null,null,null,null,null,"Jan-00",1900,{"$f":"IF(AND($A126<'P&L'!$P$8, YEAR($A126)=Master!$C$6), $K126, 0)","v":0},0,{"$f":"IF(AND(NOT(ISBLANK($O126)), $O126<'P&L'!$P$8), Z126, 0)","v":0},{"$f":"IF(OR(ISBLANK($O126), $O126>'BankRec Main Acct'!$E$8), Z126, 0)","v":0},0,{"$f":"IF(AND(NOT(ISBLANK($O126)), $O126<'P&L'!$P$8), AC126, 0)","v":0},{"$f":"IF(OR(ISBLANK($O126), $O126>'BankRec Main Acct'!$E$8), AC126, 0)","v":0},0,{"$f":"IF(AND(NOT(ISBLANK($S126)), $S126<'P&L'!$P$8), AF126, 0)","v":0},{"$f":"IF(OR(ISBLANK($S126), $S126>'BankRec Main Acct'!$E$8), AF126, 0)","v":0},0,{"$f":"IF(AND(NOT(ISBLANK($S126)), $S126<'P&L'!$P$8), AI126, 0)","v":0},{"$f":"IF(OR(ISBLANK($S126), $S126>'BankRec Main Acct'!$E$8), AI126, 0)","v":0},0,{"$f":"IF(AND(NOT(ISBLANK($U126)), $U126<'P&L'!$P$8), $AL126, 0)","v":0},{"$f":"IF(OR(ISBLANK($U126), $U126>'DebitCard Rec '!$E$8), $AL126, 0)","v":0},0,{"$f":"IF(AND(NOT(ISBLANK($U126)), $U126<'P&L'!$P$8), $AO126, 0)","v":0},{"$f":"IF(OR(ISBLANK($U126), $U126>'DebitCard Rec '!$E$8), $AO126, 0)","v":0},0,{"$f":"IF(AND($A126<'P&L'!$P$8, $X126='P&L'!$G$6), $AR126, 0)","v":0},0,{"$f":"IF(AND($A126<'P&L'!$P$8, $X126='P&L'!$G$6), $AT126, 0)","v":0}," "," "," "]
[null,null,null,null,null,null,null,null,null,null,null,null,null,null,null,null,null,null,null,null,null,null,"Jan-00",1900,{"$f":"IF(AND($A127<'P&L'!$P$8, YEAR($A127)=Master!$C$6), $K127, 0)","v":0},0,{"$f":"IF(AND(NOT(ISBLANK($O127)), $O127<'P&L'!$P$8), Z127, 0)","v":0},{"$f":"IF(OR(ISBLANK($O127), $O127>'BankRec Main Acct'!$E$8), Z127, 0)","v":0},0,{"$f":"IF(AND(NOT(ISBLANK($O127)), $O127<'P&L'!$P$8), AC127, 0)","v":0},{"$f":"IF(OR(ISBLANK($O127), $O127>'BankRec Main Acct'!$E$8), AC127, 0)","v":0},0,{"$f":"IF(AND(NOT(ISBLANK($S127)), $S127<'P&L'!$P$8), AF127, 0)","v":0},{"$f":"IF(OR(ISBLANK($S127), $S127>'BankRec Main Acct'!$E$8), AF127, 0)","v":0},0,{"$f":"IF(AND(NOT(ISBLANK($S127)), $S127<'P&L'!$P$8), AI127, 0)","v":0},{"$f":"IF(OR(ISBLANK($S127), $S127>'BankRec Main Acct'!$E$8), AI127, 0)","v":0},0,{"$f":"IF(AND(NOT(ISBLANK($U127)), $U127<'P&L'!$P$8), $AL127, 0)","v":0},{"$f":"IF(OR(ISBLANK($U127), $U127>'DebitCard Rec '!$E$8), $AL127, 0)","v":0},0,{"$f":"IF(AND(NOT(ISBLANK($U127)), $U127<'P&L'!$P$8), $AO127, 0)","v":0},{"$f":"IF(OR(ISBLANK($U127), $U127>'DebitCard Rec '!$E$8), $AO127, 0)","v":0},0,{"$f":"IF(AND($A127<'P&L'!$P$8, $X127='P&L'!$G$6), $AR127, 0)","v":0},0,{"$f":"IF(AND($A127<'P&L'!$P$8, $X127='P&L'!$G$6), $AT127, 0)","v":0}," "," "," "]
[null,null,null,null,null,null,null,null,null,null,null,null,null,null,null,null,null,null,null,null,null,null,"Jan-00",1900,{"$f":"IF(AND($A128<'P&L'!$P$8, YEAR($A128)=Master!$C$6), $K128, 0)","v":0},0,{"$f":"IF(AND(NOT(ISBLANK($O128)), $O128<'P&L'!$P$8), Z128, 0)","v":0},{"$f":"IF(OR(ISBLANK($O128), $O128>'BankRec Main Acct'!$E$8), Z128, 0)","v":0},0,{"$f":"IF(AND(NOT(ISBLANK($O128)), $O128<'P&L'!$P$8), AC128, 0)","v":0},{"$f":"IF(OR(ISBLANK($O128), $O128>'BankRec Main Acct'!$E$8), AC128, 0)","v":0},0,{"$f":"IF(AND(NOT(ISBLANK($S128)), $S128<'P&L'!$P$8), AF128, 0)","v":0},{"$f":"IF(OR(ISBLANK($S128), $S128>'BankRec Main Acct'!$E$8), AF128, 0)","v":0},0,{"$f":"IF(AND(NOT(ISBLANK($S128)), $S128<'P&L'!$P$8), AI128, 0)","v":0},{"$f":"IF(OR(ISBLANK($S128), $S128>'BankRec Main Acct'!$E$8), AI128, 0)","v":0},0,{"$f":"IF(AND(NOT(ISBLANK($U128)), $U128<'P&L'!$P$8), $AL128, 0)","v":0},{"$f":"IF(OR(ISBLANK($U128), $U128>'DebitCard Rec '!$E$8), $AL128, 0)","v":0},0,{"$f":"IF(AND(NOT(ISBLANK($U128)), $U128<'P&L'!$P$8), $AO128, 0)","v":0},{"$f":"IF(OR(ISBLANK($U128), $U128>'DebitCard Rec '!$E$8), $AO128, 0)","v":0},0,{"$f":"IF(AND($A128<'P&L'!$P$8, $X128='P&L'!$G$6), $AR128, 0)","v":0},0,{"$f":"IF(AND($A128<'P&L'!$P$8, $X128='P&L'!$G$6), $AT128, 0)","v":0}," "," "," "]
[null,null,null,null,null,null,null,null,null,null,null,null,null,null,null,null,null,null,null,null,null,null,"Jan-00",1900,{"$f":"IF(AND($A129<'P&L'!$P$8, YEAR($A129)=Master!$C$6), $K129, 0)","v":0},0,{"$f":"IF(AND(NOT(ISBLANK($O129)), $O129<'P&L'!$P$8), Z129, 0)","v":0},{"$f":"IF(OR(ISBLANK($O129), $O129>'BankRec Main Acct'!$E$8), Z129, 0)","v":0},0,{"$f":"IF(AND(NOT(ISBLANK($O129)), $O129<'P&L'!$P$8), AC129, 0)","v":0},{"$f":"IF(OR(ISBLANK($O129), $O129>'BankRec Main Acct'!$E$8), AC129, 0)","v":0},0,{"$f":"IF(AND(NOT(ISBLANK($S129)), $S129<'P&L'!$P$8), AF129, 0)","v":0},{"$f":"IF(OR(ISBLANK($S129), $S129>'BankRec Main Acct'!$E$8), AF129, 0)","v":0},0,{"$f":"IF(AND(NOT(ISBLANK($S129)), $S129<'P&L'!$P$8), AI129, 0)","v":0},{"$f":"IF(OR(ISBLANK($S129), $S129>'BankRec Main Acct'!$E$8), AI129, 0)","v":0},0,{"$f":"IF(AND(NOT(ISBLANK($U129)), $U129<'P&L'!$P$8), $AL129, 0)","v":0},{"$f":"IF(OR(ISBLANK($U129), $U129>'DebitCard Rec '!$E$8), $AL129, 0)","v":0},0,{"$f":"IF(AND(NOT(ISBLANK($U129)), $U129<'P&L'!$P$8), $AO129, 0)","v":0},{"$f":"IF(OR(ISBLANK($U129), $U129>'DebitCard Rec '!$E$8), $AO129, 0)","v":0},0,{"$f":"IF(AND($A129<'P&L'!$P$8, $X129='P&L'!$G$6), $AR129, 0)","v":0},0,{"$f":"IF(AND($A129<'P&L'!$P$8, $X129='P&L'!$G$6), $AT129, 0)","v":0}," "," "," "]
[null,null,null,null,null,null,null,null,null,null,null,null,null,null,null,null,null,null,null,null,null,null,"Jan-00",1900,{"$f":"IF(AND($A130<'P&L'!$P$8, YEAR($A130)=Master!$C$6), $K130, 0)","v":0},0,{"$f":"IF(AND(NOT(ISBLANK($O130)), $O130<'P&L'!$P$8), Z130, 0)","v":0},{"$f":"IF(OR(ISBLANK($O130), $O130>'BankRec Main Acct'!$E$8), Z130, 0)","v":0},0,{"$f":"IF(AND(NOT(ISBLANK($O130)), $O130<'P&L'!$P$8), AC130, 0)","v":0},{"$f":"IF(OR(ISBLANK($O130), $O130>'BankRec Main Acct'!$E$8), AC130, 0)","v":0},0,{"$f":"IF(AND(NOT(ISBLANK($S130)), $S130<'P&L'!$P$8), AF130, 0)","v":0},{"$f":"IF(OR(ISBLANK($S130), $S130>'BankRec Main Acct'!$E$8), AF130, 0)","v":0},0,{"$f":"IF(AND(NOT(ISBLANK($S130)), $S130<'P&L'!$P$8), AI130, 0)","v":0},{"$f":"IF(OR(ISBLANK($S130), $S130>'BankRec Main Acct'!$E$8), AI130, 0)","v":0},0,{"$f":"IF(AND(NOT(ISBLANK($U130)), $U130<'P&L'!$P$8), $AL130, 0)","v":0},{"$f":"IF(OR(ISBLANK($U130), $U130>'DebitCard Rec '!$E$8), $AL130, 0)","v":0},0,{"$f":"IF(AND(NOT(ISBLANK($U130)), $U130<'P&L'!$P$8), $AO130, 0)","v":0},{"$f":"IF(OR(ISBLANK($U130), $U130>'DebitCard Rec '!$E$8), $AO130, 0)","v":0},0,{"$f":"IF(AND($A130<'P&L'!$P$8, $X130='P&L'!$G$6), $AR130, 0)","v":0},0,{"$f":"IF(AND($A130<'P&L'!$P$8, $X130='P&L'!$G$6), $AT130, 0)","v":0}," "," "," "]
[null,null,null,null,null,null,null,null,null,null,null,null,null,null,null,null,null,null,null,null,null,null,"Jan-00",1900,{"$f":"IF(AND($A131<'P&L'!$P$8, YEAR($A131)=Master!$C$6), $K131, 0)","v":0},0,{"$f":"IF(AND(NOT(ISBLANK($O131)), $O131<'P&L'!$P$8), Z131, 0)","v":0},{"$f":"IF(OR(ISBLANK($O131), $O131>'BankRec Main Acct'!$E$8), Z131, 0)","v":0},0,{"$f":"IF(AND(NOT(ISBLANK($O131)), $O131<'P&L'!$P$8), AC131, 0)","v":0},{"$f":"IF(OR(ISBLANK($O131), $O131>'BankRec Main Acct'!$E$8), AC131, 0)","v":0},0,{"$f":"IF(AND(NOT(ISBLANK($S131)), $S131<'P&L'!$P$8), AF131, 0)","v":0},{"$f":"IF(OR(ISBLANK($S131), $S131>'BankRec Main Acct'!$E$8), AF131, 0)","v":0},0,{"$f":"IF(AND(NOT(ISBLANK($S131)), $S131<'P&L'!$P$8), AI131, 0)","v":0},{"$f":"IF(OR(ISBLANK($S131), $S131>'BankRec Main Acct'!$E$8), AI131, 0)","v":0},0,{"$f":"IF(AND(NOT(ISBLANK($U131)), $U131<'P&L'!$P$8), $AL131, 0)","v":0},{"$f":"IF(OR(ISBLANK($U131), $U131>'DebitCard Rec '!$E$8), $AL131, 0)","v":0},0,{"$f":"IF(AND(NOT(ISBLANK($U131)), $U131<'P&L'!$P$8), $AO131, 0)","v":0},{"$f":"IF(OR(ISBLANK($U131), $U131>'DebitCard Rec '!$E$8), $AO131, 0)","v":0},0,{"$f":"IF(AND($A131<'P&L'!$P$8, $X131='P&L'!$G$6), $AR131, 0)","v":0},0,{"$f":"IF(AND($A131<'P&L'!$P$8, $X131='P&L'!$G$6), $AT131, 0)","v":0}," "," "," "]
[null,null,null,null,null,null,null,null,null,null,null,null,null,null,null,null,null,null,null,null,null,null,"Jan-00",1900,{"$f":"IF(AND($A132<'P&L'!$P$8, YEAR($A132)=Master!$C$6), $K132, 0)","v":0},0,{"$f":"IF(AND(NOT(ISBLANK($O132)), $O132<'P&L'!$P$8), Z132, 0)","v":0},{"$f":"IF(OR(ISBLANK($O132), $O132>'BankRec Main Acct'!$E$8), Z132, 0)","v":0},0,{"$f":"IF(AND(NOT(ISBLANK($O132)), $O132<'P&L'!$P$8), AC132, 0)","v":0},{"$f":"IF(OR(ISBLANK($O132), $O132>'BankRec Main Acct'!$E$8), AC132, 0)","v":0},0,{"$f":"IF(AND(NOT(ISBLANK($S132)), $S132<'P&L'!$P$8), AF132, 0)","v":0},{"$f":"IF(OR(ISBLANK($S132), $S132>'BankRec Main Acct'!$E$8), AF132, 0)","v":0},0,{"$f":"IF(AND(NOT(ISBLANK($S132)), $S132<'P&L'!$P$8), AI132, 0)","v":0},{"$f":"IF(OR(ISBLANK($S132), $S132>'BankRec Main Acct'!$E$8), AI132, 0)","v":0},0,{"$f":"IF(AND(NOT(ISBLANK($U132)), $U132<'P&L'!$P$8), $AL132, 0)","v":0},{"$f":"IF(OR(ISBLANK($U132), $U132>'DebitCard Rec '!$E$8), $AL132, 0)","v":0},0,{"$f":"IF(AND(NOT(ISBLANK($U132)), $U132<'P&L'!$P$8), $AO132, 0)","v":0},{"$f":"IF(OR(ISBLANK($U132), $U132>'DebitCard Rec '!$E$8), $AO132, 0)","v":0},{"$f":"IF($AV132=\"Petty cash Receipt\", $K132, 0)","v":0},{"$f":"IF(AND($A132<'P&L'!$P$8, $X132='P&L'!$G$6), $AR132, 0)","v":0},{"$f":"IF($AV132=\"Petty cash Payment\", $K132, 0)","v":0},{"$f":"IF(AND($A132<'P&L'!$P$8, $X132='P&L'!$G$6), $AT132, 0)","v":0}," ",{"$f":"IF(C132=\"Receipt\",CONCATENATE(D132,\" \", F132), \" \")","v":" "},{"$f":"IF(C132= \"Payment\", CONCATENATE(F132,\" \",E132), \" \")","v":" "}]
[null,null,null,null,null,null,null,null,null,null,null,null,null,null,null,null,null,null,null,null,null,null,"Jan-00",1900,{"$f":"IF(AND($A133<'P&L'!$P$8, YEAR($A133)=Master!$C$6), $K133, 0)","v":0},{"$f":"IF(AND($C133=\"Receipt\",$B133<>\"debit card\",$B133<>\"petty cash\",$B133<>\"Cash_Sub\",$B133<>\"Cheque_Sub\", $B133<>\"EFT_Sub\"),$K133,0)","v":0},{"$f":"IF(AND(NOT(ISBLANK($O133)), $O133<'P&L'!$P$8), Z133, 0)","v":0},{"$f":"IF(OR(ISBLANK($O133), $O133>'BankRec Main Acct'!$E$8), Z133, 0)","v":0},{"$f":"IF(AND($C133=\"Payment\", $B133<>\"debit card\", $B133<>\"petty cash\", $B133<>\"Cash_Sub\", $B133<>\"Cheque_Sub\", $B133<>\"EFT_Sub\"), $K133, 0)","v":0},{"$f":"IF(AND(NOT(ISBLANK($O133)), $O133<'P&L'!$P$8), AC133, 0)","v":0},{"$f":"IF(OR(ISBLANK($O133), $O133>'BankRec Main Acct'!$E$8), AC133, 0)","v":0},{"$f":"IF(AND($C133=\"Receipt\",$B133<>\"debit card\",$B133<>\"petty cash\",$B133<>\"Cash_Main\",$B133<>\"Cheque_Main\", $B133<>\"EFT_Main\"),$K133,0)","v":0},{"$f":"IF(AND(NOT(ISBLANK($S133)), $S133<'P&L'!$P$8), AF133, 0)","v":0},{"$f":"IF(OR(ISBLANK($S133), $S133>'BankRec Main Acct'!$E$8), AF133, 0)","v":0},{"$f":"IF(AND($C133=\"Payment\", $B133<>\"debit card\", $B133<>\"petty cash\", $B133<>\"Cash_Main\", $B133<>\"Cheque_Main\", $B133<>\"EFT_Main\"), $K133, 0)","v":0},{"$f":"IF(AND(NOT(ISBLANK($S133)), $S133<'P&L'!$P$8), AI133, 0)","v":0},{"$f":"IF(OR(ISBLANK($S133), $S133>'BankRec Main Acct'!$E$8), AI133, 0)","v":0},0,{"$f":"IF(AND(NOT(ISBLANK($U133)), $U133<'P&L'!$P$8), $AL133, 0)","v":0},{"$f":"IF(OR(ISBLANK($U133), $U133>'DebitCard Rec '!$E$8), $AL133, 0)","v":0},0,{"$f":"IF(AND(NOT(ISBLANK($U133)), $U133<'P&L'!$P$8), $AO133, 0)","v":0},{"$f":"IF(OR(ISBLANK($U133), $U133>'DebitCard Rec '!$E$8), $AO133, 0)","v":0},0,{"$f":"IF(AND($A133<'P&L'!$P$8, $X133='P&L'!$G$6), $AR133, 0)","v":0},0,{"$f":"IF(AND($A133<'P&L'!$P$8, $X133='P&L'!$G$6), $AT133, 0)","v":0}," "," "," "]
[null,null,null,null,null,null,null,null,null,null,null,null,null,null,null,null,null,null,null,null,null,null,"Jan-00",1900,{"$f":"IF(AND($A134<'P&L'!$P$8, YEAR($A134)=Master!$C$6), $K134, 0)","v":0},0,{"$f":"IF(AND(NOT(ISBLANK($O134)), $O134<'P&L'!$P$8), Z134, 0)","v":0},{"$f":"IF(OR(ISBLANK($O134), $O134>'BankRec Main Acct'!$E$8), Z134, 0)","v":0},0,{"$f":"IF(AND(NOT(ISBLANK($O134)), $O134<'P&L'!$P$8), AC134, 0)","v":0},{"$f":"IF(OR(ISBLANK($O134), $O134>'BankRec Main Acct'!$E$8), AC134, 0)","v":0},0,{"$f":"IF(AND(NOT(ISBLANK($S134)), $S134<'P&L'!$P$8), AF134, 0)","v":0},{"$f":"IF(OR(ISBLANK($S134), $S134>'BankRec Main Acct'!$E$8), AF134, 0)","v":0},0,{"$f":"IF(AND(NOT(ISBLANK($S134)), $S134<'P&L'!$P$8), AI134, 0)","v":0},{"$f":"IF(OR(ISBLANK($S134), $S134>'BankRec Main Acct'!$E$8), AI134, 0)","v":0},0,{"$f":"IF(AND(NOT(ISBLANK($U134)), $U134<'P&L'!$P$8), $AL134, 0)","v":0},{"$f":"IF(OR(ISBLANK($U134), $U134>'DebitCard Rec '!$E$8), $AL134, 0)","v":0},0,{"$f":"IF(AND(NOT(ISBLANK($U134)), $U134<'P&L'!$P$8), $AO134, 0)","v":0},{"$f":"IF(OR(ISBLANK($U134), $U134>'DebitCard Rec '!$E$8), $AO134, 0)","v":0},0,{"$f":"IF(AND($A134<'P&L'!$P$8, $X134='P&L'!$G$6), $AR134, 0)","v":0},0,{"$f":"IF(AND($A134<'P&L'!$P$8, $X134='P&L'!$G$6), $AT134, 0)","v":0}," "," "," "]
[null,null,null,null,null,null,null,null,null,null,null,null,null,null,null,null,null,null,null,null,null,null,"Jan-00",1900,{"$f":"IF(AND($A135<'P&L'!$P$8, YEAR($A135)=Master!$C$6), $K135, 0)","v":0},0,{"$f":"IF(AND(NOT(ISBLANK($O135)), $O135<'P&L'!$P$8), Z135, 0)","v":0},{"$f":"IF(OR(ISBLANK($O135), $O135>'BankRec Main Acct'!$E$8), Z135, 0)","v":0},0,{"$f":"IF(AND(NOT(ISBLANK($O135)), $O135<'P&L'!$P$8), AC135, 0)","v":0},{"$f":"IF(OR(ISBLANK($O135), $O135>'BankRec Main Acct'!$E$8), AC135, 0)","v":0},0,{"$f":"IF(AND(NOT(ISBLANK($S135)), $S135<'P&L'!$P$8), AF135, 0)","v":0},{"$f":"IF(OR(ISBLANK($S135), $S135>'BankRec Main Acct'!$E$8), AF135, 0)","v":0},0,{"$f":"IF(AND(NOT(ISBLANK($S135)), $S135<'P&L'!$P$8), AI135, 0)","v":0},{"$f":"IF(OR(ISBLANK($S135), $S135>'BankRec Main Acct'!$E$8), AI135, 0)","v":0},0,{"$f":"IF(AND(NOT(ISBLANK($U135)), $U135<'P&L'!$P$8), $AL135, 0)","v":0},{"$f":"IF(OR(ISBLANK($U135), $U135>'DebitCard Rec '!$E$8), $AL135, 0)","v":0},0,{"$f":"IF(AND(NOT(ISBLANK($U135)), $U135<'P&L'!$P$8), $AO135, 0)","v":0},{"$f":"IF(OR(ISBLANK($U135), $U135>'DebitCard Rec '!$E$8), $AO135, 0)","v":0},0,{"$f":"IF(AND($A135<'P&L'!$P$8, $X135='P&L'!$G$6), $AR135, 0)","v":0},0,{"$f":"IF(AND($A135<'P&L'!$P$8, $X135='P&L'!$G$6), $AT135, 0)","v":0}," "," "," "]
[null,null,null,null,null,null,null,null,null,null,null,null,null,null,null,null,null,null,null,null,null,null,"Jan-00",1900,{"$f":"IF(AND($A136<'P&L'!$P$8, YEAR($A136)=Master!$C$6), $K136, 0)","v":0},0,{"$f":"IF(AND(NOT(ISBLANK($O136)), $O136<'P&L'!$P$8), Z136, 0)","v":0},{"$f":"IF(OR(ISBLANK($O136), $O136>'BankRec Main Acct'!$E$8), Z136, 0)","v":0},0,{"$f":"IF(AND(NOT(ISBLANK($O136)), $O136<'P&L'!$P$8), AC136, 0)","v":0},{"$f":"IF(OR(ISBLANK($O136), $O136>'BankRec Main Acct'!$E$8), AC136, 0)","v":0},0,{"$f":"IF(AND(NOT(ISBLANK($S136)), $S136<'P&L'!$P$8), AF136, 0)","v":0},{"$f":"IF(OR(ISBLANK($S136), $S136>'BankRec Main Acct'!$E$8), AF136, 0)","v":0},0,{"$f":"IF(AND(NOT(ISBLANK($S136)), $S136<'P&L'!$P$8), AI136, 0)","v":0},{"$f":"IF(OR(ISBLANK($S136), $S136>'BankRec Main Acct'!$E$8), AI136, 0)","v":0},0,{"$f":"IF(AND(NOT(ISBLANK($U136)), $U136<'P&L'!$P$8), $AL136, 0)","v":0},{"$f":"IF(OR(ISBLANK($U136), $U136>'DebitCard Rec '!$E$8), $AL136, 0)","v":0},0,{"$f":"IF(AND(NOT(ISBLANK($U136)), $U136<'P&L'!$P$8), $AO136, 0)","v":0},{"$f":"IF(OR(ISBLANK($U136), $U136>'DebitCard Rec '!$E$8), $AO136, 0)","v":0},0,{"$f":"IF(AND($A136<'P&L'!$P$8, $X136='P&L'!$G$6), $AR136, 0)","v":0},0,{"$f":"IF(AND($A136<'P&L'!$P$8, $X136='P&L'!$G$6), $AT136, 0)","v":0}," "," "," "]
[null,null,null,null,null,null,null,null,null,null,null,null,null,null,null,null,null,null,null,null,null,null,"Jan-00",1900,{"$f":"IF(AND($A137<'P&L'!$P$8, YEAR($A137)=Master!$C$6), $K137, 0)","v":0},0,{"$f":"IF(AND(NOT(ISBLANK($O137)), $O137<'P&L'!$P$8), Z137, 0)","v":0},{"$f":"IF(OR(ISBLANK($O137), $O137>'BankRec Main Acct'!$E$8), Z137, 0)","v":0},0,{"$f":"IF(AND(NOT(ISBLANK($O137)), $O137<'P&L'!$P$8), AC137, 0)","v":0},{"$f":"IF(OR(ISBLANK($O137), $O137>'BankRec Main Acct'!$E$8), AC137, 0)","v":0},0,{"$f":"IF(AND(NOT(ISBLANK($S137)), $S137<'P&L'!$P$8), AF137, 0)","v":0},{"$f":"IF(OR(ISBLANK($S137), $S137>'BankRec Main Acct'!$E$8), AF137, 0)","v":0},0,{"$f":"IF(AND(NOT(ISBLANK($S137)), $S137<'P&L'!$P$8), AI137, 0)","v":0},{"$f":"IF(OR(ISBLANK($S137), $S137>'BankRec Main Acct'!$E$8), AI137, 0)","v":0},0,{"$f":"IF(AND(NOT(ISBLANK($U137)), $U137<'P&L'!$P$8), $AL137, 0)","v":0},{"$f":"IF(OR(ISBLANK($U137), $U137>'DebitCard Rec '!$E$8), $AL137, 0)","v":0},0,{"$f":"IF(AND(NOT(ISBLANK($U137)), $U137<'P&L'!$P$8), $AO137, 0)","v":0},{"$f":"IF(OR(ISBLANK($U137), $U137>'DebitCard Rec '!$E$8), $AO137, 0)","v":0},0,{"$f":"IF(AND($A137<'P&L'!$P$8, $X137='P&L'!$G$6), $AR137, 0)","v":0},0,{"$f":"IF(AND($A137<'P&L'!$P$8, $X137='P&L'!$G$6), $AT137, 0)","v":0}," "," "," "]
[null,null,null,null,null,null,null,null,null,null,null,null,null,null,null,null,null,null,null,null,null,null,"Jan-00",1900,{"$f":"IF(AND($A138<'P&L'!$P$8, YEAR($A138)=Master!$C$6), $K138, 0)","v":0},0,{"$f":"IF(AND(NOT(ISBLANK($O138)), $O138<'P&L'!$P$8), Z138, 0)","v":0},{"$f":"IF(OR(ISBLANK($O138), $O138>'BankRec Main Acct'!$E$8), Z138, 0)","v":0},0,{"$f":"IF(AND(NOT(ISBLANK($O138)), $O138<'P&L'!$P$8), AC138, 0)","v":0},{"$f":"IF(OR(ISBLANK($O138), $O138>'BankRec Main Acct'!$E$8), AC138, 0)","v":0},0,{"$f":"IF(AND(NOT(ISBLANK($S138)), $S138<'P&L'!$P$8), AF138, 0)","v":0},{"$f":"IF(OR(ISBLANK($S138), $S138>'BankRec Main Acct'!$E$8), AF138, 0)","v":0},0,{"$f":"IF(AND(NOT(ISBLANK($S138)), $S138<'P&L'!$P$8), AI138, 0)","v":0},{"$f":"IF(OR(ISBLANK($S138), $S138>'BankRec Main Acct'!$E$8), AI138, 0)","v":0},0,{"$f":"IF(AND(NOT(ISBLANK($U138)), $U138<'P&L'!$P$8), $AL138, 0)","v":0},{"$f":"IF(OR(ISBLANK($U138), $U138>'DebitCard Rec '!$E$8), $AL138, 0)","v":0},0,{"$f":"IF(AND(NOT(ISBLANK($U138)), $U138<'P&L'!$P$8), $AO138, 0)","v":0},{"$f":"IF(OR(ISBLANK($U138), $U138>'DebitCard Rec '!$E$8), $AO138, 0)","v":0},0,{"$f":"IF(AND($A138<'P&L'!$P$8, $X138='P&L'!$G$6), $AR138, 0)","v":0},0,{"$f":"IF(AND($A138<'P&L'!$P$8, $X138='P&L'!$G$6), $AT138, 0)","v":0}," "," "," "]
[null,null,null,null,null,null,null,null,null,null,null,null,null,null,null,null,null,null,null,null,null,null,"Jan-00",1900,{"$f":"IF(AND($A139<'P&L'!$P$8, YEAR($A139)=Master!$C$6), $K139, 0)","v":0},0,{"$f":"IF(AND(NOT(ISBLANK($O139)), $O139<'P&L'!$P$8), Z139, 0)","v":0},{"$f":"IF(OR(ISBLANK($O139), $O139>'BankRec Main Acct'!$E$8), Z139, 0)","v":0},0,{"$f":"IF(AND(NOT(ISBLANK($O139)), $O139<'P&L'!$P$8), AC139, 0)","v":0},{"$f":"IF(OR(ISBLANK($O139), $O139>'BankRec Main Acct'!$E$8), AC139, 0)","v":0},0,{"$f":"IF(AND(NOT(ISBLANK($S139)), $S139<'P&L'!$P$8), AF139, 0)","v":0},{"$f":"IF(OR(ISBLANK($S139), $S139>'BankRec Main Acct'!$E$8), AF139, 0)","v":0},0,{"$f":"IF(AND(NOT(ISBLANK($S139)), $S139<'P&L'!$P$8), AI139, 0)","v":0},{"$f":"IF(OR(ISBLANK($S139), $S139>'BankRec Main Acct'!$E$8), AI139, 0)","v":0},0,{"$f":"IF(AND(NOT(ISBLANK($U139)), $U139<'P&L'!$P$8), $AL139, 0)","v":0},{"$f":"IF(OR(ISBLANK($U139), $U139>'DebitCard Rec '!$E$8), $AL139, 0)","v":0},0,{"$f":"IF(AND(NOT(ISBLANK($U139)), $U139<'P&L'!$P$8), $AO139, 0)","v":0},{"$f":"IF(OR(ISBLANK($U139), $U139>'DebitCard Rec '!$E$8), $AO139, 0)","v":0},0,{"$f":"IF(AND($A139<'P&L'!$P$8, $X139='P&L'!$G$6), $AR139, 0)","v":0},0,{"$f":"IF(AND($A139<'P&L'!$P$8, $X139='P&L'!$G$6), $AT139, 0)","v":0},{"$f":"CONCATENATE(B139,\" \",C139)","v":" "}," "," "]
[null,null,null,null,null,null,null,null,null,null,null,null,null,null,null,null,null,null,null,null,null,null,"Jan-00",1900,{"$f":"IF(AND($A140<'P&L'!$P$8, YEAR($A140)=Master!$C$6), $K140, 0)","v":0},0,{"$f":"IF(AND(NOT(ISBLANK($O140)), $O140<'P&L'!$P$8), Z140, 0)","v":0},{"$f":"IF(OR(ISBLANK($O140), $O140>'BankRec Main Acct'!$E$8), Z140, 0)","v":0},0,{"$f":"IF(AND(NOT(ISBLANK($O140)), $O140<'P&L'!$P$8), AC140, 0)","v":0},{"$f":"IF(OR(ISBLANK($O140), $O140>'BankRec Main Acct'!$E$8), AC140, 0)","v":0},0,{"$f":"IF(AND(NOT(ISBLANK($S140)), $S140<'P&L'!$P$8), AF140, 0)","v":0},{"$f":"IF(OR(ISBLANK($S140), $S140>'BankRec Main Acct'!$E$8), AF140, 0)","v":0},0,{"$f":"IF(AND(NOT(ISBLANK($S140)), $S140<'P&L'!$P$8), AI140, 0)","v":0},{"$f":"IF(OR(ISBLANK($S140), $S140>'BankRec Main Acct'!$E$8), AI140, 0)","v":0},0,{"$f":"IF(AND(NOT(ISBLANK($U140)), $U140<'P&L'!$P$8), $AL140, 0)","v":0},{"$f":"IF(OR(ISBLANK($U140), $U140>'DebitCard Rec '!$E$8), $AL140, 0)","v":0},0,{"$f":"IF(AND(NOT(ISBLANK($U140)), $U140<'P&L'!$P$8), $AO140, 0)","v":0},{"$f":"IF(OR(ISBLANK($U140), $U140>'DebitCard Rec '!$E$8), $AO140, 0)","v":0},0,{"$f":"IF(AND($A140<'P&L'!$P$8, $X140='P&L'!$G$6), $AR140, 0)","v":0},0,{"$f":"IF(AND($A140<'P&L'!$P$8, $X140='P&L'!$G$6), $AT140, 0)","v":0}," "," "," "]
[null,null,null,null,null,null,null,null,null,null,null,null,null,null,null,null,null,null,null,null,null,null,"Jan-00",1900,{"$f":"IF(AND($A141<'P&L'!$P$8, YEAR($A141)=Master!$C$6), $K141, 0)","v":0},0,{"$f":"IF(AND(NOT(ISBLANK($O141)), $O141<'P&L'!$P$8), Z141, 0)","v":0},{"$f":"IF(OR(ISBLANK($O141), $O141>'BankRec Main Acct'!$E$8), Z141, 0)","v":0},0,{"$f":"IF(AND(NOT(ISBLANK($O141)), $O141<'P&L'!$P$8), AC141, 0)","v":0},{"$f":"IF(OR(ISBLANK($O141), $O141>'BankRec Main Acct'!$E$8), AC141, 0)","v":0},0,{"$f":"IF(AND(NOT(ISBLANK($S141)), $S141<'P&L'!$P$8), AF141, 0)","v":0},{"$f":"IF(OR(ISBLANK($S141), $S141>'BankRec Main Acct'!$E$8), AF141, 0)","v":0},0,{"$f":"IF(AND(NOT(ISBLANK($S141)), $S141<'P&L'!$P$8), AI141, 0)","v":0},{"$f":"IF(OR(ISBLANK($S141), $S141>'BankRec Main Acct'!$E$8), AI141, 0)","v":0},0,{"$f":"IF(AND(NOT(ISBLANK($U141)), $U141<'P&L'!$P$8), $AL141, 0)","v":0},{"$f":"IF(OR(ISBLANK($U141), $U141>'DebitCard Rec '!$E$8), $AL141, 0)","v":0},0,{"$f":"IF(AND(NOT(ISBLANK($U141)), $U141<'P&L'!$P$8), $AO141, 0)","v":0},{"$f":"IF(OR(ISBLANK($U141), $U141>'DebitCard Rec '!$E$8), $AO141, 0)","v":0},0,{"$f":"IF(AND($A141<'P&L'!$P$8, $X141='P&L'!$G$6), $AR141, 0)","v":0},0,{"$f":"IF(AND($A141<'P&L'!$P$8, $X141='P&L'!$G$6), $AT141, 0)","v":0}," "," "," "]
[null,null,null,null,null,null,null,null,null,null,null,null,null,null,null,null,null,null,null,null,null,null,"Jan-00",1900,{"$f":"IF(AND($A142<'P&L'!$P$8, YEAR($A142)=Master!$C$6), $K142, 0)","v":0},0,{"$f":"IF(AND(NOT(ISBLANK($O142)), $O142<'P&L'!$P$8), Z142, 0)","v":0},{"$f":"IF(OR(ISBLANK($O142), $O142>'BankRec Main Acct'!$E$8), Z142, 0)","v":0},0,{"$f":"IF(AND(NOT(ISBLANK($O142)), $O142<'P&L'!$P$8), AC142, 0)","v":0},{"$f":"IF(OR(ISBLANK($O142), $O142>'BankRec Main Acct'!$E$8), AC142, 0)","v":0},0,{"$f":"IF(AND(NOT(ISBLANK($S142)), $S142<'P&L'!$P$8), AF142, 0)","v":0},{"$f":"IF(OR(ISBLANK($S142), $S142>'BankRec Main Acct'!$E$8), AF142, 0)","v":0},0,{"$f":"IF(AND(NOT(ISBLANK($S142)), $S142<'P&L'!$P$8), AI142, 0)","v":0},{"$f":"IF(OR(ISBLANK($S142), $S142>'BankRec Main Acct'!$E$8), AI142, 0)","v":0},0,{"$f":"IF(AND(NOT(ISBLANK($U142)), $U142<'P&L'!$P$8), $AL142, 0)","v":0},{"$f":"IF(OR(ISBLANK($U142), $U142>'DebitCard Rec '!$E$8), $AL142, 0)","v":0},0,{"$f":"IF(AND(NOT(ISBLANK($U142)), $U142<'P&L'!$P$8), $AO142, 0)","v":0},{"$f":"IF(OR(ISBLANK($U142), $U142>'DebitCard Rec '!$E$8), $AO142, 0)","v":0},0,{"$f":"IF(AND($A142<'P&L'!$P$8, $X142='P&L'!$G$6), $AR142, 0)","v":0},0,{"$f":"IF(AND($A142<'P&L'!$P$8, $X142='P&L'!$G$6), $AT142, 0)","v":0}," "," "," "]
[null,null,null,null,null,null,null,null,null,null,null,null,null,null,null,null,null,null,null,null,null,null,"Jan-00",1900,{"$f":"IF(AND($A143<'P&L'!$P$8, YEAR($A143)=Master!$C$6), $K143, 0)","v":0},0,{"$f":"IF(AND(NOT(ISBLANK($O143)), $O143<'P&L'!$P$8), Z143, 0)","v":0},{"$f":"IF(OR(ISBLANK($O143), $O143>'BankRec Main Acct'!$E$8), Z143, 0)","v":0},0,{"$f":"IF(AND(NOT(ISBLANK($O143)), $O143<'P&L'!$P$8), AC143, 0)","v":0},{"$f":"IF(OR(ISBLANK($O143), $O143>'BankRec Main Acct'!$E$8), AC143, 0)","v":0},0,{"$f":"IF(AND(NOT(ISBLANK($S143)), $S143<'P&L'!$P$8), AF143, 0)","v":0},{"$f":"IF(OR(ISBLANK($S143), $S143>'BankRec Main Acct'!$E$8), AF143, 0)","v":0},0,{"$f":"IF(AND(NOT(ISBLANK($S143)), $S143<'P&L'!$P$8), AI143, 0)","v":0},{"$f":"IF(OR(ISBLANK($S143), $S143>'BankRec Main Acct'!$E$8), AI143, 0)","v":0},0,{"$f":"IF(AND(NOT(ISBLANK($U143)), $U143<'P&L'!$P$8), $AL143, 0)","v":0},{"$f":"IF(OR(ISBLANK($U143), $U143>'DebitCard Rec '!$E$8), $AL143, 0)","v":0},0,{"$f":"IF(AND(NOT(ISBLANK($U143)), $U143<'P&L'!$P$8), $AO143, 0)","v":0},{"$f":"IF(OR(ISBLANK($U143), $U143>'DebitCard Rec '!$E$8), $AO143, 0)","v":0},0,{"$f":"IF(AND($A143<'P&L'!$P$8, $X143='P&L'!$G$6), $AR143, 0)","v":0},0,{"$f":"IF(AND($A143<'P&L'!$P$8, $X143='P&L'!$G$6), $AT143, 0)","v":0}," "," "," "]
[null,null,null,null,null,null,null,null,null,null,null,null,null,null,null,null,null,null,null,null,null,null,"Jan-00",1900,{"$f":"IF(AND($A144<'P&L'!$P$8, YEAR($A144)=Master!$C$6), $K144, 0)","v":0},0,{"$f":"IF(AND(NOT(ISBLANK($O144)), $O144<'P&L'!$P$8), Z144, 0)","v":0},{"$f":"IF(OR(ISBLANK($O144), $O144>'BankRec Main Acct'!$E$8), Z144, 0)","v":0},0,{"$f":"IF(AND(NOT(ISBLANK($O144)), $O144<'P&L'!$P$8), AC144, 0)","v":0},{"$f":"IF(OR(ISBLANK($O144), $O144>'BankRec Main Acct'!$E$8), AC144, 0)","v":0},0,{"$f":"IF(AND(NOT(ISBLANK($S144)), $S144<'P&L'!$P$8), AF144, 0)","v":0},{"$f":"IF(OR(ISBLANK($S144), $S144>'BankRec Main Acct'!$E$8), AF144, 0)","v":0},0,{"$f":"IF(AND(NOT(ISBLANK($S144)), $S144<'P&L'!$P$8), AI144, 0)","v":0},{"$f":"IF(OR(ISBLANK($S144), $S144>'BankRec Main Acct'!$E$8), AI144, 0)","v":0},0,{"$f":"IF(AND(NOT(ISBLANK($U144)), $U144<'P&L'!$P$8), $AL144, 0)","v":0},{"$f":"IF(OR(ISBLANK($U144), $U144>'DebitCard Rec '!$E$8), $AL144, 0)","v":0},0,{"$f":"IF(AND(NOT(ISBLANK($U144)), $U144<'P&L'!$P$8), $AO144, 0)","v":0},{"$f":"IF(OR(ISBLANK($U144), $U144>'DebitCard Rec '!$E$8), $AO144, 0)","v":0},0,{"$f":"IF(AND($A144<'P&L'!$P$8, $X144='P&L'!$G$6), $AR144, 0)","v":0},0,{"$f":"IF(AND($A144<'P&L'!$P$8, $X144='P&L'!$G$6), $AT144, 0)","v":0}," "," "," "]
[null,null,null,null,null,null,null,null,null,null,null,null,null,null,null,null,null,null,null,null,null,null,{"$f":"TEXT($A145, \"mmm-yy\")","v":"Jan-00"},{"$f":"YEAR($A145)","v":1900},{"$f":"IF(AND($A145<'P&L'!$P$8, YEAR($A145)=Master!$C$6), $K145, 0)","v":0},0,{"$f":"IF(AND(NOT(ISBLANK($O145)), $O145<'P&L'!$P$8), Z145, 0)","v":0},{"$f":"IF(OR(ISBLANK($O145), $O145>'BankRec Main Acct'!$E$8), Z145, 0)","v":0},0,{"$f":"IF(AND(NOT(ISBLANK($O145)), $O145<'P&L'!$P$8), AC145, 0)","v":0},{"$f":"IF(OR(ISBLANK($O145), $O145>'BankRec Main Acct'!$E$8), AC145, 0)","v":0},0,{"$f":"IF(AND(NOT(ISBLANK($S145)), $S145<'P&L'!$P$8), AF145, 0)","v":0},{"$f":"IF(OR(ISBLANK($S145), $S145>'BankRec Main Acct'!$E$8), AF145, 0)","v":0},0,{"$f":"IF(AND(NOT(ISBLANK($S145)), $S145<'P&L'!$P$8), AI145, 0)","v":0},{"$f":"IF(OR(ISBLANK($S145), $S145>'BankRec Main Acct'!$E$8), AI145, 0)","v":0},{"$f":"IF(AND($C145=\"Receipt\",$B145=\"Debit card\"),$K145,0)","v":0},{"$f":"IF(AND(NOT(ISBLANK($U145)), $U145<'P&L'!$P$8), $AL145, 0)","v":0},{"$f":"IF(OR(ISBLANK($U145), $U145>'DebitCard Rec '!$E$8), $AL145, 0)","v":0},{"$f":"IF(AND($C145=\"Payment\",$B145=\"Debit card\"),$K145,0)","v":0},{"$f":"IF(AND(NOT(ISBLANK($U145)), $U145<'P&L'!$P$8), $AO145, 0)","v":0},{"$f":"IF(OR(ISBLANK($U145), $U145>'DebitCard Rec '!$E$8), $AO145, 0)","v":0},0,{"$f":"IF(AND($A145<'P&L'!$P$8, $X145='P&L'!$G$6), $AR145, 0)","v":0},0,{"$f":"IF(AND($A145<'P&L'!$P$8, $X145='P&L'!$G$6), $AT145, 0)","v":0}," "," "," "]
[null,null,null,null,null,null,null,null,null,null,null,null,null,null,null,null,null,null,null,null,null,null,"Jan-00",1900,{"$f":"IF(AND($A146<'P&L'!$P$8, YEAR($A146)=Master!$C$6), $K146, 0)","v":0},0,{"$f":"IF(AND(NOT(ISBLANK($O146)), $O146<'P&L'!$P$8), Z146, 0)","v":0},{"$f":"IF(OR(ISBLANK($O146), $O146>'BankRec Main Acct'!$E$8), Z146, 0)","v":0},0,{"$f":"IF(AND(NOT(ISBLANK($O146)), $O146<'P&L'!$P$8), AC146, 0)","v":0},{"$f":"IF(OR(ISBLANK($O146), $O146>'BankRec Main Acct'!$E$8), AC146, 0)","v":0},0,{"$f":"IF(AND(NOT(ISBLANK($S146)), $S146<'P&L'!$P$8), AF146, 0)","v":0},{"$f":"IF(OR(ISBLANK($S146), $S146>'BankRec Main Acct'!$E$8), AF146, 0)","v":0},0,{"$f":"IF(AND(NOT(ISBLANK($S146)), $S146<'P&L'!$P$8), AI146, 0)","v":0},{"$f":"IF(OR(ISBLANK($S146), $S146>'BankRec Main Acct'!$E$8), AI146, 0)","v":0},0,{"$f":"IF(AND(NOT(ISBLANK($U146)), $U146<'P&L'!$P$8), $AL146, 0)","v":0},{"$f":"IF(OR(ISBLANK($U146), $U146>'DebitCard Rec '!$E$8), $AL146, 0)","v":0},0,{"$f":"IF(AND(NOT(ISBLANK($U146)), $U146<'P&L'!$P$8), $AO146, 0)","v":0},{"$f":"IF(OR(ISBLANK($U146), $U146>'DebitCard Rec '!$E$8), $AO146, 0)","v":0},0,{"$f":"IF(AND($A146<'P&L'!$P$8, $X146='P&L'!$G$6), $AR146, 0)","v":0},0,{"$f":"IF(AND($A146<'P&L'!$P$8, $X146='P&L'!$G$6), $AT146, 0)","v":0}," "," "," "]
[null,null,null,null,null,null,null,null,null,null,null,null,null,null,null,null,null,null,null,null,null,null,"Jan-00",1900,{"$f":"IF(AND($A147<'P&L'!$P$8, YEAR($A147)=Master!$C$6), $K147, 0)","v":0},0,{"$f":"IF(AND(NOT(ISBLANK($O147)), $O147<'P&L'!$P$8), Z147, 0)","v":0},{"$f":"IF(OR(ISBLANK($O147), $O147>'BankRec Main Acct'!$E$8), Z147, 0)","v":0},0,{"$f":"IF(AND(NOT(ISBLANK($O147)), $O147<'P&L'!$P$8), AC147, 0)","v":0},{"$f":"IF(OR(ISBLANK($O147), $O147>'BankRec Main Acct'!$E$8), AC147, 0)","v":0},0,{"$f":"IF(AND(NOT(ISBLANK($S147)), $S147<'P&L'!$P$8), AF147, 0)","v":0},{"$f":"IF(OR(ISBLANK($S147), $S147>'BankRec Main Acct'!$E$8), AF147, 0)","v":0},0,{"$f":"IF(AND(NOT(ISBLANK($S147)), $S147<'P&L'!$P$8), AI147, 0)","v":0},{"$f":"IF(OR(ISBLANK($S147), $S147>'BankRec Main Acct'!$E$8), AI147, 0)","v":0},0,{"$f":"IF(AND(NOT(ISBLANK($U147)), $U147<'P&L'!$P$8), $AL147, 0)","v":0},{"$f":"IF(OR(ISBLANK($U147), $U147>'DebitCard Rec '!$E$8), $AL147, 0)","v":0},0,{"$f":"IF(AND(NOT(ISBLANK($U147)), $U147<'P&L'!$P$8), $AO147, 0)","v":0},{"$f":"IF(OR(ISBLANK($U147), $U147>'DebitCard Rec '!$E$8), $AO147, 0)","v":0},0,{"$f":"IF(AND($A147<'P&L'!$P$8, $X147='P&L'!$G$6), $AR147, 0)","v":0},0,{"$f":"IF(AND($A147<'P&L'!$P$8, $X147='P&L'!$G$6), $AT147, 0)","v":0}," "," "," "]
[null,null,null,null,null,null,null,null,null,null,null,null,null,null,null,null,null,null,null,null,null,null,"Jan-00",1900,{"$f":"IF(AND($A148<'P&L'!$P$8, YEAR($A148)=Master!$C$6), $K148, 0)","v":0},0,{"$f":"IF(AND(NOT(ISBLANK($O148)), $O148<'P&L'!$P$8), Z148, 0)","v":0},{"$f":"IF(OR(ISBLANK($O148), $O148>'BankRec Main Acct'!$E$8), Z148, 0)","v":0},0,{"$f":"IF(AND(NOT(ISBLANK($O148)), $O148<'P&L'!$P$8), AC148, 0)","v":0},{"$f":"IF(OR(ISBLANK($O148), $O148>'BankRec Main Acct'!$E$8), AC148, 0)","v":0},0,{"$f":"IF(AND(NOT(ISBLANK($S148)), $S148<'P&L'!$P$8), AF148, 0)","v":0},{"$f":"IF(OR(ISBLANK($S148), $S148>'BankRec Main Acct'!$E$8), AF148, 0)","v":0},0,{"$f":"IF(AND(NOT(ISBLANK($S148)), $S148<'P&L'!$P$8), AI148, 0)","v":0},{"$f":"IF(OR(ISBLANK($S148), $S148>'BankRec Main Acct'!$E$8), AI148, 0)","v":0},0,{"$f":"IF(AND(NOT(ISBLANK($U148)), $U148<'P&L'!$P$8), $AL148, 0)","v":0},{"$f":"IF(OR(ISBLANK($U148), $U148>'DebitCard Rec '!$E$8), $AL148, 0)","v":0},0,{"$f":"IF(AND(NOT(ISBLANK($U148)), $U148<'P&L'!$P$8), $AO148, 0)","v":0},{"$f":"IF(OR(ISBLANK($U148), $U148>'DebitCard Rec '!$E$8), $AO148, 0)","v":0},0,{"$f":"IF(AND($A148<'P&L'!$P$8, $X148='P&L'!$G$6), $AR148, 0)","v":0},0,{"$f":"IF(AND($A148<'P&L'!$P$8, $X148='P&L'!$G$6), $AT148, 0)","v":0}," "," "," "]
[null,null,null,null,null,null,null,null,null,null,null,null,null,null,null,null,null,null,null,null,null,null,"Jan-00",1900,{"$f":"IF(AND($A149<'P&L'!$P$8, YEAR($A149)=Master!$C$6), $K149, 0)","v":0},0,{"$f":"IF(AND(NOT(ISBLANK($O149)), $O149<'P&L'!$P$8), Z149, 0)","v":0},{"$f":"IF(OR(ISBLANK($O149), $O149>'BankRec Main Acct'!$E$8), Z149, 0)","v":0},0,{"$f":"IF(AND(NOT(ISBLANK($O149)), $O149<'P&L'!$P$8), AC149, 0)","v":0},{"$f":"IF(OR(ISBLANK($O149), $O149>'BankRec Main Acct'!$E$8), AC149, 0)","v":0},0,{"$f":"IF(AND(NOT(ISBLANK($S149)), $S149<'P&L'!$P$8), AF149, 0)","v":0},{"$f":"IF(OR(ISBLANK($S149), $S149>'BankRec Main Acct'!$E$8), AF149, 0)","v":0},0,{"$f":"IF(AND(NOT(ISBLANK($S149)), $S149<'P&L'!$P$8), AI149, 0)","v":0},{"$f":"IF(OR(ISBLANK($S149), $S149>'BankRec Main Acct'!$E$8), AI149, 0)","v":0},0,{"$f":"IF(AND(NOT(ISBLANK($U149)), $U149<'P&L'!$P$8), $AL149, 0)","v":0},{"$f":"IF(OR(ISBLANK($U149), $U149>'DebitCard Rec '!$E$8), $AL149, 0)","v":0},0,{"$f":"IF(AND(NOT(ISBLANK($U149)), $U149<'P&L'!$P$8), $AO149, 0)","v":0},{"$f":"IF(OR(ISBLANK($U149), $U149>'DebitCard Rec '!$E$8), $AO149, 0)","v":0},0,{"$f":"IF(AND($A149<'P&L'!$P$8, $X149='P&L'!$G$6), $AR149, 0)","v":0},0,{"$f":"IF(AND($A149<'P&L'!$P$8, $X149='P&L'!$G$6), $AT149, 0)","v":0}," "," "," "]
[null,null,null,null,null,null,null,null,null,null,null,null,null,null,null,null,null,null,null,null,null,null,"Jan-00",1900,{"$f":"IF(AND($A150<'P&L'!$P$8, YEAR($A150)=Master!$C$6), $K150, 0)","v":0},0,{"$f":"IF(AND(NOT(ISBLANK($O150)), $O150<'P&L'!$P$8), Z150, 0)","v":0},{"$f":"IF(OR(ISBLANK($O150), $O150>'BankRec Main Acct'!$E$8), Z150, 0)","v":0},0,{"$f":"IF(AND(NOT(ISBLANK($O150)), $O150<'P&L'!$P$8), AC150, 0)","v":0},{"$f":"IF(OR(ISBLANK($O150), $O150>'BankRec Main Acct'!$E$8), AC150, 0)","v":0},0,{"$f":"IF(AND(NOT(ISBLANK($S150)), $S150<'P&L'!$P$8), AF150, 0)","v":0},{"$f":"IF(OR(ISBLANK($S150), $S150>'BankRec Main Acct'!$E$8), AF150, 0)","v":0},0,{"$f":"IF(AND(NOT(ISBLANK($S150)), $S150<'P&L'!$P$8), AI150, 0)","v":0},{"$f":"IF(OR(ISBLANK($S150), $S150>'BankRec Main Acct'!$E$8), AI150, 0)","v":0},0,{"$f":"IF(AND(NOT(ISBLANK($U150)), $U150<'P&L'!$P$8), $AL150, 0)","v":0},{"$f":"IF(OR(ISBLANK($U150), $U150>'DebitCard Rec '!$E$8), $AL150, 0)","v":0},0,{"$f":"IF(AND(NOT(ISBLANK($U150)), $U150<'P&L'!$P$8), $AO150, 0)","v":0},{"$f":"IF(OR(ISBLANK($U150), $U150>'DebitCard Rec '!$E$8), $AO150, 0)","v":0},0,{"$f":"IF(AND($A150<'P&L'!$P$8, $X150='P&L'!$G$6), $AR150, 0)","v":0},0,{"$f":"IF(AND($A150<'P&L'!$P$8, $X150='P&L'!$G$6), $AT150, 0)","v":0}," "," "," "]
[null,null,null,null,null,null,null,null,null,null,null,null,null,null,null,null,null,null,null,null,null,null,"Jan-00",1900,{"$f":"IF(AND($A151<'P&L'!$P$8, YEAR($A151)=Master!$C$6), $K151, 0)","v":0},0,{"$f":"IF(AND(NOT(ISBLANK($O151)), $O151<'P&L'!$P$8), Z151, 0)","v":0},{"$f":"IF(OR(ISBLANK($O151), $O151>'BankRec Main Acct'!$E$8), Z151, 0)","v":0},0,{"$f":"IF(AND(NOT(ISBLANK($O151)), $O151<'P&L'!$P$8), AC151, 0)","v":0},{"$f":"IF(OR(ISBLANK($O151), $O151>'BankRec Main Acct'!$E$8), AC151, 0)","v":0},0,{"$f":"IF(AND(NOT(ISBLANK($S151)), $S151<'P&L'!$P$8), AF151, 0)","v":0},{"$f":"IF(OR(ISBLANK($S151), $S151>'BankRec Main Acct'!$E$8), AF151, 0)","v":0},0,{"$f":"IF(AND(NOT(ISBLANK($S151)), $S151<'P&L'!$P$8), AI151, 0)","v":0},{"$f":"IF(OR(ISBLANK($S151), $S151>'BankRec Main Acct'!$E$8), AI151, 0)","v":0},0,{"$f":"IF(AND(NOT(ISBLANK($U151)), $U151<'P&L'!$P$8), $AL151, 0)","v":0},{"$f":"IF(OR(ISBLANK($U151), $U151>'DebitCard Rec '!$E$8), $AL151, 0)","v":0},0,{"$f":"IF(AND(NOT(ISBLANK($U151)), $U151<'P&L'!$P$8), $AO151, 0)","v":0},{"$f":"IF(OR(ISBLANK($U151), $U151>'DebitCard Rec '!$E$8), $AO151, 0)","v":0},0,{"$f":"IF(AND($A151<'P&L'!$P$8, $X151='P&L'!$G$6), $AR151, 0)","v":0},0,{"$f":"IF(AND($A151<'P&L'!$P$8, $X151='P&L'!$G$6), $AT151, 0)","v":0}," "," "," "]
[null,null,null,null,null,null,null,null,null,null,null,null,null,null,null,null,null,null,null,null,null,null,"Jan-00",1900,{"$f":"IF(AND($A152<'P&L'!$P$8, YEAR($A152)=Master!$C$6), $K152, 0)","v":0},0,{"$f":"IF(AND(NOT(ISBLANK($O152)), $O152<'P&L'!$P$8), Z152, 0)","v":0},{"$f":"IF(OR(ISBLANK($O152), $O152>'BankRec Main Acct'!$E$8), Z152, 0)","v":0},0,{"$f":"IF(AND(NOT(ISBLANK($O152)), $O152<'P&L'!$P$8), AC152, 0)","v":0},{"$f":"IF(OR(ISBLANK($O152), $O152>'BankRec Main Acct'!$E$8), AC152, 0)","v":0},0,{"$f":"IF(AND(NOT(ISBLANK($S152)), $S152<'P&L'!$P$8), AF152, 0)","v":0},{"$f":"IF(OR(ISBLANK($S152), $S152>'BankRec Main Acct'!$E$8), AF152, 0)","v":0},0,{"$f":"IF(AND(NOT(ISBLANK($S152)), $S152<'P&L'!$P$8), AI152, 0)","v":0},{"$f":"IF(OR(ISBLANK($S152), $S152>'BankRec Main Acct'!$E$8), AI152, 0)","v":0},0,{"$f":"IF(AND(NOT(ISBLANK($U152)), $U152<'P&L'!$P$8), $AL152, 0)","v":0},{"$f":"IF(OR(ISBLANK($U152), $U152>'DebitCard Rec '!$E$8), $AL152, 0)","v":0},0,{"$f":"IF(AND(NOT(ISBLANK($U152)), $U152<'P&L'!$P$8), $AO152, 0)","v":0},{"$f":"IF(OR(ISBLANK($U152), $U152>'DebitCard Rec '!$E$8), $AO152, 0)","v":0},0,{"$f":"IF(AND($A152<'P&L'!$P$8, $X152='P&L'!$G$6), $AR152, 0)","v":0},0,{"$f":"IF(AND($A152<'P&L'!$P$8, $X152='P&L'!$G$6), $AT152, 0)","v":0}," "," "," "]
[null,null,null,null,null,null,null,null,null,null,null,null,null,null,null,null,null,null,null,null,null,null,"Jan-00",1900,{"$f":"IF(AND($A153<'P&L'!$P$8, YEAR($A153)=Master!$C$6), $K153, 0)","v":0},0,{"$f":"IF(AND(NOT(ISBLANK($O153)), $O153<'P&L'!$P$8), Z153, 0)","v":0},{"$f":"IF(OR(ISBLANK($O153), $O153>'BankRec Main Acct'!$E$8), Z153, 0)","v":0},0,{"$f":"IF(AND(NOT(ISBLANK($O153)), $O153<'P&L'!$P$8), AC153, 0)","v":0},{"$f":"IF(OR(ISBLANK($O153), $O153>'BankRec Main Acct'!$E$8), AC153, 0)","v":0},0,{"$f":"IF(AND(NOT(ISBLANK($S153)), $S153<'P&L'!$P$8), AF153, 0)","v":0},{"$f":"IF(OR(ISBLANK($S153), $S153>'BankRec Main Acct'!$E$8), AF153, 0)","v":0},0,{"$f":"IF(AND(NOT(ISBLANK($S153)), $S153<'P&L'!$P$8), AI153, 0)","v":0},{"$f":"IF(OR(ISBLANK($S153), $S153>'BankRec Main Acct'!$E$8), AI153, 0)","v":0},0,{"$f":"IF(AND(NOT(ISBLANK($U153)), $U153<'P&L'!$P$8), $AL153, 0)","v":0},{"$f":"IF(OR(ISBLANK($U153), $U153>'DebitCard Rec '!$E$8), $AL153, 0)","v":0},0,{"$f":"IF(AND(NOT(ISBLANK($U153)), $U153<'P&L'!$P$8), $AO153, 0)","v":0},{"$f":"IF(OR(ISBLANK($U153), $U153>'DebitCard Rec '!$E$8), $AO153, 0)","v":0},0,{"$f":"IF(AND($A153<'P&L'!$P$8, $X153='P&L'!$G$6), $AR153, 0)","v":0},0,{"$f":"IF(AND($A153<'P&L'!$P$8, $X153='P&L'!$G$6), $AT153, 0)","v":0}," "," "," "]
[null,null,null,null,null,null,null,null,null,null,null,null,null,null,null,null,null,null,null,null,null,null,"Jan-00",1900,{"$f":"IF(AND($A154<'P&L'!$P$8, YEAR($A154)=Master!$C$6), $K154, 0)","v":0},0,{"$f":"IF(AND(NOT(ISBLANK($O154)), $O154<'P&L'!$P$8), Z154, 0)","v":0},{"$f":"IF(OR(ISBLANK($O154), $O154>'BankRec Main Acct'!$E$8), Z154, 0)","v":0},0,{"$f":"IF(AND(NOT(ISBLANK($O154)), $O154<'P&L'!$P$8), AC154, 0)","v":0},{"$f":"IF(OR(ISBLANK($O154), $O154>'BankRec Main Acct'!$E$8), AC154, 0)","v":0},0,{"$f":"IF(AND(NOT(ISBLANK($S154)), $S154<'P&L'!$P$8), AF154, 0)","v":0},{"$f":"IF(OR(ISBLANK($S154), $S154>'BankRec Main Acct'!$E$8), AF154, 0)","v":0},0,{"$f":"IF(AND(NOT(ISBLANK($S154)), $S154<'P&L'!$P$8), AI154, 0)","v":0},{"$f":"IF(OR(ISBLANK($S154), $S154>'BankRec Main Acct'!$E$8), AI154, 0)","v":0},0,{"$f":"IF(AND(NOT(ISBLANK($U154)), $U154<'P&L'!$P$8), $AL154, 0)","v":0},{"$f":"IF(OR(ISBLANK($U154), $U154>'DebitCard Rec '!$E$8), $AL154, 0)","v":0},0,{"$f":"IF(AND(NOT(ISBLANK($U154)), $U154<'P&L'!$P$8), $AO154, 0)","v":0},{"$f":"IF(OR(ISBLANK($U154), $U154>'DebitCard Rec '!$E$8), $AO154, 0)","v":0},0,{"$f":"IF(AND($A154<'P&L'!$P$8, $X154='P&L'!$G$6), $AR154, 0)","v":0},0,{"$f":"IF(AND($A154<'P&L'!$P$8, $X154='P&L'!$G$6), $AT154, 0)","v":0}," "," "," "]
[null,null,null,null,null,null,null,null,null,null,null,null,null,null,null,null,null,null,null,null,null,null,"Jan-00",1900,{"$f":"IF(AND($A155<'P&L'!$P$8, YEAR($A155)=Master!$C$6), $K155, 0)","v":0},0,{"$f":"IF(AND(NOT(ISBLANK($O155)), $O155<'P&L'!$P$8), Z155, 0)","v":0},{"$f":"IF(OR(ISBLANK($O155), $O155>'BankRec Main Acct'!$E$8), Z155, 0)","v":0},0,{"$f":"IF(AND(NOT(ISBLANK($O155)), $O155<'P&L'!$P$8), AC155, 0)","v":0},{"$f":"IF(OR(ISBLANK($O155), $O155>'BankRec Main Acct'!$E$8), AC155, 0)","v":0},0,{"$f":"IF(AND(NOT(ISBLANK($S155)), $S155<'P&L'!$P$8), AF155, 0)","v":0},{"$f":"IF(OR(ISBLANK($S155), $S155>'BankRec Main Acct'!$E$8), AF155, 0)","v":0},0,{"$f":"IF(AND(NOT(ISBLANK($S155)), $S155<'P&L'!$P$8), AI155, 0)","v":0},{"$f":"IF(OR(ISBLANK($S155), $S155>'BankRec Main Acct'!$E$8), AI155, 0)","v":0},0,{"$f":"IF(AND(NOT(ISBLANK($U155)), $U155<'P&L'!$P$8), $AL155, 0)","v":0},{"$f":"IF(OR(ISBLANK($U155), $U155>'DebitCard Rec '!$E$8), $AL155, 0)","v":0},0,{"$f":"IF(AND(NOT(ISBLANK($U155)), $U155<'P&L'!$P$8), $AO155, 0)","v":0},{"$f":"IF(OR(ISBLANK($U155), $U155>'DebitCard Rec '!$E$8), $AO155, 0)","v":0},0,{"$f":"IF(AND($A155<'P&L'!$P$8, $X155='P&L'!$G$6), $AR155, 0)","v":0},0,{"$f":"IF(AND($A155<'P&L'!$P$8, $X155='P&L'!$G$6), $AT155, 0)","v":0}," "," "," "]
[null,null,null,null,null,null,null,null,null,null,null,null,null,null,null,null,null,null,null,null,null,null,"Jan-00",1900,{"$f":"IF(AND($A156<'P&L'!$P$8, YEAR($A156)=Master!$C$6), $K156, 0)","v":0},0,{"$f":"IF(AND(NOT(ISBLANK($O156)), $O156<'P&L'!$P$8), Z156, 0)","v":0},{"$f":"IF(OR(ISBLANK($O156), $O156>'BankRec Main Acct'!$E$8), Z156, 0)","v":0},0,{"$f":"IF(AND(NOT(ISBLANK($O156)), $O156<'P&L'!$P$8), AC156, 0)","v":0},{"$f":"IF(OR(ISBLANK($O156), $O156>'BankRec Main Acct'!$E$8), AC156, 0)","v":0},0,{"$f":"IF(AND(NOT(ISBLANK($S156)), $S156<'P&L'!$P$8), AF156, 0)","v":0},{"$f":"IF(OR(ISBLANK($S156), $S156>'BankRec Main Acct'!$E$8), AF156, 0)","v":0},0,{"$f":"IF(AND(NOT(ISBLANK($S156)), $S156<'P&L'!$P$8), AI156, 0)","v":0},{"$f":"IF(OR(ISBLANK($S156), $S156>'BankRec Main Acct'!$E$8), AI156, 0)","v":0},0,{"$f":"IF(AND(NOT(ISBLANK($U156)), $U156<'P&L'!$P$8), $AL156, 0)","v":0},{"$f":"IF(OR(ISBLANK($U156), $U156>'DebitCard Rec '!$E$8), $AL156, 0)","v":0},0,{"$f":"IF(AND(NOT(ISBLANK($U156)), $U156<'P&L'!$P$8), $AO156, 0)","v":0},{"$f":"IF(OR(ISBLANK($U156), $U156>'DebitCard Rec '!$E$8), $AO156, 0)","v":0},0,{"$f":"IF(AND($A156<'P&L'!$P$8, $X156='P&L'!$G$6), $AR156, 0)","v":0},0,{"$f":"IF(AND($A156<'P&L'!$P$8, $X156='P&L'!$G$6), $AT156, 0)","v":0}," "," "," "]
[null,null,null,null,null,null,null,null,null,null,null,null,null,null,null,null,null,null,null,null,null,null,"Jan-00",1900,{"$f":"IF(AND($A157<'P&L'!$P$8, YEAR($A157)=Master!$C$6), $K157, 0)","v":0},0,{"$f":"IF(AND(NOT(ISBLANK($O157)), $O157<'P&L'!$P$8), Z157, 0)","v":0},{"$f":"IF(OR(ISBLANK($O157), $O157>'BankRec Main Acct'!$E$8), Z157, 0)","v":0},0,{"$f":"IF(AND(NOT(ISBLANK($O157)), $O157<'P&L'!$P$8), AC157, 0)","v":0},{"$f":"IF(OR(ISBLANK($O157), $O157>'BankRec Main Acct'!$E$8), AC157, 0)","v":0},0,{"$f":"IF(AND(NOT(ISBLANK($S157)), $S157<'P&L'!$P$8), AF157, 0)","v":0},{"$f":"IF(OR(ISBLANK($S157), $S157>'BankRec Main Acct'!$E$8), AF157, 0)","v":0},0,{"$f":"IF(AND(NOT(ISBLANK($S157)), $S157<'P&L'!$P$8), AI157, 0)","v":0},{"$f":"IF(OR(ISBLANK($S157), $S157>'BankRec Main Acct'!$E$8), AI157, 0)","v":0},0,{"$f":"IF(AND(NOT(ISBLANK($U157)), $U157<'P&L'!$P$8), $AL157, 0)","v":0},{"$f":"IF(OR(ISBLANK($U157), $U157>'DebitCard Rec '!$E$8), $AL157, 0)","v":0},0,{"$f":"IF(AND(NOT(ISBLANK($U157)), $U157<'P&L'!$P$8), $AO157, 0)","v":0},{"$f":"IF(OR(ISBLANK($U157), $U157>'DebitCard Rec '!$E$8), $AO157, 0)","v":0},0,{"$f":"IF(AND($A157<'P&L'!$P$8, $X157='P&L'!$G$6), $AR157, 0)","v":0},0,{"$f":"IF(AND($A157<'P&L'!$P$8, $X157='P&L'!$G$6), $AT157, 0)","v":0}," "," "," "]
[null,null,null,null,null,null,null,null,null,null,null,null,null,null,null,null,null,null,null,null,null,null,"Jan-00",1900,{"$f":"IF(AND($A158<'P&L'!$P$8, YEAR($A158)=Master!$C$6), $K158, 0)","v":0},0,{"$f":"IF(AND(NOT(ISBLANK($O158)), $O158<'P&L'!$P$8), Z158, 0)","v":0},{"$f":"IF(OR(ISBLANK($O158), $O158>'BankRec Main Acct'!$E$8), Z158, 0)","v":0},0,{"$f":"IF(AND(NOT(ISBLANK($O158)), $O158<'P&L'!$P$8), AC158, 0)","v":0},{"$f":"IF(OR(ISBLANK($O158), $O158>'BankRec Main Acct'!$E$8), AC158, 0)","v":0},0,{"$f":"IF(AND(NOT(ISBLANK($S158)), $S158<'P&L'!$P$8), AF158, 0)","v":0},{"$f":"IF(OR(ISBLANK($S158), $S158>'BankRec Main Acct'!$E$8), AF158, 0)","v":0},0,{"$f":"IF(AND(NOT(ISBLANK($S158)), $S158<'P&L'!$P$8), AI158, 0)","v":0},{"$f":"IF(OR(ISBLANK($S158), $S158>'BankRec Main Acct'!$E$8), AI158, 0)","v":0},0,{"$f":"IF(AND(NOT(ISBLANK($U158)), $U158<'P&L'!$P$8), $AL158, 0)","v":0},{"$f":"IF(OR(ISBLANK($U158), $U158>'DebitCard Rec '!$E$8), $AL158, 0)","v":0},0,{"$f":"IF(AND(NOT(ISBLANK($U158)), $U158<'P&L'!$P$8), $AO158, 0)","v":0},{"$f":"IF(OR(ISBLANK($U158), $U158>'DebitCard Rec '!$E$8), $AO158, 0)","v":0},0,{"$f":"IF(AND($A158<'P&L'!$P$8, $X158='P&L'!$G$6), $AR158, 0)","v":0},0,{"$f":"IF(AND($A158<'P&L'!$P$8, $X158='P&L'!$G$6), $AT158, 0)","v":0}," "," "," "]
[null,null,null,null,null,null,null,null,null,null,null,null,null,null,null,null,null,null,null,null,null,null,"Jan-00",1900,{"$f":"IF(AND($A159<'P&L'!$P$8, YEAR($A159)=Master!$C$6), $K159, 0)","v":0},0,{"$f":"IF(AND(NOT(ISBLANK($O159)), $O159<'P&L'!$P$8), Z159, 0)","v":0},{"$f":"IF(OR(ISBLANK($O159), $O159>'BankRec Main Acct'!$E$8), Z159, 0)","v":0},0,{"$f":"IF(AND(NOT(ISBLANK($O159)), $O159<'P&L'!$P$8), AC159, 0)","v":0},{"$f":"IF(OR(ISBLANK($O159), $O159>'BankRec Main Acct'!$E$8), AC159, 0)","v":0},0,{"$f":"IF(AND(NOT(ISBLANK($S159)), $S159<'P&L'!$P$8), AF159, 0)","v":0},{"$f":"IF(OR(ISBLANK($S159), $S159>'BankRec Main Acct'!$E$8), AF159, 0)","v":0},0,{"$f":"IF(AND(NOT(ISBLANK($S159)), $S159<'P&L'!$P$8), AI159, 0)","v":0},{"$f":"IF(OR(ISBLANK($S159), $S159>'BankRec Main Acct'!$E$8), AI159, 0)","v":0},0,{"$f":"IF(AND(NOT(ISBLANK($U159)), $U159<'P&L'!$P$8), $AL159, 0)","v":0},{"$f":"IF(OR(ISBLANK($U159), $U159>'DebitCard Rec '!$E$8), $AL159, 0)","v":0},0,{"$f":"IF(AND(NOT(ISBLANK($U159)), $U159<'P&L'!$P$8), $AO159, 0)","v":0},{"$f":"IF(OR(ISBLANK($U159), $U159>'DebitCard Rec '!$E$8), $AO159, 0)","v":0},0,{"$f":"IF(AND($A159<'P&L'!$P$8, $X159='P&L'!$G$6), $AR159, 0)","v":0},0,{"$f":"IF(AND($A159<'P&L'!$P$8, $X159='P&L'!$G$6), $AT159, 0)","v":0}," "," "," "]
[null,null,null,null,null,null,null,null,null,null,null,null,null,null,null,null,null,null,null,null,null,null,"Jan-00",1900,{"$f":"IF(AND($A160<'P&L'!$P$8, YEAR($A160)=Master!$C$6), $K160, 0)","v":0},0,{"$f":"IF(AND(NOT(ISBLANK($O160)), $O160<'P&L'!$P$8), Z160, 0)","v":0},{"$f":"IF(OR(ISBLANK($O160), $O160>'BankRec Main Acct'!$E$8), Z160, 0)","v":0},0,{"$f":"IF(AND(NOT(ISBLANK($O160)), $O160<'P&L'!$P$8), AC160, 0)","v":0},{"$f":"IF(OR(ISBLANK($O160), $O160>'BankRec Main Acct'!$E$8), AC160, 0)","v":0},0,{"$f":"IF(AND(NOT(ISBLANK($S160)), $S160<'P&L'!$P$8), AF160, 0)","v":0},{"$f":"IF(OR(ISBLANK($S160), $S160>'BankRec Main Acct'!$E$8), AF160, 0)","v":0},0,{"$f":"IF(AND(NOT(ISBLANK($S160)), $S160<'P&L'!$P$8), AI160, 0)","v":0},{"$f":"IF(OR(ISBLANK($S160), $S160>'BankRec Main Acct'!$E$8), AI160, 0)","v":0},0,{"$f":"IF(AND(NOT(ISBLANK($U160)), $U160<'P&L'!$P$8), $AL160, 0)","v":0},{"$f":"IF(OR(ISBLANK($U160), $U160>'DebitCard Rec '!$E$8), $AL160, 0)","v":0},0,{"$f":"IF(AND(NOT(ISBLANK($U160)), $U160<'P&L'!$P$8), $AO160, 0)","v":0},{"$f":"IF(OR(ISBLANK($U160), $U160>'DebitCard Rec '!$E$8), $AO160, 0)","v":0},0,{"$f":"IF(AND($A160<'P&L'!$P$8, $X160='P&L'!$G$6), $AR160, 0)","v":0},0,{"$f":"IF(AND($A160<'P&L'!$P$8, $X160='P&L'!$G$6), $AT160, 0)","v":0}," "," "," "]
[null,null,null,null,null,null,null,null,null,null,null,null,null,null,null,null,null,null,null,null,null,null,"Jan-00",1900,{"$f":"IF(AND($A161<'P&L'!$P$8, YEAR($A161)=Master!$C$6), $K161, 0)","v":0},0,{"$f":"IF(AND(NOT(ISBLANK($O161)), $O161<'P&L'!$P$8), Z161, 0)","v":0},{"$f":"IF(OR(ISBLANK($O161), $O161>'BankRec Main Acct'!$E$8), Z161, 0)","v":0},0,{"$f":"IF(AND(NOT(ISBLANK($O161)), $O161<'P&L'!$P$8), AC161, 0)","v":0},{"$f":"IF(OR(ISBLANK($O161), $O161>'BankRec Main Acct'!$E$8), AC161, 0)","v":0},0,{"$f":"IF(AND(NOT(ISBLANK($S161)), $S161<'P&L'!$P$8), AF161, 0)","v":0},{"$f":"IF(OR(ISBLANK($S161), $S161>'BankRec Main Acct'!$E$8), AF161, 0)","v":0},0,{"$f":"IF(AND(NOT(ISBLANK($S161)), $S161<'P&L'!$P$8), AI161, 0)","v":0},{"$f":"IF(OR(ISBLANK($S161), $S161>'BankRec Main Acct'!$E$8), AI161, 0)","v":0},0,{"$f":"IF(AND(NOT(ISBLANK($U161)), $U161<'P&L'!$P$8), $AL161, 0)","v":0},{"$f":"IF(OR(ISBLANK($U161), $U161>'DebitCard Rec '!$E$8), $AL161, 0)","v":0},0,{"$f":"IF(AND(NOT(ISBLANK($U161)), $U161<'P&L'!$P$8), $AO161, 0)","v":0},{"$f":"IF(OR(ISBLANK($U161), $U161>'DebitCard Rec '!$E$8), $AO161, 0)","v":0},0,{"$f":"IF(AND($A161<'P&L'!$P$8, $X161='P&L'!$G$6), $AR161, 0)","v":0},0,{"$f":"IF(AND($A161<'P&L'!$P$8, $X161='P&L'!$G$6), $AT161, 0)","v":0}," "," "," "]
[null,null,null,null,null,null,null,null,null,null,null,null,null,null,null,null,null,null,null,null,null,null,"Jan-00",1900,{"$f":"IF(AND($A162<'P&L'!$P$8, YEAR($A162)=Master!$C$6), $K162, 0)","v":0},0,{"$f":"IF(AND(NOT(ISBLANK($O162)), $O162<'P&L'!$P$8), Z162, 0)","v":0},{"$f":"IF(OR(ISBLANK($O162), $O162>'BankRec Main Acct'!$E$8), Z162, 0)","v":0},0,{"$f":"IF(AND(NOT(ISBLANK($O162)), $O162<'P&L'!$P$8), AC162, 0)","v":0},{"$f":"IF(OR(ISBLANK($O162), $O162>'BankRec Main Acct'!$E$8), AC162, 0)","v":0},0,{"$f":"IF(AND(NOT(ISBLANK($S162)), $S162<'P&L'!$P$8), AF162, 0)","v":0},{"$f":"IF(OR(ISBLANK($S162), $S162>'BankRec Main Acct'!$E$8), AF162, 0)","v":0},0,{"$f":"IF(AND(NOT(ISBLANK($S162)), $S162<'P&L'!$P$8), AI162, 0)","v":0},{"$f":"IF(OR(ISBLANK($S162), $S162>'BankRec Main Acct'!$E$8), AI162, 0)","v":0},0,{"$f":"IF(AND(NOT(ISBLANK($U162)), $U162<'P&L'!$P$8), $AL162, 0)","v":0},{"$f":"IF(OR(ISBLANK($U162), $U162>'DebitCard Rec '!$E$8), $AL162, 0)","v":0},0,{"$f":"IF(AND(NOT(ISBLANK($U162)), $U162<'P&L'!$P$8), $AO162, 0)","v":0},{"$f":"IF(OR(ISBLANK($U162), $U162>'DebitCard Rec '!$E$8), $AO162, 0)","v":0},0,{"$f":"IF(AND($A162<'P&L'!$P$8, $X162='P&L'!$G$6), $AR162, 0)","v":0},0,{"$f":"IF(AND($A162<'P&L'!$P$8, $X162='P&L'!$G$6), $AT162, 0)","v":0}," "," "," "]
[null,null,null,null,null,null,null,null,null,null,null,null,null,null,null,null,null,null,null,null,null,null,"Jan-00",1900,{"$f":"IF(AND($A163<'P&L'!$P$8, YEAR($A163)=Master!$C$6), $K163, 0)","v":0},0,{"$f":"IF(AND(NOT(ISBLANK($O163)), $O163<'P&L'!$P$8), Z163, 0)","v":0},{"$f":"IF(OR(ISBLANK($O163), $O163>'BankRec Main Acct'!$E$8), Z163, 0)","v":0},0,{"$f":"IF(AND(NOT(ISBLANK($O163)), $O163<'P&L'!$P$8), AC163, 0)","v":0},{"$f":"IF(OR(ISBLANK($O163), $O163>'BankRec Main Acct'!$E$8), AC163, 0)","v":0},0,{"$f":"IF(AND(NOT(ISBLANK($S163)), $S163<'P&L'!$P$8), AF163, 0)","v":0},{"$f":"IF(OR(ISBLANK($S163), $S163>'BankRec Main Acct'!$E$8), AF163, 0)","v":0},0,{"$f":"IF(AND(NOT(ISBLANK($S163)), $S163<'P&L'!$P$8), AI163, 0)","v":0},{"$f":"IF(OR(ISBLANK($S163), $S163>'BankRec Main Acct'!$E$8), AI163, 0)","v":0},0,{"$f":"IF(AND(NOT(ISBLANK($U163)), $U163<'P&L'!$P$8), $AL163, 0)","v":0},{"$f":"IF(OR(ISBLANK($U163), $U163>'DebitCard Rec '!$E$8), $AL163, 0)","v":0},0,{"$f":"IF(AND(NOT(ISBLANK($U163)), $U163<'P&L'!$P$8), $AO163, 0)","v":0},{"$f":"IF(OR(ISBLANK($U163), $U163>'DebitCard Rec '!$E$8), $AO163, 0)","v":0},0,{"$f":"IF(AND($A163<'P&L'!$P$8, $X163='P&L'!$G$6), $AR163, 0)","v":0},0,{"$f":"IF(AND($A163<'P&L'!$P$8, $X163='P&L'!$G$6), $AT163, 0)","v":0}," "," "," "]
[null,null,null,null,null,null,null,null,null,null,null,null,null,null,null,null,null,null,null,null,null,null,"Jan-00",1900,{"$f":"IF(AND($A164<'P&L'!$P$8, YEAR($A164)=Master!$C$6), $K164, 0)","v":0},0,{"$f":"IF(AND(NOT(ISBLANK($O164)), $O164<'P&L'!$P$8), Z164, 0)","v":0},{"$f":"IF(OR(ISBLANK($O164), $O164>'BankRec Main Acct'!$E$8), Z164, 0)","v":0},0,{"$f":"IF(AND(NOT(ISBLANK($O164)), $O164<'P&L'!$P$8), AC164, 0)","v":0},{"$f":"IF(OR(ISBLANK($O164), $O164>'BankRec Main Acct'!$E$8), AC164, 0)","v":0},0,{"$f":"IF(AND(NOT(ISBLANK($S164)), $S164<'P&L'!$P$8), AF164, 0)","v":0},{"$f":"IF(OR(ISBLANK($S164), $S164>'BankRec Main Acct'!$E$8), AF164, 0)","v":0},0,{"$f":"IF(AND(NOT(ISBLANK($S164)), $S164<'P&L'!$P$8), AI164, 0)","v":0},{"$f":"IF(OR(ISBLANK($S164), $S164>'BankRec Main Acct'!$E$8), AI164, 0)","v":0},0,{"$f":"IF(AND(NOT(ISBLANK($U164)), $U164<'P&L'!$P$8), $AL164, 0)","v":0},{"$f":"IF(OR(ISBLANK($U164), $U164>'DebitCard Rec '!$E$8), $AL164, 0)","v":0},0,{"$f":"IF(AND(NOT(ISBLANK($U164)), $U164<'P&L'!$P$8), $AO164, 0)","v":0},{"$f":"IF(OR(ISBLANK($U164), $U164>'DebitCard Rec '!$E$8), $AO164, 0)","v":0},0,{"$f":"IF(AND($A164<'P&L'!$P$8, $X164='P&L'!$G$6), $AR164, 0)","v":0},0,{"$f":"IF(AND($A164<'P&L'!$P$8, $X164='P&L'!$G$6), $AT164, 0)","v":0}," "," "," "]
[null,null,null,null,null,null,null,null,null,null,null,null,null,null,null,null,null,null,null,null,null,null,"Jan-00",1900,{"$f":"IF(AND($A165<'P&L'!$P$8, YEAR($A165)=Master!$C$6), $K165, 0)","v":0},0,{"$f":"IF(AND(NOT(ISBLANK($O165)), $O165<'P&L'!$P$8), Z165, 0)","v":0},{"$f":"IF(OR(ISBLANK($O165), $O165>'BankRec Main Acct'!$E$8), Z165, 0)","v":0},0,{"$f":"IF(AND(NOT(ISBLANK($O165)), $O165<'P&L'!$P$8), AC165, 0)","v":0},{"$f":"IF(OR(ISBLANK($O165), $O165>'BankRec Main Acct'!$E$8), AC165, 0)","v":0},0,{"$f":"IF(AND(NOT(ISBLANK($S165)), $S165<'P&L'!$P$8), AF165, 0)","v":0},{"$f":"IF(OR(ISBLANK($S165), $S165>'BankRec Main Acct'!$E$8), AF165, 0)","v":0},0,{"$f":"IF(AND(NOT(ISBLANK($S165)), $S165<'P&L'!$P$8), AI165, 0)","v":0},{"$f":"IF(OR(ISBLANK($S165), $S165>'BankRec Main Acct'!$E$8), AI165, 0)","v":0},0,{"$f":"IF(AND(NOT(ISBLANK($U165)), $U165<'P&L'!$P$8), $AL165, 0)","v":0},{"$f":"IF(OR(ISBLANK($U165), $U165>'DebitCard Rec '!$E$8), $AL165, 0)","v":0},0,{"$f":"IF(AND(NOT(ISBLANK($U165)), $U165<'P&L'!$P$8), $AO165, 0)","v":0},{"$f":"IF(OR(ISBLANK($U165), $U165>'DebitCard Rec '!$E$8), $AO165, 0)","v":0},0,{"$f":"IF(AND($A165<'P&L'!$P$8, $X165='P&L'!$G$6), $AR165, 0)","v":0},0,{"$f":"IF(AND($A165<'P&L'!$P$8, $X165='P&L'!$G$6), $AT165, 0)","v":0}," "," "," "]
[null,null,null,null,null,null,null,null,null,null,null,null,null,null,null,null,null,null,null,null,null,null,"Jan-00",1900,{"$f":"IF(AND($A166<'P&L'!$P$8, YEAR($A166)=Master!$C$6), $K166, 0)","v":0},0,{"$f":"IF(AND(NOT(ISBLANK($O166)), $O166<'P&L'!$P$8), Z166, 0)","v":0},{"$f":"IF(OR(ISBLANK($O166), $O166>'BankRec Main Acct'!$E$8), Z166, 0)","v":0},0,{"$f":"IF(AND(NOT(ISBLANK($O166)), $O166<'P&L'!$P$8), AC166, 0)","v":0},{"$f":"IF(OR(ISBLANK($O166), $O166>'BankRec Main Acct'!$E$8), AC166, 0)","v":0},0,{"$f":"IF(AND(NOT(ISBLANK($S166)), $S166<'P&L'!$P$8), AF166, 0)","v":0},{"$f":"IF(OR(ISBLANK($S166), $S166>'BankRec Main Acct'!$E$8), AF166, 0)","v":0},0,{"$f":"IF(AND(NOT(ISBLANK($S166)), $S166<'P&L'!$P$8), AI166, 0)","v":0},{"$f":"IF(OR(ISBLANK($S166), $S166>'BankRec Main Acct'!$E$8), AI166, 0)","v":0},0,{"$f":"IF(AND(NOT(ISBLANK($U166)), $U166<'P&L'!$P$8), $AL166, 0)","v":0},{"$f":"IF(OR(ISBLANK($U166), $U166>'DebitCard Rec '!$E$8), $AL166, 0)","v":0},0,{"$f":"IF(AND(NOT(ISBLANK($U166)), $U166<'P&L'!$P$8), $AO166, 0)","v":0},{"$f":"IF(OR(ISBLANK($U166), $U166>'DebitCard Rec '!$E$8), $AO166, 0)","v":0},0,{"$f":"IF(AND($A166<'P&L'!$P$8, $X166='P&L'!$G$6), $AR166, 0)","v":0},0,{"$f":"IF(AND($A166<'P&L'!$P$8, $X166='P&L'!$G$6), $AT166, 0)","v":0}," "," "," "]
[null,null,null,null,null,null,null,null,null,null,null,null,null,null,null,null,null,null,null,null,null,null,"Jan-00",1900,{"$f":"IF(AND($A167<'P&L'!$P$8, YEAR($A167)=Master!$C$6), $K167, 0)","v":0},0,{"$f":"IF(AND(NOT(ISBLANK($O167)), $O167<'P&L'!$P$8), Z167, 0)","v":0},{"$f":"IF(OR(ISBLANK($O167), $O167>'BankRec Main Acct'!$E$8), Z167, 0)","v":0},0,{"$f":"IF(AND(NOT(ISBLANK($O167)), $O167<'P&L'!$P$8), AC167, 0)","v":0},{"$f":"IF(OR(ISBLANK($O167), $O167>'BankRec Main Acct'!$E$8), AC167, 0)","v":0},0,{"$f":"IF(AND(NOT(ISBLANK($S167)), $S167<'P&L'!$P$8), AF167, 0)","v":0},{"$f":"IF(OR(ISBLANK($S167), $S167>'BankRec Main Acct'!$E$8), AF167, 0)","v":0},0,{"$f":"IF(AND(NOT(ISBLANK($S167)), $S167<'P&L'!$P$8), AI167, 0)","v":0},{"$f":"IF(OR(ISBLANK($S167), $S167>'BankRec Main Acct'!$E$8), AI167, 0)","v":0},0,{"$f":"IF(AND(NOT(ISBLANK($U167)), $U167<'P&L'!$P$8), $AL167, 0)","v":0},{"$f":"IF(OR(ISBLANK($U167), $U167>'DebitCard Rec '!$E$8), $AL167, 0)","v":0},0,{"$f":"IF(AND(NOT(ISBLANK($U167)), $U167<'P&L'!$P$8), $AO167, 0)","v":0},{"$f":"IF(OR(ISBLANK($U167), $U167>'DebitCard Rec '!$E$8), $AO167, 0)","v":0},0,{"$f":"IF(AND($A167<'P&L'!$P$8, $X167='P&L'!$G$6), $AR167, 0)","v":0},0,{"$f":"IF(AND($A167<'P&L'!$P$8, $X167='P&L'!$G$6), $AT167, 0)","v":0}," "," "," "]
[null,null,null,null,null,null,null,null,null,null,null,null,null,null,null,null,null,null,null,null,null,null,"Jan-00",1900,{"$f":"IF(AND($A168<'P&L'!$P$8, YEAR($A168)=Master!$C$6), $K168, 0)","v":0},0,{"$f":"IF(AND(NOT(ISBLANK($O168)), $O168<'P&L'!$P$8), Z168, 0)","v":0},{"$f":"IF(OR(ISBLANK($O168), $O168>'BankRec Main Acct'!$E$8), Z168, 0)","v":0},0,{"$f":"IF(AND(NOT(ISBLANK($O168)), $O168<'P&L'!$P$8), AC168, 0)","v":0},{"$f":"IF(OR(ISBLANK($O168), $O168>'BankRec Main Acct'!$E$8), AC168, 0)","v":0},0,{"$f":"IF(AND(NOT(ISBLANK($S168)), $S168<'P&L'!$P$8), AF168, 0)","v":0},{"$f":"IF(OR(ISBLANK($S168), $S168>'BankRec Main Acct'!$E$8), AF168, 0)","v":0},0,{"$f":"IF(AND(NOT(ISBLANK($S168)), $S168<'P&L'!$P$8), AI168, 0)","v":0},{"$f":"IF(OR(ISBLANK($S168), $S168>'BankRec Main Acct'!$E$8), AI168, 0)","v":0},0,{"$f":"IF(AND(NOT(ISBLANK($U168)), $U168<'P&L'!$P$8), $AL168, 0)","v":0},{"$f":"IF(OR(ISBLANK($U168), $U168>'DebitCard Rec '!$E$8), $AL168, 0)","v":0},0,{"$f":"IF(AND(NOT(ISBLANK($U168)), $U168<'P&L'!$P$8), $AO168, 0)","v":0},{"$f":"IF(OR(ISBLANK($U168), $U168>'DebitCard Rec '!$E$8), $AO168, 0)","v":0},0,{"$f":"IF(AND($A168<'P&L'!$P$8, $X168='P&L'!$G$6), $AR168, 0)","v":0},0,{"$f":"IF(AND($A168<'P&L'!$P$8, $X168='P&L'!$G$6), $AT168, 0)","v":0}," "," "," "]
[null,null,null,null,null,null,null,null,null,null,null,null,null,null,null,null,null,null,null,null,null,null,"Jan-00",1900,{"$f":"IF(AND($A169<'P&L'!$P$8, YEAR($A169)=Master!$C$6), $K169, 0)","v":0},0,{"$f":"IF(AND(NOT(ISBLANK($O169)), $O169<'P&L'!$P$8), Z169, 0)","v":0},{"$f":"IF(OR(ISBLANK($O169), $O169>'BankRec Main Acct'!$E$8), Z169, 0)","v":0},0,{"$f":"IF(AND(NOT(ISBLANK($O169)), $O169<'P&L'!$P$8), AC169, 0)","v":0},{"$f":"IF(OR(ISBLANK($O169), $O169>'BankRec Main Acct'!$E$8), AC169, 0)","v":0},0,{"$f":"IF(AND(NOT(ISBLANK($S169)), $S169<'P&L'!$P$8), AF169, 0)","v":0},{"$f":"IF(OR(ISBLANK($S169), $S169>'BankRec Main Acct'!$E$8), AF169, 0)","v":0},0,{"$f":"IF(AND(NOT(ISBLANK($S169)), $S169<'P&L'!$P$8), AI169, 0)","v":0},{"$f":"IF(OR(ISBLANK($S169), $S169>'BankRec Main Acct'!$E$8), AI169, 0)","v":0},0,{"$f":"IF(AND(NOT(ISBLANK($U169)), $U169<'P&L'!$P$8), $AL169, 0)","v":0},{"$f":"IF(OR(ISBLANK($U169), $U169>'DebitCard Rec '!$E$8), $AL169, 0)","v":0},0,{"$f":"IF(AND(NOT(ISBLANK($U169)), $U169<'P&L'!$P$8), $AO169, 0)","v":0},{"$f":"IF(OR(ISBLANK($U169), $U169>'DebitCard Rec '!$E$8), $AO169, 0)","v":0},0,{"$f":"IF(AND($A169<'P&L'!$P$8, $X169='P&L'!$G$6), $AR169, 0)","v":0},0,{"$f":"IF(AND($A169<'P&L'!$P$8, $X169='P&L'!$G$6), $AT169, 0)","v":0}," "," "," "]
[null,null,null,null,null,null,null,null,null,null,null,null,null,null,null,null,null,null,null,null,null,null,"Jan-00",1900,{"$f":"IF(AND($A170<'P&L'!$P$8, YEAR($A170)=Master!$C$6), $K170, 0)","v":0},0,{"$f":"IF(AND(NOT(ISBLANK($O170)), $O170<'P&L'!$P$8), Z170, 0)","v":0},{"$f":"IF(OR(ISBLANK($O170), $O170>'BankRec Main Acct'!$E$8), Z170, 0)","v":0},0,{"$f":"IF(AND(NOT(ISBLANK($O170)), $O170<'P&L'!$P$8), AC170, 0)","v":0},{"$f":"IF(OR(ISBLANK($O170), $O170>'BankRec Main Acct'!$E$8), AC170, 0)","v":0},0,{"$f":"IF(AND(NOT(ISBLANK($S170)), $S170<'P&L'!$P$8), AF170, 0)","v":0},{"$f":"IF(OR(ISBLANK($S170), $S170>'BankRec Main Acct'!$E$8), AF170, 0)","v":0},0,{"$f":"IF(AND(NOT(ISBLANK($S170)), $S170<'P&L'!$P$8), AI170, 0)","v":0},{"$f":"IF(OR(ISBLANK($S170), $S170>'BankRec Main Acct'!$E$8), AI170, 0)","v":0},0,{"$f":"IF(AND(NOT(ISBLANK($U170)), $U170<'P&L'!$P$8), $AL170, 0)","v":0},{"$f":"IF(OR(ISBLANK($U170), $U170>'DebitCard Rec '!$E$8), $AL170, 0)","v":0},0,{"$f":"IF(AND(NOT(ISBLANK($U170)), $U170<'P&L'!$P$8), $AO170, 0)","v":0},{"$f":"IF(OR(ISBLANK($U170), $U170>'DebitCard Rec '!$E$8), $AO170, 0)","v":0},0,{"$f":"IF(AND($A170<'P&L'!$P$8, $X170='P&L'!$G$6), $AR170, 0)","v":0},0,{"$f":"IF(AND($A170<'P&L'!$P$8, $X170='P&L'!$G$6), $AT170, 0)","v":0}," "," "," "]
[null,null,null,null,null,null,null,null,null,null,null,null,null,null,null,null,null,null,null,null,null,null,"Jan-00",1900,{"$f":"IF(AND($A171<'P&L'!$P$8, YEAR($A171)=Master!$C$6), $K171, 0)","v":0},0,{"$f":"IF(AND(NOT(ISBLANK($O171)), $O171<'P&L'!$P$8), Z171, 0)","v":0},{"$f":"IF(OR(ISBLANK($O171), $O171>'BankRec Main Acct'!$E$8), Z171, 0)","v":0},0,{"$f":"IF(AND(NOT(ISBLANK($O171)), $O171<'P&L'!$P$8), AC171, 0)","v":0},{"$f":"IF(OR(ISBLANK($O171), $O171>'BankRec Main Acct'!$E$8), AC171, 0)","v":0},0,{"$f":"IF(AND(NOT(ISBLANK($S171)), $S171<'P&L'!$P$8), AF171, 0)","v":0},{"$f":"IF(OR(ISBLANK($S171), $S171>'BankRec Main Acct'!$E$8), AF171, 0)","v":0},0,{"$f":"IF(AND(NOT(ISBLANK($S171)), $S171<'P&L'!$P$8), AI171, 0)","v":0},{"$f":"IF(OR(ISBLANK($S171), $S171>'BankRec Main Acct'!$E$8), AI171, 0)","v":0},0,{"$f":"IF(AND(NOT(ISBLANK($U171)), $U171<'P&L'!$P$8), $AL171, 0)","v":0},{"$f":"IF(OR(ISBLANK($U171), $U171>'DebitCard Rec '!$E$8), $AL171, 0)","v":0},0,{"$f":"IF(AND(NOT(ISBLANK($U171)), $U171<'P&L'!$P$8), $AO171, 0)","v":0},{"$f":"IF(OR(ISBLANK($U171), $U171>'DebitCard Rec '!$E$8), $AO171, 0)","v":0},0,{"$f":"IF(AND($A171<'P&L'!$P$8, $X171='P&L'!$G$6), $AR171, 0)","v":0},0,{"$f":"IF(AND($A171<'P&L'!$P$8, $X171='P&L'!$G$6), $AT171, 0)","v":0}," "," "," "]
[null,null,null,null,null,null,null,null,null,null,null,null,null,null,null,null,null,null,null,null,null,null,"Jan-00",1900,{"$f":"IF(AND($A172<'P&L'!$P$8, YEAR($A172)=Master!$C$6), $K172, 0)","v":0},0,{"$f":"IF(AND(NOT(ISBLANK($O172)), $O172<'P&L'!$P$8), Z172, 0)","v":0},{"$f":"IF(OR(ISBLANK($O172), $O172>'BankRec Main Acct'!$E$8), Z172, 0)","v":0},0,{"$f":"IF(AND(NOT(ISBLANK($O172)), $O172<'P&L'!$P$8), AC172, 0)","v":0},{"$f":"IF(OR(ISBLANK($O172), $O172>'BankRec Main Acct'!$E$8), AC172, 0)","v":0},0,{"$f":"IF(AND(NOT(ISBLANK($S172)), $S172<'P&L'!$P$8), AF172, 0)","v":0},{"$f":"IF(OR(ISBLANK($S172), $S172>'BankRec Main Acct'!$E$8), AF172, 0)","v":0},0,{"$f":"IF(AND(NOT(ISBLANK($S172)), $S172<'P&L'!$P$8), AI172, 0)","v":0},{"$f":"IF(OR(ISBLANK($S172), $S172>'BankRec Main Acct'!$E$8), AI172, 0)","v":0},0,{"$f":"IF(AND(NOT(ISBLANK($U172)), $U172<'P&L'!$P$8), $AL172, 0)","v":0},{"$f":"IF(OR(ISBLANK($U172), $U172>'DebitCard Rec '!$E$8), $AL172, 0)","v":0},0,{"$f":"IF(AND(NOT(ISBLANK($U172)), $U172<'P&L'!$P$8), $AO172, 0)","v":0},{"$f":"IF(OR(ISBLANK($U172), $U172>'DebitCard Rec '!$E$8), $AO172, 0)","v":0},0,{"$f":"IF(AND($A172<'P&L'!$P$8, $X172='P&L'!$G$6), $AR172, 0)","v":0},0,{"$f":"IF(AND($A172<'P&L'!$P$8, $X172='P&L'!$G$6), $AT172, 0)","v":0}," "," "," "]
[null,null,null,null,null,null,null,null,null,null,null,null,null,null,null,null,null,null,null,null,null,null,"Jan-00",1900,{"$f":"IF(AND($A173<'P&L'!$P$8, YEAR($A173)=Master!$C$6), $K173, 0)","v":0},0,{"$f":"IF(AND(NOT(ISBLANK($O173)), $O173<'P&L'!$P$8), Z173, 0)","v":0},{"$f":"IF(OR(ISBLANK($O173), $O173>'BankRec Main Acct'!$E$8), Z173, 0)","v":0},0,{"$f":"IF(AND(NOT(ISBLANK($O173)), $O173<'P&L'!$P$8), AC173, 0)","v":0},{"$f":"IF(OR(ISBLANK($O173), $O173>'BankRec Main Acct'!$E$8), AC173, 0)","v":0},0,{"$f":"IF(AND(NOT(ISBLANK($S173)), $S173<'P&L'!$P$8), AF173, 0)","v":0},{"$f":"IF(OR(ISBLANK($S173), $S173>'BankRec Main Acct'!$E$8), AF173, 0)","v":0},0,{"$f":"IF(AND(NOT(ISBLANK($S173)), $S173<'P&L'!$P$8), AI173, 0)","v":0},{"$f":"IF(OR(ISBLANK($S173), $S173>'BankRec Main Acct'!$E$8), AI173, 0)","v":0},0,{"$f":"IF(AND(NOT(ISBLANK($U173)), $U173<'P&L'!$P$8), $AL173, 0)","v":0},{"$f":"IF(OR(ISBLANK($U173), $U173>'DebitCard Rec '!$E$8), $AL173, 0)","v":0},0,{"$f":"IF(AND(NOT(ISBLANK($U173)), $U173<'P&L'!$P$8), $AO173, 0)","v":0},{"$f":"IF(OR(ISBLANK($U173), $U173>'DebitCard Rec '!$E$8), $AO173, 0)","v":0},0,{"$f":"IF(AND($A173<'P&L'!$P$8, $X173='P&L'!$G$6), $AR173, 0)","v":0},0,{"$f":"IF(AND($A173<'P&L'!$P$8, $X173='P&L'!$G$6), $AT173, 0)","v":0}," "," "," "]
[null,null,null,null,null,null,null,null,null,null,null,null,null,null,null,null,null,null,null,null,null,null,"Jan-00",1900,{"$f":"IF(AND($A174<'P&L'!$P$8, YEAR($A174)=Master!$C$6), $K174, 0)","v":0},0,{"$f":"IF(AND(NOT(ISBLANK($O174)), $O174<'P&L'!$P$8), Z174, 0)","v":0},{"$f":"IF(OR(ISBLANK($O174), $O174>'BankRec Main Acct'!$E$8), Z174, 0)","v":0},0,{"$f":"IF(AND(NOT(ISBLANK($O174)), $O174<'P&L'!$P$8), AC174, 0)","v":0},{"$f":"IF(OR(ISBLANK($O174), $O174>'BankRec Main Acct'!$E$8), AC174, 0)","v":0},0,{"$f":"IF(AND(NOT(ISBLANK($S174)), $S174<'P&L'!$P$8), AF174, 0)","v":0},{"$f":"IF(OR(ISBLANK($S174), $S174>'BankRec Main Acct'!$E$8), AF174, 0)","v":0},0,{"$f":"IF(AND(NOT(ISBLANK($S174)), $S174<'P&L'!$P$8), AI174, 0)","v":0},{"$f":"IF(OR(ISBLANK($S174), $S174>'BankRec Main Acct'!$E$8), AI174, 0)","v":0},0,{"$f":"IF(AND(NOT(ISBLANK($U174)), $U174<'P&L'!$P$8), $AL174, 0)","v":0},{"$f":"IF(OR(ISBLANK($U174), $U174>'DebitCard Rec '!$E$8), $AL174, 0)","v":0},0,{"$f":"IF(AND(NOT(ISBLANK($U174)), $U174<'P&L'!$P$8), $AO174, 0)","v":0},{"$f":"IF(OR(ISBLANK($U174), $U174>'DebitCard Rec '!$E$8), $AO174, 0)","v":0},0,{"$f":"IF(AND($A174<'P&L'!$P$8, $X174='P&L'!$G$6), $AR174, 0)","v":0},0,{"$f":"IF(AND($A174<'P&L'!$P$8, $X174='P&L'!$G$6), $AT174, 0)","v":0}," "," "," "]
[null,null,null,null,null,null,null,null,null,null,null,null,null,null,null,null,null,null,null,null,null,null,"Jan-00",1900,{"$f":"IF(AND($A175<'P&L'!$P$8, YEAR($A175)=Master!$C$6), $K175, 0)","v":0},0,{"$f":"IF(AND(NOT(ISBLANK($O175)), $O175<'P&L'!$P$8), Z175, 0)","v":0},{"$f":"IF(OR(ISBLANK($O175), $O175>'BankRec Main Acct'!$E$8), Z175, 0)","v":0},0,{"$f":"IF(AND(NOT(ISBLANK($O175)), $O175<'P&L'!$P$8), AC175, 0)","v":0},{"$f":"IF(OR(ISBLANK($O175), $O175>'BankRec Main Acct'!$E$8), AC175, 0)","v":0},0,{"$f":"IF(AND(NOT(ISBLANK($S175)), $S175<'P&L'!$P$8), AF175, 0)","v":0},{"$f":"IF(OR(ISBLANK($S175), $S175>'BankRec Main Acct'!$E$8), AF175, 0)","v":0},0,{"$f":"IF(AND(NOT(ISBLANK($S175)), $S175<'P&L'!$P$8), AI175, 0)","v":0},{"$f":"IF(OR(ISBLANK($S175), $S175>'BankRec Main Acct'!$E$8), AI175, 0)","v":0},0,{"$f":"IF(AND(NOT(ISBLANK($U175)), $U175<'P&L'!$P$8), $AL175, 0)","v":0},{"$f":"IF(OR(ISBLANK($U175), $U175>'DebitCard Rec '!$E$8), $AL175, 0)","v":0},0,{"$f":"IF(AND(NOT(ISBLANK($U175)), $U175<'P&L'!$P$8), $AO175, 0)","v":0},{"$f":"IF(OR(ISBLANK($U175), $U175>'DebitCard Rec '!$E$8), $AO175, 0)","v":0},0,{"$f":"IF(AND($A175<'P&L'!$P$8, $X175='P&L'!$G$6), $AR175, 0)","v":0},0,{"$f":"IF(AND($A175<'P&L'!$P$8, $X175='P&L'!$G$6), $AT175, 0)","v":0}," "," "," "]
[null,null,null,null,null,null,null,null,null,null,null,null,null,null,null,null,null,null,null,null,null,null,"Jan-00",1900,{"$f":"IF(AND($A176<'P&L'!$P$8, YEAR($A176)=Master!$C$6), $K176, 0)","v":0},0,{"$f":"IF(AND(NOT(ISBLANK($O176)), $O176<'P&L'!$P$8), Z176, 0)","v":0},{"$f":"IF(OR(ISBLANK($O176), $O176>'BankRec Main Acct'!$E$8), Z176, 0)","v":0},0,{"$f":"IF(AND(NOT(ISBLANK($O176)), $O176<'P&L'!$P$8), AC176, 0)","v":0},{"$f":"IF(OR(ISBLANK($O176), $O176>'BankRec Main Acct'!$E$8), AC176, 0)","v":0},0,{"$f":"IF(AND(NOT(ISBLANK($S176)), $S176<'P&L'!$P$8), AF176, 0)","v":0},{"$f":"IF(OR(ISBLANK($S176), $S176>'BankRec Main Acct'!$E$8), AF176, 0)","v":0},0,{"$f":"IF(AND(NOT(ISBLANK($S176)), $S176<'P&L'!$P$8), AI176, 0)","v":0},{"$f":"IF(OR(ISBLANK($S176), $S176>'BankRec Main Acct'!$E$8), AI176, 0)","v":0},0,{"$f":"IF(AND(NOT(ISBLANK($U176)), $U176<'P&L'!$P$8), $AL176, 0)","v":0},{"$f":"IF(OR(ISBLANK($U176), $U176>'DebitCard Rec '!$E$8), $AL176, 0)","v":0},0,{"$f":"IF(AND(NOT(ISBLANK($U176)), $U176<'P&L'!$P$8), $AO176, 0)","v":0},{"$f":"IF(OR(ISBLANK($U176), $U176>'DebitCard Rec '!$E$8), $AO176, 0)","v":0},0,{"$f":"IF(AND($A176<'P&L'!$P$8, $X176='P&L'!$G$6), $AR176, 0)","v":0},0,{"$f":"IF(AND($A176<'P&L'!$P$8, $X176='P&L'!$G$6), $AT176, 0)","v":0}," "," "," "]
[null,null,null,null,null,null,null,null,null,null,null,null,null,null,null,null,null,null,null,null,null,null,"Jan-00",1900,{"$f":"IF(AND($A177<'P&L'!$P$8, YEAR($A177)=Master!$C$6), $K177, 0)","v":0},0,{"$f":"IF(AND(NOT(ISBLANK($O177)), $O177<'P&L'!$P$8), Z177, 0)","v":0},{"$f":"IF(OR(ISBLANK($O177), $O177>'BankRec Main Acct'!$E$8), Z177, 0)","v":0},0,{"$f":"IF(AND(NOT(ISBLANK($O177)), $O177<'P&L'!$P$8), AC177, 0)","v":0},{"$f":"IF(OR(ISBLANK($O177), $O177>'BankRec Main Acct'!$E$8), AC177, 0)","v":0},0,{"$f":"IF(AND(NOT(ISBLANK($S177)), $S177<'P&L'!$P$8), AF177, 0)","v":0},{"$f":"IF(OR(ISBLANK($S177), $S177>'BankRec Main Acct'!$E$8), AF177, 0)","v":0},0,{"$f":"IF(AND(NOT(ISBLANK($S177)), $S177<'P&L'!$P$8), AI177, 0)","v":0},{"$f":"IF(OR(ISBLANK($S177), $S177>'BankRec Main Acct'!$E$8), AI177, 0)","v":0},0,{"$f":"IF(AND(NOT(ISBLANK($U177)), $U177<'P&L'!$P$8), $AL177, 0)","v":0},{"$f":"IF(OR(ISBLANK($U177), $U177>'DebitCard Rec '!$E$8), $AL177, 0)","v":0},0,{"$f":"IF(AND(NOT(ISBLANK($U177)), $U177<'P&L'!$P$8), $AO177, 0)","v":0},{"$f":"IF(OR(ISBLANK($U177), $U177>'DebitCard Rec '!$E$8), $AO177, 0)","v":0},0,{"$f":"IF(AND($A177<'P&L'!$P$8, $X177='P&L'!$G$6), $AR177, 0)","v":0},0,{"$f":"IF(AND($A177<'P&L'!$P$8, $X177='P&L'!$G$6), $AT177, 0)","v":0}," "," "," "]
[null,null,null,null,null,null,null,null,null,null,null,null,null,null,null,null,null,null,null,null,null,null,"Jan-00",1900,{"$f":"IF(AND($A178<'P&L'!$P$8, YEAR($A178)=Master!$C$6), $K178, 0)","v":0},0,{"$f":"IF(AND(NOT(ISBLANK($O178)), $O178<'P&L'!$P$8), Z178, 0)","v":0},{"$f":"IF(OR(ISBLANK($O178), $O178>'BankRec Main Acct'!$E$8), Z178, 0)","v":0},0,{"$f":"IF(AND(NOT(ISBLANK($O178)), $O178<'P&L'!$P$8), AC178, 0)","v":0},{"$f":"IF(OR(ISBLANK($O178), $O178>'BankRec Main Acct'!$E$8), AC178, 0)","v":0},0,{"$f":"IF(AND(NOT(ISBLANK($S178)), $S178<'P&L'!$P$8), AF178, 0)","v":0},{"$f":"IF(OR(ISBLANK($S178), $S178>'BankRec Main Acct'!$E$8), AF178, 0)","v":0},0,{"$f":"IF(AND(NOT(ISBLANK($S178)), $S178<'P&L'!$P$8), AI178, 0)","v":0},{"$f":"IF(OR(ISBLANK($S178), $S178>'BankRec Main Acct'!$E$8), AI178, 0)","v":0},0,{"$f":"IF(AND(NOT(ISBLANK($U178)), $U178<'P&L'!$P$8), $AL178, 0)","v":0},{"$f":"IF(OR(ISBLANK($U178), $U178>'DebitCard Rec '!$E$8), $AL178, 0)","v":0},0,{"$f":"IF(AND(NOT(ISBLANK($U178)), $U178<'P&L'!$P$8), $AO178, 0)","v":0},{"$f":"IF(OR(ISBLANK($U178), $U178>'DebitCard Rec '!$E$8), $AO178, 0)","v":0},0,{"$f":"IF(AND($A178<'P&L'!$P$8, $X178='P&L'!$G$6), $AR178, 0)","v":0},0,{"$f":"IF(AND($A178<'P&L'!$P$8, $X178='P&L'!$G$6), $AT178, 0)","v":0}," "," "," "]
[null,null,null,null,null,null,null,null,null,null,null,null,null,null,null,null,null,null,null,null,null,null,"Jan-00",1900,{"$f":"IF(AND($A179<'P&L'!$P$8, YEAR($A179)=Master!$C$6), $K179, 0)","v":0},0,{"$f":"IF(AND(NOT(ISBLANK($O179)), $O179<'P&L'!$P$8), Z179, 0)","v":0},{"$f":"IF(OR(ISBLANK($O179), $O179>'BankRec Main Acct'!$E$8), Z179, 0)","v":0},0,{"$f":"IF(AND(NOT(ISBLANK($O179)), $O179<'P&L'!$P$8), AC179, 0)","v":0},{"$f":"IF(OR(ISBLANK($O179), $O179>'BankRec Main Acct'!$E$8), AC179, 0)","v":0},0,{"$f":"IF(AND(NOT(ISBLANK($S179)), $S179<'P&L'!$P$8), AF179, 0)","v":0},{"$f":"IF(OR(ISBLANK($S179), $S179>'BankRec Main Acct'!$E$8), AF179, 0)","v":0},0,{"$f":"IF(AND(NOT(ISBLANK($S179)), $S179<'P&L'!$P$8), AI179, 0)","v":0},{"$f":"IF(OR(ISBLANK($S179), $S179>'BankRec Main Acct'!$E$8), AI179, 0)","v":0},0,{"$f":"IF(AND(NOT(ISBLANK($U179)), $U179<'P&L'!$P$8), $AL179, 0)","v":0},{"$f":"IF(OR(ISBLANK($U179), $U179>'DebitCard Rec '!$E$8), $AL179, 0)","v":0},0,{"$f":"IF(AND(NOT(ISBLANK($U179)), $U179<'P&L'!$P$8), $AO179, 0)","v":0},{"$f":"IF(OR(ISBLANK($U179), $U179>'DebitCard Rec '!$E$8), $AO179, 0)","v":0},0,{"$f":"IF(AND($A179<'P&L'!$P$8, $X179='P&L'!$G$6), $AR179, 0)","v":0},0,{"$f":"IF(AND($A179<'P&L'!$P$8, $X179='P&L'!$G$6), $AT179, 0)","v":0}," "," "," "]
[null,null,null,null,null,null,null,null,null,null,null,null,null,null,null,null,null,null,null,null,null,null,"Jan-00",1900,{"$f":"IF(AND($A180<'P&L'!$P$8, YEAR($A180)=Master!$C$6), $K180, 0)","v":0},0,{"$f":"IF(AND(NOT(ISBLANK($O180)), $O180<'P&L'!$P$8), Z180, 0)","v":0},{"$f":"IF(OR(ISBLANK($O180), $O180>'BankRec Main Acct'!$E$8), Z180, 0)","v":0},0,{"$f":"IF(AND(NOT(ISBLANK($O180)), $O180<'P&L'!$P$8), AC180, 0)","v":0},{"$f":"IF(OR(ISBLANK($O180), $O180>'BankRec Main Acct'!$E$8), AC180, 0)","v":0},0,{"$f":"IF(AND(NOT(ISBLANK($S180)), $S180<'P&L'!$P$8), AF180, 0)","v":0},{"$f":"IF(OR(ISBLANK($S180), $S180>'BankRec Main Acct'!$E$8), AF180, 0)","v":0},0,{"$f":"IF(AND(NOT(ISBLANK($S180)), $S180<'P&L'!$P$8), AI180, 0)","v":0},{"$f":"IF(OR(ISBLANK($S180), $S180>'BankRec Main Acct'!$E$8), AI180, 0)","v":0},0,{"$f":"IF(AND(NOT(ISBLANK($U180)), $U180<'P&L'!$P$8), $AL180, 0)","v":0},{"$f":"IF(OR(ISBLANK($U180), $U180>'DebitCard Rec '!$E$8), $AL180, 0)","v":0},0,{"$f":"IF(AND(NOT(ISBLANK($U180)), $U180<'P&L'!$P$8), $AO180, 0)","v":0},{"$f":"IF(OR(ISBLANK($U180), $U180>'DebitCard Rec '!$E$8), $AO180, 0)","v":0},0,{"$f":"IF(AND($A180<'P&L'!$P$8, $X180='P&L'!$G$6), $AR180, 0)","v":0},0,{"$f":"IF(AND($A180<'P&L'!$P$8, $X180='P&L'!$G$6), $AT180, 0)","v":0}," "," "," "]
[null,null,null,null,null,null,null,null,null,null,null,null,null,null,null,null,null,null,null,null,null,null,"Jan-00",1900,{"$f":"IF(AND($A181<'P&L'!$P$8, YEAR($A181)=Master!$C$6), $K181, 0)","v":0},0,{"$f":"IF(AND(NOT(ISBLANK($O181)), $O181<'P&L'!$P$8), Z181, 0)","v":0},{"$f":"IF(OR(ISBLANK($O181), $O181>'BankRec Main Acct'!$E$8), Z181, 0)","v":0},0,{"$f":"IF(AND(NOT(ISBLANK($O181)), $O181<'P&L'!$P$8), AC181, 0)","v":0},{"$f":"IF(OR(ISBLANK($O181), $O181>'BankRec Main Acct'!$E$8), AC181, 0)","v":0},0,{"$f":"IF(AND(NOT(ISBLANK($S181)), $S181<'P&L'!$P$8), AF181, 0)","v":0},{"$f":"IF(OR(ISBLANK($S181), $S181>'BankRec Main Acct'!$E$8), AF181, 0)","v":0},0,{"$f":"IF(AND(NOT(ISBLANK($S181)), $S181<'P&L'!$P$8), AI181, 0)","v":0},{"$f":"IF(OR(ISBLANK($S181), $S181>'BankRec Main Acct'!$E$8), AI181, 0)","v":0},0,{"$f":"IF(AND(NOT(ISBLANK($U181)), $U181<'P&L'!$P$8), $AL181, 0)","v":0},{"$f":"IF(OR(ISBLANK($U181), $U181>'DebitCard Rec '!$E$8), $AL181, 0)","v":0},0,{"$f":"IF(AND(NOT(ISBLANK($U181)), $U181<'P&L'!$P$8), $AO181, 0)","v":0},{"$f":"IF(OR(ISBLANK($U181), $U181>'DebitCard Rec '!$E$8), $AO181, 0)","v":0},0,{"$f":"IF(AND($A181<'P&L'!$P$8, $X181='P&L'!$G$6), $AR181, 0)","v":0},0,{"$f":"IF(AND($A181<'P&L'!$P$8, $X181='P&L'!$G$6), $AT181, 0)","v":0}," "," "," "]
[null,null,null,null,null,null,null,null,null,null,null,null,null,null,null,null,null,null,null,null,null,null,"Jan-00",1900,{"$f":"IF(AND($A182<'P&L'!$P$8, YEAR($A182)=Master!$C$6), $K182, 0)","v":0},0,{"$f":"IF(AND(NOT(ISBLANK($O182)), $O182<'P&L'!$P$8), Z182, 0)","v":0},{"$f":"IF(OR(ISBLANK($O182), $O182>'BankRec Main Acct'!$E$8), Z182, 0)","v":0},0,{"$f":"IF(AND(NOT(ISBLANK($O182)), $O182<'P&L'!$P$8), AC182, 0)","v":0},{"$f":"IF(OR(ISBLANK($O182), $O182>'BankRec Main Acct'!$E$8), AC182, 0)","v":0},0,{"$f":"IF(AND(NOT(ISBLANK($S182)), $S182<'P&L'!$P$8), AF182, 0)","v":0},{"$f":"IF(OR(ISBLANK($S182), $S182>'BankRec Main Acct'!$E$8), AF182, 0)","v":0},0,{"$f":"IF(AND(NOT(ISBLANK($S182)), $S182<'P&L'!$P$8), AI182, 0)","v":0},{"$f":"IF(OR(ISBLANK($S182), $S182>'BankRec Main Acct'!$E$8), AI182, 0)","v":0},0,{"$f":"IF(AND(NOT(ISBLANK($U182)), $U182<'P&L'!$P$8), $AL182, 0)","v":0},{"$f":"IF(OR(ISBLANK($U182), $U182>'DebitCard Rec '!$E$8), $AL182, 0)","v":0},0,{"$f":"IF(AND(NOT(ISBLANK($U182)), $U182<'P&L'!$P$8), $AO182, 0)","v":0},{"$f":"IF(OR(ISBLANK($U182), $U182>'DebitCard Rec '!$E$8), $AO182, 0)","v":0},0,{"$f":"IF(AND($A182<'P&L'!$P$8, $X182='P&L'!$G$6), $AR182, 0)","v":0},0,{"$f":"IF(AND($A182<'P&L'!$P$8, $X182='P&L'!$G$6), $AT182, 0)","v":0}," "," "," "]
[null,null,null,null,null,null,null,null,null,null,null,null,null,null,null,null,null,null,null,null,null,null,"Jan-00",1900,{"$f":"IF(AND($A183<'P&L'!$P$8, YEAR($A183)=Master!$C$6), $K183, 0)","v":0},0,{"$f":"IF(AND(NOT(ISBLANK($O183)), $O183<'P&L'!$P$8), Z183, 0)","v":0},{"$f":"IF(OR(ISBLANK($O183), $O183>'BankRec Main Acct'!$E$8), Z183, 0)","v":0},0,{"$f":"IF(AND(NOT(ISBLANK($O183)), $O183<'P&L'!$P$8), AC183, 0)","v":0},{"$f":"IF(OR(ISBLANK($O183), $O183>'BankRec Main Acct'!$E$8), AC183, 0)","v":0},0,{"$f":"IF(AND(NOT(ISBLANK($S183)), $S183<'P&L'!$P$8), AF183, 0)","v":0},{"$f":"IF(OR(ISBLANK($S183), $S183>'BankRec Main Acct'!$E$8), AF183, 0)","v":0},0,{"$f":"IF(AND(NOT(ISBLANK($S183)), $S183<'P&L'!$P$8), AI183, 0)","v":0},{"$f":"IF(OR(ISBLANK($S183), $S183>'BankRec Main Acct'!$E$8), AI183, 0)","v":0},0,{"$f":"IF(AND(NOT(ISBLANK($U183)), $U183<'P&L'!$P$8), $AL183, 0)","v":0},{"$f":"IF(OR(ISBLANK($U183), $U183>'DebitCard Rec '!$E$8), $AL183, 0)","v":0},0,{"$f":"IF(AND(NOT(ISBLANK($U183)), $U183<'P&L'!$P$8), $AO183, 0)","v":0},{"$f":"IF(OR(ISBLANK($U183), $U183>'DebitCard Rec '!$E$8), $AO183, 0)","v":0},0,{"$f":"IF(AND($A183<'P&L'!$P$8, $X183='P&L'!$G$6), $AR183, 0)","v":0},0,{"$f":"IF(AND($A183<'P&L'!$P$8, $X183='P&L'!$G$6), $AT183, 0)","v":0}," "," "," "]
[null,null,null,null,null,null,null,null,null,null,null,null,null,null,null,null,null,null,null,null,null,null,"Jan-00",1900,{"$f":"IF(AND($A184<'P&L'!$P$8, YEAR($A184)=Master!$C$6), $K184, 0)","v":0},0,{"$f":"IF(AND(NOT(ISBLANK($O184)), $O184<'P&L'!$P$8), Z184, 0)","v":0},{"$f":"IF(OR(ISBLANK($O184), $O184>'BankRec Main Acct'!$E$8), Z184, 0)","v":0},0,{"$f":"IF(AND(NOT(ISBLANK($O184)), $O184<'P&L'!$P$8), AC184, 0)","v":0},{"$f":"IF(OR(ISBLANK($O184), $O184>'BankRec Main Acct'!$E$8), AC184, 0)","v":0},0,{"$f":"IF(AND(NOT(ISBLANK($S184)), $S184<'P&L'!$P$8), AF184, 0)","v":0},{"$f":"IF(OR(ISBLANK($S184), $S184>'BankRec Main Acct'!$E$8), AF184, 0)","v":0},0,{"$f":"IF(AND(NOT(ISBLANK($S184)), $S184<'P&L'!$P$8), AI184, 0)","v":0},{"$f":"IF(OR(ISBLANK($S184), $S184>'BankRec Main Acct'!$E$8), AI184, 0)","v":0},0,{"$f":"IF(AND(NOT(ISBLANK($U184)), $U184<'P&L'!$P$8), $AL184, 0)","v":0},{"$f":"IF(OR(ISBLANK($U184), $U184>'DebitCard Rec '!$E$8), $AL184, 0)","v":0},0,{"$f":"IF(AND(NOT(ISBLANK($U184)), $U184<'P&L'!$P$8), $AO184, 0)","v":0},{"$f":"IF(OR(ISBLANK($U184), $U184>'DebitCard Rec '!$E$8), $AO184, 0)","v":0},0,{"$f":"IF(AND($A184<'P&L'!$P$8, $X184='P&L'!$G$6), $AR184, 0)","v":0},0,{"$f":"IF(AND($A184<'P&L'!$P$8, $X184='P&L'!$G$6), $AT184, 0)","v":0}," "," "," "]
[null,null,null,null,null,null,null,null,null,null,null,null,null,null,null,null,null,null,null,null,null,null,"Jan-00",1900,{"$f":"IF(AND($A185<'P&L'!$P$8, YEAR($A185)=Master!$C$6), $K185, 0)","v":0},0,{"$f":"IF(AND(NOT(ISBLANK($O185)), $O185<'P&L'!$P$8), Z185, 0)","v":0},{"$f":"IF(OR(ISBLANK($O185), $O185>'BankRec Main Acct'!$E$8), Z185, 0)","v":0},0,{"$f":"IF(AND(NOT(ISBLANK($O185)), $O185<'P&L'!$P$8), AC185, 0)","v":0},{"$f":"IF(OR(ISBLANK($O185), $O185>'BankRec Main Acct'!$E$8), AC185, 0)","v":0},0,{"$f":"IF(AND(NOT(ISBLANK($S185)), $S185<'P&L'!$P$8), AF185, 0)","v":0},{"$f":"IF(OR(ISBLANK($S185), $S185>'BankRec Main Acct'!$E$8), AF185, 0)","v":0},0,{"$f":"IF(AND(NOT(ISBLANK($S185)), $S185<'P&L'!$P$8), AI185, 0)","v":0},{"$f":"IF(OR(ISBLANK($S185), $S185>'BankRec Main Acct'!$E$8), AI185, 0)","v":0},0,{"$f":"IF(AND(NOT(ISBLANK($U185)), $U185<'P&L'!$P$8), $AL185, 0)","v":0},{"$f":"IF(OR(ISBLANK($U185), $U185>'DebitCard Rec '!$E$8), $AL185, 0)","v":0},0,{"$f":"IF(AND(NOT(ISBLANK($U185)), $U185<'P&L'!$P$8), $AO185, 0)","v":0},{"$f":"IF(OR(ISBLANK($U185), $U185>'DebitCard Rec '!$E$8), $AO185, 0)","v":0},0,{"$f":"IF(AND($A185<'P&L'!$P$8, $X185='P&L'!$G$6), $AR185, 0)","v":0},0,{"$f":"IF(AND($A185<'P&L'!$P$8, $X185='P&L'!$G$6), $AT185, 0)","v":0}," "," "," "]
[null,null,null,null,null,null,null,null,null,null,null,null,null,null,null,null,null,null,null,null,null,null,"Jan-00",1900,{"$f":"IF(AND($A186<'P&L'!$P$8, YEAR($A186)=Master!$C$6), $K186, 0)","v":0},0,{"$f":"IF(AND(NOT(ISBLANK($O186)), $O186<'P&L'!$P$8), Z186, 0)","v":0},{"$f":"IF(OR(ISBLANK($O186), $O186>'BankRec Main Acct'!$E$8), Z186, 0)","v":0},0,{"$f":"IF(AND(NOT(ISBLANK($O186)), $O186<'P&L'!$P$8), AC186, 0)","v":0},{"$f":"IF(OR(ISBLANK($O186), $O186>'BankRec Main Acct'!$E$8), AC186, 0)","v":0},0,{"$f":"IF(AND(NOT(ISBLANK($S186)), $S186<'P&L'!$P$8), AF186, 0)","v":0},{"$f":"IF(OR(ISBLANK($S186), $S186>'BankRec Main Acct'!$E$8), AF186, 0)","v":0},0,{"$f":"IF(AND(NOT(ISBLANK($S186)), $S186<'P&L'!$P$8), AI186, 0)","v":0},{"$f":"IF(OR(ISBLANK($S186), $S186>'BankRec Main Acct'!$E$8), AI186, 0)","v":0},0,{"$f":"IF(AND(NOT(ISBLANK($U186)), $U186<'P&L'!$P$8), $AL186, 0)","v":0},{"$f":"IF(OR(ISBLANK($U186), $U186>'DebitCard Rec '!$E$8), $AL186, 0)","v":0},0,{"$f":"IF(AND(NOT(ISBLANK($U186)), $U186<'P&L'!$P$8), $AO186, 0)","v":0},{"$f":"IF(OR(ISBLANK($U186), $U186>'DebitCard Rec '!$E$8), $AO186, 0)","v":0},0,{"$f":"IF(AND($A186<'P&L'!$P$8, $X186='P&L'!$G$6), $AR186, 0)","v":0},0,{"$f":"IF(AND($A186<'P&L'!$P$8, $X186='P&L'!$G$6), $AT186, 0)","v":0}," "," "," "]
[null,null,null,null,null,null,null,null,null,null,null,null,null,null,null,null,null,null,null,null,null,null,"Jan-00",1900,{"$f":"IF(AND($A187<'P&L'!$P$8, YEAR($A187)=Master!$C$6), $K187, 0)","v":0},0,{"$f":"IF(AND(NOT(ISBLANK($O187)), $O187<'P&L'!$P$8), Z187, 0)","v":0},{"$f":"IF(OR(ISBLANK($O187), $O187>'BankRec Main Acct'!$E$8), Z187, 0)","v":0},0,{"$f":"IF(AND(NOT(ISBLANK($O187)), $O187<'P&L'!$P$8), AC187, 0)","v":0},{"$f":"IF(OR(ISBLANK($O187), $O187>'BankRec Main Acct'!$E$8), AC187, 0)","v":0},0,{"$f":"IF(AND(NOT(ISBLANK($S187)), $S187<'P&L'!$P$8), AF187, 0)","v":0},{"$f":"IF(OR(ISBLANK($S187), $S187>'BankRec Main Acct'!$E$8), AF187, 0)","v":0},0,{"$f":"IF(AND(NOT(ISBLANK($S187)), $S187<'P&L'!$P$8), AI187, 0)","v":0},{"$f":"IF(OR(ISBLANK($S187), $S187>'BankRec Main Acct'!$E$8), AI187, 0)","v":0},0,{"$f":"IF(AND(NOT(ISBLANK($U187)), $U187<'P&L'!$P$8), $AL187, 0)","v":0},{"$f":"IF(OR(ISBLANK($U187), $U187>'DebitCard Rec '!$E$8), $AL187, 0)","v":0},0,{"$f":"IF(AND(NOT(ISBLANK($U187)), $U187<'P&L'!$P$8), $AO187, 0)","v":0},{"$f":"IF(OR(ISBLANK($U187), $U187>'DebitCard Rec '!$E$8), $AO187, 0)","v":0},0,{"$f":"IF(AND($A187<'P&L'!$P$8, $X187='P&L'!$G$6), $AR187, 0)","v":0},0,{"$f":"IF(AND($A187<'P&L'!$P$8, $X187='P&L'!$G$6), $AT187, 0)","v":0}," "," "," "]
[null,null,null,null,null,null,null,null,null,null,null,null,null,null,null,null,null,null,null,null,null,null,"Jan-00",1900,{"$f":"IF(AND($A188<'P&L'!$P$8, YEAR($A188)=Master!$C$6), $K188, 0)","v":0},0,{"$f":"IF(AND(NOT(ISBLANK($O188)), $O188<'P&L'!$P$8), Z188, 0)","v":0},{"$f":"IF(OR(ISBLANK($O188), $O188>'BankRec Main Acct'!$E$8), Z188, 0)","v":0},0,{"$f":"IF(AND(NOT(ISBLANK($O188)), $O188<'P&L'!$P$8), AC188, 0)","v":0},{"$f":"IF(OR(ISBLANK($O188), $O188>'BankRec Main Acct'!$E$8), AC188, 0)","v":0},0,{"$f":"IF(AND(NOT(ISBLANK($S188)), $S188<'P&L'!$P$8), AF188, 0)","v":0},{"$f":"IF(OR(ISBLANK($S188), $S188>'BankRec Main Acct'!$E$8), AF188, 0)","v":0},0,{"$f":"IF(AND(NOT(ISBLANK($S188)), $S188<'P&L'!$P$8), AI188, 0)","v":0},{"$f":"IF(OR(ISBLANK($S188), $S188>'BankRec Main Acct'!$E$8), AI188, 0)","v":0},0,{"$f":"IF(AND(NOT(ISBLANK($U188)), $U188<'P&L'!$P$8), $AL188, 0)","v":0},{"$f":"IF(OR(ISBLANK($U188), $U188>'DebitCard Rec '!$E$8), $AL188, 0)","v":0},0,{"$f":"IF(AND(NOT(ISBLANK($U188)), $U188<'P&L'!$P$8), $AO188, 0)","v":0},{"$f":"IF(OR(ISBLANK($U188), $U188>'DebitCard Rec '!$E$8), $AO188, 0)","v":0},0,{"$f":"IF(AND($A188<'P&L'!$P$8, $X188='P&L'!$G$6), $AR188, 0)","v":0},0,{"$f":"IF(AND($A188<'P&L'!$P$8, $X188='P&L'!$G$6), $AT188, 0)","v":0}," "," "," "]
[null,null,null,null,null,null,null,null,null,null,null,null,null,null,null,null,null,null,null,null,null,null,"Jan-00",1900,{"$f":"IF(AND($A189<'P&L'!$P$8, YEAR($A189)=Master!$C$6), $K189, 0)","v":0},0,{"$f":"IF(AND(NOT(ISBLANK($O189)), $O189<'P&L'!$P$8), Z189, 0)","v":0},{"$f":"IF(OR(ISBLANK($O189), $O189>'BankRec Main Acct'!$E$8), Z189, 0)","v":0},0,{"$f":"IF(AND(NOT(ISBLANK($O189)), $O189<'P&L'!$P$8), AC189, 0)","v":0},{"$f":"IF(OR(ISBLANK($O189), $O189>'BankRec Main Acct'!$E$8), AC189, 0)","v":0},0,{"$f":"IF(AND(NOT(ISBLANK($S189)), $S189<'P&L'!$P$8), AF189, 0)","v":0},{"$f":"IF(OR(ISBLANK($S189), $S189>'BankRec Main Acct'!$E$8), AF189, 0)","v":0},0,{"$f":"IF(AND(NOT(ISBLANK($S189)), $S189<'P&L'!$P$8), AI189, 0)","v":0},{"$f":"IF(OR(ISBLANK($S189), $S189>'BankRec Main Acct'!$E$8), AI189, 0)","v":0},0,{"$f":"IF(AND(NOT(ISBLANK($U189)), $U189<'P&L'!$P$8), $AL189, 0)","v":0},{"$f":"IF(OR(ISBLANK($U189), $U189>'DebitCard Rec '!$E$8), $AL189, 0)","v":0},0,{"$f":"IF(AND(NOT(ISBLANK($U189)), $U189<'P&L'!$P$8), $AO189, 0)","v":0},{"$f":"IF(OR(ISBLANK($U189), $U189>'DebitCard Rec '!$E$8), $AO189, 0)","v":0},0,{"$f":"IF(AND($A189<'P&L'!$P$8, $X189='P&L'!$G$6), $AR189, 0)","v":0},0,{"$f":"IF(AND($A189<'P&L'!$P$8, $X189='P&L'!$G$6), $AT189, 0)","v":0}," "," "," "]
[null,null,null,null,null,null,null,null,null,null,null,null,null,null,null,null,null,null,null,null,null,null,"Jan-00",1900,{"$f":"IF(AND($A190<'P&L'!$P$8, YEAR($A190)=Master!$C$6), $K190, 0)","v":0},0,{"$f":"IF(AND(NOT(ISBLANK($O190)), $O190<'P&L'!$P$8), Z190, 0)","v":0},{"$f":"IF(OR(ISBLANK($O190), $O190>'BankRec Main Acct'!$E$8), Z190, 0)","v":0},0,{"$f":"IF(AND(NOT(ISBLANK($O190)), $O190<'P&L'!$P$8), AC190, 0)","v":0},{"$f":"IF(OR(ISBLANK($O190), $O190>'BankRec Main Acct'!$E$8), AC190, 0)","v":0},0,{"$f":"IF(AND(NOT(ISBLANK($S190)), $S190<'P&L'!$P$8), AF190, 0)","v":0},{"$f":"IF(OR(ISBLANK($S190), $S190>'BankRec Main Acct'!$E$8), AF190, 0)","v":0},0,{"$f":"IF(AND(NOT(ISBLANK($S190)), $S190<'P&L'!$P$8), AI190, 0)","v":0},{"$f":"IF(OR(ISBLANK($S190), $S190>'BankRec Main Acct'!$E$8), AI190, 0)","v":0},0,{"$f":"IF(AND(NOT(ISBLANK($U190)), $U190<'P&L'!$P$8), $AL190, 0)","v":0},{"$f":"IF(OR(ISBLANK($U190), $U190>'DebitCard Rec '!$E$8), $AL190, 0)","v":0},0,{"$f":"IF(AND(NOT(ISBLANK($U190)), $U190<'P&L'!$P$8), $AO190, 0)","v":0},{"$f":"IF(OR(ISBLANK($U190), $U190>'DebitCard Rec '!$E$8), $AO190, 0)","v":0},0,{"$f":"IF(AND($A190<'P&L'!$P$8, $X190='P&L'!$G$6), $AR190, 0)","v":0},0,{"$f":"IF(AND($A190<'P&L'!$P$8, $X190='P&L'!$G$6), $AT190, 0)","v":0}," "," "," "]
[null,null,null,null,null,null,null,null,null,null,null,null,null,null,null,null,null,null,null,null,null,null,"Jan-00",1900,{"$f":"IF(AND($A191<'P&L'!$P$8, YEAR($A191)=Master!$C$6), $K191, 0)","v":0},0,{"$f":"IF(AND(NOT(ISBLANK($O191)), $O191<'P&L'!$P$8), Z191, 0)","v":0},{"$f":"IF(OR(ISBLANK($O191), $O191>'BankRec Main Acct'!$E$8), Z191, 0)","v":0},0,{"$f":"IF(AND(NOT(ISBLANK($O191)), $O191<'P&L'!$P$8), AC191, 0)","v":0},{"$f":"IF(OR(ISBLANK($O191), $O191>'BankRec Main Acct'!$E$8), AC191, 0)","v":0},0,{"$f":"IF(AND(NOT(ISBLANK($S191)), $S191<'P&L'!$P$8), AF191, 0)","v":0},{"$f":"IF(OR(ISBLANK($S191), $S191>'BankRec Main Acct'!$E$8), AF191, 0)","v":0},0,{"$f":"IF(AND(NOT(ISBLANK($S191)), $S191<'P&L'!$P$8), AI191, 0)","v":0},{"$f":"IF(OR(ISBLANK($S191), $S191>'BankRec Main Acct'!$E$8), AI191, 0)","v":0},0,{"$f":"IF(AND(NOT(ISBLANK($U191)), $U191<'P&L'!$P$8), $AL191, 0)","v":0},{"$f":"IF(OR(ISBLANK($U191), $U191>'DebitCard Rec '!$E$8), $AL191, 0)","v":0},0,{"$f":"IF(AND(NOT(ISBLANK($U191)), $U191<'P&L'!$P$8), $AO191, 0)","v":0},{"$f":"IF(OR(ISBLANK($U191), $U191>'DebitCard Rec '!$E$8), $AO191, 0)","v":0},0,{"$f":"IF(AND($A191<'P&L'!$P$8, $X191='P&L'!$G$6), $AR191, 0)","v":0},0,{"$f":"IF(AND($A191<'P&L'!$P$8, $X191='P&L'!$G$6), $AT191, 0)","v":0}," "," "," "]
[null,null,null,null,null,null,null,null,null,null,null,null,null,null,null,null,null,null,null,null,null,null,"Jan-00",1900,{"$f":"IF(AND($A192<'P&L'!$P$8, YEAR($A192)=Master!$C$6), $K192, 0)","v":0},0,{"$f":"IF(AND(NOT(ISBLANK($O192)), $O192<'P&L'!$P$8), Z192, 0)","v":0},{"$f":"IF(OR(ISBLANK($O192), $O192>'BankRec Main Acct'!$E$8), Z192, 0)","v":0},0,{"$f":"IF(AND(NOT(ISBLANK($O192)), $O192<'P&L'!$P$8), AC192, 0)","v":0},{"$f":"IF(OR(ISBLANK($O192), $O192>'BankRec Main Acct'!$E$8), AC192, 0)","v":0},0,{"$f":"IF(AND(NOT(ISBLANK($S192)), $S192<'P&L'!$P$8), AF192, 0)","v":0},{"$f":"IF(OR(ISBLANK($S192), $S192>'BankRec Main Acct'!$E$8), AF192, 0)","v":0},0,{"$f":"IF(AND(NOT(ISBLANK($S192)), $S192<'P&L'!$P$8), AI192, 0)","v":0},{"$f":"IF(OR(ISBLANK($S192), $S192>'BankRec Main Acct'!$E$8), AI192, 0)","v":0},0,{"$f":"IF(AND(NOT(ISBLANK($U192)), $U192<'P&L'!$P$8), $AL192, 0)","v":0},{"$f":"IF(OR(ISBLANK($U192), $U192>'DebitCard Rec '!$E$8), $AL192, 0)","v":0},0,{"$f":"IF(AND(NOT(ISBLANK($U192)), $U192<'P&L'!$P$8), $AO192, 0)","v":0},{"$f":"IF(OR(ISBLANK($U192), $U192>'DebitCard Rec '!$E$8), $AO192, 0)","v":0},0,{"$f":"IF(AND($A192<'P&L'!$P$8, $X192='P&L'!$G$6), $AR192, 0)","v":0},0,{"$f":"IF(AND($A192<'P&L'!$P$8, $X192='P&L'!$G$6), $AT192, 0)","v":0}," "," "," "]
[null,null,null,null,null,null,null,null,null,null,null,null,null,null,null,null,null,null,null,null,null,null,"Jan-00",1900,{"$f":"IF(AND($A193<'P&L'!$P$8, YEAR($A193)=Master!$C$6), $K193, 0)","v":0},0,{"$f":"IF(AND(NOT(ISBLANK($O193)), $O193<'P&L'!$P$8), Z193, 0)","v":0},{"$f":"IF(OR(ISBLANK($O193), $O193>'BankRec Main Acct'!$E$8), Z193, 0)","v":0},0,{"$f":"IF(AND(NOT(ISBLANK($O193)), $O193<'P&L'!$P$8), AC193, 0)","v":0},{"$f":"IF(OR(ISBLANK($O193), $O193>'BankRec Main Acct'!$E$8), AC193, 0)","v":0},0,{"$f":"IF(AND(NOT(ISBLANK($S193)), $S193<'P&L'!$P$8), AF193, 0)","v":0},{"$f":"IF(OR(ISBLANK($S193), $S193>'BankRec Main Acct'!$E$8), AF193, 0)","v":0},0,{"$f":"IF(AND(NOT(ISBLANK($S193)), $S193<'P&L'!$P$8), AI193, 0)","v":0},{"$f":"IF(OR(ISBLANK($S193), $S193>'BankRec Main Acct'!$E$8), AI193, 0)","v":0},0,{"$f":"IF(AND(NOT(ISBLANK($U193)), $U193<'P&L'!$P$8), $AL193, 0)","v":0},{"$f":"IF(OR(ISBLANK($U193), $U193>'DebitCard Rec '!$E$8), $AL193, 0)","v":0},0,{"$f":"IF(AND(NOT(ISBLANK($U193)), $U193<'P&L'!$P$8), $AO193, 0)","v":0},{"$f":"IF(OR(ISBLANK($U193), $U193>'DebitCard Rec '!$E$8), $AO193, 0)","v":0},0,{"$f":"IF(AND($A193<'P&L'!$P$8, $X193='P&L'!$G$6), $AR193, 0)","v":0},0,{"$f":"IF(AND($A193<'P&L'!$P$8, $X193='P&L'!$G$6), $AT193, 0)","v":0}," "," "," "]
[null,null,null,null,null,null,null,null,null,null,null,null,null,null,null,null,null,null,null,null,null,null,"Jan-00",1900,{"$f":"IF(AND($A194<'P&L'!$P$8, YEAR($A194)=Master!$C$6), $K194, 0)","v":0},0,{"$f":"IF(AND(NOT(ISBLANK($O194)), $O194<'P&L'!$P$8), Z194, 0)","v":0},{"$f":"IF(OR(ISBLANK($O194), $O194>'BankRec Main Acct'!$E$8), Z194, 0)","v":0},0,{"$f":"IF(AND(NOT(ISBLANK($O194)), $O194<'P&L'!$P$8), AC194, 0)","v":0},{"$f":"IF(OR(ISBLANK($O194), $O194>'BankRec Main Acct'!$E$8), AC194, 0)","v":0},0,{"$f":"IF(AND(NOT(ISBLANK($S194)), $S194<'P&L'!$P$8), AF194, 0)","v":0},{"$f":"IF(OR(ISBLANK($S194), $S194>'BankRec Main Acct'!$E$8), AF194, 0)","v":0},0,{"$f":"IF(AND(NOT(ISBLANK($S194)), $S194<'P&L'!$P$8), AI194, 0)","v":0},{"$f":"IF(OR(ISBLANK($S194), $S194>'BankRec Main Acct'!$E$8), AI194, 0)","v":0},0,{"$f":"IF(AND(NOT(ISBLANK($U194)), $U194<'P&L'!$P$8), $AL194, 0)","v":0},{"$f":"IF(OR(ISBLANK($U194), $U194>'DebitCard Rec '!$E$8), $AL194, 0)","v":0},0,{"$f":"IF(AND(NOT(ISBLANK($U194)), $U194<'P&L'!$P$8), $AO194, 0)","v":0},{"$f":"IF(OR(ISBLANK($U194), $U194>'DebitCard Rec '!$E$8), $AO194, 0)","v":0},0,{"$f":"IF(AND($A194<'P&L'!$P$8, $X194='P&L'!$G$6), $AR194, 0)","v":0},0,{"$f":"IF(AND($A194<'P&L'!$P$8, $X194='P&L'!$G$6), $AT194, 0)","v":0}," "," "," "]
[null,null,null,null,null,null,null,null,null,null,null,null,null,null,null,null,null,null,null,null,null,null,"Jan-00",1900,{"$f":"IF(AND($A195<'P&L'!$P$8, YEAR($A195)=Master!$C$6), $K195, 0)","v":0},0,{"$f":"IF(AND(NOT(ISBLANK($O195)), $O195<'P&L'!$P$8), Z195, 0)","v":0},{"$f":"IF(OR(ISBLANK($O195), $O195>'BankRec Main Acct'!$E$8), Z195, 0)","v":0},0,{"$f":"IF(AND(NOT(ISBLANK($O195)), $O195<'P&L'!$P$8), AC195, 0)","v":0},{"$f":"IF(OR(ISBLANK($O195), $O195>'BankRec Main Acct'!$E$8), AC195, 0)","v":0},0,{"$f":"IF(AND(NOT(ISBLANK($S195)), $S195<'P&L'!$P$8), AF195, 0)","v":0},{"$f":"IF(OR(ISBLANK($S195), $S195>'BankRec Main Acct'!$E$8), AF195, 0)","v":0},0,{"$f":"IF(AND(NOT(ISBLANK($S195)), $S195<'P&L'!$P$8), AI195, 0)","v":0},{"$f":"IF(OR(ISBLANK($S195), $S195>'BankRec Main Acct'!$E$8), AI195, 0)","v":0},0,{"$f":"IF(AND(NOT(ISBLANK($U195)), $U195<'P&L'!$P$8), $AL195, 0)","v":0},{"$f":"IF(OR(ISBLANK($U195), $U195>'DebitCard Rec '!$E$8), $AL195, 0)","v":0},0,{"$f":"IF(AND(NOT(ISBLANK($U195)), $U195<'P&L'!$P$8), $AO195, 0)","v":0},{"$f":"IF(OR(ISBLANK($U195), $U195>'DebitCard Rec '!$E$8), $AO195, 0)","v":0},0,{"$f":"IF(AND($A195<'P&L'!$P$8, $X195='P&L'!$G$6), $AR195, 0)","v":0},0,{"$f":"IF(AND($A195<'P&L'!$P$8, $X195='P&L'!$G$6), $AT195, 0)","v":0}," "," "," "]
[null,null,null,null,null,null,null,null,null,null,null,null,null,null,null,null,null,null,null,null,null,null,"Jan-00",1900,{"$f":"IF(AND($A196<'P&L'!$P$8, YEAR($A196)=Master!$C$6), $K196, 0)","v":0},0,{"$f":"IF(AND(NOT(ISBLANK($O196)), $O196<'P&L'!$P$8), Z196, 0)","v":0},{"$f":"IF(OR(ISBLANK($O196), $O196>'BankRec Main Acct'!$E$8), Z196, 0)","v":0},0,{"$f":"IF(AND(NOT(ISBLANK($O196)), $O196<'P&L'!$P$8), AC196, 0)","v":0},{"$f":"IF(OR(ISBLANK($O196), $O196>'BankRec Main Acct'!$E$8), AC196, 0)","v":0},0,{"$f":"IF(AND(NOT(ISBLANK($S196)), $S196<'P&L'!$P$8), AF196, 0)","v":0},{"$f":"IF(OR(ISBLANK($S196), $S196>'BankRec Main Acct'!$E$8), AF196, 0)","v":0},0,{"$f":"IF(AND(NOT(ISBLANK($S196)), $S196<'P&L'!$P$8), AI196, 0)","v":0},{"$f":"IF(OR(ISBLANK($S196), $S196>'BankRec Main Acct'!$E$8), AI196, 0)","v":0},0,{"$f":"IF(AND(NOT(ISBLANK($U196)), $U196<'P&L'!$P$8), $AL196, 0)","v":0},{"$f":"IF(OR(ISBLANK($U196), $U196>'DebitCard Rec '!$E$8), $AL196, 0)","v":0},0,{"$f":"IF(AND(NOT(ISBLANK($U196)), $U196<'P&L'!$P$8), $AO196, 0)","v":0},{"$f":"IF(OR(ISBLANK($U196), $U196>'DebitCard Rec '!$E$8), $AO196, 0)","v":0},{"$f":"IF($AV196=\"Petty cash Receipt\", $K196, 0)","v":0},{"$f":"IF(AND($A196<'P&L'!$P$8, $X196='P&L'!$G$6), $AR196, 0)","v":0},{"$f":"IF($AV196=\"Petty cash Payment\", $K196, 0)","v":0},{"$f":"IF(AND($A196<'P&L'!$P$8, $X196='P&L'!$G$6), $AT196, 0)","v":0}," ",{"$f":"IF(C196=\"Receipt\",CONCATENATE(D196,\" \", F196), \" \")","v":" "},{"$f":"IF(C196= \"Payment\", CONCATENATE(F196,\" \",E196), \" \")","v":" "}]
[null,null,null,null,null,null,null,null,null,null,null,null,null,null,null,null,null,null,null,null,null,null,"Jan-00",1900,{"$f":"IF(AND($A197<'P&L'!$P$8, YEAR($A197)=Master!$C$6), $K197, 0)","v":0},{"$f":"IF(AND($C197=\"Receipt\",$B197<>\"debit card\",$B197<>\"petty cash\",$B197<>\"Cash_Sub\",$B197<>\"Cheque_Sub\", $B197<>\"EFT_Sub\"),$K197,0)","v":0},{"$f":"IF(AND(NOT(ISBLANK($O197)), $O197<'P&L'!$P$8), Z197, 0)","v":0},{"$f":"IF(OR(ISBLANK($O197), $O197>'BankRec Main Acct'!$E$8), Z197, 0)","v":0},{"$f":"IF(AND($C197=\"Payment\", $B197<>\"debit card\", $B197<>\"petty cash\", $B197<>\"Cash_Sub\", $B197<>\"Cheque_Sub\", $B197<>\"EFT_Sub\"), $K197, 0)","v":0},{"$f":"IF(AND(NOT(ISBLANK($O197)), $O197<'P&L'!$P$8), AC197, 0)","v":0},{"$f":"IF(OR(ISBLANK($O197), $O197>'BankRec Main Acct'!$E$8), AC197, 0)","v":0},{"$f":"IF(AND($C197=\"Receipt\",$B197<>\"debit card\",$B197<>\"petty cash\",$B197<>\"Cash_Main\",$B197<>\"Cheque_Main\", $B197<>\"EFT_Main\"),$K197,0)","v":0},{"$f":"IF(AND(NOT(ISBLANK($S197)), $S197<'P&L'!$P$8), AF197, 0)","v":0},{"$f":"IF(OR(ISBLANK($S197), $S197>'BankRec Main Acct'!$E$8), AF197, 0)","v":0},{"$f":"IF(AND($C197=\"Payment\", $B197<>\"debit card\", $B197<>\"petty cash\", $B197<>\"Cash_Main\", $B197<>\"Cheque_Main\", $B197<>\"EFT_Main\"), $K197, 0)","v":0},{"$f":"IF(AND(NOT(ISBLANK($S197)), $S197<'P&L'!$P$8), AI197, 0)","v":0},{"$f":"IF(OR(ISBLANK($S197), $S197>'BankRec Main Acct'!$E$8), AI197, 0)","v":0},0,{"$f":"IF(AND(NOT(ISBLANK($U197)), $U197<'P&L'!$P$8), $AL197, 0)","v":0},{"$f":"IF(OR(ISBLANK($U197), $U197>'DebitCard Rec '!$E$8), $AL197, 0)","v":0},0,{"$f":"IF(AND(NOT(ISBLANK($U197)), $U197<'P&L'!$P$8), $AO197, 0)","v":0},{"$f":"IF(OR(ISBLANK($U197), $U197>'DebitCard Rec '!$E$8), $AO197, 0)","v":0},0,{"$f":"IF(AND($A197<'P&L'!$P$8, $X197='P&L'!$G$6), $AR197, 0)","v":0},0,{"$f":"IF(AND($A197<'P&L'!$P$8, $X197='P&L'!$G$6), $AT197, 0)","v":0}," "," "," "]
[null,null,null,null,null,null,null,null,null,null,null,null,null,null,null,null,null,null,null,null,null,null,"Jan-00",1900,{"$f":"IF(AND($A198<'P&L'!$P$8, YEAR($A198)=Master!$C$6), $K198, 0)","v":0},0,{"$f":"IF(AND(NOT(ISBLANK($O198)), $O198<'P&L'!$P$8), Z198, 0)","v":0},{"$f":"IF(OR(ISBLANK($O198), $O198>'BankRec Main Acct'!$E$8), Z198, 0)","v":0},0,{"$f":"IF(AND(NOT(ISBLANK($O198)), $O198<'P&L'!$P$8), AC198, 0)","v":0},{"$f":"IF(OR(ISBLANK($O198), $O198>'BankRec Main Acct'!$E$8), AC198, 0)","v":0},0,{"$f":"IF(AND(NOT(ISBLANK($S198)), $S198<'P&L'!$P$8), AF198, 0)","v":0},{"$f":"IF(OR(ISBLANK($S198), $S198>'BankRec Main Acct'!$E$8), AF198, 0)","v":0},0,{"$f":"IF(AND(NOT(ISBLANK($S198)), $S198<'P&L'!$P$8), AI198, 0)","v":0},{"$f":"IF(OR(ISBLANK($S198), $S198>'BankRec Main Acct'!$E$8), AI198, 0)","v":0},0,{"$f":"IF(AND(NOT(ISBLANK($U198)), $U198<'P&L'!$P$8), $AL198, 0)","v":0},{"$f":"IF(OR(ISBLANK($U198), $U198>'DebitCard Rec '!$E$8), $AL198, 0)","v":0},0,{"$f":"IF(AND(NOT(ISBLANK($U198)), $U198<'P&L'!$P$8), $AO198, 0)","v":0},{"$f":"IF(OR(ISBLANK($U198), $U198>'DebitCard Rec '!$E$8), $AO198, 0)","v":0},0,{"$f":"IF(AND($A198<'P&L'!$P$8, $X198='P&L'!$G$6), $AR198, 0)","v":0},0,{"$f":"IF(AND($A198<'P&L'!$P$8, $X198='P&L'!$G$6), $AT198, 0)","v":0}," "," "," "]
[null,null,null,null,null,null,null,null,null,null,null,null,null,null,null,null,null,null,null,null,null,null,"Jan-00",1900,{"$f":"IF(AND($A199<'P&L'!$P$8, YEAR($A199)=Master!$C$6), $K199, 0)","v":0},0,{"$f":"IF(AND(NOT(ISBLANK($O199)), $O199<'P&L'!$P$8), Z199, 0)","v":0},{"$f":"IF(OR(ISBLANK($O199), $O199>'BankRec Main Acct'!$E$8), Z199, 0)","v":0},0,{"$f":"IF(AND(NOT(ISBLANK($O199)), $O199<'P&L'!$P$8), AC199, 0)","v":0},{"$f":"IF(OR(ISBLANK($O199), $O199>'BankRec Main Acct'!$E$8), AC199, 0)","v":0},0,{"$f":"IF(AND(NOT(ISBLANK($S199)), $S199<'P&L'!$P$8), AF199, 0)","v":0},{"$f":"IF(OR(ISBLANK($S199), $S199>'BankRec Main Acct'!$E$8), AF199, 0)","v":0},0,{"$f":"IF(AND(NOT(ISBLANK($S199)), $S199<'P&L'!$P$8), AI199, 0)","v":0},{"$f":"IF(OR(ISBLANK($S199), $S199>'BankRec Main Acct'!$E$8), AI199, 0)","v":0},0,{"$f":"IF(AND(NOT(ISBLANK($U199)), $U199<'P&L'!$P$8), $AL199, 0)","v":0},{"$f":"IF(OR(ISBLANK($U199), $U199>'DebitCard Rec '!$E$8), $AL199, 0)","v":0},0,{"$f":"IF(AND(NOT(ISBLANK($U199)), $U199<'P&L'!$P$8), $AO199, 0)","v":0},{"$f":"IF(OR(ISBLANK($U199), $U199>'DebitCard Rec '!$E$8), $AO199, 0)","v":0},0,{"$f":"IF(AND($A199<'P&L'!$P$8, $X199='P&L'!$G$6), $AR199, 0)","v":0},0,{"$f":"IF(AND($A199<'P&L'!$P$8, $X199='P&L'!$G$6), $AT199, 0)","v":0}," "," "," "]
[null,null,null,null,null,null,null,null,null,null,null,null,null,null,null,null,null,null,null,null,null,null,"Jan-00",1900,{"$f":"IF(AND($A200<'P&L'!$P$8, YEAR($A200)=Master!$C$6), $K200, 0)","v":0},0,{"$f":"IF(AND(NOT(ISBLANK($O200)), $O200<'P&L'!$P$8), Z200, 0)","v":0},{"$f":"IF(OR(ISBLANK($O200), $O200>'BankRec Main Acct'!$E$8), Z200, 0)","v":0},0,{"$f":"IF(AND(NOT(ISBLANK($O200)), $O200<'P&L'!$P$8), AC200, 0)","v":0},{"$f":"IF(OR(ISBLANK($O200), $O200>'BankRec Main Acct'!$E$8), AC200, 0)","v":0},0,{"$f":"IF(AND(NOT(ISBLANK($S200)), $S200<'P&L'!$P$8), AF200, 0)","v":0},{"$f":"IF(OR(ISBLANK($S200), $S200>'BankRec Main Acct'!$E$8), AF200, 0)","v":0},0,{"$f":"IF(AND(NOT(ISBLANK($S200)), $S200<'P&L'!$P$8), AI200, 0)","v":0},{"$f":"IF(OR(ISBLANK($S200), $S200>'BankRec Main Acct'!$E$8), AI200, 0)","v":0},0,{"$f":"IF(AND(NOT(ISBLANK($U200)), $U200<'P&L'!$P$8), $AL200, 0)","v":0},{"$f":"IF(OR(ISBLANK($U200), $U200>'DebitCard Rec '!$E$8), $AL200, 0)","v":0},0,{"$f":"IF(AND(NOT(ISBLANK($U200)), $U200<'P&L'!$P$8), $AO200, 0)","v":0},{"$f":"IF(OR(ISBLANK($U200), $U200>'DebitCard Rec '!$E$8), $AO200, 0)","v":0},0,{"$f":"IF(AND($A200<'P&L'!$P$8, $X200='P&L'!$G$6), $AR200, 0)","v":0},0,{"$f":"IF(AND($A200<'P&L'!$P$8, $X200='P&L'!$G$6), $AT200, 0)","v":0}," "," "," "]
[null,null,null,null,null,null,null,null,null,null,null,null,null,null,null,null,null,null,null,null,null,null,"Jan-00",1900,{"$f":"IF(AND($A201<'P&L'!$P$8, YEAR($A201)=Master!$C$6), $K201, 0)","v":0},0,{"$f":"IF(AND(NOT(ISBLANK($O201)), $O201<'P&L'!$P$8), Z201, 0)","v":0},{"$f":"IF(OR(ISBLANK($O201), $O201>'BankRec Main Acct'!$E$8), Z201, 0)","v":0},0,{"$f":"IF(AND(NOT(ISBLANK($O201)), $O201<'P&L'!$P$8), AC201, 0)","v":0},{"$f":"IF(OR(ISBLANK($O201), $O201>'BankRec Main Acct'!$E$8), AC201, 0)","v":0},0,{"$f":"IF(AND(NOT(ISBLANK($S201)), $S201<'P&L'!$P$8), AF201, 0)","v":0},{"$f":"IF(OR(ISBLANK($S201), $S201>'BankRec Main Acct'!$E$8), AF201, 0)","v":0},0,{"$f":"IF(AND(NOT(ISBLANK($S201)), $S201<'P&L'!$P$8), AI201, 0)","v":0},{"$f":"IF(OR(ISBLANK($S201), $S201>'BankRec Main Acct'!$E$8), AI201, 0)","v":0},0,{"$f":"IF(AND(NOT(ISBLANK($U201)), $U201<'P&L'!$P$8), $AL201, 0)","v":0},{"$f":"IF(OR(ISBLANK($U201), $U201>'DebitCard Rec '!$E$8), $AL201, 0)","v":0},0,{"$f":"IF(AND(NOT(ISBLANK($U201)), $U201<'P&L'!$P$8), $AO201, 0)","v":0},{"$f":"IF(OR(ISBLANK($U201), $U201>'DebitCard Rec '!$E$8), $AO201, 0)","v":0},0,{"$f":"IF(AND($A201<'P&L'!$P$8, $X201='P&L'!$G$6), $AR201, 0)","v":0},0,{"$f":"IF(AND($A201<'P&L'!$P$8, $X201='P&L'!$G$6), $AT201, 0)","v":0}," "," "," "]
[null,null,null,null,null,null,null,null,null,null,null,null,null,null,null,null,null,null,null,null,null,null,"Jan-00",1900,{"$f":"IF(AND($A202<'P&L'!$P$8, YEAR($A202)=Master!$C$6), $K202, 0)","v":0},0,{"$f":"IF(AND(NOT(ISBLANK($O202)), $O202<'P&L'!$P$8), Z202, 0)","v":0},{"$f":"IF(OR(ISBLANK($O202), $O202>'BankRec Main Acct'!$E$8), Z202, 0)","v":0},0,{"$f":"IF(AND(NOT(ISBLANK($O202)), $O202<'P&L'!$P$8), AC202, 0)","v":0},{"$f":"IF(OR(ISBLANK($O202), $O202>'BankRec Main Acct'!$E$8), AC202, 0)","v":0},0,{"$f":"IF(AND(NOT(ISBLANK($S202)), $S202<'P&L'!$P$8), AF202, 0)","v":0},{"$f":"IF(OR(ISBLANK($S202), $S202>'BankRec Main Acct'!$E$8), AF202, 0)","v":0},0,{"$f":"IF(AND(NOT(ISBLANK($S202)), $S202<'P&L'!$P$8), AI202, 0)","v":0},{"$f":"IF(OR(ISBLANK($S202), $S202>'BankRec Main Acct'!$E$8), AI202, 0)","v":0},0,{"$f":"IF(AND(NOT(ISBLANK($U202)), $U202<'P&L'!$P$8), $AL202, 0)","v":0},{"$f":"IF(OR(ISBLANK($U202), $U202>'DebitCard Rec '!$E$8), $AL202, 0)","v":0},0,{"$f":"IF(AND(NOT(ISBLANK($U202)), $U202<'P&L'!$P$8), $AO202, 0)","v":0},{"$f":"IF(OR(ISBLANK($U202), $U202>'DebitCard Rec '!$E$8), $AO202, 0)","v":0},0,{"$f":"IF(AND($A202<'P&L'!$P$8, $X202='P&L'!$G$6), $AR202, 0)","v":0},0,{"$f":"IF(AND($A202<'P&L'!$P$8, $X202='P&L'!$G$6), $AT202, 0)","v":0}," "," "," "]
[null,null,null,null,null,null,null,null,null,null,null,null,null,null,null,null,null,null,null,null,null,null,"Jan-00",1900,{"$f":"IF(AND($A203<'P&L'!$P$8, YEAR($A203)=Master!$C$6), $K203, 0)","v":0},0,{"$f":"IF(AND(NOT(ISBLANK($O203)), $O203<'P&L'!$P$8), Z203, 0)","v":0},{"$f":"IF(OR(ISBLANK($O203), $O203>'BankRec Main Acct'!$E$8), Z203, 0)","v":0},0,{"$f":"IF(AND(NOT(ISBLANK($O203)), $O203<'P&L'!$P$8), AC203, 0)","v":0},{"$f":"IF(OR(ISBLANK($O203), $O203>'BankRec Main Acct'!$E$8), AC203, 0)","v":0},0,{"$f":"IF(AND(NOT(ISBLANK($S203)), $S203<'P&L'!$P$8), AF203, 0)","v":0},{"$f":"IF(OR(ISBLANK($S203), $S203>'BankRec Main Acct'!$E$8), AF203, 0)","v":0},0,{"$f":"IF(AND(NOT(ISBLANK($S203)), $S203<'P&L'!$P$8), AI203, 0)","v":0},{"$f":"IF(OR(ISBLANK($S203), $S203>'BankRec Main Acct'!$E$8), AI203, 0)","v":0},0,{"$f":"IF(AND(NOT(ISBLANK($U203)), $U203<'P&L'!$P$8), $AL203, 0)","v":0},{"$f":"IF(OR(ISBLANK($U203), $U203>'DebitCard Rec '!$E$8), $AL203, 0)","v":0},0,{"$f":"IF(AND(NOT(ISBLANK($U203)), $U203<'P&L'!$P$8), $AO203, 0)","v":0},{"$f":"IF(OR(ISBLANK($U203), $U203>'DebitCard Rec '!$E$8), $AO203, 0)","v":0},0,{"$f":"IF(AND($A203<'P&L'!$P$8, $X203='P&L'!$G$6), $AR203, 0)","v":0},0,{"$f":"IF(AND($A203<'P&L'!$P$8, $X203='P&L'!$G$6), $AT203, 0)","v":0},{"$f":"CONCATENATE(B203,\" \",C203)","v":" "}," "," "]
[null,null,null,null,null,null,null,null,null,null,null,null,null,null,null,null,null,null,null,null,null,null,"Jan-00",1900,{"$f":"IF(AND($A204<'P&L'!$P$8, YEAR($A204)=Master!$C$6), $K204, 0)","v":0},0,{"$f":"IF(AND(NOT(ISBLANK($O204)), $O204<'P&L'!$P$8), Z204, 0)","v":0},{"$f":"IF(OR(ISBLANK($O204), $O204>'BankRec Main Acct'!$E$8), Z204, 0)","v":0},0,{"$f":"IF(AND(NOT(ISBLANK($O204)), $O204<'P&L'!$P$8), AC204, 0)","v":0},{"$f":"IF(OR(ISBLANK($O204), $O204>'BankRec Main Acct'!$E$8), AC204, 0)","v":0},0,{"$f":"IF(AND(NOT(ISBLANK($S204)), $S204<'P&L'!$P$8), AF204, 0)","v":0},{"$f":"IF(OR(ISBLANK($S204), $S204>'BankRec Main Acct'!$E$8), AF204, 0)","v":0},0,{"$f":"IF(AND(NOT(ISBLANK($S204)), $S204<'P&L'!$P$8), AI204, 0)","v":0},{"$f":"IF(OR(ISBLANK($S204), $S204>'BankRec Main Acct'!$E$8), AI204, 0)","v":0},0,{"$f":"IF(AND(NOT(ISBLANK($U204)), $U204<'P&L'!$P$8), $AL204, 0)","v":0},{"$f":"IF(OR(ISBLANK($U204), $U204>'DebitCard Rec '!$E$8), $AL204, 0)","v":0},0,{"$f":"IF(AND(NOT(ISBLANK($U204)), $U204<'P&L'!$P$8), $AO204, 0)","v":0},{"$f":"IF(OR(ISBLANK($U204), $U204>'DebitCard Rec '!$E$8), $AO204, 0)","v":0},0,{"$f":"IF(AND($A204<'P&L'!$P$8, $X204='P&L'!$G$6), $AR204, 0)","v":0},0,{"$f":"IF(AND($A204<'P&L'!$P$8, $X204='P&L'!$G$6), $AT204, 0)","v":0}," "," "," "]
[null,null,null,null,null,null,null,null,null,null,null,null,null,null,null,null,null,null,null,null,null,null,"Jan-00",1900,{"$f":"IF(AND($A205<'P&L'!$P$8, YEAR($A205)=Master!$C$6), $K205, 0)","v":0},0,{"$f":"IF(AND(NOT(ISBLANK($O205)), $O205<'P&L'!$P$8), Z205, 0)","v":0},{"$f":"IF(OR(ISBLANK($O205), $O205>'BankRec Main Acct'!$E$8), Z205, 0)","v":0},0,{"$f":"IF(AND(NOT(ISBLANK($O205)), $O205<'P&L'!$P$8), AC205, 0)","v":0},{"$f":"IF(OR(ISBLANK($O205), $O205>'BankRec Main Acct'!$E$8), AC205, 0)","v":0},0,{"$f":"IF(AND(NOT(ISBLANK($S205)), $S205<'P&L'!$P$8), AF205, 0)","v":0},{"$f":"IF(OR(ISBLANK($S205), $S205>'BankRec Main Acct'!$E$8), AF205, 0)","v":0},0,{"$f":"IF(AND(NOT(ISBLANK($S205)), $S205<'P&L'!$P$8), AI205, 0)","v":0},{"$f":"IF(OR(ISBLANK($S205), $S205>'BankRec Main Acct'!$E$8), AI205, 0)","v":0},0,{"$f":"IF(AND(NOT(ISBLANK($U205)), $U205<'P&L'!$P$8), $AL205, 0)","v":0},{"$f":"IF(OR(ISBLANK($U205), $U205>'DebitCard Rec '!$E$8), $AL205, 0)","v":0},0,{"$f":"IF(AND(NOT(ISBLANK($U205)), $U205<'P&L'!$P$8), $AO205, 0)","v":0},{"$f":"IF(OR(ISBLANK($U205), $U205>'DebitCard Rec '!$E$8), $AO205, 0)","v":0},0,{"$f":"IF(AND($A205<'P&L'!$P$8, $X205='P&L'!$G$6), $AR205, 0)","v":0},0,{"$f":"IF(AND($A205<'P&L'!$P$8, $X205='P&L'!$G$6), $AT205, 0)","v":0}," "," "," "]
[null,null,null,null,null,null,null,null,null,null,null,null,null,null,null,null,null,null,null,null,null,null,"Jan-00",1900,{"$f":"IF(AND($A206<'P&L'!$P$8, YEAR($A206)=Master!$C$6), $K206, 0)","v":0},0,{"$f":"IF(AND(NOT(ISBLANK($O206)), $O206<'P&L'!$P$8), Z206, 0)","v":0},{"$f":"IF(OR(ISBLANK($O206), $O206>'BankRec Main Acct'!$E$8), Z206, 0)","v":0},0,{"$f":"IF(AND(NOT(ISBLANK($O206)), $O206<'P&L'!$P$8), AC206, 0)","v":0},{"$f":"IF(OR(ISBLANK($O206), $O206>'BankRec Main Acct'!$E$8), AC206, 0)","v":0},0,{"$f":"IF(AND(NOT(ISBLANK($S206)), $S206<'P&L'!$P$8), AF206, 0)","v":0},{"$f":"IF(OR(ISBLANK($S206), $S206>'BankRec Main Acct'!$E$8), AF206, 0)","v":0},0,{"$f":"IF(AND(NOT(ISBLANK($S206)), $S206<'P&L'!$P$8), AI206, 0)","v":0},{"$f":"IF(OR(ISBLANK($S206), $S206>'BankRec Main Acct'!$E$8), AI206, 0)","v":0},0,{"$f":"IF(AND(NOT(ISBLANK($U206)), $U206<'P&L'!$P$8), $AL206, 0)","v":0},{"$f":"IF(OR(ISBLANK($U206), $U206>'DebitCard Rec '!$E$8), $AL206, 0)","v":0},0,{"$f":"IF(AND(NOT(ISBLANK($U206)), $U206<'P&L'!$P$8), $AO206, 0)","v":0},{"$f":"IF(OR(ISBLANK($U206), $U206>'DebitCard Rec '!$E$8), $AO206, 0)","v":0},0,{"$f":"IF(AND($A206<'P&L'!$P$8, $X206='P&L'!$G$6), $AR206, 0)","v":0},0,{"$f":"IF(AND($A206<'P&L'!$P$8, $X206='P&L'!$G$6), $AT206, 0)","v":0}," "," "," "]
[null,null,null,null,null,null,null,null,null,null,null,null,null,null,null,null,null,null,null,null,null,null,"Jan-00",1900,{"$f":"IF(AND($A207<'P&L'!$P$8, YEAR($A207)=Master!$C$6), $K207, 0)","v":0},0,{"$f":"IF(AND(NOT(ISBLANK($O207)), $O207<'P&L'!$P$8), Z207, 0)","v":0},{"$f":"IF(OR(ISBLANK($O207), $O207>'BankRec Main Acct'!$E$8), Z207, 0)","v":0},0,{"$f":"IF(AND(NOT(ISBLANK($O207)), $O207<'P&L'!$P$8), AC207, 0)","v":0},{"$f":"IF(OR(ISBLANK($O207), $O207>'BankRec Main Acct'!$E$8), AC207, 0)","v":0},0,{"$f":"IF(AND(NOT(ISBLANK($S207)), $S207<'P&L'!$P$8), AF207, 0)","v":0},{"$f":"IF(OR(ISBLANK($S207), $S207>'BankRec Main Acct'!$E$8), AF207, 0)","v":0},0,{"$f":"IF(AND(NOT(ISBLANK($S207)), $S207<'P&L'!$P$8), AI207, 0)","v":0},{"$f":"IF(OR(ISBLANK($S207), $S207>'BankRec Main Acct'!$E$8), AI207, 0)","v":0},0,{"$f":"IF(AND(NOT(ISBLANK($U207)), $U207<'P&L'!$P$8), $AL207, 0)","v":0},{"$f":"IF(OR(ISBLANK($U207), $U207>'DebitCard Rec '!$E$8), $AL207, 0)","v":0},0,{"$f":"IF(AND(NOT(ISBLANK($U207)), $U207<'P&L'!$P$8), $AO207, 0)","v":0},{"$f":"IF(OR(ISBLANK($U207), $U207>'DebitCard Rec '!$E$8), $AO207, 0)","v":0},0,{"$f":"IF(AND($A207<'P&L'!$P$8, $X207='P&L'!$G$6), $AR207, 0)","v":0},0,{"$f":"IF(AND($A207<'P&L'!$P$8, $X207='P&L'!$G$6), $AT207, 0)","v":0}," "," "," "]
[null,null,null,null,null,null,null,null,null,null,null,null,null,null,null,null,null,null,null,null,null,null,"Jan-00",1900,{"$f":"IF(AND($A208<'P&L'!$P$8, YEAR($A208)=Master!$C$6), $K208, 0)","v":0},0,{"$f":"IF(AND(NOT(ISBLANK($O208)), $O208<'P&L'!$P$8), Z208, 0)","v":0},{"$f":"IF(OR(ISBLANK($O208), $O208>'BankRec Main Acct'!$E$8), Z208, 0)","v":0},0,{"$f":"IF(AND(NOT(ISBLANK($O208)), $O208<'P&L'!$P$8), AC208, 0)","v":0},{"$f":"IF(OR(ISBLANK($O208), $O208>'BankRec Main Acct'!$E$8), AC208, 0)","v":0},0,{"$f":"IF(AND(NOT(ISBLANK($S208)), $S208<'P&L'!$P$8), AF208, 0)","v":0},{"$f":"IF(OR(ISBLANK($S208), $S208>'BankRec Main Acct'!$E$8), AF208, 0)","v":0},0,{"$f":"IF(AND(NOT(ISBLANK($S208)), $S208<'P&L'!$P$8), AI208, 0)","v":0},{"$f":"IF(OR(ISBLANK($S208), $S208>'BankRec Main Acct'!$E$8), AI208, 0)","v":0},0,{"$f":"IF(AND(NOT(ISBLANK($U208)), $U208<'P&L'!$P$8), $AL208, 0)","v":0},{"$f":"IF(OR(ISBLANK($U208), $U208>'DebitCard Rec '!$E$8), $AL208, 0)","v":0},0,{"$f":"IF(AND(NOT(ISBLANK($U208)), $U208<'P&L'!$P$8), $AO208, 0)","v":0},{"$f":"IF(OR(ISBLANK($U208), $U208>'DebitCard Rec '!$E$8), $AO208, 0)","v":0},0,{"$f":"IF(AND($A208<'P&L'!$P$8, $X208='P&L'!$G$6), $AR208, 0)","v":0},0,{"$f":"IF(AND($A208<'P&L'!$P$8, $X208='P&L'!$G$6), $AT208, 0)","v":0}," "," "," "]
[null,null,null,null,null,null,null,null,null,null,null,null,null,null,null,null,null,null,null,null,null,null,"Jan-00",1900,{"$f":"IF(AND($A209<'P&L'!$P$8, YEAR($A209)=Master!$C$6), $K209, 0)","v":0},0,{"$f":"IF(AND(NOT(ISBLANK($O209)), $O209<'P&L'!$P$8), Z209, 0)","v":0},{"$f":"IF(OR(ISBLANK($O209), $O209>'BankRec Main Acct'!$E$8), Z209, 0)","v":0},0,{"$f":"IF(AND(NOT(ISBLANK($O209)), $O209<'P&L'!$P$8), AC209, 0)","v":0},{"$f":"IF(OR(ISBLANK($O209), $O209>'BankRec Main Acct'!$E$8), AC209, 0)","v":0},0,{"$f":"IF(AND(NOT(ISBLANK($S209)), $S209<'P&L'!$P$8), AF209, 0)","v":0},{"$f":"IF(OR(ISBLANK($S209), $S209>'BankRec Main Acct'!$E$8), AF209, 0)","v":0},0,{"$f":"IF(AND(NOT(ISBLANK($S209)), $S209<'P&L'!$P$8), AI209, 0)","v":0},{"$f":"IF(OR(ISBLANK($S209), $S209>'BankRec Main Acct'!$E$8), AI209, 0)","v":0},0,{"$f":"IF(AND(NOT(ISBLANK($U209)), $U209<'P&L'!$P$8), $AL209, 0)","v":0},{"$f":"IF(OR(ISBLANK($U209), $U209>'DebitCard Rec '!$E$8), $AL209, 0)","v":0},0,{"$f":"IF(AND(NOT(ISBLANK($U209)), $U209<'P&L'!$P$8), $AO209, 0)","v":0},{"$f":"IF(OR(ISBLANK($U209), $U209>'DebitCard Rec '!$E$8), $AO209, 0)","v":0},0,{"$f":"IF(AND($A209<'P&L'!$P$8, $X209='P&L'!$G$6), $AR209, 0)","v":0},0,{"$f":"IF(AND($A209<'P&L'!$P$8, $X209='P&L'!$G$6), $AT209, 0)","v":0}," "," "," "]
[null,null,null,null,null,null,null,null,null,null,null,null,null,null,null,null,null,null,null,null,null,null,"Jan-00",1900,{"$f":"IF(AND($A210<'P&L'!$P$8, YEAR($A210)=Master!$C$6), $K210, 0)","v":0},0,{"$f":"IF(AND(NOT(ISBLANK($O210)), $O210<'P&L'!$P$8), Z210, 0)","v":0},{"$f":"IF(OR(ISBLANK($O210), $O210>'BankRec Main Acct'!$E$8), Z210, 0)","v":0},0,{"$f":"IF(AND(NOT(ISBLANK($O210)), $O210<'P&L'!$P$8), AC210, 0)","v":0},{"$f":"IF(OR(ISBLANK($O210), $O210>'BankRec Main Acct'!$E$8), AC210, 0)","v":0},0,{"$f":"IF(AND(NOT(ISBLANK($S210)), $S210<'P&L'!$P$8), AF210, 0)","v":0},{"$f":"IF(OR(ISBLANK($S210), $S210>'BankRec Main Acct'!$E$8), AF210, 0)","v":0},0,{"$f":"IF(AND(NOT(ISBLANK($S210)), $S210<'P&L'!$P$8), AI210, 0)","v":0},{"$f":"IF(OR(ISBLANK($S210), $S210>'BankRec Main Acct'!$E$8), AI210, 0)","v":0},0,{"$f":"IF(AND(NOT(ISBLANK($U210)), $U210<'P&L'!$P$8), $AL210, 0)","v":0},{"$f":"IF(OR(ISBLANK($U210), $U210>'DebitCard Rec '!$E$8), $AL210, 0)","v":0},0,{"$f":"IF(AND(NOT(ISBLANK($U210)), $U210<'P&L'!$P$8), $AO210, 0)","v":0},{"$f":"IF(OR(ISBLANK($U210), $U210>'DebitCard Rec '!$E$8), $AO210, 0)","v":0},0,{"$f":"IF(AND($A210<'P&L'!$P$8, $X210='P&L'!$G$6), $AR210, 0)","v":0},0,{"$f":"IF(AND($A210<'P&L'!$P$8, $X210='P&L'!$G$6), $AT210, 0)","v":0}," "," "," "]
[null,null,null,null,null,null,null,null,null,null,null,null,null,null,null,null,null,null,null,null,null,null,"Jan-00",1900,{"$f":"IF(AND($A211<'P&L'!$P$8, YEAR($A211)=Master!$C$6), $K211, 0)","v":0},0,{"$f":"IF(AND(NOT(ISBLANK($O211)), $O211<'P&L'!$P$8), Z211, 0)","v":0},{"$f":"IF(OR(ISBLANK($O211), $O211>'BankRec Main Acct'!$E$8), Z211, 0)","v":0},0,{"$f":"IF(AND(NOT(ISBLANK($O211)), $O211<'P&L'!$P$8), AC211, 0)","v":0},{"$f":"IF(OR(ISBLANK($O211), $O211>'BankRec Main Acct'!$E$8), AC211, 0)","v":0},0,{"$f":"IF(AND(NOT(ISBLANK($S211)), $S211<'P&L'!$P$8), AF211, 0)","v":0},{"$f":"IF(OR(ISBLANK($S211), $S211>'BankRec Main Acct'!$E$8), AF211, 0)","v":0},0,{"$f":"IF(AND(NOT(ISBLANK($S211)), $S211<'P&L'!$P$8), AI211, 0)","v":0},{"$f":"IF(OR(ISBLANK($S211), $S211>'BankRec Main Acct'!$E$8), AI211, 0)","v":0},0,{"$f":"IF(AND(NOT(ISBLANK($U211)), $U211<'P&L'!$P$8), $AL211, 0)","v":0},{"$f":"IF(OR(ISBLANK($U211), $U211>'DebitCard Rec '!$E$8), $AL211, 0)","v":0},0,{"$f":"IF(AND(NOT(ISBLANK($U211)), $U211<'P&L'!$P$8), $AO211, 0)","v":0},{"$f":"IF(OR(ISBLANK($U211), $U211>'DebitCard Rec '!$E$8), $AO211, 0)","v":0},0,{"$f":"IF(AND($A211<'P&L'!$P$8, $X211='P&L'!$G$6), $AR211, 0)","v":0},0,{"$f":"IF(AND($A211<'P&L'!$P$8, $X211='P&L'!$G$6), $AT211, 0)","v":0}," "," "," "]
[null,null,null,null,null,null,null,null,null,null,null,null,null,null,null,null,null,null,null,null,null,null,{"$f":"TEXT($A212, \"mmm-yy\")","v":"Jan-00"},{"$f":"YEAR($A212)","v":1900},{"$f":"IF(AND($A212<'P&L'!$P$8, YEAR($A212)=Master!$C$6), $K212, 0)","v":0},0,{"$f":"IF(AND(NOT(ISBLANK($O212)), $O212<'P&L'!$P$8), Z212, 0)","v":0},{"$f":"IF(OR(ISBLANK($O212), $O212>'BankRec Main Acct'!$E$8), Z212, 0)","v":0},0,{"$f":"IF(AND(NOT(ISBLANK($O212)), $O212<'P&L'!$P$8), AC212, 0)","v":0},{"$f":"IF(OR(ISBLANK($O212), $O212>'BankRec Main Acct'!$E$8), AC212, 0)","v":0},0,{"$f":"IF(AND(NOT(ISBLANK($S212)), $S212<'P&L'!$P$8), AF212, 0)","v":0},{"$f":"IF(OR(ISBLANK($S212), $S212>'BankRec Main Acct'!$E$8), AF212, 0)","v":0},0,{"$f":"IF(AND(NOT(ISBLANK($S212)), $S212<'P&L'!$P$8), AI212, 0)","v":0},{"$f":"IF(OR(ISBLANK($S212), $S212>'BankRec Main Acct'!$E$8), AI212, 0)","v":0},{"$f":"IF(AND($C212=\"Receipt\",$B212=\"Debit card\"),$K212,0)","v":0},{"$f":"IF(AND(NOT(ISBLANK($U212)), $U212<'P&L'!$P$8), $AL212, 0)","v":0},{"$f":"IF(OR(ISBLANK($U212), $U212>'DebitCard Rec '!$E$8), $AL212, 0)","v":0},{"$f":"IF(AND($C212=\"Payment\",$B212=\"Debit card\"),$K212,0)","v":0},{"$f":"IF(AND(NOT(ISBLANK($U212)), $U212<'P&L'!$P$8), $AO212, 0)","v":0},{"$f":"IF(OR(ISBLANK($U212), $U212>'DebitCard Rec '!$E$8), $AO212, 0)","v":0},0,{"$f":"IF(AND($A212<'P&L'!$P$8, $X212='P&L'!$G$6), $AR212, 0)","v":0},0,{"$f":"IF(AND($A212<'P&L'!$P$8, $X212='P&L'!$G$6), $AT212, 0)","v":0}," "," "," "]
[null,null,null,null,null,null,null,null,null,null,null,null,null,null,null,null,null,null,null,null,null,null,"Jan-00",1900,{"$f":"IF(AND($A213<'P&L'!$P$8, YEAR($A213)=Master!$C$6), $K213, 0)","v":0},0,{"$f":"IF(AND(NOT(ISBLANK($O213)), $O213<'P&L'!$P$8), Z213, 0)","v":0},{"$f":"IF(OR(ISBLANK($O213), $O213>'BankRec Main Acct'!$E$8), Z213, 0)","v":0},0,{"$f":"IF(AND(NOT(ISBLANK($O213)), $O213<'P&L'!$P$8), AC213, 0)","v":0},{"$f":"IF(OR(ISBLANK($O213), $O213>'BankRec Main Acct'!$E$8), AC213, 0)","v":0},0,{"$f":"IF(AND(NOT(ISBLANK($S213)), $S213<'P&L'!$P$8), AF213, 0)","v":0},{"$f":"IF(OR(ISBLANK($S213), $S213>'BankRec Main Acct'!$E$8), AF213, 0)","v":0},0,{"$f":"IF(AND(NOT(ISBLANK($S213)), $S213<'P&L'!$P$8), AI213, 0)","v":0},{"$f":"IF(OR(ISBLANK($S213), $S213>'BankRec Main Acct'!$E$8), AI213, 0)","v":0},0,{"$f":"IF(AND(NOT(ISBLANK($U213)), $U213<'P&L'!$P$8), $AL213, 0)","v":0},{"$f":"IF(OR(ISBLANK($U213), $U213>'DebitCard Rec '!$E$8), $AL213, 0)","v":0},0,{"$f":"IF(AND(NOT(ISBLANK($U213)), $U213<'P&L'!$P$8), $AO213, 0)","v":0},{"$f":"IF(OR(ISBLANK($U213), $U213>'DebitCard Rec '!$E$8), $AO213, 0)","v":0},0,{"$f":"IF(AND($A213<'P&L'!$P$8, $X213='P&L'!$G$6), $AR213, 0)","v":0},0,{"$f":"IF(AND($A213<'P&L'!$P$8, $X213='P&L'!$G$6), $AT213, 0)","v":0}," "," "," "]
[null,null,null,null,null,null,null,null,null,null,null,null,null,null,null,null,null,null,null,null,null,null,"Jan-00",1900,{"$f":"IF(AND($A214<'P&L'!$P$8, YEAR($A214)=Master!$C$6), $K214, 0)","v":0},0,{"$f":"IF(AND(NOT(ISBLANK($O214)), $O214<'P&L'!$P$8), Z214, 0)","v":0},{"$f":"IF(OR(ISBLANK($O214), $O214>'BankRec Main Acct'!$E$8), Z214, 0)","v":0},0,{"$f":"IF(AND(NOT(ISBLANK($O214)), $O214<'P&L'!$P$8), AC214, 0)","v":0},{"$f":"IF(OR(ISBLANK($O214), $O214>'BankRec Main Acct'!$E$8), AC214, 0)","v":0},0,{"$f":"IF(AND(NOT(ISBLANK($S214)), $S214<'P&L'!$P$8), AF214, 0)","v":0},{"$f":"IF(OR(ISBLANK($S214), $S214>'BankRec Main Acct'!$E$8), AF214, 0)","v":0},0,{"$f":"IF(AND(NOT(ISBLANK($S214)), $S214<'P&L'!$P$8), AI214, 0)","v":0},{"$f":"IF(OR(ISBLANK($S214), $S214>'BankRec Main Acct'!$E$8), AI214, 0)","v":0},0,{"$f":"IF(AND(NOT(ISBLANK($U214)), $U214<'P&L'!$P$8), $AL214, 0)","v":0},{"$f":"IF(OR(ISBLANK($U214), $U214>'DebitCard Rec '!$E$8), $AL214, 0)","v":0},0,{"$f":"IF(AND(NOT(ISBLANK($U214)), $U214<'P&L'!$P$8), $AO214, 0)","v":0},{"$f":"IF(OR(ISBLANK($U214), $U214>'DebitCard Rec '!$E$8), $AO214, 0)","v":0},0,{"$f":"IF(AND($A214<'P&L'!$P$8, $X214='P&L'!$G$6), $AR214, 0)","v":0},0,{"$f":"IF(AND($A214<'P&L'!$P$8, $X214='P&L'!$G$6), $AT214, 0)","v":0}," "," "," "]
[null,null,null,null,null,null,null,null,null,null,null,null,null,null,null,null,null,null,null,null,null,null,"Jan-00",1900,{"$f":"IF(AND($A215<'P&L'!$P$8, YEAR($A215)=Master!$C$6), $K215, 0)","v":0},0,{"$f":"IF(AND(NOT(ISBLANK($O215)), $O215<'P&L'!$P$8), Z215, 0)","v":0},{"$f":"IF(OR(ISBLANK($O215), $O215>'BankRec Main Acct'!$E$8), Z215, 0)","v":0},0,{"$f":"IF(AND(NOT(ISBLANK($O215)), $O215<'P&L'!$P$8), AC215, 0)","v":0},{"$f":"IF(OR(ISBLANK($O215), $O215>'BankRec Main Acct'!$E$8), AC215, 0)","v":0},0,{"$f":"IF(AND(NOT(ISBLANK($S215)), $S215<'P&L'!$P$8), AF215, 0)","v":0},{"$f":"IF(OR(ISBLANK($S215), $S215>'BankRec Main Acct'!$E$8), AF215, 0)","v":0},0,{"$f":"IF(AND(NOT(ISBLANK($S215)), $S215<'P&L'!$P$8), AI215, 0)","v":0},{"$f":"IF(OR(ISBLANK($S215), $S215>'BankRec Main Acct'!$E$8), AI215, 0)","v":0},0,{"$f":"IF(AND(NOT(ISBLANK($U215)), $U215<'P&L'!$P$8), $AL215, 0)","v":0},{"$f":"IF(OR(ISBLANK($U215), $U215>'DebitCard Rec '!$E$8), $AL215, 0)","v":0},0,{"$f":"IF(AND(NOT(ISBLANK($U215)), $U215<'P&L'!$P$8), $AO215, 0)","v":0},{"$f":"IF(OR(ISBLANK($U215), $U215>'DebitCard Rec '!$E$8), $AO215, 0)","v":0},0,{"$f":"IF(AND($A215<'P&L'!$P$8, $X215='P&L'!$G$6), $AR215, 0)","v":0},0,{"$f":"IF(AND($A215<'P&L'!$P$8, $X215='P&L'!$G$6), $AT215, 0)","v":0}," "," "," "]
[null,null,null,null,null,null,null,null,null,null,null,null,null,null,null,null,null,null,null,null,null,null,"Jan-00",1900,{"$f":"IF(AND($A216<'P&L'!$P$8, YEAR($A216)=Master!$C$6), $K216, 0)","v":0},0,{"$f":"IF(AND(NOT(ISBLANK($O216)), $O216<'P&L'!$P$8), Z216, 0)","v":0},{"$f":"IF(OR(ISBLANK($O216), $O216>'BankRec Main Acct'!$E$8), Z216, 0)","v":0},0,{"$f":"IF(AND(NOT(ISBLANK($O216)), $O216<'P&L'!$P$8), AC216, 0)","v":0},{"$f":"IF(OR(ISBLANK($O216), $O216>'BankRec Main Acct'!$E$8), AC216, 0)","v":0},0,{"$f":"IF(AND(NOT(ISBLANK($S216)), $S216<'P&L'!$P$8), AF216, 0)","v":0},{"$f":"IF(OR(ISBLANK($S216), $S216>'BankRec Main Acct'!$E$8), AF216, 0)","v":0},0,{"$f":"IF(AND(NOT(ISBLANK($S216)), $S216<'P&L'!$P$8), AI216, 0)","v":0},{"$f":"IF(OR(ISBLANK($S216), $S216>'BankRec Main Acct'!$E$8), AI216, 0)","v":0},0,{"$f":"IF(AND(NOT(ISBLANK($U216)), $U216<'P&L'!$P$8), $AL216, 0)","v":0},{"$f":"IF(OR(ISBLANK($U216), $U216>'DebitCard Rec '!$E$8), $AL216, 0)","v":0},0,{"$f":"IF(AND(NOT(ISBLANK($U216)), $U216<'P&L'!$P$8), $AO216, 0)","v":0},{"$f":"IF(OR(ISBLANK($U216), $U216>'DebitCard Rec '!$E$8), $AO216, 0)","v":0},0,{"$f":"IF(AND($A216<'P&L'!$P$8, $X216='P&L'!$G$6), $AR216, 0)","v":0},0,{"$f":"IF(AND($A216<'P&L'!$P$8, $X216='P&L'!$G$6), $AT216, 0)","v":0}," "," "," "]
[null,null,null,null,null,null,null,null,null,null,null,null,null,null,null,null,null,null,null,null,null,null,"Jan-00",1900,{"$f":"IF(AND($A217<'P&L'!$P$8, YEAR($A217)=Master!$C$6), $K217, 0)","v":0},0,{"$f":"IF(AND(NOT(ISBLANK($O217)), $O217<'P&L'!$P$8), Z217, 0)","v":0},{"$f":"IF(OR(ISBLANK($O217), $O217>'BankRec Main Acct'!$E$8), Z217, 0)","v":0},0,{"$f":"IF(AND(NOT(ISBLANK($O217)), $O217<'P&L'!$P$8), AC217, 0)","v":0},{"$f":"IF(OR(ISBLANK($O217), $O217>'BankRec Main Acct'!$E$8), AC217, 0)","v":0},0,{"$f":"IF(AND(NOT(ISBLANK($S217)), $S217<'P&L'!$P$8), AF217, 0)","v":0},{"$f":"IF(OR(ISBLANK($S217), $S217>'BankRec Main Acct'!$E$8), AF217, 0)","v":0},0,{"$f":"IF(AND(NOT(ISBLANK($S217)), $S217<'P&L'!$P$8), AI217, 0)","v":0},{"$f":"IF(OR(ISBLANK($S217), $S217>'BankRec Main Acct'!$E$8), AI217, 0)","v":0},0,{"$f":"IF(AND(NOT(ISBLANK($U217)), $U217<'P&L'!$P$8), $AL217, 0)","v":0},{"$f":"IF(OR(ISBLANK($U217), $U217>'DebitCard Rec '!$E$8), $AL217, 0)","v":0},0,{"$f":"IF(AND(NOT(ISBLANK($U217)), $U217<'P&L'!$P$8), $AO217, 0)","v":0},{"$f":"IF(OR(ISBLANK($U217), $U217>'DebitCard Rec '!$E$8), $AO217, 0)","v":0},0,{"$f":"IF(AND($A217<'P&L'!$P$8, $X217='P&L'!$G$6), $AR217, 0)","v":0},0,{"$f":"IF(AND($A217<'P&L'!$P$8, $X217='P&L'!$G$6), $AT217, 0)","v":0}," "," "," "]
[null,null,null,null,null,null,null,null,null,null,null,null,null,null,null,null,null,null,null,null,null,null,"Jan-00",1900,{"$f":"IF(AND($A218<'P&L'!$P$8, YEAR($A218)=Master!$C$6), $K218, 0)","v":0},0,{"$f":"IF(AND(NOT(ISBLANK($O218)), $O218<'P&L'!$P$8), Z218, 0)","v":0},{"$f":"IF(OR(ISBLANK($O218), $O218>'BankRec Main Acct'!$E$8), Z218, 0)","v":0},0,{"$f":"IF(AND(NOT(ISBLANK($O218)), $O218<'P&L'!$P$8), AC218, 0)","v":0},{"$f":"IF(OR(ISBLANK($O218), $O218>'BankRec Main Acct'!$E$8), AC218, 0)","v":0},0,{"$f":"IF(AND(NOT(ISBLANK($S218)), $S218<'P&L'!$P$8), AF218, 0)","v":0},{"$f":"IF(OR(ISBLANK($S218), $S218>'BankRec Main Acct'!$E$8), AF218, 0)","v":0},0,{"$f":"IF(AND(NOT(ISBLANK($S218)), $S218<'P&L'!$P$8), AI218, 0)","v":0},{"$f":"IF(OR(ISBLANK($S218), $S218>'BankRec Main Acct'!$E$8), AI218, 0)","v":0},0,{"$f":"IF(AND(NOT(ISBLANK($U218)), $U218<'P&L'!$P$8), $AL218, 0)","v":0},{"$f":"IF(OR(ISBLANK($U218), $U218>'DebitCard Rec '!$E$8), $AL218, 0)","v":0},0,{"$f":"IF(AND(NOT(ISBLANK($U218)), $U218<'P&L'!$P$8), $AO218, 0)","v":0},{"$f":"IF(OR(ISBLANK($U218), $U218>'DebitCard Rec '!$E$8), $AO218, 0)","v":0},0,{"$f":"IF(AND($A218<'P&L'!$P$8, $X218='P&L'!$G$6), $AR218, 0)","v":0},0,{"$f":"IF(AND($A218<'P&L'!$P$8, $X218='P&L'!$G$6), $AT218, 0)","v":0}," "," "," "]
[null,null,null,null,null,null,null,null,null,null,null,null,null,null,null,null,null,null,null,null,null,null,"Jan-00",1900,{"$f":"IF(AND($A219<'P&L'!$P$8, YEAR($A219)=Master!$C$6), $K219, 0)","v":0},0,{"$f":"IF(AND(NOT(ISBLANK($O219)), $O219<'P&L'!$P$8), Z219, 0)","v":0},{"$f":"IF(OR(ISBLANK($O219), $O219>'BankRec Main Acct'!$E$8), Z219, 0)","v":0},0,{"$f":"IF(AND(NOT(ISBLANK($O219)), $O219<'P&L'!$P$8), AC219, 0)","v":0},{"$f":"IF(OR(ISBLANK($O219), $O219>'BankRec Main Acct'!$E$8), AC219, 0)","v":0},0,{"$f":"IF(AND(NOT(ISBLANK($S219)), $S219<'P&L'!$P$8), AF219, 0)","v":0},{"$f":"IF(OR(ISBLANK($S219), $S219>'BankRec Main Acct'!$E$8), AF219, 0)","v":0},0,{"$f":"IF(AND(NOT(ISBLANK($S219)), $S219<'P&L'!$P$8), AI219, 0)","v":0},{"$f":"IF(OR(ISBLANK($S219), $S219>'BankRec Main Acct'!$E$8), AI219, 0)","v":0},0,{"$f":"IF(AND(NOT(ISBLANK($U219)), $U219<'P&L'!$P$8), $AL219, 0)","v":0},{"$f":"IF(OR(ISBLANK($U219), $U219>'DebitCard Rec '!$E$8), $AL219, 0)","v":0},0,{"$f":"IF(AND(NOT(ISBLANK($U219)), $U219<'P&L'!$P$8), $AO219, 0)","v":0},{"$f":"IF(OR(ISBLANK($U219), $U219>'DebitCard Rec '!$E$8), $AO219, 0)","v":0},0,{"$f":"IF(AND($A219<'P&L'!$P$8, $X219='P&L'!$G$6), $AR219, 0)","v":0},0,{"$f":"IF(AND($A219<'P&L'!$P$8, $X219='P&L'!$G$6), $AT219, 0)","v":0}," "," "," "]
[null,null,null,null,null,null,null,null,null,null,null,null,null,null,null,null,null,null,null,null,null,null,"Jan-00",1900,{"$f":"IF(AND($A220<'P&L'!$P$8, YEAR($A220)=Master!$C$6), $K220, 0)","v":0},0,{"$f":"IF(AND(NOT(ISBLANK($O220)), $O220<'P&L'!$P$8), Z220, 0)","v":0},{"$f":"IF(OR(ISBLANK($O220), $O220>'BankRec Main Acct'!$E$8), Z220, 0)","v":0},0,{"$f":"IF(AND(NOT(ISBLANK($O220)), $O220<'P&L'!$P$8), AC220, 0)","v":0},{"$f":"IF(OR(ISBLANK($O220), $O220>'BankRec Main Acct'!$E$8), AC220, 0)","v":0},0,{"$f":"IF(AND(NOT(ISBLANK($S220)), $S220<'P&L'!$P$8), AF220, 0)","v":0},{"$f":"IF(OR(ISBLANK($S220), $S220>'BankRec Main Acct'!$E$8), AF220, 0)","v":0},0,{"$f":"IF(AND(NOT(ISBLANK($S220)), $S220<'P&L'!$P$8), AI220, 0)","v":0},{"$f":"IF(OR(ISBLANK($S220), $S220>'BankRec Main Acct'!$E$8), AI220, 0)","v":0},0,{"$f":"IF(AND(NOT(ISBLANK($U220)), $U220<'P&L'!$P$8), $AL220, 0)","v":0},{"$f":"IF(OR(ISBLANK($U220), $U220>'DebitCard Rec '!$E$8), $AL220, 0)","v":0},0,{"$f":"IF(AND(NOT(ISBLANK($U220)), $U220<'P&L'!$P$8), $AO220, 0)","v":0},{"$f":"IF(OR(ISBLANK($U220), $U220>'DebitCard Rec '!$E$8), $AO220, 0)","v":0},0,{"$f":"IF(AND($A220<'P&L'!$P$8, $X220='P&L'!$G$6), $AR220, 0)","v":0},0,{"$f":"IF(AND($A220<'P&L'!$P$8, $X220='P&L'!$G$6), $AT220, 0)","v":0}," "," "," "]
[null,null,null,null,null,null,null,null,null,null,null,null,null,null,null,null,null,null,null,null,null,null,"Jan-00",1900,{"$f":"IF(AND($A221<'P&L'!$P$8, YEAR($A221)=Master!$C$6), $K221, 0)","v":0},0,{"$f":"IF(AND(NOT(ISBLANK($O221)), $O221<'P&L'!$P$8), Z221, 0)","v":0},{"$f":"IF(OR(ISBLANK($O221), $O221>'BankRec Main Acct'!$E$8), Z221, 0)","v":0},0,{"$f":"IF(AND(NOT(ISBLANK($O221)), $O221<'P&L'!$P$8), AC221, 0)","v":0},{"$f":"IF(OR(ISBLANK($O221), $O221>'BankRec Main Acct'!$E$8), AC221, 0)","v":0},0,{"$f":"IF(AND(NOT(ISBLANK($S221)), $S221<'P&L'!$P$8), AF221, 0)","v":0},{"$f":"IF(OR(ISBLANK($S221), $S221>'BankRec Main Acct'!$E$8), AF221, 0)","v":0},0,{"$f":"IF(AND(NOT(ISBLANK($S221)), $S221<'P&L'!$P$8), AI221, 0)","v":0},{"$f":"IF(OR(ISBLANK($S221), $S221>'BankRec Main Acct'!$E$8), AI221, 0)","v":0},0,{"$f":"IF(AND(NOT(ISBLANK($U221)), $U221<'P&L'!$P$8), $AL221, 0)","v":0},{"$f":"IF(OR(ISBLANK($U221), $U221>'DebitCard Rec '!$E$8), $AL221, 0)","v":0},0,{"$f":"IF(AND(NOT(ISBLANK($U221)), $U221<'P&L'!$P$8), $AO221, 0)","v":0},{"$f":"IF(OR(ISBLANK($U221), $U221>'DebitCard Rec '!$E$8), $AO221, 0)","v":0},0,{"$f":"IF(AND($A221<'P&L'!$P$8, $X221='P&L'!$G$6), $AR221, 0)","v":0},0,{"$f":"IF(AND($A221<'P&L'!$P$8, $X221='P&L'!$G$6), $AT221, 0)","v":0}," "," "," "]
[null,null,null,null,null,null,null,null,null,null,null,null,null,null,null,null,null,null,null,null,null,null,"Jan-00",1900,{"$f":"IF(AND($A222<'P&L'!$P$8, YEAR($A222)=Master!$C$6), $K222, 0)","v":0},0,{"$f":"IF(AND(NOT(ISBLANK($O222)), $O222<'P&L'!$P$8), Z222, 0)","v":0},{"$f":"IF(OR(ISBLANK($O222), $O222>'BankRec Main Acct'!$E$8), Z222, 0)","v":0},0,{"$f":"IF(AND(NOT(ISBLANK($O222)), $O222<'P&L'!$P$8), AC222, 0)","v":0},{"$f":"IF(OR(ISBLANK($O222), $O222>'BankRec Main Acct'!$E$8), AC222, 0)","v":0},0,{"$f":"IF(AND(NOT(ISBLANK($S222)), $S222<'P&L'!$P$8), AF222, 0)","v":0},{"$f":"IF(OR(ISBLANK($S222), $S222>'BankRec Main Acct'!$E$8), AF222, 0)","v":0},0,{"$f":"IF(AND(NOT(ISBLANK($S222)), $S222<'P&L'!$P$8), AI222, 0)","v":0},{"$f":"IF(OR(ISBLANK($S222), $S222>'BankRec Main Acct'!$E$8), AI222, 0)","v":0},0,{"$f":"IF(AND(NOT(ISBLANK($U222)), $U222<'P&L'!$P$8), $AL222, 0)","v":0},{"$f":"IF(OR(ISBLANK($U222), $U222>'DebitCard Rec '!$E$8), $AL222, 0)","v":0},0,{"$f":"IF(AND(NOT(ISBLANK($U222)), $U222<'P&L'!$P$8), $AO222, 0)","v":0},{"$f":"IF(OR(ISBLANK($U222), $U222>'DebitCard Rec '!$E$8), $AO222, 0)","v":0},0,{"$f":"IF(AND($A222<'P&L'!$P$8, $X222='P&L'!$G$6), $AR222, 0)","v":0},0,{"$f":"IF(AND($A222<'P&L'!$P$8, $X222='P&L'!$G$6), $AT222, 0)","v":0}," "," "," "]
[null,null,null,null,null,null,null,null,null,null,null,null,null,null,null,null,null,null,null,null,null,null,"Jan-00",1900,{"$f":"IF(AND($A223<'P&L'!$P$8, YEAR($A223)=Master!$C$6), $K223, 0)","v":0},0,{"$f":"IF(AND(NOT(ISBLANK($O223)), $O223<'P&L'!$P$8), Z223, 0)","v":0},{"$f":"IF(OR(ISBLANK($O223), $O223>'BankRec Main Acct'!$E$8), Z223, 0)","v":0},0,{"$f":"IF(AND(NOT(ISBLANK($O223)), $O223<'P&L'!$P$8), AC223, 0)","v":0},{"$f":"IF(OR(ISBLANK($O223), $O223>'BankRec Main Acct'!$E$8), AC223, 0)","v":0},0,{"$f":"IF(AND(NOT(ISBLANK($S223)), $S223<'P&L'!$P$8), AF223, 0)","v":0},{"$f":"IF(OR(ISBLANK($S223), $S223>'BankRec Main Acct'!$E$8), AF223, 0)","v":0},0,{"$f":"IF(AND(NOT(ISBLANK($S223)), $S223<'P&L'!$P$8), AI223, 0)","v":0},{"$f":"IF(OR(ISBLANK($S223), $S223>'BankRec Main Acct'!$E$8), AI223, 0)","v":0},0,{"$f":"IF(AND(NOT(ISBLANK($U223)), $U223<'P&L'!$P$8), $AL223, 0)","v":0},{"$f":"IF(OR(ISBLANK($U223), $U223>'DebitCard Rec '!$E$8), $AL223, 0)","v":0},0,{"$f":"IF(AND(NOT(ISBLANK($U223)), $U223<'P&L'!$P$8), $AO223, 0)","v":0},{"$f":"IF(OR(ISBLANK($U223), $U223>'DebitCard Rec '!$E$8), $AO223, 0)","v":0},0,{"$f":"IF(AND($A223<'P&L'!$P$8, $X223='P&L'!$G$6), $AR223, 0)","v":0},0,{"$f":"IF(AND($A223<'P&L'!$P$8, $X223='P&L'!$G$6), $AT223, 0)","v":0}," "," "," "]
[null,null,null,null,null,null,null,null,null,null,null,null,null,null,null,null,null,null,null,null,null,null,"Jan-00",1900,{"$f":"IF(AND($A224<'P&L'!$P$8, YEAR($A224)=Master!$C$6), $K224, 0)","v":0},0,{"$f":"IF(AND(NOT(ISBLANK($O224)), $O224<'P&L'!$P$8), Z224, 0)","v":0},{"$f":"IF(OR(ISBLANK($O224), $O224>'BankRec Main Acct'!$E$8), Z224, 0)","v":0},0,{"$f":"IF(AND(NOT(ISBLANK($O224)), $O224<'P&L'!$P$8), AC224, 0)","v":0},{"$f":"IF(OR(ISBLANK($O224), $O224>'BankRec Main Acct'!$E$8), AC224, 0)","v":0},0,{"$f":"IF(AND(NOT(ISBLANK($S224)), $S224<'P&L'!$P$8), AF224, 0)","v":0},{"$f":"IF(OR(ISBLANK($S224), $S224>'BankRec Main Acct'!$E$8), AF224, 0)","v":0},0,{"$f":"IF(AND(NOT(ISBLANK($S224)), $S224<'P&L'!$P$8), AI224, 0)","v":0},{"$f":"IF(OR(ISBLANK($S224), $S224>'BankRec Main Acct'!$E$8), AI224, 0)","v":0},0,{"$f":"IF(AND(NOT(ISBLANK($U224)), $U224<'P&L'!$P$8), $AL224, 0)","v":0},{"$f":"IF(OR(ISBLANK($U224), $U224>'DebitCard Rec '!$E$8), $AL224, 0)","v":0},0,{"$f":"IF(AND(NOT(ISBLANK($U224)), $U224<'P&L'!$P$8), $AO224, 0)","v":0},{"$f":"IF(OR(ISBLANK($U224), $U224>'DebitCard Rec '!$E$8), $AO224, 0)","v":0},0,{"$f":"IF(AND($A224<'P&L'!$P$8, $X224='P&L'!$G$6), $AR224, 0)","v":0},0,{"$f":"IF(AND($A224<'P&L'!$P$8, $X224='P&L'!$G$6), $AT224, 0)","v":0}," "," "," "]
[null,null,null,null,null,null,null,null,null,null,null,null,null,null,null,null,null,null,null,null,null,null,"Jan-00",1900,{"$f":"IF(AND($A225<'P&L'!$P$8, YEAR($A225)=Master!$C$6), $K225, 0)","v":0},0,{"$f":"IF(AND(NOT(ISBLANK($O225)), $O225<'P&L'!$P$8), Z225, 0)","v":0},{"$f":"IF(OR(ISBLANK($O225), $O225>'BankRec Main Acct'!$E$8), Z225, 0)","v":0},0,{"$f":"IF(AND(NOT(ISBLANK($O225)), $O225<'P&L'!$P$8), AC225, 0)","v":0},{"$f":"IF(OR(ISBLANK($O225), $O225>'BankRec Main Acct'!$E$8), AC225, 0)","v":0},0,{"$f":"IF(AND(NOT(ISBLANK($S225)), $S225<'P&L'!$P$8), AF225, 0)","v":0},{"$f":"IF(OR(ISBLANK($S225), $S225>'BankRec Main Acct'!$E$8), AF225, 0)","v":0},0,{"$f":"IF(AND(NOT(ISBLANK($S225)), $S225<'P&L'!$P$8), AI225, 0)","v":0},{"$f":"IF(OR(ISBLANK($S225), $S225>'BankRec Main Acct'!$E$8), AI225, 0)","v":0},0,{"$f":"IF(AND(NOT(ISBLANK($U225)), $U225<'P&L'!$P$8), $AL225, 0)","v":0},{"$f":"IF(OR(ISBLANK($U225), $U225>'DebitCard Rec '!$E$8), $AL225, 0)","v":0},0,{"$f":"IF(AND(NOT(ISBLANK($U225)), $U225<'P&L'!$P$8), $AO225, 0)","v":0},{"$f":"IF(OR(ISBLANK($U225), $U225>'DebitCard Rec '!$E$8), $AO225, 0)","v":0},0,{"$f":"IF(AND($A225<'P&L'!$P$8, $X225='P&L'!$G$6), $AR225, 0)","v":0},0,{"$f":"IF(AND($A225<'P&L'!$P$8, $X225='P&L'!$G$6), $AT225, 0)","v":0}," "," "," "]
[null,null,null,null,null,null,null,null,null,null,null,null,null,null,null,null,null,null,null,null,null,null,"Jan-00",1900,{"$f":"IF(AND($A226<'P&L'!$P$8, YEAR($A226)=Master!$C$6), $K226, 0)","v":0},0,{"$f":"IF(AND(NOT(ISBLANK($O226)), $O226<'P&L'!$P$8), Z226, 0)","v":0},{"$f":"IF(OR(ISBLANK($O226), $O226>'BankRec Main Acct'!$E$8), Z226, 0)","v":0},0,{"$f":"IF(AND(NOT(ISBLANK($O226)), $O226<'P&L'!$P$8), AC226, 0)","v":0},{"$f":"IF(OR(ISBLANK($O226), $O226>'BankRec Main Acct'!$E$8), AC226, 0)","v":0},0,{"$f":"IF(AND(NOT(ISBLANK($S226)), $S226<'P&L'!$P$8), AF226, 0)","v":0},{"$f":"IF(OR(ISBLANK($S226), $S226>'BankRec Main Acct'!$E$8), AF226, 0)","v":0},0,{"$f":"IF(AND(NOT(ISBLANK($S226)), $S226<'P&L'!$P$8), AI226, 0)","v":0},{"$f":"IF(OR(ISBLANK($S226), $S226>'BankRec Main Acct'!$E$8), AI226, 0)","v":0},0,{"$f":"IF(AND(NOT(ISBLANK($U226)), $U226<'P&L'!$P$8), $AL226, 0)","v":0},{"$f":"IF(OR(ISBLANK($U226), $U226>'DebitCard Rec '!$E$8), $AL226, 0)","v":0},0,{"$f":"IF(AND(NOT(ISBLANK($U226)), $U226<'P&L'!$P$8), $AO226, 0)","v":0},{"$f":"IF(OR(ISBLANK($U226), $U226>'DebitCard Rec '!$E$8), $AO226, 0)","v":0},0,{"$f":"IF(AND($A226<'P&L'!$P$8, $X226='P&L'!$G$6), $AR226, 0)","v":0},0,{"$f":"IF(AND($A226<'P&L'!$P$8, $X226='P&L'!$G$6), $AT226, 0)","v":0}," "," "," "]
[null,null,null,null,null,null,null,null,null,null,null,null,null,null,null,null,null,null,null,null,null,null,"Jan-00",1900,{"$f":"IF(AND($A227<'P&L'!$P$8, YEAR($A227)=Master!$C$6), $K227, 0)","v":0},0,{"$f":"IF(AND(NOT(ISBLANK($O227)), $O227<'P&L'!$P$8), Z227, 0)","v":0},{"$f":"IF(OR(ISBLANK($O227), $O227>'BankRec Main Acct'!$E$8), Z227, 0)","v":0},0,{"$f":"IF(AND(NOT(ISBLANK($O227)), $O227<'P&L'!$P$8), AC227, 0)","v":0},{"$f":"IF(OR(ISBLANK($O227), $O227>'BankRec Main Acct'!$E$8), AC227, 0)","v":0},0,{"$f":"IF(AND(NOT(ISBLANK($S227)), $S227<'P&L'!$P$8), AF227, 0)","v":0},{"$f":"IF(OR(ISBLANK($S227), $S227>'BankRec Main Acct'!$E$8), AF227, 0)","v":0},0,{"$f":"IF(AND(NOT(ISBLANK($S227)), $S227<'P&L'!$P$8), AI227, 0)","v":0},{"$f":"IF(OR(ISBLANK($S227), $S227>'BankRec Main Acct'!$E$8), AI227, 0)","v":0},0,{"$f":"IF(AND(NOT(ISBLANK($U227)), $U227<'P&L'!$P$8), $AL227, 0)","v":0},{"$f":"IF(OR(ISBLANK($U227), $U227>'DebitCard Rec '!$E$8), $AL227, 0)","v":0},0,{"$f":"IF(AND(NOT(ISBLANK($U227)), $U227<'P&L'!$P$8), $AO227, 0)","v":0},{"$f":"IF(OR(ISBLANK($U227), $U227>'DebitCard Rec '!$E$8), $AO227, 0)","v":0},0,{"$f":"IF(AND($A227<'P&L'!$P$8, $X227='P&L'!$G$6), $AR227, 0)","v":0},0,{"$f":"IF(AND($A227<'P&L'!$P$8, $X227='P&L'!$G$6), $AT227, 0)","v":0}," "," "," "]
[null,null,null,null,null,null,null,null,null,null,null,null,null,null,null,null,null,null,null,null,null,null,"Jan-00",1900,{"$f":"IF(AND($A228<'P&L'!$P$8, YEAR($A228)=Master!$C$6), $K228, 0)","v":0},0,{"$f":"IF(AND(NOT(ISBLANK($O228)), $O228<'P&L'!$P$8), Z228, 0)","v":0},{"$f":"IF(OR(ISBLANK($O228), $O228>'BankRec Main Acct'!$E$8), Z228, 0)","v":0},0,{"$f":"IF(AND(NOT(ISBLANK($O228)), $O228<'P&L'!$P$8), AC228, 0)","v":0},{"$f":"IF(OR(ISBLANK($O228), $O228>'BankRec Main Acct'!$E$8), AC228, 0)","v":0},0,{"$f":"IF(AND(NOT(ISBLANK($S228)), $S228<'P&L'!$P$8), AF228, 0)","v":0},{"$f":"IF(OR(ISBLANK($S228), $S228>'BankRec Main Acct'!$E$8), AF228, 0)","v":0},0,{"$f":"IF(AND(NOT(ISBLANK($S228)), $S228<'P&L'!$P$8), AI228, 0)","v":0},{"$f":"IF(OR(ISBLANK($S228), $S228>'BankRec Main Acct'!$E$8), AI228, 0)","v":0},0,{"$f":"IF(AND(NOT(ISBLANK($U228)), $U228<'P&L'!$P$8), $AL228, 0)","v":0},{"$f":"IF(OR(ISBLANK($U228), $U228>'DebitCard Rec '!$E$8), $AL228, 0)","v":0},0,{"$f":"IF(AND(NOT(ISBLANK($U228)), $U228<'P&L'!$P$8), $AO228, 0)","v":0},{"$f":"IF(OR(ISBLANK($U228), $U228>'DebitCard Rec '!$E$8), $AO228, 0)","v":0},0,{"$f":"IF(AND($A228<'P&L'!$P$8, $X228='P&L'!$G$6), $AR228, 0)","v":0},0,{"$f":"IF(AND($A228<'P&L'!$P$8, $X228='P&L'!$G$6), $AT228, 0)","v":0}," "," "," "]
[null,null,null,null,null,null,null,null,null,null,null,null,null,null,null,null,null,null,null,null,null,null,"Jan-00",1900,{"$f":"IF(AND($A229<'P&L'!$P$8, YEAR($A229)=Master!$C$6), $K229, 0)","v":0},0,{"$f":"IF(AND(NOT(ISBLANK($O229)), $O229<'P&L'!$P$8), Z229, 0)","v":0},{"$f":"IF(OR(ISBLANK($O229), $O229>'BankRec Main Acct'!$E$8), Z229, 0)","v":0},0,{"$f":"IF(AND(NOT(ISBLANK($O229)), $O229<'P&L'!$P$8), AC229, 0)","v":0},{"$f":"IF(OR(ISBLANK($O229), $O229>'BankRec Main Acct'!$E$8), AC229, 0)","v":0},0,{"$f":"IF(AND(NOT(ISBLANK($S229)), $S229<'P&L'!$P$8), AF229, 0)","v":0},{"$f":"IF(OR(ISBLANK($S229), $S229>'BankRec Main Acct'!$E$8), AF229, 0)","v":0},0,{"$f":"IF(AND(NOT(ISBLANK($S229)), $S229<'P&L'!$P$8), AI229, 0)","v":0},{"$f":"IF(OR(ISBLANK($S229), $S229>'BankRec Main Acct'!$E$8), AI229, 0)","v":0},0,{"$f":"IF(AND(NOT(ISBLANK($U229)), $U229<'P&L'!$P$8), $AL229, 0)","v":0},{"$f":"IF(OR(ISBLANK($U229), $U229>'DebitCard Rec '!$E$8), $AL229, 0)","v":0},0,{"$f":"IF(AND(NOT(ISBLANK($U229)), $U229<'P&L'!$P$8), $AO229, 0)","v":0},{"$f":"IF(OR(ISBLANK($U229), $U229>'DebitCard Rec '!$E$8), $AO229, 0)","v":0},0,{"$f":"IF(AND($A229<'P&L'!$P$8, $X229='P&L'!$G$6), $AR229, 0)","v":0},0,{"$f":"IF(AND($A229<'P&L'!$P$8, $X229='P&L'!$G$6), $AT229, 0)","v":0}," "," "," "]
[null,null,null,null,null,null,null,null,null,null,null,null,null,null,null,null,null,null,null,null,null,null,"Jan-00",1900,{"$f":"IF(AND($A230<'P&L'!$P$8, YEAR($A230)=Master!$C$6), $K230, 0)","v":0},0,{"$f":"IF(AND(NOT(ISBLANK($O230)), $O230<'P&L'!$P$8), Z230, 0)","v":0},{"$f":"IF(OR(ISBLANK($O230), $O230>'BankRec Main Acct'!$E$8), Z230, 0)","v":0},0,{"$f":"IF(AND(NOT(ISBLANK($O230)), $O230<'P&L'!$P$8), AC230, 0)","v":0},{"$f":"IF(OR(ISBLANK($O230), $O230>'BankRec Main Acct'!$E$8), AC230, 0)","v":0},0,{"$f":"IF(AND(NOT(ISBLANK($S230)), $S230<'P&L'!$P$8), AF230, 0)","v":0},{"$f":"IF(OR(ISBLANK($S230), $S230>'BankRec Main Acct'!$E$8), AF230, 0)","v":0},0,{"$f":"IF(AND(NOT(ISBLANK($S230)), $S230<'P&L'!$P$8), AI230, 0)","v":0},{"$f":"IF(OR(ISBLANK($S230), $S230>'BankRec Main Acct'!$E$8), AI230, 0)","v":0},0,{"$f":"IF(AND(NOT(ISBLANK($U230)), $U230<'P&L'!$P$8), $AL230, 0)","v":0},{"$f":"IF(OR(ISBLANK($U230), $U230>'DebitCard Rec '!$E$8), $AL230, 0)","v":0},0,{"$f":"IF(AND(NOT(ISBLANK($U230)), $U230<'P&L'!$P$8), $AO230, 0)","v":0},{"$f":"IF(OR(ISBLANK($U230), $U230>'DebitCard Rec '!$E$8), $AO230, 0)","v":0},0,{"$f":"IF(AND($A230<'P&L'!$P$8, $X230='P&L'!$G$6), $AR230, 0)","v":0},0,{"$f":"IF(AND($A230<'P&L'!$P$8, $X230='P&L'!$G$6), $AT230, 0)","v":0}," "," "," "]
[null,null,null,null,null,null,null,null,null,null,null,null,null,null,null,null,null,null,null,null,null,null,"Jan-00",1900,{"$f":"IF(AND($A231<'P&L'!$P$8, YEAR($A231)=Master!$C$6), $K231, 0)","v":0},0,{"$f":"IF(AND(NOT(ISBLANK($O231)), $O231<'P&L'!$P$8), Z231, 0)","v":0},{"$f":"IF(OR(ISBLANK($O231), $O231>'BankRec Main Acct'!$E$8), Z231, 0)","v":0},0,{"$f":"IF(AND(NOT(ISBLANK($O231)), $O231<'P&L'!$P$8), AC231, 0)","v":0},{"$f":"IF(OR(ISBLANK($O231), $O231>'BankRec Main Acct'!$E$8), AC231, 0)","v":0},0,{"$f":"IF(AND(NOT(ISBLANK($S231)), $S231<'P&L'!$P$8), AF231, 0)","v":0},{"$f":"IF(OR(ISBLANK($S231), $S231>'BankRec Main Acct'!$E$8), AF231, 0)","v":0},0,{"$f":"IF(AND(NOT(ISBLANK($S231)), $S231<'P&L'!$P$8), AI231, 0)","v":0},{"$f":"IF(OR(ISBLANK($S231), $S231>'BankRec Main Acct'!$E$8), AI231, 0)","v":0},0,{"$f":"IF(AND(NOT(ISBLANK($U231)), $U231<'P&L'!$P$8), $AL231, 0)","v":0},{"$f":"IF(OR(ISBLANK($U231), $U231>'DebitCard Rec '!$E$8), $AL231, 0)","v":0},0,{"$f":"IF(AND(NOT(ISBLANK($U231)), $U231<'P&L'!$P$8), $AO231, 0)","v":0},{"$f":"IF(OR(ISBLANK($U231), $U231>'DebitCard Rec '!$E$8), $AO231, 0)","v":0},0,{"$f":"IF(AND($A231<'P&L'!$P$8, $X231='P&L'!$G$6), $AR231, 0)","v":0},0,{"$f":"IF(AND($A231<'P&L'!$P$8, $X231='P&L'!$G$6), $AT231, 0)","v":0}," "," "," "]
[null,null,null,null,null,null,null,null,null,null,null,null,null,null,null,null,null,null,null,null,null,null,"Jan-00",1900,{"$f":"IF(AND($A232<'P&L'!$P$8, YEAR($A232)=Master!$C$6), $K232, 0)","v":0},0,{"$f":"IF(AND(NOT(ISBLANK($O232)), $O232<'P&L'!$P$8), Z232, 0)","v":0},{"$f":"IF(OR(ISBLANK($O232), $O232>'BankRec Main Acct'!$E$8), Z232, 0)","v":0},0,{"$f":"IF(AND(NOT(ISBLANK($O232)), $O232<'P&L'!$P$8), AC232, 0)","v":0},{"$f":"IF(OR(ISBLANK($O232), $O232>'BankRec Main Acct'!$E$8), AC232, 0)","v":0},0,{"$f":"IF(AND(NOT(ISBLANK($S232)), $S232<'P&L'!$P$8), AF232, 0)","v":0},{"$f":"IF(OR(ISBLANK($S232), $S232>'BankRec Main Acct'!$E$8), AF232, 0)","v":0},0,{"$f":"IF(AND(NOT(ISBLANK($S232)), $S232<'P&L'!$P$8), AI232, 0)","v":0},{"$f":"IF(OR(ISBLANK($S232), $S232>'BankRec Main Acct'!$E$8), AI232, 0)","v":0},0,{"$f":"IF(AND(NOT(ISBLANK($U232)), $U232<'P&L'!$P$8), $AL232, 0)","v":0},{"$f":"IF(OR(ISBLANK($U232), $U232>'DebitCard Rec '!$E$8), $AL232, 0)","v":0},0,{"$f":"IF(AND(NOT(ISBLANK($U232)), $U232<'P&L'!$P$8), $AO232, 0)","v":0},{"$f":"IF(OR(ISBLANK($U232), $U232>'DebitCard Rec '!$E$8), $AO232, 0)","v":0},0,{"$f":"IF(AND($A232<'P&L'!$P$8, $X232='P&L'!$G$6), $AR232, 0)","v":0},0,{"$f":"IF(AND($A232<'P&L'!$P$8, $X232='P&L'!$G$6), $AT232, 0)","v":0}," "," "," "]
[null,null,null,null,null,null,null,null,null,null,null,null,null,null,null,null,null,null,null,null,null,null,"Jan-00",1900,{"$f":"IF(AND($A233<'P&L'!$P$8, YEAR($A233)=Master!$C$6), $K233, 0)","v":0},0,{"$f":"IF(AND(NOT(ISBLANK($O233)), $O233<'P&L'!$P$8), Z233, 0)","v":0},{"$f":"IF(OR(ISBLANK($O233), $O233>'BankRec Main Acct'!$E$8), Z233, 0)","v":0},0,{"$f":"IF(AND(NOT(ISBLANK($O233)), $O233<'P&L'!$P$8), AC233, 0)","v":0},{"$f":"IF(OR(ISBLANK($O233), $O233>'BankRec Main Acct'!$E$8), AC233, 0)","v":0},0,{"$f":"IF(AND(NOT(ISBLANK($S233)), $S233<'P&L'!$P$8), AF233, 0)","v":0},{"$f":"IF(OR(ISBLANK($S233), $S233>'BankRec Main Acct'!$E$8), AF233, 0)","v":0},0,{"$f":"IF(AND(NOT(ISBLANK($S233)), $S233<'P&L'!$P$8), AI233, 0)","v":0},{"$f":"IF(OR(ISBLANK($S233), $S233>'BankRec Main Acct'!$E$8), AI233, 0)","v":0},0,{"$f":"IF(AND(NOT(ISBLANK($U233)), $U233<'P&L'!$P$8), $AL233, 0)","v":0},{"$f":"IF(OR(ISBLANK($U233), $U233>'DebitCard Rec '!$E$8), $AL233, 0)","v":0},0,{"$f":"IF(AND(NOT(ISBLANK($U233)), $U233<'P&L'!$P$8), $AO233, 0)","v":0},{"$f":"IF(OR(ISBLANK($U233), $U233>'DebitCard Rec '!$E$8), $AO233, 0)","v":0},0,{"$f":"IF(AND($A233<'P&L'!$P$8, $X233='P&L'!$G$6), $AR233, 0)","v":0},0,{"$f":"IF(AND($A233<'P&L'!$P$8, $X233='P&L'!$G$6), $AT233, 0)","v":0}," "," "," "]
[null,null,null,null,null,null,null,null,null,null,null,null,null,null,null,null,null,null,null,null,null,null,"Jan-00",1900,{"$f":"IF(AND($A234<'P&L'!$P$8, YEAR($A234)=Master!$C$6), $K234, 0)","v":0},0,{"$f":"IF(AND(NOT(ISBLANK($O234)), $O234<'P&L'!$P$8), Z234, 0)","v":0},{"$f":"IF(OR(ISBLANK($O234), $O234>'BankRec Main Acct'!$E$8), Z234, 0)","v":0},0,{"$f":"IF(AND(NOT(ISBLANK($O234)), $O234<'P&L'!$P$8), AC234, 0)","v":0},{"$f":"IF(OR(ISBLANK($O234), $O234>'BankRec Main Acct'!$E$8), AC234, 0)","v":0},0,{"$f":"IF(AND(NOT(ISBLANK($S234)), $S234<'P&L'!$P$8), AF234, 0)","v":0},{"$f":"IF(OR(ISBLANK($S234), $S234>'BankRec Main Acct'!$E$8), AF234, 0)","v":0},0,{"$f":"IF(AND(NOT(ISBLANK($S234)), $S234<'P&L'!$P$8), AI234, 0)","v":0},{"$f":"IF(OR(ISBLANK($S234), $S234>'BankRec Main Acct'!$E$8), AI234, 0)","v":0},0,{"$f":"IF(AND(NOT(ISBLANK($U234)), $U234<'P&L'!$P$8), $AL234, 0)","v":0},{"$f":"IF(OR(ISBLANK($U234), $U234>'DebitCard Rec '!$E$8), $AL234, 0)","v":0},0,{"$f":"IF(AND(NOT(ISBLANK($U234)), $U234<'P&L'!$P$8), $AO234, 0)","v":0},{"$f":"IF(OR(ISBLANK($U234), $U234>'DebitCard Rec '!$E$8), $AO234, 0)","v":0},0,{"$f":"IF(AND($A234<'P&L'!$P$8, $X234='P&L'!$G$6), $AR234, 0)","v":0},0,{"$f":"IF(AND($A234<'P&L'!$P$8, $X234='P&L'!$G$6), $AT234, 0)","v":0}," "," "," "]
[null,null,null,null,null,null,null,null,null,null,null,null,null,null,null,null,null,null,null,null,null,null,"Jan-00",1900,{"$f":"IF(AND($A235<'P&L'!$P$8, YEAR($A235)=Master!$C$6), $K235, 0)","v":0},0,{"$f":"IF(AND(NOT(ISBLANK($O235)), $O235<'P&L'!$P$8), Z235, 0)","v":0},{"$f":"IF(OR(ISBLANK($O235), $O235>'BankRec Main Acct'!$E$8), Z235, 0)","v":0},0,{"$f":"IF(AND(NOT(ISBLANK($O235)), $O235<'P&L'!$P$8), AC235, 0)","v":0},{"$f":"IF(OR(ISBLANK($O235), $O235>'BankRec Main Acct'!$E$8), AC235, 0)","v":0},0,{"$f":"IF(AND(NOT(ISBLANK($S235)), $S235<'P&L'!$P$8), AF235, 0)","v":0},{"$f":"IF(OR(ISBLANK($S235), $S235>'BankRec Main Acct'!$E$8), AF235, 0)","v":0},0,{"$f":"IF(AND(NOT(ISBLANK($S235)), $S235<'P&L'!$P$8), AI235, 0)","v":0},{"$f":"IF(OR(ISBLANK($S235), $S235>'BankRec Main Acct'!$E$8), AI235, 0)","v":0},0,{"$f":"IF(AND(NOT(ISBLANK($U235)), $U235<'P&L'!$P$8), $AL235, 0)","v":0},{"$f":"IF(OR(ISBLANK($U235), $U235>'DebitCard Rec '!$E$8), $AL235, 0)","v":0},0,{"$f":"IF(AND(NOT(ISBLANK($U235)), $U235<'P&L'!$P$8), $AO235, 0)","v":0},{"$f":"IF(OR(ISBLANK($U235), $U235>'DebitCard Rec '!$E$8), $AO235, 0)","v":0},0,{"$f":"IF(AND($A235<'P&L'!$P$8, $X235='P&L'!$G$6), $AR235, 0)","v":0},0,{"$f":"IF(AND($A235<'P&L'!$P$8, $X235='P&L'!$G$6), $AT235, 0)","v":0}," "," "," "]
[null,null,null,null,null,null,null,null,null,null,null,null,null,null,null,null,null,null,null,null,null,null,"Jan-00",1900,{"$f":"IF(AND($A236<'P&L'!$P$8, YEAR($A236)=Master!$C$6), $K236, 0)","v":0},0,{"$f":"IF(AND(NOT(ISBLANK($O236)), $O236<'P&L'!$P$8), Z236, 0)","v":0},{"$f":"IF(OR(ISBLANK($O236), $O236>'BankRec Main Acct'!$E$8), Z236, 0)","v":0},0,{"$f":"IF(AND(NOT(ISBLANK($O236)), $O236<'P&L'!$P$8), AC236, 0)","v":0},{"$f":"IF(OR(ISBLANK($O236), $O236>'BankRec Main Acct'!$E$8), AC236, 0)","v":0},0,{"$f":"IF(AND(NOT(ISBLANK($S236)), $S236<'P&L'!$P$8), AF236, 0)","v":0},{"$f":"IF(OR(ISBLANK($S236), $S236>'BankRec Main Acct'!$E$8), AF236, 0)","v":0},0,{"$f":"IF(AND(NOT(ISBLANK($S236)), $S236<'P&L'!$P$8), AI236, 0)","v":0},{"$f":"IF(OR(ISBLANK($S236), $S236>'BankRec Main Acct'!$E$8), AI236, 0)","v":0},0,{"$f":"IF(AND(NOT(ISBLANK($U236)), $U236<'P&L'!$P$8), $AL236, 0)","v":0},{"$f":"IF(OR(ISBLANK($U236), $U236>'DebitCard Rec '!$E$8), $AL236, 0)","v":0},0,{"$f":"IF(AND(NOT(ISBLANK($U236)), $U236<'P&L'!$P$8), $AO236, 0)","v":0},{"$f":"IF(OR(ISBLANK($U236), $U236>'DebitCard Rec '!$E$8), $AO236, 0)","v":0},0,{"$f":"IF(AND($A236<'P&L'!$P$8, $X236='P&L'!$G$6), $AR236, 0)","v":0},0,{"$f":"IF(AND($A236<'P&L'!$P$8, $X236='P&L'!$G$6), $AT236, 0)","v":0}," "," "," "]
[null,null,null,null,null,null,null,null,null,null,null,null,null,null,null,null,null,null,null,null,null,null,"Jan-00",1900,{"$f":"IF(AND($A237<'P&L'!$P$8, YEAR($A237)=Master!$C$6), $K237, 0)","v":0},0,{"$f":"IF(AND(NOT(ISBLANK($O237)), $O237<'P&L'!$P$8), Z237, 0)","v":0},{"$f":"IF(OR(ISBLANK($O237), $O237>'BankRec Main Acct'!$E$8), Z237, 0)","v":0},0,{"$f":"IF(AND(NOT(ISBLANK($O237)), $O237<'P&L'!$P$8), AC237, 0)","v":0},{"$f":"IF(OR(ISBLANK($O237), $O237>'BankRec Main Acct'!$E$8), AC237, 0)","v":0},0,{"$f":"IF(AND(NOT(ISBLANK($S237)), $S237<'P&L'!$P$8), AF237, 0)","v":0},{"$f":"IF(OR(ISBLANK($S237), $S237>'BankRec Main Acct'!$E$8), AF237, 0)","v":0},0,{"$f":"IF(AND(NOT(ISBLANK($S237)), $S237<'P&L'!$P$8), AI237, 0)","v":0},{"$f":"IF(OR(ISBLANK($S237), $S237>'BankRec Main Acct'!$E$8), AI237, 0)","v":0},0,{"$f":"IF(AND(NOT(ISBLANK($U237)), $U237<'P&L'!$P$8), $AL237, 0)","v":0},{"$f":"IF(OR(ISBLANK($U237), $U237>'DebitCard Rec '!$E$8), $AL237, 0)","v":0},0,{"$f":"IF(AND(NOT(ISBLANK($U237)), $U237<'P&L'!$P$8), $AO237, 0)","v":0},{"$f":"IF(OR(ISBLANK($U237), $U237>'DebitCard Rec '!$E$8), $AO237, 0)","v":0},0,{"$f":"IF(AND($A237<'P&L'!$P$8, $X237='P&L'!$G$6), $AR237, 0)","v":0},0,{"$f":"IF(AND($A237<'P&L'!$P$8, $X237='P&L'!$G$6), $AT237, 0)","v":0}," "," "," "]
[null,null,null,null,null,null,null,null,null,null,null,null,null,null,null,null,null,null,null,null,null,null,"Jan-00",1900,{"$f":"IF(AND($A238<'P&L'!$P$8, YEAR($A238)=Master!$C$6), $K238, 0)","v":0},0,{"$f":"IF(AND(NOT(ISBLANK($O238)), $O238<'P&L'!$P$8), Z238, 0)","v":0},{"$f":"IF(OR(ISBLANK($O238), $O238>'BankRec Main Acct'!$E$8), Z238, 0)","v":0},0,{"$f":"IF(AND(NOT(ISBLANK($O238)), $O238<'P&L'!$P$8), AC238, 0)","v":0},{"$f":"IF(OR(ISBLANK($O238), $O238>'BankRec Main Acct'!$E$8), AC238, 0)","v":0},0,{"$f":"IF(AND(NOT(ISBLANK($S238)), $S238<'P&L'!$P$8), AF238, 0)","v":0},{"$f":"IF(OR(ISBLANK($S238), $S238>'BankRec Main Acct'!$E$8), AF238, 0)","v":0},0,{"$f":"IF(AND(NOT(ISBLANK($S238)), $S238<'P&L'!$P$8), AI238, 0)","v":0},{"$f":"IF(OR(ISBLANK($S238), $S238>'BankRec Main Acct'!$E$8), AI238, 0)","v":0},0,{"$f":"IF(AND(NOT(ISBLANK($U238)), $U238<'P&L'!$P$8), $AL238, 0)","v":0},{"$f":"IF(OR(ISBLANK($U238), $U238>'DebitCard Rec '!$E$8), $AL238, 0)","v":0},0,{"$f":"IF(AND(NOT(ISBLANK($U238)), $U238<'P&L'!$P$8), $AO238, 0)","v":0},{"$f":"IF(OR(ISBLANK($U238), $U238>'DebitCard Rec '!$E$8), $AO238, 0)","v":0},0,{"$f":"IF(AND($A238<'P&L'!$P$8, $X238='P&L'!$G$6), $AR238, 0)","v":0},0,{"$f":"IF(AND($A238<'P&L'!$P$8, $X238='P&L'!$G$6), $AT238, 0)","v":0}," "," "," "]
[null,null,null,null,null,null,null,null,null,null,null,null,null,null,null,null,null,null,null,null,null,null,"Jan-00",1900,{"$f":"IF(AND($A239<'P&L'!$P$8, YEAR($A239)=Master!$C$6), $K239, 0)","v":0},0,{"$f":"IF(AND(NOT(ISBLANK($O239)), $O239<'P&L'!$P$8), Z239, 0)","v":0},{"$f":"IF(OR(ISBLANK($O239), $O239>'BankRec Main Acct'!$E$8), Z239, 0)","v":0},0,{"$f":"IF(AND(NOT(ISBLANK($O239)), $O239<'P&L'!$P$8), AC239, 0)","v":0},{"$f":"IF(OR(ISBLANK($O239), $O239>'BankRec Main Acct'!$E$8), AC239, 0)","v":0},0,{"$f":"IF(AND(NOT(ISBLANK($S239)), $S239<'P&L'!$P$8), AF239, 0)","v":0},{"$f":"IF(OR(ISBLANK($S239), $S239>'BankRec Main Acct'!$E$8), AF239, 0)","v":0},0,{"$f":"IF(AND(NOT(ISBLANK($S239)), $S239<'P&L'!$P$8), AI239, 0)","v":0},{"$f":"IF(OR(ISBLANK($S239), $S239>'BankRec Main Acct'!$E$8), AI239, 0)","v":0},0,{"$f":"IF(AND(NOT(ISBLANK($U239)), $U239<'P&L'!$P$8), $AL239, 0)","v":0},{"$f":"IF(OR(ISBLANK($U239), $U239>'DebitCard Rec '!$E$8), $AL239, 0)","v":0},0,{"$f":"IF(AND(NOT(ISBLANK($U239)), $U239<'P&L'!$P$8), $AO239, 0)","v":0},{"$f":"IF(OR(ISBLANK($U239), $U239>'DebitCard Rec '!$E$8), $AO239, 0)","v":0},0,{"$f":"IF(AND($A239<'P&L'!$P$8, $X239='P&L'!$G$6), $AR239, 0)","v":0},0,{"$f":"IF(AND($A239<'P&L'!$P$8, $X239='P&L'!$G$6), $AT239, 0)","v":0}," "," "," "]
[null,null,null,null,null,null,null,null,null,null,null,null,null,null,null,null,null,null,null,null,null,null,"Jan-00",1900,{"$f":"IF(AND($A240<'P&L'!$P$8, YEAR($A240)=Master!$C$6), $K240, 0)","v":0},0,{"$f":"IF(AND(NOT(ISBLANK($O240)), $O240<'P&L'!$P$8), Z240, 0)","v":0},{"$f":"IF(OR(ISBLANK($O240), $O240>'BankRec Main Acct'!$E$8), Z240, 0)","v":0},0,{"$f":"IF(AND(NOT(ISBLANK($O240)), $O240<'P&L'!$P$8), AC240, 0)","v":0},{"$f":"IF(OR(ISBLANK($O240), $O240>'BankRec Main Acct'!$E$8), AC240, 0)","v":0},0,{"$f":"IF(AND(NOT(ISBLANK($S240)), $S240<'P&L'!$P$8), AF240, 0)","v":0},{"$f":"IF(OR(ISBLANK($S240), $S240>'BankRec Main Acct'!$E$8), AF240, 0)","v":0},0,{"$f":"IF(AND(NOT(ISBLANK($S240)), $S240<'P&L'!$P$8), AI240, 0)","v":0},{"$f":"IF(OR(ISBLANK($S240), $S240>'BankRec Main Acct'!$E$8), AI240, 0)","v":0},0,{"$f":"IF(AND(NOT(ISBLANK($U240)), $U240<'P&L'!$P$8), $AL240, 0)","v":0},{"$f":"IF(OR(ISBLANK($U240), $U240>'DebitCard Rec '!$E$8), $AL240, 0)","v":0},0,{"$f":"IF(AND(NOT(ISBLANK($U240)), $U240<'P&L'!$P$8), $AO240, 0)","v":0},{"$f":"IF(OR(ISBLANK($U240), $U240>'DebitCard Rec '!$E$8), $AO240, 0)","v":0},0,{"$f":"IF(AND($A240<'P&L'!$P$8, $X240='P&L'!$G$6), $AR240, 0)","v":0},0,{"$f":"IF(AND($A240<'P&L'!$P$8, $X240='P&L'!$G$6), $AT240, 0)","v":0}," "," "," "]
[null,null,null,null,null,null,null,null,null,null,null,null,null,null,null,null,null,null,null,null,null,null,"Jan-00",1900,{"$f":"IF(AND($A241<'P&L'!$P$8, YEAR($A241)=Master!$C$6), $K241, 0)","v":0},0,{"$f":"IF(AND(NOT(ISBLANK($O241)), $O241<'P&L'!$P$8), Z241, 0)","v":0},{"$f":"IF(OR(ISBLANK($O241), $O241>'BankRec Main Acct'!$E$8), Z241, 0)","v":0},0,{"$f":"IF(AND(NOT(ISBLANK($O241)), $O241<'P&L'!$P$8), AC241, 0)","v":0},{"$f":"IF(OR(ISBLANK($O241), $O241>'BankRec Main Acct'!$E$8), AC241, 0)","v":0},0,{"$f":"IF(AND(NOT(ISBLANK($S241)), $S241<'P&L'!$P$8), AF241, 0)","v":0},{"$f":"IF(OR(ISBLANK($S241), $S241>'BankRec Main Acct'!$E$8), AF241, 0)","v":0},0,{"$f":"IF(AND(NOT(ISBLANK($S241)), $S241<'P&L'!$P$8), AI241, 0)","v":0},{"$f":"IF(OR(ISBLANK($S241), $S241>'BankRec Main Acct'!$E$8), AI241, 0)","v":0},0,{"$f":"IF(AND(NOT(ISBLANK($U241)), $U241<'P&L'!$P$8), $AL241, 0)","v":0},{"$f":"IF(OR(ISBLANK($U241), $U241>'DebitCard Rec '!$E$8), $AL241, 0)","v":0},0,{"$f":"IF(AND(NOT(ISBLANK($U241)), $U241<'P&L'!$P$8), $AO241, 0)","v":0},{"$f":"IF(OR(ISBLANK($U241), $U241>'DebitCard Rec '!$E$8), $AO241, 0)","v":0},0,{"$f":"IF(AND($A241<'P&L'!$P$8, $X241='P&L'!$G$6), $AR241, 0)","v":0},0,{"$f":"IF(AND($A241<'P&L'!$P$8, $X241='P&L'!$G$6), $AT241, 0)","v":0}," "," "," "]
[null,null,null,null,null,null,null,null,null,null,null,null,null,null,null,null,null,null,null,null,null,null,"Jan-00",1900,{"$f":"IF(AND($A242<'P&L'!$P$8, YEAR($A242)=Master!$C$6), $K242, 0)","v":0},0,{"$f":"IF(AND(NOT(ISBLANK($O242)), $O242<'P&L'!$P$8), Z242, 0)","v":0},{"$f":"IF(OR(ISBLANK($O242), $O242>'BankRec Main Acct'!$E$8), Z242, 0)","v":0},0,{"$f":"IF(AND(NOT(ISBLANK($O242)), $O242<'P&L'!$P$8), AC242, 0)","v":0},{"$f":"IF(OR(ISBLANK($O242), $O242>'BankRec Main Acct'!$E$8), AC242, 0)","v":0},0,{"$f":"IF(AND(NOT(ISBLANK($S242)), $S242<'P&L'!$P$8), AF242, 0)","v":0},{"$f":"IF(OR(ISBLANK($S242), $S242>'BankRec Main Acct'!$E$8), AF242, 0)","v":0},0,{"$f":"IF(AND(NOT(ISBLANK($S242)), $S242<'P&L'!$P$8), AI242, 0)","v":0},{"$f":"IF(OR(ISBLANK($S242), $S242>'BankRec Main Acct'!$E$8), AI242, 0)","v":0},0,{"$f":"IF(AND(NOT(ISBLANK($U242)), $U242<'P&L'!$P$8), $AL242, 0)","v":0},{"$f":"IF(OR(ISBLANK($U242), $U242>'DebitCard Rec '!$E$8), $AL242, 0)","v":0},0,{"$f":"IF(AND(NOT(ISBLANK($U242)), $U242<'P&L'!$P$8), $AO242, 0)","v":0},{"$f":"IF(OR(ISBLANK($U242), $U242>'DebitCard Rec '!$E$8), $AO242, 0)","v":0},0,{"$f":"IF(AND($A242<'P&L'!$P$8, $X242='P&L'!$G$6), $AR242, 0)","v":0},0,{"$f":"IF(AND($A242<'P&L'!$P$8, $X242='P&L'!$G$6), $AT242, 0)","v":0}," "," "," "]
[null,null,null,null,null,null,null,null,null,null,null,null,null,null,null,null,null,null,null,null,null,null,"Jan-00",1900,{"$f":"IF(AND($A243<'P&L'!$P$8, YEAR($A243)=Master!$C$6), $K243, 0)","v":0},0,{"$f":"IF(AND(NOT(ISBLANK($O243)), $O243<'P&L'!$P$8), Z243, 0)","v":0},{"$f":"IF(OR(ISBLANK($O243), $O243>'BankRec Main Acct'!$E$8), Z243, 0)","v":0},0,{"$f":"IF(AND(NOT(ISBLANK($O243)), $O243<'P&L'!$P$8), AC243, 0)","v":0},{"$f":"IF(OR(ISBLANK($O243), $O243>'BankRec Main Acct'!$E$8), AC243, 0)","v":0},0,{"$f":"IF(AND(NOT(ISBLANK($S243)), $S243<'P&L'!$P$8), AF243, 0)","v":0},{"$f":"IF(OR(ISBLANK($S243), $S243>'BankRec Main Acct'!$E$8), AF243, 0)","v":0},0,{"$f":"IF(AND(NOT(ISBLANK($S243)), $S243<'P&L'!$P$8), AI243, 0)","v":0},{"$f":"IF(OR(ISBLANK($S243), $S243>'BankRec Main Acct'!$E$8), AI243, 0)","v":0},0,{"$f":"IF(AND(NOT(ISBLANK($U243)), $U243<'P&L'!$P$8), $AL243, 0)","v":0},{"$f":"IF(OR(ISBLANK($U243), $U243>'DebitCard Rec '!$E$8), $AL243, 0)","v":0},0,{"$f":"IF(AND(NOT(ISBLANK($U243)), $U243<'P&L'!$P$8), $AO243, 0)","v":0},{"$f":"IF(OR(ISBLANK($U243), $U243>'DebitCard Rec '!$E$8), $AO243, 0)","v":0},0,{"$f":"IF(AND($A243<'P&L'!$P$8, $X243='P&L'!$G$6), $AR243, 0)","v":0},0,{"$f":"IF(AND($A243<'P&L'!$P$8, $X243='P&L'!$G$6), $AT243, 0)","v":0}," "," "," "]
[null,null,null,null,null,null,null,null,null,null,null,null,null,null,null,null,null,null,null,null,null,null,"Jan-00",1900,{"$f":"IF(AND($A244<'P&L'!$P$8, YEAR($A244)=Master!$C$6), $K244, 0)","v":0},0,{"$f":"IF(AND(NOT(ISBLANK($O244)), $O244<'P&L'!$P$8), Z244, 0)","v":0},{"$f":"IF(OR(ISBLANK($O244), $O244>'BankRec Main Acct'!$E$8), Z244, 0)","v":0},0,{"$f":"IF(AND(NOT(ISBLANK($O244)), $O244<'P&L'!$P$8), AC244, 0)","v":0},{"$f":"IF(OR(ISBLANK($O244), $O244>'BankRec Main Acct'!$E$8), AC244, 0)","v":0},0,{"$f":"IF(AND(NOT(ISBLANK($S244)), $S244<'P&L'!$P$8), AF244, 0)","v":0},{"$f":"IF(OR(ISBLANK($S244), $S244>'BankRec Main Acct'!$E$8), AF244, 0)","v":0},0,{"$f":"IF(AND(NOT(ISBLANK($S244)), $S244<'P&L'!$P$8), AI244, 0)","v":0},{"$f":"IF(OR(ISBLANK($S244), $S244>'BankRec Main Acct'!$E$8), AI244, 0)","v":0},0,{"$f":"IF(AND(NOT(ISBLANK($U244)), $U244<'P&L'!$P$8), $AL244, 0)","v":0},{"$f":"IF(OR(ISBLANK($U244), $U244>'DebitCard Rec '!$E$8), $AL244, 0)","v":0},0,{"$f":"IF(AND(NOT(ISBLANK($U244)), $U244<'P&L'!$P$8), $AO244, 0)","v":0},{"$f":"IF(OR(ISBLANK($U244), $U244>'DebitCard Rec '!$E$8), $AO244, 0)","v":0},0,{"$f":"IF(AND($A244<'P&L'!$P$8, $X244='P&L'!$G$6), $AR244, 0)","v":0},0,{"$f":"IF(AND($A244<'P&L'!$P$8, $X244='P&L'!$G$6), $AT244, 0)","v":0}," "," "," "]
[null,null,null,null,null,null,null,null,null,null,null,null,null,null,null,null,null,null,null,null,null,null,"Jan-00",1900,{"$f":"IF(AND($A245<'P&L'!$P$8, YEAR($A245)=Master!$C$6), $K245, 0)","v":0},0,{"$f":"IF(AND(NOT(ISBLANK($O245)), $O245<'P&L'!$P$8), Z245, 0)","v":0},{"$f":"IF(OR(ISBLANK($O245), $O245>'BankRec Main Acct'!$E$8), Z245, 0)","v":0},0,{"$f":"IF(AND(NOT(ISBLANK($O245)), $O245<'P&L'!$P$8), AC245, 0)","v":0},{"$f":"IF(OR(ISBLANK($O245), $O245>'BankRec Main Acct'!$E$8), AC245, 0)","v":0},0,{"$f":"IF(AND(NOT(ISBLANK($S245)), $S245<'P&L'!$P$8), AF245, 0)","v":0},{"$f":"IF(OR(ISBLANK($S245), $S245>'BankRec Main Acct'!$E$8), AF245, 0)","v":0},0,{"$f":"IF(AND(NOT(ISBLANK($S245)), $S245<'P&L'!$P$8), AI245, 0)","v":0},{"$f":"IF(OR(ISBLANK($S245), $S245>'BankRec Main Acct'!$E$8), AI245, 0)","v":0},0,{"$f":"IF(AND(NOT(ISBLANK($U245)), $U245<'P&L'!$P$8), $AL245, 0)","v":0},{"$f":"IF(OR(ISBLANK($U245), $U245>'DebitCard Rec '!$E$8), $AL245, 0)","v":0},0,{"$f":"IF(AND(NOT(ISBLANK($U245)), $U245<'P&L'!$P$8), $AO245, 0)","v":0},{"$f":"IF(OR(ISBLANK($U245), $U245>'DebitCard Rec '!$E$8), $AO245, 0)","v":0},0,{"$f":"IF(AND($A245<'P&L'!$P$8, $X245='P&L'!$G$6), $AR245, 0)","v":0},0,{"$f":"IF(AND($A245<'P&L'!$P$8, $X245='P&L'!$G$6), $AT245, 0)","v":0}," "," "," "]
[null,null,null,null,null,null,null,null,null,null,null,null,null,null,null,null,null,null,null,null,null,null,"Jan-00",1900,{"$f":"IF(AND($A246<'P&L'!$P$8, YEAR($A246)=Master!$C$6), $K246, 0)","v":0},0,{"$f":"IF(AND(NOT(ISBLANK($O246)), $O246<'P&L'!$P$8), Z246, 0)","v":0},{"$f":"IF(OR(ISBLANK($O246), $O246>'BankRec Main Acct'!$E$8), Z246, 0)","v":0},0,{"$f":"IF(AND(NOT(ISBLANK($O246)), $O246<'P&L'!$P$8), AC246, 0)","v":0},{"$f":"IF(OR(ISBLANK($O246), $O246>'BankRec Main Acct'!$E$8), AC246, 0)","v":0},0,{"$f":"IF(AND(NOT(ISBLANK($S246)), $S246<'P&L'!$P$8), AF246, 0)","v":0},{"$f":"IF(OR(ISBLANK($S246), $S246>'BankRec Main Acct'!$E$8), AF246, 0)","v":0},0,{"$f":"IF(AND(NOT(ISBLANK($S246)), $S246<'P&L'!$P$8), AI246, 0)","v":0},{"$f":"IF(OR(ISBLANK($S246), $S246>'BankRec Main Acct'!$E$8), AI246, 0)","v":0},0,{"$f":"IF(AND(NOT(ISBLANK($U246)), $U246<'P&L'!$P$8), $AL246, 0)","v":0},{"$f":"IF(OR(ISBLANK($U246), $U246>'DebitCard Rec '!$E$8), $AL246, 0)","v":0},0,{"$f":"IF(AND(NOT(ISBLANK($U246)), $U246<'P&L'!$P$8), $AO246, 0)","v":0},{"$f":"IF(OR(ISBLANK($U246), $U246>'DebitCard Rec '!$E$8), $AO246, 0)","v":0},0,{"$f":"IF(AND($A246<'P&L'!$P$8, $X246='P&L'!$G$6), $AR246, 0)","v":0},0,{"$f":"IF(AND($A246<'P&L'!$P$8, $X246='P&L'!$G$6), $AT246, 0)","v":0}," "," "," "]
[null,null,null,null,null,null,null,null,null,null,null,null,null,null,null,null,null,null,null,null,null,null,"Jan-00",1900,{"$f":"IF(AND($A247<'P&L'!$P$8, YEAR($A247)=Master!$C$6), $K247, 0)","v":0},0,{"$f":"IF(AND(NOT(ISBLANK($O247)), $O247<'P&L'!$P$8), Z247, 0)","v":0},{"$f":"IF(OR(ISBLANK($O247), $O247>'BankRec Main Acct'!$E$8), Z247, 0)","v":0},0,{"$f":"IF(AND(NOT(ISBLANK($O247)), $O247<'P&L'!$P$8), AC247, 0)","v":0},{"$f":"IF(OR(ISBLANK($O247), $O247>'BankRec Main Acct'!$E$8), AC247, 0)","v":0},0,{"$f":"IF(AND(NOT(ISBLANK($S247)), $S247<'P&L'!$P$8), AF247, 0)","v":0},{"$f":"IF(OR(ISBLANK($S247), $S247>'BankRec Main Acct'!$E$8), AF247, 0)","v":0},0,{"$f":"IF(AND(NOT(ISBLANK($S247)), $S247<'P&L'!$P$8), AI247, 0)","v":0},{"$f":"IF(OR(ISBLANK($S247), $S247>'BankRec Main Acct'!$E$8), AI247, 0)","v":0},0,{"$f":"IF(AND(NOT(ISBLANK($U247)), $U247<'P&L'!$P$8), $AL247, 0)","v":0},{"$f":"IF(OR(ISBLANK($U247), $U247>'DebitCard Rec '!$E$8), $AL247, 0)","v":0},0,{"$f":"IF(AND(NOT(ISBLANK($U247)), $U247<'P&L'!$P$8), $AO247, 0)","v":0},{"$f":"IF(OR(ISBLANK($U247), $U247>'DebitCard Rec '!$E$8), $AO247, 0)","v":0},0,{"$f":"IF(AND($A247<'P&L'!$P$8, $X247='P&L'!$G$6), $AR247, 0)","v":0},0,{"$f":"IF(AND($A247<'P&L'!$P$8, $X247='P&L'!$G$6), $AT247, 0)","v":0}," "," "," "]
[null,null,null,null,null,null,null,null,null,null,null,null,null,null,null,null,null,null,null,null,null,null,"Jan-00",1900,{"$f":"IF(AND($A248<'P&L'!$P$8, YEAR($A248)=Master!$C$6), $K248, 0)","v":0},0,{"$f":"IF(AND(NOT(ISBLANK($O248)), $O248<'P&L'!$P$8), Z248, 0)","v":0},{"$f":"IF(OR(ISBLANK($O248), $O248>'BankRec Main Acct'!$E$8), Z248, 0)","v":0},0,{"$f":"IF(AND(NOT(ISBLANK($O248)), $O248<'P&L'!$P$8), AC248, 0)","v":0},{"$f":"IF(OR(ISBLANK($O248), $O248>'BankRec Main Acct'!$E$8), AC248, 0)","v":0},0,{"$f":"IF(AND(NOT(ISBLANK($S248)), $S248<'P&L'!$P$8), AF248, 0)","v":0},{"$f":"IF(OR(ISBLANK($S248), $S248>'BankRec Main Acct'!$E$8), AF248, 0)","v":0},0,{"$f":"IF(AND(NOT(ISBLANK($S248)), $S248<'P&L'!$P$8), AI248, 0)","v":0},{"$f":"IF(OR(ISBLANK($S248), $S248>'BankRec Main Acct'!$E$8), AI248, 0)","v":0},0,{"$f":"IF(AND(NOT(ISBLANK($U248)), $U248<'P&L'!$P$8), $AL248, 0)","v":0},{"$f":"IF(OR(ISBLANK($U248), $U248>'DebitCard Rec '!$E$8), $AL248, 0)","v":0},0,{"$f":"IF(AND(NOT(ISBLANK($U248)), $U248<'P&L'!$P$8), $AO248, 0)","v":0},{"$f":"IF(OR(ISBLANK($U248), $U248>'DebitCard Rec '!$E$8), $AO248, 0)","v":0},0,{"$f":"IF(AND($A248<'P&L'!$P$8, $X248='P&L'!$G$6), $AR248, 0)","v":0},0,{"$f":"IF(AND($A248<'P&L'!$P$8, $X248='P&L'!$G$6), $AT248, 0)","v":0}," "," "," "]
[null,null,null,null,null,null,null,null,null,null,null,null,null,null,null,null,null,null,null,null,null,null,"Jan-00",1900,{"$f":"IF(AND($A249<'P&L'!$P$8, YEAR($A249)=Master!$C$6), $K249, 0)","v":0},0,{"$f":"IF(AND(NOT(ISBLANK($O249)), $O249<'P&L'!$P$8), Z249, 0)","v":0},{"$f":"IF(OR(ISBLANK($O249), $O249>'BankRec Main Acct'!$E$8), Z249, 0)","v":0},0,{"$f":"IF(AND(NOT(ISBLANK($O249)), $O249<'P&L'!$P$8), AC249, 0)","v":0},{"$f":"IF(OR(ISBLANK($O249), $O249>'BankRec Main Acct'!$E$8), AC249, 0)","v":0},0,{"$f":"IF(AND(NOT(ISBLANK($S249)), $S249<'P&L'!$P$8), AF249, 0)","v":0},{"$f":"IF(OR(ISBLANK($S249), $S249>'BankRec Main Acct'!$E$8), AF249, 0)","v":0},0,{"$f":"IF(AND(NOT(ISBLANK($S249)), $S249<'P&L'!$P$8), AI249, 0)","v":0},{"$f":"IF(OR(ISBLANK($S249), $S249>'BankRec Main Acct'!$E$8), AI249, 0)","v":0},0,{"$f":"IF(AND(NOT(ISBLANK($U249)), $U249<'P&L'!$P$8), $AL249, 0)","v":0},{"$f":"IF(OR(ISBLANK($U249), $U249>'DebitCard Rec '!$E$8), $AL249, 0)","v":0},0,{"$f":"IF(AND(NOT(ISBLANK($U249)), $U249<'P&L'!$P$8), $AO249, 0)","v":0},{"$f":"IF(OR(ISBLANK($U249), $U249>'DebitCard Rec '!$E$8), $AO249, 0)","v":0},0,{"$f":"IF(AND($A249<'P&L'!$P$8, $X249='P&L'!$G$6), $AR249, 0)","v":0},0,{"$f":"IF(AND($A249<'P&L'!$P$8, $X249='P&L'!$G$6), $AT249, 0)","v":0}," "," "," "]
[null,null,null,null,null,null,null,null,null,null,null,null,null,null,null,null,null,null,null,null,null,null,"Jan-00",1900,{"$f":"IF(AND($A250<'P&L'!$P$8, YEAR($A250)=Master!$C$6), $K250, 0)","v":0},0,{"$f":"IF(AND(NOT(ISBLANK($O250)), $O250<'P&L'!$P$8), Z250, 0)","v":0},{"$f":"IF(OR(ISBLANK($O250), $O250>'BankRec Main Acct'!$E$8), Z250, 0)","v":0},0,{"$f":"IF(AND(NOT(ISBLANK($O250)), $O250<'P&L'!$P$8), AC250, 0)","v":0},{"$f":"IF(OR(ISBLANK($O250), $O250>'BankRec Main Acct'!$E$8), AC250, 0)","v":0},0,{"$f":"IF(AND(NOT(ISBLANK($S250)), $S250<'P&L'!$P$8), AF250, 0)","v":0},{"$f":"IF(OR(ISBLANK($S250), $S250>'BankRec Main Acct'!$E$8), AF250, 0)","v":0},0,{"$f":"IF(AND(NOT(ISBLANK($S250)), $S250<'P&L'!$P$8), AI250, 0)","v":0},{"$f":"IF(OR(ISBLANK($S250), $S250>'BankRec Main Acct'!$E$8), AI250, 0)","v":0},0,{"$f":"IF(AND(NOT(ISBLANK($U250)), $U250<'P&L'!$P$8), $AL250, 0)","v":0},{"$f":"IF(OR(ISBLANK($U250), $U250>'DebitCard Rec '!$E$8), $AL250, 0)","v":0},0,{"$f":"IF(AND(NOT(ISBLANK($U250)), $U250<'P&L'!$P$8), $AO250, 0)","v":0},{"$f":"IF(OR(ISBLANK($U250), $U250>'DebitCard Rec '!$E$8), $AO250, 0)","v":0},0,{"$f":"IF(AND($A250<'P&L'!$P$8, $X250='P&L'!$G$6), $AR250, 0)","v":0},0,{"$f":"IF(AND($A250<'P&L'!$P$8, $X250='P&L'!$G$6), $AT250, 0)","v":0}," "," "," "]
[null,null,null,null,null,null,null,null,null,null,null,null,null,null,null,null,null,null,null,null,null,null,"Jan-00",1900,{"$f":"IF(AND($A251<'P&L'!$P$8, YEAR($A251)=Master!$C$6), $K251, 0)","v":0},0,{"$f":"IF(AND(NOT(ISBLANK($O251)), $O251<'P&L'!$P$8), Z251, 0)","v":0},{"$f":"IF(OR(ISBLANK($O251), $O251>'BankRec Main Acct'!$E$8), Z251, 0)","v":0},0,{"$f":"IF(AND(NOT(ISBLANK($O251)), $O251<'P&L'!$P$8), AC251, 0)","v":0},{"$f":"IF(OR(ISBLANK($O251), $O251>'BankRec Main Acct'!$E$8), AC251, 0)","v":0},0,{"$f":"IF(AND(NOT(ISBLANK($S251)), $S251<'P&L'!$P$8), AF251, 0)","v":0},{"$f":"IF(OR(ISBLANK($S251), $S251>'BankRec Main Acct'!$E$8), AF251, 0)","v":0},0,{"$f":"IF(AND(NOT(ISBLANK($S251)), $S251<'P&L'!$P$8), AI251, 0)","v":0},{"$f":"IF(OR(ISBLANK($S251), $S251>'BankRec Main Acct'!$E$8), AI251, 0)","v":0},0,{"$f":"IF(AND(NOT(ISBLANK($U251)), $U251<'P&L'!$P$8), $AL251, 0)","v":0},{"$f":"IF(OR(ISBLANK($U251), $U251>'DebitCard Rec '!$E$8), $AL251, 0)","v":0},0,{"$f":"IF(AND(NOT(ISBLANK($U251)), $U251<'P&L'!$P$8), $AO251, 0)","v":0},{"$f":"IF(OR(ISBLANK($U251), $U251>'DebitCard Rec '!$E$8), $AO251, 0)","v":0},0,{"$f":"IF(AND($A251<'P&L'!$P$8, $X251='P&L'!$G$6), $AR251, 0)","v":0},0,{"$f":"IF(AND($A251<'P&L'!$P$8, $X251='P&L'!$G$6), $AT251, 0)","v":0}," "," "," "]
[null,null,null,null,null,null,null,null,null,null,null,null,null,null,null,null,null,null,null,null,null,null,"Jan-00",1900,{"$f":"IF(AND($A252<'P&L'!$P$8, YEAR($A252)=Master!$C$6), $K252, 0)","v":0},0,{"$f":"IF(AND(NOT(ISBLANK($O252)), $O252<'P&L'!$P$8), Z252, 0)","v":0},{"$f":"IF(OR(ISBLANK($O252), $O252>'BankRec Main Acct'!$E$8), Z252, 0)","v":0},0,{"$f":"IF(AND(NOT(ISBLANK($O252)), $O252<'P&L'!$P$8), AC252, 0)","v":0},{"$f":"IF(OR(ISBLANK($O252), $O252>'BankRec Main Acct'!$E$8), AC252, 0)","v":0},0,{"$f":"IF(AND(NOT(ISBLANK($S252)), $S252<'P&L'!$P$8), AF252, 0)","v":0},{"$f":"IF(OR(ISBLANK($S252), $S252>'BankRec Main Acct'!$E$8), AF252, 0)","v":0},0,{"$f":"IF(AND(NOT(ISBLANK($S252)), $S252<'P&L'!$P$8), AI252, 0)","v":0},{"$f":"IF(OR(ISBLANK($S252), $S252>'BankRec Main Acct'!$E$8), AI252, 0)","v":0},0,{"$f":"IF(AND(NOT(ISBLANK($U252)), $U252<'P&L'!$P$8), $AL252, 0)","v":0},{"$f":"IF(OR(ISBLANK($U252), $U252>'DebitCard Rec '!$E$8), $AL252, 0)","v":0},0,{"$f":"IF(AND(NOT(ISBLANK($U252)), $U252<'P&L'!$P$8), $AO252, 0)","v":0},{"$f":"IF(OR(ISBLANK($U252), $U252>'DebitCard Rec '!$E$8), $AO252, 0)","v":0},0,{"$f":"IF(AND($A252<'P&L'!$P$8, $X252='P&L'!$G$6), $AR252, 0)","v":0},0,{"$f":"IF(AND($A252<'P&L'!$P$8, $X252='P&L'!$G$6), $AT252, 0)","v":0}," "," "," "]
[null,null,null,null,null,null,null,null,null,null,null,null,null,null,null,null,null,null,null,null,null,null,"Jan-00",1900,{"$f":"IF(AND($A253<'P&L'!$P$8, YEAR($A253)=Master!$C$6), $K253, 0)","v":0},0,{"$f":"IF(AND(NOT(ISBLANK($O253)), $O253<'P&L'!$P$8), Z253, 0)","v":0},{"$f":"IF(OR(ISBLANK($O253), $O253>'BankRec Main Acct'!$E$8), Z253, 0)","v":0},0,{"$f":"IF(AND(NOT(ISBLANK($O253)), $O253<'P&L'!$P$8), AC253, 0)","v":0},{"$f":"IF(OR(ISBLANK($O253), $O253>'BankRec Main Acct'!$E$8), AC253, 0)","v":0},0,{"$f":"IF(AND(NOT(ISBLANK($S253)), $S253<'P&L'!$P$8), AF253, 0)","v":0},{"$f":"IF(OR(ISBLANK($S253), $S253>'BankRec Main Acct'!$E$8), AF253, 0)","v":0},0,{"$f":"IF(AND(NOT(ISBLANK($S253)), $S253<'P&L'!$P$8), AI253, 0)","v":0},{"$f":"IF(OR(ISBLANK($S253), $S253>'BankRec Main Acct'!$E$8), AI253, 0)","v":0},0,{"$f":"IF(AND(NOT(ISBLANK($U253)), $U253<'P&L'!$P$8), $AL253, 0)","v":0},{"$f":"IF(OR(ISBLANK($U253), $U253>'DebitCard Rec '!$E$8), $AL253, 0)","v":0},0,{"$f":"IF(AND(NOT(ISBLANK($U253)), $U253<'P&L'!$P$8), $AO253, 0)","v":0},{"$f":"IF(OR(ISBLANK($U253), $U253>'DebitCard Rec '!$E$8), $AO253, 0)","v":0},0,{"$f":"IF(AND($A253<'P&L'!$P$8, $X253='P&L'!$G$6), $AR253, 0)","v":0},0,{"$f":"IF(AND($A253<'P&L'!$P$8, $X253='P&L'!$G$6), $AT253, 0)","v":0}," "," "," "]
[null,null,null,null,null,null,null,null,null,null,null,null,null,null,null,null,null,null,null,null,null,null,"Jan-00",1900,{"$f":"IF(AND($A254<'P&L'!$P$8, YEAR($A254)=Master!$C$6), $K254, 0)","v":0},0,{"$f":"IF(AND(NOT(ISBLANK($O254)), $O254<'P&L'!$P$8), Z254, 0)","v":0},{"$f":"IF(OR(ISBLANK($O254), $O254>'BankRec Main Acct'!$E$8), Z254, 0)","v":0},0,{"$f":"IF(AND(NOT(ISBLANK($O254)), $O254<'P&L'!$P$8), AC254, 0)","v":0},{"$f":"IF(OR(ISBLANK($O254), $O254>'BankRec Main Acct'!$E$8), AC254, 0)","v":0},0,{"$f":"IF(AND(NOT(ISBLANK($S254)), $S254<'P&L'!$P$8), AF254, 0)","v":0},{"$f":"IF(OR(ISBLANK($S254), $S254>'BankRec Main Acct'!$E$8), AF254, 0)","v":0},0,{"$f":"IF(AND(NOT(ISBLANK($S254)), $S254<'P&L'!$P$8), AI254, 0)","v":0},{"$f":"IF(OR(ISBLANK($S254), $S254>'BankRec Main Acct'!$E$8), AI254, 0)","v":0},0,{"$f":"IF(AND(NOT(ISBLANK($U254)), $U254<'P&L'!$P$8), $AL254, 0)","v":0},{"$f":"IF(OR(ISBLANK($U254), $U254>'DebitCard Rec '!$E$8), $AL254, 0)","v":0},0,{"$f":"IF(AND(NOT(ISBLANK($U254)), $U254<'P&L'!$P$8), $AO254, 0)","v":0},{"$f":"IF(OR(ISBLANK($U254), $U254>'DebitCard Rec '!$E$8), $AO254, 0)","v":0},0,{"$f":"IF(AND($A254<'P&L'!$P$8, $X254='P&L'!$G$6), $AR254, 0)","v":0},0,{"$f":"IF(AND($A254<'P&L'!$P$8, $X254='P&L'!$G$6), $AT254, 0)","v":0}," "," "," "]
[null,null,null,null,null,null,null,null,null,null,null,null,null,null,null,null,null,null,null,null,null,null,"Jan-00",1900,{"$f":"IF(AND($A255<'P&L'!$P$8, YEAR($A255)=Master!$C$6), $K255, 0)","v":0},0,{"$f":"IF(AND(NOT(ISBLANK($O255)), $O255<'P&L'!$P$8), Z255, 0)","v":0},{"$f":"IF(OR(ISBLANK($O255), $O255>'BankRec Main Acct'!$E$8), Z255, 0)","v":0},0,{"$f":"IF(AND(NOT(ISBLANK($O255)), $O255<'P&L'!$P$8), AC255, 0)","v":0},{"$f":"IF(OR(ISBLANK($O255), $O255>'BankRec Main Acct'!$E$8), AC255, 0)","v":0},0,{"$f":"IF(AND(NOT(ISBLANK($S255)), $S255<'P&L'!$P$8), AF255, 0)","v":0},{"$f":"IF(OR(ISBLANK($S255), $S255>'BankRec Main Acct'!$E$8), AF255, 0)","v":0},0,{"$f":"IF(AND(NOT(ISBLANK($S255)), $S255<'P&L'!$P$8), AI255, 0)","v":0},{"$f":"IF(OR(ISBLANK($S255), $S255>'BankRec Main Acct'!$E$8), AI255, 0)","v":0},0,{"$f":"IF(AND(NOT(ISBLANK($U255)), $U255<'P&L'!$P$8), $AL255, 0)","v":0},{"$f":"IF(OR(ISBLANK($U255), $U255>'DebitCard Rec '!$E$8), $AL255, 0)","v":0},0,{"$f":"IF(AND(NOT(ISBLANK($U255)), $U255<'P&L'!$P$8), $AO255, 0)","v":0},{"$f":"IF(OR(ISBLANK($U255), $U255>'DebitCard Rec '!$E$8), $AO255, 0)","v":0},0,{"$f":"IF(AND($A255<'P&L'!$P$8, $X255='P&L'!$G$6), $AR255, 0)","v":0},0,{"$f":"IF(AND($A255<'P&L'!$P$8, $X255='P&L'!$G$6), $AT255, 0)","v":0}," "," "," "]
[null,null,null,null,null,null,null,null,null,null,null,null,null,null,null,null,null,null,null,null,null,null,"Jan-00",1900,{"$f":"IF(AND($A256<'P&L'!$P$8, YEAR($A256)=Master!$C$6), $K256, 0)","v":0},0,{"$f":"IF(AND(NOT(ISBLANK($O256)), $O256<'P&L'!$P$8), Z256, 0)","v":0},{"$f":"IF(OR(ISBLANK($O256), $O256>'BankRec Main Acct'!$E$8), Z256, 0)","v":0},0,{"$f":"IF(AND(NOT(ISBLANK($O256)), $O256<'P&L'!$P$8), AC256, 0)","v":0},{"$f":"IF(OR(ISBLANK($O256), $O256>'BankRec Main Acct'!$E$8), AC256, 0)","v":0},0,{"$f":"IF(AND(NOT(ISBLANK($S256)), $S256<'P&L'!$P$8), AF256, 0)","v":0},{"$f":"IF(OR(ISBLANK($S256), $S256>'BankRec Main Acct'!$E$8), AF256, 0)","v":0},0,{"$f":"IF(AND(NOT(ISBLANK($S256)), $S256<'P&L'!$P$8), AI256, 0)","v":0},{"$f":"IF(OR(ISBLANK($S256), $S256>'BankRec Main Acct'!$E$8), AI256, 0)","v":0},0,{"$f":"IF(AND(NOT(ISBLANK($U256)), $U256<'P&L'!$P$8), $AL256, 0)","v":0},{"$f":"IF(OR(ISBLANK($U256), $U256>'DebitCard Rec '!$E$8), $AL256, 0)","v":0},0,{"$f":"IF(AND(NOT(ISBLANK($U256)), $U256<'P&L'!$P$8), $AO256, 0)","v":0},{"$f":"IF(OR(ISBLANK($U256), $U256>'DebitCard Rec '!$E$8), $AO256, 0)","v":0},0,{"$f":"IF(AND($A256<'P&L'!$P$8, $X256='P&L'!$G$6), $AR256, 0)","v":0},0,{"$f":"IF(AND($A256<'P&L'!$P$8, $X256='P&L'!$G$6), $AT256, 0)","v":0}," "," "," "]
[null,null,null,null,null,null,null,null,null,null,null,null,null,null,null,null,null,null,null,null,null,null,"Jan-00",1900,{"$f":"IF(AND($A257<'P&L'!$P$8, YEAR($A257)=Master!$C$6), $K257, 0)","v":0},0,{"$f":"IF(AND(NOT(ISBLANK($O257)), $O257<'P&L'!$P$8), Z257, 0)","v":0},{"$f":"IF(OR(ISBLANK($O257), $O257>'BankRec Main Acct'!$E$8), Z257, 0)","v":0},0,{"$f":"IF(AND(NOT(ISBLANK($O257)), $O257<'P&L'!$P$8), AC257, 0)","v":0},{"$f":"IF(OR(ISBLANK($O257), $O257>'BankRec Main Acct'!$E$8), AC257, 0)","v":0},0,{"$f":"IF(AND(NOT(ISBLANK($S257)), $S257<'P&L'!$P$8), AF257, 0)","v":0},{"$f":"IF(OR(ISBLANK($S257), $S257>'BankRec Main Acct'!$E$8), AF257, 0)","v":0},0,{"$f":"IF(AND(NOT(ISBLANK($S257)), $S257<'P&L'!$P$8), AI257, 0)","v":0},{"$f":"IF(OR(ISBLANK($S257), $S257>'BankRec Main Acct'!$E$8), AI257, 0)","v":0},0,{"$f":"IF(AND(NOT(ISBLANK($U257)), $U257<'P&L'!$P$8), $AL257, 0)","v":0},{"$f":"IF(OR(ISBLANK($U257), $U257>'DebitCard Rec '!$E$8), $AL257, 0)","v":0},0,{"$f":"IF(AND(NOT(ISBLANK($U257)), $U257<'P&L'!$P$8), $AO257, 0)","v":0},{"$f":"IF(OR(ISBLANK($U257), $U257>'DebitCard Rec '!$E$8), $AO257, 0)","v":0},0,{"$f":"IF(AND($A257<'P&L'!$P$8, $X257='P&L'!$G$6), $AR257, 0)","v":0},0,{"$f":"IF(AND($A257<'P&L'!$P$8, $X257='P&L'!$G$6), $AT257, 0)","v":0}," "," "," "]
[null,null,null,null,null,null,null,null,null,null,null,null,null,null,null,null,null,null,null,null,null,null,"Jan-00",1900,{"$f":"IF(AND($A258<'P&L'!$P$8, YEAR($A258)=Master!$C$6), $K258, 0)","v":0},0,{"$f":"IF(AND(NOT(ISBLANK($O258)), $O258<'P&L'!$P$8), Z258, 0)","v":0},{"$f":"IF(OR(ISBLANK($O258), $O258>'BankRec Main Acct'!$E$8), Z258, 0)","v":0},0,{"$f":"IF(AND(NOT(ISBLANK($O258)), $O258<'P&L'!$P$8), AC258, 0)","v":0},{"$f":"IF(OR(ISBLANK($O258), $O258>'BankRec Main Acct'!$E$8), AC258, 0)","v":0},0,{"$f":"IF(AND(NOT(ISBLANK($S258)), $S258<'P&L'!$P$8), AF258, 0)","v":0},{"$f":"IF(OR(ISBLANK($S258), $S258>'BankRec Main Acct'!$E$8), AF258, 0)","v":0},0,{"$f":"IF(AND(NOT(ISBLANK($S258)), $S258<'P&L'!$P$8), AI258, 0)","v":0},{"$f":"IF(OR(ISBLANK($S258), $S258>'BankRec Main Acct'!$E$8), AI258, 0)","v":0},0,{"$f":"IF(AND(NOT(ISBLANK($U258)), $U258<'P&L'!$P$8), $AL258, 0)","v":0},{"$f":"IF(OR(ISBLANK($U258), $U258>'DebitCard Rec '!$E$8), $AL258, 0)","v":0},0,{"$f":"IF(AND(NOT(ISBLANK($U258)), $U258<'P&L'!$P$8), $AO258, 0)","v":0},{"$f":"IF(OR(ISBLANK($U258), $U258>'DebitCard Rec '!$E$8), $AO258, 0)","v":0},0,{"$f":"IF(AND($A258<'P&L'!$P$8, $X258='P&L'!$G$6), $AR258, 0)","v":0},0,{"$f":"IF(AND($A258<'P&L'!$P$8, $X258='P&L'!$G$6), $AT258, 0)","v":0}," "," "," "]
[null,null,null,null,null,null,null,null,null,null,null,null,null,null,null,null,null,null,null,null,null,null,"Jan-00",1900,{"$f":"IF(AND($A259<'P&L'!$P$8, YEAR($A259)=Master!$C$6), $K259, 0)","v":0},0,{"$f":"IF(AND(NOT(ISBLANK($O259)), $O259<'P&L'!$P$8), Z259, 0)","v":0},{"$f":"IF(OR(ISBLANK($O259), $O259>'BankRec Main Acct'!$E$8), Z259, 0)","v":0},0,{"$f":"IF(AND(NOT(ISBLANK($O259)), $O259<'P&L'!$P$8), AC259, 0)","v":0},{"$f":"IF(OR(ISBLANK($O259), $O259>'BankRec Main Acct'!$E$8), AC259, 0)","v":0},0,{"$f":"IF(AND(NOT(ISBLANK($S259)), $S259<'P&L'!$P$8), AF259, 0)","v":0},{"$f":"IF(OR(ISBLANK($S259), $S259>'BankRec Main Acct'!$E$8), AF259, 0)","v":0},0,{"$f":"IF(AND(NOT(ISBLANK($S259)), $S259<'P&L'!$P$8), AI259, 0)","v":0},{"$f":"IF(OR(ISBLANK($S259), $S259>'BankRec Main Acct'!$E$8), AI259, 0)","v":0},0,{"$f":"IF(AND(NOT(ISBLANK($U259)), $U259<'P&L'!$P$8), $AL259, 0)","v":0},{"$f":"IF(OR(ISBLANK($U259), $U259>'DebitCard Rec '!$E$8), $AL259, 0)","v":0},0,{"$f":"IF(AND(NOT(ISBLANK($U259)), $U259<'P&L'!$P$8), $AO259, 0)","v":0},{"$f":"IF(OR(ISBLANK($U259), $U259>'DebitCard Rec '!$E$8), $AO259, 0)","v":0},0,{"$f":"IF(AND($A259<'P&L'!$P$8, $X259='P&L'!$G$6), $AR259, 0)","v":0},0,{"$f":"IF(AND($A259<'P&L'!$P$8, $X259='P&L'!$G$6), $AT259, 0)","v":0}," "," "," "]
[null,null,null,null,null,null,null,null,null,null,null,null,null,null,null,null,null,null,null,null,null,null,"Jan-00",1900,{"$f":"IF(AND($A260<'P&L'!$P$8, YEAR($A260)=Master!$C$6), $K260, 0)","v":0},0,{"$f":"IF(AND(NOT(ISBLANK($O260)), $O260<'P&L'!$P$8), Z260, 0)","v":0},{"$f":"IF(OR(ISBLANK($O260), $O260>'BankRec Main Acct'!$E$8), Z260, 0)","v":0},0,{"$f":"IF(AND(NOT(ISBLANK($O260)), $O260<'P&L'!$P$8), AC260, 0)","v":0},{"$f":"IF(OR(ISBLANK($O260), $O260>'BankRec Main Acct'!$E$8), AC260, 0)","v":0},0,{"$f":"IF(AND(NOT(ISBLANK($S260)), $S260<'P&L'!$P$8), AF260, 0)","v":0},{"$f":"IF(OR(ISBLANK($S260), $S260>'BankRec Main Acct'!$E$8), AF260, 0)","v":0},0,{"$f":"IF(AND(NOT(ISBLANK($S260)), $S260<'P&L'!$P$8), AI260, 0)","v":0},{"$f":"IF(OR(ISBLANK($S260), $S260>'BankRec Main Acct'!$E$8), AI260, 0)","v":0},0,{"$f":"IF(AND(NOT(ISBLANK($U260)), $U260<'P&L'!$P$8), $AL260, 0)","v":0},{"$f":"IF(OR(ISBLANK($U260), $U260>'DebitCard Rec '!$E$8), $AL260, 0)","v":0},0,{"$f":"IF(AND(NOT(ISBLANK($U260)), $U260<'P&L'!$P$8), $AO260, 0)","v":0},{"$f":"IF(OR(ISBLANK($U260), $U260>'DebitCard Rec '!$E$8), $AO260, 0)","v":0},{"$f":"IF($AV260=\"Petty cash Receipt\", $K260, 0)","v":0},{"$f":"IF(AND($A260<'P&L'!$P$8, $X260='P&L'!$G$6), $AR260, 0)","v":0},{"$f":"IF($AV260=\"Petty cash Payment\", $K260, 0)","v":0},{"$f":"IF(AND($A260<'P&L'!$P$8, $X260='P&L'!$G$6), $AT260, 0)","v":0}," ",{"$f":"IF(C260=\"Receipt\",CONCATENATE(D260,\" \", F260), \" \")","v":" "},{"$f":"IF(C260= \"Payment\", CONCATENATE(F260,\" \",E260), \" \")","v":" "}]
[null,null,null,null,null,null,null,null,null,null,null,null,null,null,null,null,null,null,null,null,null,null,"Jan-00",1900,{"$f":"IF(AND($A261<'P&L'!$P$8, YEAR($A261)=Master!$C$6), $K261, 0)","v":0},{"$f":"IF(AND($C261=\"Receipt\",$B261<>\"debit card\",$B261<>\"petty cash\",$B261<>\"Cash_Sub\",$B261<>\"Cheque_Sub\", $B261<>\"EFT_Sub\"),$K261,0)","v":0},{"$f":"IF(AND(NOT(ISBLANK($O261)), $O261<'P&L'!$P$8), Z261, 0)","v":0},{"$f":"IF(OR(ISBLANK($O261), $O261>'BankRec Main Acct'!$E$8), Z261, 0)","v":0},{"$f":"IF(AND($C261=\"Payment\", $B261<>\"debit card\", $B261<>\"petty cash\", $B261<>\"Cash_Sub\", $B261<>\"Cheque_Sub\", $B261<>\"EFT_Sub\"), $K261, 0)","v":0},{"$f":"IF(AND(NOT(ISBLANK($O261)), $O261<'P&L'!$P$8), AC261, 0)","v":0},{"$f":"IF(OR(ISBLANK($O261), $O261>'BankRec Main Acct'!$E$8), AC261, 0)","v":0},{"$f":"IF(AND($C261=\"Receipt\",$B261<>\"debit card\",$B261<>\"petty cash\",$B261<>\"Cash_Main\",$B261<>\"Cheque_Main\", $B261<>\"EFT_Main\"),$K261,0)","v":0},{"$f":"IF(AND(NOT(ISBLANK($S261)), $S261<'P&L'!$P$8), AF261, 0)","v":0},{"$f":"IF(OR(ISBLANK($S261), $S261>'BankRec Main Acct'!$E$8), AF261, 0)","v":0},{"$f":"IF(AND($C261=\"Payment\", $B261<>\"debit card\", $B261<>\"petty cash\", $B261<>\"Cash_Main\", $B261<>\"Cheque_Main\", $B261<>\"EFT_Main\"), $K261, 0)","v":0},{"$f":"IF(AND(NOT(ISBLANK($S261)), $S261<'P&L'!$P$8), AI261, 0)","v":0},{"$f":"IF(OR(ISBLANK($S261), $S261>'BankRec Main Acct'!$E$8), AI261, 0)","v":0},0,{"$f":"IF(AND(NOT(ISBLANK($U261)), $U261<'P&L'!$P$8), $AL261, 0)","v":0},{"$f":"IF(OR(ISBLANK($U261), $U261>'DebitCard Rec '!$E$8), $AL261, 0)","v":0},0,{"$f":"IF(AND(NOT(ISBLANK($U261)), $U261<'P&L'!$P$8), $AO261, 0)","v":0},{"$f":"IF(OR(ISBLANK($U261), $U261>'DebitCard Rec '!$E$8), $AO261, 0)","v":0},0,{"$f":"IF(AND($A261<'P&L'!$P$8, $X261='P&L'!$G$6), $AR261, 0)","v":0},0,{"$f":"IF(AND($A261<'P&L'!$P$8, $X261='P&L'!$G$6), $AT261, 0)","v":0}," "," "," "]
[null,null,null,null,null,null,null,null,null,null,null,null,null,null,null,null,null,null,null,null,null,null,"Jan-00",1900,{"$f":"IF(AND($A262<'P&L'!$P$8, YEAR($A262)=Master!$C$6), $K262, 0)","v":0},0,{"$f":"IF(AND(NOT(ISBLANK($O262)), $O262<'P&L'!$P$8), Z262, 0)","v":0},{"$f":"IF(OR(ISBLANK($O262), $O262>'BankRec Main Acct'!$E$8), Z262, 0)","v":0},0,{"$f":"IF(AND(NOT(ISBLANK($O262)), $O262<'P&L'!$P$8), AC262, 0)","v":0},{"$f":"IF(OR(ISBLANK($O262), $O262>'BankRec Main Acct'!$E$8), AC262, 0)","v":0},0,{"$f":"IF(AND(NOT(ISBLANK($S262)), $S262<'P&L'!$P$8), AF262, 0)","v":0},{"$f":"IF(OR(ISBLANK($S262), $S262>'BankRec Main Acct'!$E$8), AF262, 0)","v":0},0,{"$f":"IF(AND(NOT(ISBLANK($S262)), $S262<'P&L'!$P$8), AI262, 0)","v":0},{"$f":"IF(OR(ISBLANK($S262), $S262>'BankRec Main Acct'!$E$8), AI262, 0)","v":0},0,{"$f":"IF(AND(NOT(ISBLANK($U262)), $U262<'P&L'!$P$8), $AL262, 0)","v":0},{"$f":"IF(OR(ISBLANK($U262), $U262>'DebitCard Rec '!$E$8), $AL262, 0)","v":0},0,{"$f":"IF(AND(NOT(ISBLANK($U262)), $U262<'P&L'!$P$8), $AO262, 0)","v":0},{"$f":"IF(OR(ISBLANK($U262), $U262>'DebitCard Rec '!$E$8), $AO262, 0)","v":0},0,{"$f":"IF(AND($A262<'P&L'!$P$8, $X262='P&L'!$G$6), $AR262, 0)","v":0},0,{"$f":"IF(AND($A262<'P&L'!$P$8, $X262='P&L'!$G$6), $AT262, 0)","v":0}," "," "," "]
[null,null,null,null,null,null,null,null,null,null,null,null,null,null,null,null,null,null,null,null,null,null,"Jan-00",1900,{"$f":"IF(AND($A263<'P&L'!$P$8, YEAR($A263)=Master!$C$6), $K263, 0)","v":0},0,{"$f":"IF(AND(NOT(ISBLANK($O263)), $O263<'P&L'!$P$8), Z263, 0)","v":0},{"$f":"IF(OR(ISBLANK($O263), $O263>'BankRec Main Acct'!$E$8), Z263, 0)","v":0},0,{"$f":"IF(AND(NOT(ISBLANK($O263)), $O263<'P&L'!$P$8), AC263, 0)","v":0},{"$f":"IF(OR(ISBLANK($O263), $O263>'BankRec Main Acct'!$E$8), AC263, 0)","v":0},0,{"$f":"IF(AND(NOT(ISBLANK($S263)), $S263<'P&L'!$P$8), AF263, 0)","v":0},{"$f":"IF(OR(ISBLANK($S263), $S263>'BankRec Main Acct'!$E$8), AF263, 0)","v":0},0,{"$f":"IF(AND(NOT(ISBLANK($S263)), $S263<'P&L'!$P$8), AI263, 0)","v":0},{"$f":"IF(OR(ISBLANK($S263), $S263>'BankRec Main Acct'!$E$8), AI263, 0)","v":0},0,{"$f":"IF(AND(NOT(ISBLANK($U263)), $U263<'P&L'!$P$8), $AL263, 0)","v":0},{"$f":"IF(OR(ISBLANK($U263), $U263>'DebitCard Rec '!$E$8), $AL263, 0)","v":0},0,{"$f":"IF(AND(NOT(ISBLANK($U263)), $U263<'P&L'!$P$8), $AO263, 0)","v":0},{"$f":"IF(OR(ISBLANK($U263), $U263>'DebitCard Rec '!$E$8), $AO263, 0)","v":0},0,{"$f":"IF(AND($A263<'P&L'!$P$8, $X263='P&L'!$G$6), $AR263, 0)","v":0},0,{"$f":"IF(AND($A263<'P&L'!$P$8, $X263='P&L'!$G$6), $AT263, 0)","v":0}," "," "," "]
[null,null,null,null,null,null,null,null,null,null,null,null,null,null,null,null,null,null,null,null,null,null,"Jan-00",1900,{"$f":"IF(AND($A264<'P&L'!$P$8, YEAR($A264)=Master!$C$6), $K264, 0)","v":0},0,{"$f":"IF(AND(NOT(ISBLANK($O264)), $O264<'P&L'!$P$8), Z264, 0)","v":0},{"$f":"IF(OR(ISBLANK($O264), $O264>'BankRec Main Acct'!$E$8), Z264, 0)","v":0},0,{"$f":"IF(AND(NOT(ISBLANK($O264)), $O264<'P&L'!$P$8), AC264, 0)","v":0},{"$f":"IF(OR(ISBLANK($O264), $O264>'BankRec Main Acct'!$E$8), AC264, 0)","v":0},0,{"$f":"IF(AND(NOT(ISBLANK($S264)), $S264<'P&L'!$P$8), AF264, 0)","v":0},{"$f":"IF(OR(ISBLANK($S264), $S264>'BankRec Main Acct'!$E$8), AF264, 0)","v":0},0,{"$f":"IF(AND(NOT(ISBLANK($S264)), $S264<'P&L'!$P$8), AI264, 0)","v":0},{"$f":"IF(OR(ISBLANK($S264), $S264>'BankRec Main Acct'!$E$8), AI264, 0)","v":0},0,{"$f":"IF(AND(NOT(ISBLANK($U264)), $U264<'P&L'!$P$8), $AL264, 0)","v":0},{"$f":"IF(OR(ISBLANK($U264), $U264>'DebitCard Rec '!$E$8), $AL264, 0)","v":0},0,{"$f":"IF(AND(NOT(ISBLANK($U264)), $U264<'P&L'!$P$8), $AO264, 0)","v":0},{"$f":"IF(OR(ISBLANK($U264), $U264>'DebitCard Rec '!$E$8), $AO264, 0)","v":0},0,{"$f":"IF(AND($A264<'P&L'!$P$8, $X264='P&L'!$G$6), $AR264, 0)","v":0},0,{"$f":"IF(AND($A264<'P&L'!$P$8, $X264='P&L'!$G$6), $AT264, 0)","v":0}," "," "," "]
[null,null,null,null,null,null,null,null,null,null,null,null,null,null,null,null,null,null,null,null,null,null,"Jan-00",1900,{"$f":"IF(AND($A265<'P&L'!$P$8, YEAR($A265)=Master!$C$6), $K265, 0)","v":0},0,{"$f":"IF(AND(NOT(ISBLANK($O265)), $O265<'P&L'!$P$8), Z265, 0)","v":0},{"$f":"IF(OR(ISBLANK($O265), $O265>'BankRec Main Acct'!$E$8), Z265, 0)","v":0},0,{"$f":"IF(AND(NOT(ISBLANK($O265)), $O265<'P&L'!$P$8), AC265, 0)","v":0},{"$f":"IF(OR(ISBLANK($O265), $O265>'BankRec Main Acct'!$E$8), AC265, 0)","v":0},0,{"$f":"IF(AND(NOT(ISBLANK($S265)), $S265<'P&L'!$P$8), AF265, 0)","v":0},{"$f":"IF(OR(ISBLANK($S265), $S265>'BankRec Main Acct'!$E$8), AF265, 0)","v":0},0,{"$f":"IF(AND(NOT(ISBLANK($S265)), $S265<'P&L'!$P$8), AI265, 0)","v":0},{"$f":"IF(OR(ISBLANK($S265), $S265>'BankRec Main Acct'!$E$8), AI265, 0)","v":0},0,{"$f":"IF(AND(NOT(ISBLANK($U265)), $U265<'P&L'!$P$8), $AL265, 0)","v":0},{"$f":"IF(OR(ISBLANK($U265), $U265>'DebitCard Rec '!$E$8), $AL265, 0)","v":0},0,{"$f":"IF(AND(NOT(ISBLANK($U265)), $U265<'P&L'!$P$8), $AO265, 0)","v":0},{"$f":"IF(OR(ISBLANK($U265), $U265>'DebitCard Rec '!$E$8), $AO265, 0)","v":0},0,{"$f":"IF(AND($A265<'P&L'!$P$8, $X265='P&L'!$G$6), $AR265, 0)","v":0},0,{"$f":"IF(AND($A265<'P&L'!$P$8, $X265='P&L'!$G$6), $AT265, 0)","v":0}," "," "," "]
[null,null,null,null,null,null,null,null,null,null,null,null,null,null,null,null,null,null,null,null,null,null,"Jan-00",1900,{"$f":"IF(AND($A266<'P&L'!$P$8, YEAR($A266)=Master!$C$6), $K266, 0)","v":0},0,{"$f":"IF(AND(NOT(ISBLANK($O266)), $O266<'P&L'!$P$8), Z266, 0)","v":0},{"$f":"IF(OR(ISBLANK($O266), $O266>'BankRec Main Acct'!$E$8), Z266, 0)","v":0},0,{"$f":"IF(AND(NOT(ISBLANK($O266)), $O266<'P&L'!$P$8), AC266, 0)","v":0},{"$f":"IF(OR(ISBLANK($O266), $O266>'BankRec Main Acct'!$E$8), AC266, 0)","v":0},0,{"$f":"IF(AND(NOT(ISBLANK($S266)), $S266<'P&L'!$P$8), AF266, 0)","v":0},{"$f":"IF(OR(ISBLANK($S266), $S266>'BankRec Main Acct'!$E$8), AF266, 0)","v":0},0,{"$f":"IF(AND(NOT(ISBLANK($S266)), $S266<'P&L'!$P$8), AI266, 0)","v":0},{"$f":"IF(OR(ISBLANK($S266), $S266>'BankRec Main Acct'!$E$8), AI266, 0)","v":0},0,{"$f":"IF(AND(NOT(ISBLANK($U266)), $U266<'P&L'!$P$8), $AL266, 0)","v":0},{"$f":"IF(OR(ISBLANK($U266), $U266>'DebitCard Rec '!$E$8), $AL266, 0)","v":0},0,{"$f":"IF(AND(NOT(ISBLANK($U266)), $U266<'P&L'!$P$8), $AO266, 0)","v":0},{"$f":"IF(OR(ISBLANK($U266), $U266>'DebitCard Rec '!$E$8), $AO266, 0)","v":0},0,{"$f":"IF(AND($A266<'P&L'!$P$8, $X266='P&L'!$G$6), $AR266, 0)","v":0},0,{"$f":"IF(AND($A266<'P&L'!$P$8, $X266='P&L'!$G$6), $AT266, 0)","v":0}," "," "," "]
[null,null,null,null,null,null,null,null,null,null,null,null,null,null,null,null,null,null,null,null,null,null,"Jan-00",1900,{"$f":"IF(AND($A267<'P&L'!$P$8, YEAR($A267)=Master!$C$6), $K267, 0)","v":0},0,{"$f":"IF(AND(NOT(ISBLANK($O267)), $O267<'P&L'!$P$8), Z267, 0)","v":0},{"$f":"IF(OR(ISBLANK($O267), $O267>'BankRec Main Acct'!$E$8), Z267, 0)","v":0},0,{"$f":"IF(AND(NOT(ISBLANK($O267)), $O267<'P&L'!$P$8), AC267, 0)","v":0},{"$f":"IF(OR(ISBLANK($O267), $O267>'BankRec Main Acct'!$E$8), AC267, 0)","v":0},0,{"$f":"IF(AND(NOT(ISBLANK($S267)), $S267<'P&L'!$P$8), AF267, 0)","v":0},{"$f":"IF(OR(ISBLANK($S267), $S267>'BankRec Main Acct'!$E$8), AF267, 0)","v":0},0,{"$f":"IF(AND(NOT(ISBLANK($S267)), $S267<'P&L'!$P$8), AI267, 0)","v":0},{"$f":"IF(OR(ISBLANK($S267), $S267>'BankRec Main Acct'!$E$8), AI267, 0)","v":0},0,{"$f":"IF(AND(NOT(ISBLANK($U267)), $U267<'P&L'!$P$8), $AL267, 0)","v":0},{"$f":"IF(OR(ISBLANK($U267), $U267>'DebitCard Rec '!$E$8), $AL267, 0)","v":0},0,{"$f":"IF(AND(NOT(ISBLANK($U267)), $U267<'P&L'!$P$8), $AO267, 0)","v":0},{"$f":"IF(OR(ISBLANK($U267), $U267>'DebitCard Rec '!$E$8), $AO267, 0)","v":0},0,{"$f":"IF(AND($A267<'P&L'!$P$8, $X267='P&L'!$G$6), $AR267, 0)","v":0},0,{"$f":"IF(AND($A267<'P&L'!$P$8, $X267='P&L'!$G$6), $AT267, 0)","v":0},{"$f":"CONCATENATE(B267,\" \",C267)","v":" "}," "," "]
[null,null,null,null,null,null,null,null,null,null,null,null,null,null,null,null,null,null,null,null,null,null,"Jan-00",1900,{"$f":"IF(AND($A268<'P&L'!$P$8, YEAR($A268)=Master!$C$6), $K268, 0)","v":0},0,{"$f":"IF(AND(NOT(ISBLANK($O268)), $O268<'P&L'!$P$8), Z268, 0)","v":0},{"$f":"IF(OR(ISBLANK($O268), $O268>'BankRec Main Acct'!$E$8), Z268, 0)","v":0},0,{"$f":"IF(AND(NOT(ISBLANK($O268)), $O268<'P&L'!$P$8), AC268, 0)","v":0},{"$f":"IF(OR(ISBLANK($O268), $O268>'BankRec Main Acct'!$E$8), AC268, 0)","v":0},0,{"$f":"IF(AND(NOT(ISBLANK($S268)), $S268<'P&L'!$P$8), AF268, 0)","v":0},{"$f":"IF(OR(ISBLANK($S268), $S268>'BankRec Main Acct'!$E$8), AF268, 0)","v":0},0,{"$f":"IF(AND(NOT(ISBLANK($S268)), $S268<'P&L'!$P$8), AI268, 0)","v":0},{"$f":"IF(OR(ISBLANK($S268), $S268>'BankRec Main Acct'!$E$8), AI268, 0)","v":0},0,{"$f":"IF(AND(NOT(ISBLANK($U268)), $U268<'P&L'!$P$8), $AL268, 0)","v":0},{"$f":"IF(OR(ISBLANK($U268), $U268>'DebitCard Rec '!$E$8), $AL268, 0)","v":0},0,{"$f":"IF(AND(NOT(ISBLANK($U268)), $U268<'P&L'!$P$8), $AO268, 0)","v":0},{"$f":"IF(OR(ISBLANK($U268), $U268>'DebitCard Rec '!$E$8), $AO268, 0)","v":0},0,{"$f":"IF(AND($A268<'P&L'!$P$8, $X268='P&L'!$G$6), $AR268, 0)","v":0},0,{"$f":"IF(AND($A268<'P&L'!$P$8, $X268='P&L'!$G$6), $AT268, 0)","v":0}," "," "," "]
[null,null,null,null,null,null,null,null,null,null,null,null,null,null,null,null,null,null,null,null,null,null,"Jan-00",1900,{"$f":"IF(AND($A269<'P&L'!$P$8, YEAR($A269)=Master!$C$6), $K269, 0)","v":0},0,{"$f":"IF(AND(NOT(ISBLANK($O269)), $O269<'P&L'!$P$8), Z269, 0)","v":0},{"$f":"IF(OR(ISBLANK($O269), $O269>'BankRec Main Acct'!$E$8), Z269, 0)","v":0},0,{"$f":"IF(AND(NOT(ISBLANK($O269)), $O269<'P&L'!$P$8), AC269, 0)","v":0},{"$f":"IF(OR(ISBLANK($O269), $O269>'BankRec Main Acct'!$E$8), AC269, 0)","v":0},0,{"$f":"IF(AND(NOT(ISBLANK($S269)), $S269<'P&L'!$P$8), AF269, 0)","v":0},{"$f":"IF(OR(ISBLANK($S269), $S269>'BankRec Main Acct'!$E$8), AF269, 0)","v":0},0,{"$f":"IF(AND(NOT(ISBLANK($S269)), $S269<'P&L'!$P$8), AI269, 0)","v":0},{"$f":"IF(OR(ISBLANK($S269), $S269>'BankRec Main Acct'!$E$8), AI269, 0)","v":0},0,{"$f":"IF(AND(NOT(ISBLANK($U269)), $U269<'P&L'!$P$8), $AL269, 0)","v":0},{"$f":"IF(OR(ISBLANK($U269), $U269>'DebitCard Rec '!$E$8), $AL269, 0)","v":0},0,{"$f":"IF(AND(NOT(ISBLANK($U269)), $U269<'P&L'!$P$8), $AO269, 0)","v":0},{"$f":"IF(OR(ISBLANK($U269), $U269>'DebitCard Rec '!$E$8), $AO269, 0)","v":0},0,{"$f":"IF(AND($A269<'P&L'!$P$8, $X269='P&L'!$G$6), $AR269, 0)","v":0},0,{"$f":"IF(AND($A269<'P&L'!$P$8, $X269='P&L'!$G$6), $AT269, 0)","v":0}," "," "," "]
[null,null,null,null,null,null,null,null,null,null,null,null,null,null,null,null,null,null,null,null,null,null,"Jan-00",1900,{"$f":"IF(AND($A270<'P&L'!$P$8, YEAR($A270)=Master!$C$6), $K270, 0)","v":0},0,{"$f":"IF(AND(NOT(ISBLANK($O270)), $O270<'P&L'!$P$8), Z270, 0)","v":0},{"$f":"IF(OR(ISBLANK($O270), $O270>'BankRec Main Acct'!$E$8), Z270, 0)","v":0},0,{"$f":"IF(AND(NOT(ISBLANK($O270)), $O270<'P&L'!$P$8), AC270, 0)","v":0},{"$f":"IF(OR(ISBLANK($O270), $O270>'BankRec Main Acct'!$E$8), AC270, 0)","v":0},0,{"$f":"IF(AND(NOT(ISBLANK($S270)), $S270<'P&L'!$P$8), AF270, 0)","v":0},{"$f":"IF(OR(ISBLANK($S270), $S270>'BankRec Main Acct'!$E$8), AF270, 0)","v":0},0,{"$f":"IF(AND(NOT(ISBLANK($S270)), $S270<'P&L'!$P$8), AI270, 0)","v":0},{"$f":"IF(OR(ISBLANK($S270), $S270>'BankRec Main Acct'!$E$8), AI270, 0)","v":0},0,{"$f":"IF(AND(NOT(ISBLANK($U270)), $U270<'P&L'!$P$8), $AL270, 0)","v":0},{"$f":"IF(OR(ISBLANK($U270), $U270>'DebitCard Rec '!$E$8), $AL270, 0)","v":0},0,{"$f":"IF(AND(NOT(ISBLANK($U270)), $U270<'P&L'!$P$8), $AO270, 0)","v":0},{"$f":"IF(OR(ISBLANK($U270), $U270>'DebitCard Rec '!$E$8), $AO270, 0)","v":0},0,{"$f":"IF(AND($A270<'P&L'!$P$8, $X270='P&L'!$G$6), $AR270, 0)","v":0},0,{"$f":"IF(AND($A270<'P&L'!$P$8, $X270='P&L'!$G$6), $AT270, 0)","v":0}," "," "," "]
[null,null,null,null,null,null,null,null,null,null,null,null,null,null,null,null,null,null,null,null,null,null,"Jan-00",1900,{"$f":"IF(AND($A271<'P&L'!$P$8, YEAR($A271)=Master!$C$6), $K271, 0)","v":0},0,{"$f":"IF(AND(NOT(ISBLANK($O271)), $O271<'P&L'!$P$8), Z271, 0)","v":0},{"$f":"IF(OR(ISBLANK($O271), $O271>'BankRec Main Acct'!$E$8), Z271, 0)","v":0},0,{"$f":"IF(AND(NOT(ISBLANK($O271)), $O271<'P&L'!$P$8), AC271, 0)","v":0},{"$f":"IF(OR(ISBLANK($O271), $O271>'BankRec Main Acct'!$E$8), AC271, 0)","v":0},0,{"$f":"IF(AND(NOT(ISBLANK($S271)), $S271<'P&L'!$P$8), AF271, 0)","v":0},{"$f":"IF(OR(ISBLANK($S271), $S271>'BankRec Main Acct'!$E$8), AF271, 0)","v":0},0,{"$f":"IF(AND(NOT(ISBLANK($S271)), $S271<'P&L'!$P$8), AI271, 0)","v":0},{"$f":"IF(OR(ISBLANK($S271), $S271>'BankRec Main Acct'!$E$8), AI271, 0)","v":0},0,{"$f":"IF(AND(NOT(ISBLANK($U271)), $U271<'P&L'!$P$8), $AL271, 0)","v":0},{"$f":"IF(OR(ISBLANK($U271), $U271>'DebitCard Rec '!$E$8), $AL271, 0)","v":0},0,{"$f":"IF(AND(NOT(ISBLANK($U271)), $U271<'P&L'!$P$8), $AO271, 0)","v":0},{"$f":"IF(OR(ISBLANK($U271), $U271>'DebitCard Rec '!$E$8), $AO271, 0)","v":0},0,{"$f":"IF(AND($A271<'P&L'!$P$8, $X271='P&L'!$G$6), $AR271, 0)","v":0},0,{"$f":"IF(AND($A271<'P&L'!$P$8, $X271='P&L'!$G$6), $AT271, 0)","v":0}," "," "," "]
[null,null,null,null,null,null,null,null,null,null,null,null,null,null,null,null,null,null,null,null,null,null,"Jan-00",1900,{"$f":"IF(AND($A272<'P&L'!$P$8, YEAR($A272)=Master!$C$6), $K272, 0)","v":0},0,{"$f":"IF(AND(NOT(ISBLANK($O272)), $O272<'P&L'!$P$8), Z272, 0)","v":0},{"$f":"IF(OR(ISBLANK($O272), $O272>'BankRec Main Acct'!$E$8), Z272, 0)","v":0},0,{"$f":"IF(AND(NOT(ISBLANK($O272)), $O272<'P&L'!$P$8), AC272, 0)","v":0},{"$f":"IF(OR(ISBLANK($O272), $O272>'BankRec Main Acct'!$E$8), AC272, 0)","v":0},0,{"$f":"IF(AND(NOT(ISBLANK($S272)), $S272<'P&L'!$P$8), AF272, 0)","v":0},{"$f":"IF(OR(ISBLANK($S272), $S272>'BankRec Main Acct'!$E$8), AF272, 0)","v":0},0,{"$f":"IF(AND(NOT(ISBLANK($S272)), $S272<'P&L'!$P$8), AI272, 0)","v":0},{"$f":"IF(OR(ISBLANK($S272), $S272>'BankRec Main Acct'!$E$8), AI272, 0)","v":0},0,{"$f":"IF(AND(NOT(ISBLANK($U272)), $U272<'P&L'!$P$8), $AL272, 0)","v":0},{"$f":"IF(OR(ISBLANK($U272), $U272>'DebitCard Rec '!$E$8), $AL272, 0)","v":0},0,{"$f":"IF(AND(NOT(ISBLANK($U272)), $U272<'P&L'!$P$8), $AO272, 0)","v":0},{"$f":"IF(OR(ISBLANK($U272), $U272>'DebitCard Rec '!$E$8), $AO272, 0)","v":0},0,{"$f":"IF(AND($A272<'P&L'!$P$8, $X272='P&L'!$G$6), $AR272, 0)","v":0},0,{"$f":"IF(AND($A272<'P&L'!$P$8, $X272='P&L'!$G$6), $AT272, 0)","v":0}," "," "," "]
[null,null,null,null,null,null,null,null,null,null,null,null,null,null,null,null,null,null,null,null,null,null,"Jan-00",1900,{"$f":"IF(AND($A273<'P&L'!$P$8, YEAR($A273)=Master!$C$6), $K273, 0)","v":0},0,{"$f":"IF(AND(NOT(ISBLANK($O273)), $O273<'P&L'!$P$8), Z273, 0)","v":0},{"$f":"IF(OR(ISBLANK($O273), $O273>'BankRec Main Acct'!$E$8), Z273, 0)","v":0},0,{"$f":"IF(AND(NOT(ISBLANK($O273)), $O273<'P&L'!$P$8), AC273, 0)","v":0},{"$f":"IF(OR(ISBLANK($O273), $O273>'BankRec Main Acct'!$E$8), AC273, 0)","v":0},0,{"$f":"IF(AND(NOT(ISBLANK($S273)), $S273<'P&L'!$P$8), AF273, 0)","v":0},{"$f":"IF(OR(ISBLANK($S273), $S273>'BankRec Main Acct'!$E$8), AF273, 0)","v":0},0,{"$f":"IF(AND(NOT(ISBLANK($S273)), $S273<'P&L'!$P$8), AI273, 0)","v":0},{"$f":"IF(OR(ISBLANK($S273), $S273>'BankRec Main Acct'!$E$8), AI273, 0)","v":0},0,{"$f":"IF(AND(NOT(ISBLANK($U273)), $U273<'P&L'!$P$8), $AL273, 0)","v":0},{"$f":"IF(OR(ISBLANK($U273), $U273>'DebitCard Rec '!$E$8), $AL273, 0)","v":0},0,{"$f":"IF(AND(NOT(ISBLANK($U273)), $U273<'P&L'!$P$8), $AO273, 0)","v":0},{"$f":"IF(OR(ISBLANK($U273), $U273>'DebitCard Rec '!$E$8), $AO273, 0)","v":0},0,{"$f":"IF(AND($A273<'P&L'!$P$8, $X273='P&L'!$G$6), $AR273, 0)","v":0},0,{"$f":"IF(AND($A273<'P&L'!$P$8, $X273='P&L'!$G$6), $AT273, 0)","v":0}," "," "," "]
[null,null,null,null,null,null,null,null,null,null,null,null,null,null,null,null,null,null,null,null,null,null,"Jan-00",1900,{"$f":"IF(AND($A274<'P&L'!$P$8, YEAR($A274)=Master!$C$6), $K274, 0)","v":0},0,{"$f":"IF(AND(NOT(ISBLANK($O274)), $O274<'P&L'!$P$8), Z274, 0)","v":0},{"$f":"IF(OR(ISBLANK($O274), $O274>'BankRec Main Acct'!$E$8), Z274, 0)","v":0},0,{"$f":"IF(AND(NOT(ISBLANK($O274)), $O274<'P&L'!$P$8), AC274, 0)","v":0},{"$f":"IF(OR(ISBLANK($O274), $O274>'BankRec Main Acct'!$E$8), AC274, 0)","v":0},0,{"$f":"IF(AND(NOT(ISBLANK($S274)), $S274<'P&L'!$P$8), AF274, 0)","v":0},{"$f":"IF(OR(ISBLANK($S274), $S274>'BankRec Main Acct'!$E$8), AF274, 0)","v":0},0,{"$f":"IF(AND(NOT(ISBLANK($S274)), $S274<'P&L'!$P$8), AI274, 0)","v":0},{"$f":"IF(OR(ISBLANK($S274), $S274>'BankRec Main Acct'!$E$8), AI274, 0)","v":0},0,{"$f":"IF(AND(NOT(ISBLANK($U274)), $U274<'P&L'!$P$8), $AL274, 0)","v":0},{"$f":"IF(OR(ISBLANK($U274), $U274>'DebitCard Rec '!$E$8), $AL274, 0)","v":0},0,{"$f":"IF(AND(NOT(ISBLANK($U274)), $U274<'P&L'!$P$8), $AO274, 0)","v":0},{"$f":"IF(OR(ISBLANK($U274), $U274>'DebitCard Rec '!$E$8), $AO274, 0)","v":0},0,{"$f":"IF(AND($A274<'P&L'!$P$8, $X274='P&L'!$G$6), $AR274, 0)","v":0},0,{"$f":"IF(AND($A274<'P&L'!$P$8, $X274='P&L'!$G$6), $AT274, 0)","v":0}," "," "," "]
[null,null,null,null,null,null,null,null,null,null,null,null,null,null,null,null,null,null,null,null,null,null,"Jan-00",1900,{"$f":"IF(AND($A275<'P&L'!$P$8, YEAR($A275)=Master!$C$6), $K275, 0)","v":0},0,{"$f":"IF(AND(NOT(ISBLANK($O275)), $O275<'P&L'!$P$8), Z275, 0)","v":0},{"$f":"IF(OR(ISBLANK($O275), $O275>'BankRec Main Acct'!$E$8), Z275, 0)","v":0},0,{"$f":"IF(AND(NOT(ISBLANK($O275)), $O275<'P&L'!$P$8), AC275, 0)","v":0},{"$f":"IF(OR(ISBLANK($O275), $O275>'BankRec Main Acct'!$E$8), AC275, 0)","v":0},0,{"$f":"IF(AND(NOT(ISBLANK($S275)), $S275<'P&L'!$P$8), AF275, 0)","v":0},{"$f":"IF(OR(ISBLANK($S275), $S275>'BankRec Main Acct'!$E$8), AF275, 0)","v":0},0,{"$f":"IF(AND(NOT(ISBLANK($S275)), $S275<'P&L'!$P$8), AI275, 0)","v":0},{"$f":"IF(OR(ISBLANK($S275), $S275>'BankRec Main Acct'!$E$8), AI275, 0)","v":0},0,{"$f":"IF(AND(NOT(ISBLANK($U275)), $U275<'P&L'!$P$8), $AL275, 0)","v":0},{"$f":"IF(OR(ISBLANK($U275), $U275>'DebitCard Rec '!$E$8), $AL275, 0)","v":0},0,{"$f":"IF(AND(NOT(ISBLANK($U275)), $U275<'P&L'!$P$8), $AO275, 0)","v":0},{"$f":"IF(OR(ISBLANK($U275), $U275>'DebitCard Rec '!$E$8), $AO275, 0)","v":0},0,{"$f":"IF(AND($A275<'P&L'!$P$8, $X275='P&L'!$G$6), $AR275, 0)","v":0},0,{"$f":"IF(AND($A275<'P&L'!$P$8, $X275='P&L'!$G$6), $AT275, 0)","v":0}," "," "," "]
[null,null,null,null,null,null,null,null,null,null,null,null,null,null,null,null,null,null,null,null,null,null,{"$f":"TEXT($A276, \"mmm-yy\")","v":"Jan-00"},{"$f":"YEAR($A276)","v":1900},{"$f":"IF(AND($A276<'P&L'!$P$8, YEAR($A276)=Master!$C$6), $K276, 0)","v":0},0,{"$f":"IF(AND(NOT(ISBLANK($O276)), $O276<'P&L'!$P$8), Z276, 0)","v":0},{"$f":"IF(OR(ISBLANK($O276), $O276>'BankRec Main Acct'!$E$8), Z276, 0)","v":0},0,{"$f":"IF(AND(NOT(ISBLANK($O276)), $O276<'P&L'!$P$8), AC276, 0)","v":0},{"$f":"IF(OR(ISBLANK($O276), $O276>'BankRec Main Acct'!$E$8), AC276, 0)","v":0},0,{"$f":"IF(AND(NOT(ISBLANK($S276)), $S276<'P&L'!$P$8), AF276, 0)","v":0},{"$f":"IF(OR(ISBLANK($S276), $S276>'BankRec Main Acct'!$E$8), AF276, 0)","v":0},0,{"$f":"IF(AND(NOT(ISBLANK($S276)), $S276<'P&L'!$P$8), AI276, 0)","v":0},{"$f":"IF(OR(ISBLANK($S276), $S276>'BankRec Main Acct'!$E$8), AI276, 0)","v":0},{"$f":"IF(AND($C276=\"Receipt\",$B276=\"Debit card\"),$K276,0)","v":0},{"$f":"IF(AND(NOT(ISBLANK($U276)), $U276<'P&L'!$P$8), $AL276, 0)","v":0},{"$f":"IF(OR(ISBLANK($U276), $U276>'DebitCard Rec '!$E$8), $AL276, 0)","v":0},{"$f":"IF(AND($C276=\"Payment\",$B276=\"Debit card\"),$K276,0)","v":0},{"$f":"IF(AND(NOT(ISBLANK($U276)), $U276<'P&L'!$P$8), $AO276, 0)","v":0},{"$f":"IF(OR(ISBLANK($U276), $U276>'DebitCard Rec '!$E$8), $AO276, 0)","v":0},0,{"$f":"IF(AND($A276<'P&L'!$P$8, $X276='P&L'!$G$6), $AR276, 0)","v":0},0,{"$f":"IF(AND($A276<'P&L'!$P$8, $X276='P&L'!$G$6), $AT276, 0)","v":0}," "," "," "]
[null,null,null,null,null,null,null,null,null,null,null,null,null,null,null,null,null,null,null,null,null,null,"Jan-00",1900,{"$f":"IF(AND($A277<'P&L'!$P$8, YEAR($A277)=Master!$C$6), $K277, 0)","v":0},0,{"$f":"IF(AND(NOT(ISBLANK($O277)), $O277<'P&L'!$P$8), Z277, 0)","v":0},{"$f":"IF(OR(ISBLANK($O277), $O277>'BankRec Main Acct'!$E$8), Z277, 0)","v":0},0,{"$f":"IF(AND(NOT(ISBLANK($O277)), $O277<'P&L'!$P$8), AC277, 0)","v":0},{"$f":"IF(OR(ISBLANK($O277), $O277>'BankRec Main Acct'!$E$8), AC277, 0)","v":0},0,{"$f":"IF(AND(NOT(ISBLANK($S277)), $S277<'P&L'!$P$8), AF277, 0)","v":0},{"$f":"IF(OR(ISBLANK($S277), $S277>'BankRec Main Acct'!$E$8), AF277, 0)","v":0},0,{"$f":"IF(AND(NOT(ISBLANK($S277)), $S277<'P&L'!$P$8), AI277, 0)","v":0},{"$f":"IF(OR(ISBLANK($S277), $S277>'BankRec Main Acct'!$E$8), AI277, 0)","v":0},0,{"$f":"IF(AND(NOT(ISBLANK($U277)), $U277<'P&L'!$P$8), $AL277, 0)","v":0},{"$f":"IF(OR(ISBLANK($U277), $U277>'DebitCard Rec '!$E$8), $AL277, 0)","v":0},0,{"$f":"IF(AND(NOT(ISBLANK($U277)), $U277<'P&L'!$P$8), $AO277, 0)","v":0},{"$f":"IF(OR(ISBLANK($U277), $U277>'DebitCard Rec '!$E$8), $AO277, 0)","v":0},0,{"$f":"IF(AND($A277<'P&L'!$P$8, $X277='P&L'!$G$6), $AR277, 0)","v":0},0,{"$f":"IF(AND($A277<'P&L'!$P$8, $X277='P&L'!$G$6), $AT277, 0)","v":0}," "," "," "]
[null,null,null,null,null,null,null,null,null,null,null,null,null,null,null,null,null,null,null,null,null,null,"Jan-00",1900,{"$f":"IF(AND($A278<'P&L'!$P$8, YEAR($A278)=Master!$C$6), $K278, 0)","v":0},0,{"$f":"IF(AND(NOT(ISBLANK($O278)), $O278<'P&L'!$P$8), Z278, 0)","v":0},{"$f":"IF(OR(ISBLANK($O278), $O278>'BankRec Main Acct'!$E$8), Z278, 0)","v":0},0,{"$f":"IF(AND(NOT(ISBLANK($O278)), $O278<'P&L'!$P$8), AC278, 0)","v":0},{"$f":"IF(OR(ISBLANK($O278), $O278>'BankRec Main Acct'!$E$8), AC278, 0)","v":0},0,{"$f":"IF(AND(NOT(ISBLANK($S278)), $S278<'P&L'!$P$8), AF278, 0)","v":0},{"$f":"IF(OR(ISBLANK($S278), $S278>'BankRec Main Acct'!$E$8), AF278, 0)","v":0},0,{"$f":"IF(AND(NOT(ISBLANK($S278)), $S278<'P&L'!$P$8), AI278, 0)","v":0},{"$f":"IF(OR(ISBLANK($S278), $S278>'BankRec Main Acct'!$E$8), AI278, 0)","v":0},0,{"$f":"IF(AND(NOT(ISBLANK($U278)), $U278<'P&L'!$P$8), $AL278, 0)","v":0},{"$f":"IF(OR(ISBLANK($U278), $U278>'DebitCard Rec '!$E$8), $AL278, 0)","v":0},0,{"$f":"IF(AND(NOT(ISBLANK($U278)), $U278<'P&L'!$P$8), $AO278, 0)","v":0},{"$f":"IF(OR(ISBLANK($U278), $U278>'DebitCard Rec '!$E$8), $AO278, 0)","v":0},0,{"$f":"IF(AND($A278<'P&L'!$P$8, $X278='P&L'!$G$6), $AR278, 0)","v":0},0,{"$f":"IF(AND($A278<'P&L'!$P$8, $X278='P&L'!$G$6), $AT278, 0)","v":0}," "," "," "]
[null,null,null,null,null,null,null,null,null,null,null,null,null,null,null,null,null,null,null,null,null,null,"Jan-00",1900,{"$f":"IF(AND($A279<'P&L'!$P$8, YEAR($A279)=Master!$C$6), $K279, 0)","v":0},0,{"$f":"IF(AND(NOT(ISBLANK($O279)), $O279<'P&L'!$P$8), Z279, 0)","v":0},{"$f":"IF(OR(ISBLANK($O279), $O279>'BankRec Main Acct'!$E$8), Z279, 0)","v":0},0,{"$f":"IF(AND(NOT(ISBLANK($O279)), $O279<'P&L'!$P$8), AC279, 0)","v":0},{"$f":"IF(OR(ISBLANK($O279), $O279>'BankRec Main Acct'!$E$8), AC279, 0)","v":0},0,{"$f":"IF(AND(NOT(ISBLANK($S279)), $S279<'P&L'!$P$8), AF279, 0)","v":0},{"$f":"IF(OR(ISBLANK($S279), $S279>'BankRec Main Acct'!$E$8), AF279, 0)","v":0},0,{"$f":"IF(AND(NOT(ISBLANK($S279)), $S279<'P&L'!$P$8), AI279, 0)","v":0},{"$f":"IF(OR(ISBLANK($S279), $S279>'BankRec Main Acct'!$E$8), AI279, 0)","v":0},0,{"$f":"IF(AND(NOT(ISBLANK($U279)), $U279<'P&L'!$P$8), $AL279, 0)","v":0},{"$f":"IF(OR(ISBLANK($U279), $U279>'DebitCard Rec '!$E$8), $AL279, 0)","v":0},0,{"$f":"IF(AND(NOT(ISBLANK($U279)), $U279<'P&L'!$P$8), $AO279, 0)","v":0},{"$f":"IF(OR(ISBLANK($U279), $U279>'DebitCard Rec '!$E$8), $AO279, 0)","v":0},0,{"$f":"IF(AND($A279<'P&L'!$P$8, $X279='P&L'!$G$6), $AR279, 0)","v":0},0,{"$f":"IF(AND($A279<'P&L'!$P$8, $X279='P&L'!$G$6), $AT279, 0)","v":0}," "," "," "]
[null,null,null,null,null,null,null,null,null,null,null,null,null,null,null,null,null,null,null,null,null,null,"Jan-00",1900,{"$f":"IF(AND($A280<'P&L'!$P$8, YEAR($A280)=Master!$C$6), $K280, 0)","v":0},0,{"$f":"IF(AND(NOT(ISBLANK($O280)), $O280<'P&L'!$P$8), Z280, 0)","v":0},{"$f":"IF(OR(ISBLANK($O280), $O280>'BankRec Main Acct'!$E$8), Z280, 0)","v":0},0,{"$f":"IF(AND(NOT(ISBLANK($O280)), $O280<'P&L'!$P$8), AC280, 0)","v":0},{"$f":"IF(OR(ISBLANK($O280), $O280>'BankRec Main Acct'!$E$8), AC280, 0)","v":0},0,{"$f":"IF(AND(NOT(ISBLANK($S280)), $S280<'P&L'!$P$8), AF280, 0)","v":0},{"$f":"IF(OR(ISBLANK($S280), $S280>'BankRec Main Acct'!$E$8), AF280, 0)","v":0},0,{"$f":"IF(AND(NOT(ISBLANK($S280)), $S280<'P&L'!$P$8), AI280, 0)","v":0},{"$f":"IF(OR(ISBLANK($S280), $S280>'BankRec Main Acct'!$E$8), AI280, 0)","v":0},0,{"$f":"IF(AND(NOT(ISBLANK($U280)), $U280<'P&L'!$P$8), $AL280, 0)","v":0},{"$f":"IF(OR(ISBLANK($U280), $U280>'DebitCard Rec '!$E$8), $AL280, 0)","v":0},0,{"$f":"IF(AND(NOT(ISBLANK($U280)), $U280<'P&L'!$P$8), $AO280, 0)","v":0},{"$f":"IF(OR(ISBLANK($U280), $U280>'DebitCard Rec '!$E$8), $AO280, 0)","v":0},0,{"$f":"IF(AND($A280<'P&L'!$P$8, $X280='P&L'!$G$6), $AR280, 0)","v":0},0,{"$f":"IF(AND($A280<'P&L'!$P$8, $X280='P&L'!$G$6), $AT280, 0)","v":0}," "," "," "]
[null,null,null,null,null,null,null,null,null,null,null,null,null,null,null,null,null,null,null,null,null,null,"Jan-00",1900,{"$f":"IF(AND($A281<'P&L'!$P$8, YEAR($A281)=Master!$C$6), $K281, 0)","v":0},0,{"$f":"IF(AND(NOT(ISBLANK($O281)), $O281<'P&L'!$P$8), Z281, 0)","v":0},{"$f":"IF(OR(ISBLANK($O281), $O281>'BankRec Main Acct'!$E$8), Z281, 0)","v":0},0,{"$f":"IF(AND(NOT(ISBLANK($O281)), $O281<'P&L'!$P$8), AC281, 0)","v":0},{"$f":"IF(OR(ISBLANK($O281), $O281>'BankRec Main Acct'!$E$8), AC281, 0)","v":0},0,{"$f":"IF(AND(NOT(ISBLANK($S281)), $S281<'P&L'!$P$8), AF281, 0)","v":0},{"$f":"IF(OR(ISBLANK($S281), $S281>'BankRec Main Acct'!$E$8), AF281, 0)","v":0},0,{"$f":"IF(AND(NOT(ISBLANK($S281)), $S281<'P&L'!$P$8), AI281, 0)","v":0},{"$f":"IF(OR(ISBLANK($S281), $S281>'BankRec Main Acct'!$E$8), AI281, 0)","v":0},0,{"$f":"IF(AND(NOT(ISBLANK($U281)), $U281<'P&L'!$P$8), $AL281, 0)","v":0},{"$f":"IF(OR(ISBLANK($U281), $U281>'DebitCard Rec '!$E$8), $AL281, 0)","v":0},0,{"$f":"IF(AND(NOT(ISBLANK($U281)), $U281<'P&L'!$P$8), $AO281, 0)","v":0},{"$f":"IF(OR(ISBLANK($U281), $U281>'DebitCard Rec '!$E$8), $AO281, 0)","v":0},0,{"$f":"IF(AND($A281<'P&L'!$P$8, $X281='P&L'!$G$6), $AR281, 0)","v":0},0,{"$f":"IF(AND($A281<'P&L'!$P$8, $X281='P&L'!$G$6), $AT281, 0)","v":0}," "," "," "]
[null,null,null,null,null,null,null,null,null,null,null,null,null,null,null,null,null,null,null,null,null,null,"Jan-00",1900,{"$f":"IF(AND($A282<'P&L'!$P$8, YEAR($A282)=Master!$C$6), $K282, 0)","v":0},0,{"$f":"IF(AND(NOT(ISBLANK($O282)), $O282<'P&L'!$P$8), Z282, 0)","v":0},{"$f":"IF(OR(ISBLANK($O282), $O282>'BankRec Main Acct'!$E$8), Z282, 0)","v":0},0,{"$f":"IF(AND(NOT(ISBLANK($O282)), $O282<'P&L'!$P$8), AC282, 0)","v":0},{"$f":"IF(OR(ISBLANK($O282), $O282>'BankRec Main Acct'!$E$8), AC282, 0)","v":0},0,{"$f":"IF(AND(NOT(ISBLANK($S282)), $S282<'P&L'!$P$8), AF282, 0)","v":0},{"$f":"IF(OR(ISBLANK($S282), $S282>'BankRec Main Acct'!$E$8), AF282, 0)","v":0},0,{"$f":"IF(AND(NOT(ISBLANK($S282)), $S282<'P&L'!$P$8), AI282, 0)","v":0},{"$f":"IF(OR(ISBLANK($S282), $S282>'BankRec Main Acct'!$E$8), AI282, 0)","v":0},0,{"$f":"IF(AND(NOT(ISBLANK($U282)), $U282<'P&L'!$P$8), $AL282, 0)","v":0},{"$f":"IF(OR(ISBLANK($U282), $U282>'DebitCard Rec '!$E$8), $AL282, 0)","v":0},0,{"$f":"IF(AND(NOT(ISBLANK($U282)), $U282<'P&L'!$P$8), $AO282, 0)","v":0},{"$f":"IF(OR(ISBLANK($U282), $U282>'DebitCard Rec '!$E$8), $AO282, 0)","v":0},0,{"$f":"IF(AND($A282<'P&L'!$P$8, $X282='P&L'!$G$6), $AR282, 0)","v":0},0,{"$f":"IF(AND($A282<'P&L'!$P$8, $X282='P&L'!$G$6), $AT282, 0)","v":0}," "," "," "]
[null,null,null,null,null,null,null,null,null,null,null,null,null,null,null,null,null,null,null,null,null,null,"Jan-00",1900,{"$f":"IF(AND($A283<'P&L'!$P$8, YEAR($A283)=Master!$C$6), $K283, 0)","v":0},0,{"$f":"IF(AND(NOT(ISBLANK($O283)), $O283<'P&L'!$P$8), Z283, 0)","v":0},{"$f":"IF(OR(ISBLANK($O283), $O283>'BankRec Main Acct'!$E$8), Z283, 0)","v":0},0,{"$f":"IF(AND(NOT(ISBLANK($O283)), $O283<'P&L'!$P$8), AC283, 0)","v":0},{"$f":"IF(OR(ISBLANK($O283), $O283>'BankRec Main Acct'!$E$8), AC283, 0)","v":0},0,{"$f":"IF(AND(NOT(ISBLANK($S283)), $S283<'P&L'!$P$8), AF283, 0)","v":0},{"$f":"IF(OR(ISBLANK($S283), $S283>'BankRec Main Acct'!$E$8), AF283, 0)","v":0},0,{"$f":"IF(AND(NOT(ISBLANK($S283)), $S283<'P&L'!$P$8), AI283, 0)","v":0},{"$f":"IF(OR(ISBLANK($S283), $S283>'BankRec Main Acct'!$E$8), AI283, 0)","v":0},0,{"$f":"IF(AND(NOT(ISBLANK($U283)), $U283<'P&L'!$P$8), $AL283, 0)","v":0},{"$f":"IF(OR(ISBLANK($U283), $U283>'DebitCard Rec '!$E$8), $AL283, 0)","v":0},0,{"$f":"IF(AND(NOT(ISBLANK($U283)), $U283<'P&L'!$P$8), $AO283, 0)","v":0},{"$f":"IF(OR(ISBLANK($U283), $U283>'DebitCard Rec '!$E$8), $AO283, 0)","v":0},0,{"$f":"IF(AND($A283<'P&L'!$P$8, $X283='P&L'!$G$6), $AR283, 0)","v":0},0,{"$f":"IF(AND($A283<'P&L'!$P$8, $X283='P&L'!$G$6), $AT283, 0)","v":0}," "," "," "]
[null,null,null,null,null,null,null,null,null,null,null,null,null,null,null,null,null,null,null,null,null,null,"Jan-00",1900,{"$f":"IF(AND($A284<'P&L'!$P$8, YEAR($A284)=Master!$C$6), $K284, 0)","v":0},0,{"$f":"IF(AND(NOT(ISBLANK($O284)), $O284<'P&L'!$P$8), Z284, 0)","v":0},{"$f":"IF(OR(ISBLANK($O284), $O284>'BankRec Main Acct'!$E$8), Z284, 0)","v":0},0,{"$f":"IF(AND(NOT(ISBLANK($O284)), $O284<'P&L'!$P$8), AC284, 0)","v":0},{"$f":"IF(OR(ISBLANK($O284), $O284>'BankRec Main Acct'!$E$8), AC284, 0)","v":0},0,{"$f":"IF(AND(NOT(ISBLANK($S284)), $S284<'P&L'!$P$8), AF284, 0)","v":0},{"$f":"IF(OR(ISBLANK($S284), $S284>'BankRec Main Acct'!$E$8), AF284, 0)","v":0},0,{"$f":"IF(AND(NOT(ISBLANK($S284)), $S284<'P&L'!$P$8), AI284, 0)","v":0},{"$f":"IF(OR(ISBLANK($S284), $S284>'BankRec Main Acct'!$E$8), AI284, 0)","v":0},0,{"$f":"IF(AND(NOT(ISBLANK($U284)), $U284<'P&L'!$P$8), $AL284, 0)","v":0},{"$f":"IF(OR(ISBLANK($U284), $U284>'DebitCard Rec '!$E$8), $AL284, 0)","v":0},0,{"$f":"IF(AND(NOT(ISBLANK($U284)), $U284<'P&L'!$P$8), $AO284, 0)","v":0},{"$f":"IF(OR(ISBLANK($U284), $U284>'DebitCard Rec '!$E$8), $AO284, 0)","v":0},0,{"$f":"IF(AND($A284<'P&L'!$P$8, $X284='P&L'!$G$6), $AR284, 0)","v":0},0,{"$f":"IF(AND($A284<'P&L'!$P$8, $X284='P&L'!$G$6), $AT284, 0)","v":0}," "," "," "]
[null,null,null,null,null,null,null,null,null,null,null,null,null,null,null,null,null,null,null,null,null,null,"Jan-00",1900,{"$f":"IF(AND($A285<'P&L'!$P$8, YEAR($A285)=Master!$C$6), $K285, 0)","v":0},0,{"$f":"IF(AND(NOT(ISBLANK($O285)), $O285<'P&L'!$P$8), Z285, 0)","v":0},{"$f":"IF(OR(ISBLANK($O285), $O285>'BankRec Main Acct'!$E$8), Z285, 0)","v":0},0,{"$f":"IF(AND(NOT(ISBLANK($O285)), $O285<'P&L'!$P$8), AC285, 0)","v":0},{"$f":"IF(OR(ISBLANK($O285), $O285>'BankRec Main Acct'!$E$8), AC285, 0)","v":0},0,{"$f":"IF(AND(NOT(ISBLANK($S285)), $S285<'P&L'!$P$8), AF285, 0)","v":0},{"$f":"IF(OR(ISBLANK($S285), $S285>'BankRec Main Acct'!$E$8), AF285, 0)","v":0},0,{"$f":"IF(AND(NOT(ISBLANK($S285)), $S285<'P&L'!$P$8), AI285, 0)","v":0},{"$f":"IF(OR(ISBLANK($S285), $S285>'BankRec Main Acct'!$E$8), AI285, 0)","v":0},0,{"$f":"IF(AND(NOT(ISBLANK($U285)), $U285<'P&L'!$P$8), $AL285, 0)","v":0},{"$f":"IF(OR(ISBLANK($U285), $U285>'DebitCard Rec '!$E$8), $AL285, 0)","v":0},0,{"$f":"IF(AND(NOT(ISBLANK($U285)), $U285<'P&L'!$P$8), $AO285, 0)","v":0},{"$f":"IF(OR(ISBLANK($U285), $U285>'DebitCard Rec '!$E$8), $AO285, 0)","v":0},0,{"$f":"IF(AND($A285<'P&L'!$P$8, $X285='P&L'!$G$6), $AR285, 0)","v":0},0,{"$f":"IF(AND($A285<'P&L'!$P$8, $X285='P&L'!$G$6), $AT285, 0)","v":0}," "," "," "]
[null,null,null,null,null,null,null,null,null,null,null,null,null,null,null,null,null,null,null,null,null,null,"Jan-00",1900,{"$f":"IF(AND($A286<'P&L'!$P$8, YEAR($A286)=Master!$C$6), $K286, 0)","v":0},0,{"$f":"IF(AND(NOT(ISBLANK($O286)), $O286<'P&L'!$P$8), Z286, 0)","v":0},{"$f":"IF(OR(ISBLANK($O286), $O286>'BankRec Main Acct'!$E$8), Z286, 0)","v":0},0,{"$f":"IF(AND(NOT(ISBLANK($O286)), $O286<'P&L'!$P$8), AC286, 0)","v":0},{"$f":"IF(OR(ISBLANK($O286), $O286>'BankRec Main Acct'!$E$8), AC286, 0)","v":0},0,{"$f":"IF(AND(NOT(ISBLANK($S286)), $S286<'P&L'!$P$8), AF286, 0)","v":0},{"$f":"IF(OR(ISBLANK($S286), $S286>'BankRec Main Acct'!$E$8), AF286, 0)","v":0},0,{"$f":"IF(AND(NOT(ISBLANK($S286)), $S286<'P&L'!$P$8), AI286, 0)","v":0},{"$f":"IF(OR(ISBLANK($S286), $S286>'BankRec Main Acct'!$E$8), AI286, 0)","v":0},0,{"$f":"IF(AND(NOT(ISBLANK($U286)), $U286<'P&L'!$P$8), $AL286, 0)","v":0},{"$f":"IF(OR(ISBLANK($U286), $U286>'DebitCard Rec '!$E$8), $AL286, 0)","v":0},0,{"$f":"IF(AND(NOT(ISBLANK($U286)), $U286<'P&L'!$P$8), $AO286, 0)","v":0},{"$f":"IF(OR(ISBLANK($U286), $U286>'DebitCard Rec '!$E$8), $AO286, 0)","v":0},0,{"$f":"IF(AND($A286<'P&L'!$P$8, $X286='P&L'!$G$6), $AR286, 0)","v":0},0,{"$f":"IF(AND($A286<'P&L'!$P$8, $X286='P&L'!$G$6), $AT286, 0)","v":0}," "," "," "]
[null,null,null,null,null,null,null,null,null,null,null,null,null,null,null,null,null,null,null,null,null,null,"Jan-00",1900,{"$f":"IF(AND($A287<'P&L'!$P$8, YEAR($A287)=Master!$C$6), $K287, 0)","v":0},0,{"$f":"IF(AND(NOT(ISBLANK($O287)), $O287<'P&L'!$P$8), Z287, 0)","v":0},{"$f":"IF(OR(ISBLANK($O287), $O287>'BankRec Main Acct'!$E$8), Z287, 0)","v":0},0,{"$f":"IF(AND(NOT(ISBLANK($O287)), $O287<'P&L'!$P$8), AC287, 0)","v":0},{"$f":"IF(OR(ISBLANK($O287), $O287>'BankRec Main Acct'!$E$8), AC287, 0)","v":0},0,{"$f":"IF(AND(NOT(ISBLANK($S287)), $S287<'P&L'!$P$8), AF287, 0)","v":0},{"$f":"IF(OR(ISBLANK($S287), $S287>'BankRec Main Acct'!$E$8), AF287, 0)","v":0},0,{"$f":"IF(AND(NOT(ISBLANK($S287)), $S287<'P&L'!$P$8), AI287, 0)","v":0},{"$f":"IF(OR(ISBLANK($S287), $S287>'BankRec Main Acct'!$E$8), AI287, 0)","v":0},0,{"$f":"IF(AND(NOT(ISBLANK($U287)), $U287<'P&L'!$P$8), $AL287, 0)","v":0},{"$f":"IF(OR(ISBLANK($U287), $U287>'DebitCard Rec '!$E$8), $AL287, 0)","v":0},0,{"$f":"IF(AND(NOT(ISBLANK($U287)), $U287<'P&L'!$P$8), $AO287, 0)","v":0},{"$f":"IF(OR(ISBLANK($U287), $U287>'DebitCard Rec '!$E$8), $AO287, 0)","v":0},0,{"$f":"IF(AND($A287<'P&L'!$P$8, $X287='P&L'!$G$6), $AR287, 0)","v":0},0,{"$f":"IF(AND($A287<'P&L'!$P$8, $X287='P&L'!$G$6), $AT287, 0)","v":0}," "," "," "]
[null,null,null,null,null,null,null,null,null,null,null,null,null,null,null,null,null,null,null,null,null,null,"Jan-00",1900,{"$f":"IF(AND($A288<'P&L'!$P$8, YEAR($A288)=Master!$C$6), $K288, 0)","v":0},0,{"$f":"IF(AND(NOT(ISBLANK($O288)), $O288<'P&L'!$P$8), Z288, 0)","v":0},{"$f":"IF(OR(ISBLANK($O288), $O288>'BankRec Main Acct'!$E$8), Z288, 0)","v":0},0,{"$f":"IF(AND(NOT(ISBLANK($O288)), $O288<'P&L'!$P$8), AC288, 0)","v":0},{"$f":"IF(OR(ISBLANK($O288), $O288>'BankRec Main Acct'!$E$8), AC288, 0)","v":0},0,{"$f":"IF(AND(NOT(ISBLANK($S288)), $S288<'P&L'!$P$8), AF288, 0)","v":0},{"$f":"IF(OR(ISBLANK($S288), $S288>'BankRec Main Acct'!$E$8), AF288, 0)","v":0},0,{"$f":"IF(AND(NOT(ISBLANK($S288)), $S288<'P&L'!$P$8), AI288, 0)","v":0},{"$f":"IF(OR(ISBLANK($S288), $S288>'BankRec Main Acct'!$E$8), AI288, 0)","v":0},0,{"$f":"IF(AND(NOT(ISBLANK($U288)), $U288<'P&L'!$P$8), $AL288, 0)","v":0},{"$f":"IF(OR(ISBLANK($U288), $U288>'DebitCard Rec '!$E$8), $AL288, 0)","v":0},0,{"$f":"IF(AND(NOT(ISBLANK($U288)), $U288<'P&L'!$P$8), $AO288, 0)","v":0},{"$f":"IF(OR(ISBLANK($U288), $U288>'DebitCard Rec '!$E$8), $AO288, 0)","v":0},0,{"$f":"IF(AND($A288<'P&L'!$P$8, $X288='P&L'!$G$6), $AR288, 0)","v":0},0,{"$f":"IF(AND($A288<'P&L'!$P$8, $X288='P&L'!$G$6), $AT288, 0)","v":0}," "," "," "]
[null,null,null,null,null,null,null,null,null,null,null,null,null,null,null,null,null,null,null,null,null,null,"Jan-00",1900,{"$f":"IF(AND($A289<'P&L'!$P$8, YEAR($A289)=Master!$C$6), $K289, 0)","v":0},0,{"$f":"IF(AND(NOT(ISBLANK($O289)), $O289<'P&L'!$P$8), Z289, 0)","v":0},{"$f":"IF(OR(ISBLANK($O289), $O289>'BankRec Main Acct'!$E$8), Z289, 0)","v":0},0,{"$f":"IF(AND(NOT(ISBLANK($O289)), $O289<'P&L'!$P$8), AC289, 0)","v":0},{"$f":"IF(OR(ISBLANK($O289), $O289>'BankRec Main Acct'!$E$8), AC289, 0)","v":0},0,{"$f":"IF(AND(NOT(ISBLANK($S289)), $S289<'P&L'!$P$8), AF289, 0)","v":0},{"$f":"IF(OR(ISBLANK($S289), $S289>'BankRec Main Acct'!$E$8), AF289, 0)","v":0},0,{"$f":"IF(AND(NOT(ISBLANK($S289)), $S289<'P&L'!$P$8), AI289, 0)","v":0},{"$f":"IF(OR(ISBLANK($S289), $S289>'BankRec Main Acct'!$E$8), AI289, 0)","v":0},0,{"$f":"IF(AND(NOT(ISBLANK($U289)), $U289<'P&L'!$P$8), $AL289, 0)","v":0},{"$f":"IF(OR(ISBLANK($U289), $U289>'DebitCard Rec '!$E$8), $AL289, 0)","v":0},0,{"$f":"IF(AND(NOT(ISBLANK($U289)), $U289<'P&L'!$P$8), $AO289, 0)","v":0},{"$f":"IF(OR(ISBLANK($U289), $U289>'DebitCard Rec '!$E$8), $AO289, 0)","v":0},0,{"$f":"IF(AND($A289<'P&L'!$P$8, $X289='P&L'!$G$6), $AR289, 0)","v":0},0,{"$f":"IF(AND($A289<'P&L'!$P$8, $X289='P&L'!$G$6), $AT289, 0)","v":0}," "," "," "]
[null,null,null,null,null,null,null,null,null,null,null,null,null,null,null,null,null,null,null,null,null,null,"Jan-00",1900,{"$f":"IF(AND($A290<'P&L'!$P$8, YEAR($A290)=Master!$C$6), $K290, 0)","v":0},0,{"$f":"IF(AND(NOT(ISBLANK($O290)), $O290<'P&L'!$P$8), Z290, 0)","v":0},{"$f":"IF(OR(ISBLANK($O290), $O290>'BankRec Main Acct'!$E$8), Z290, 0)","v":0},0,{"$f":"IF(AND(NOT(ISBLANK($O290)), $O290<'P&L'!$P$8), AC290, 0)","v":0},{"$f":"IF(OR(ISBLANK($O290), $O290>'BankRec Main Acct'!$E$8), AC290, 0)","v":0},0,{"$f":"IF(AND(NOT(ISBLANK($S290)), $S290<'P&L'!$P$8), AF290, 0)","v":0},{"$f":"IF(OR(ISBLANK($S290), $S290>'BankRec Main Acct'!$E$8), AF290, 0)","v":0},0,{"$f":"IF(AND(NOT(ISBLANK($S290)), $S290<'P&L'!$P$8), AI290, 0)","v":0},{"$f":"IF(OR(ISBLANK($S290), $S290>'BankRec Main Acct'!$E$8), AI290, 0)","v":0},0,{"$f":"IF(AND(NOT(ISBLANK($U290)), $U290<'P&L'!$P$8), $AL290, 0)","v":0},{"$f":"IF(OR(ISBLANK($U290), $U290>'DebitCard Rec '!$E$8), $AL290, 0)","v":0},0,{"$f":"IF(AND(NOT(ISBLANK($U290)), $U290<'P&L'!$P$8), $AO290, 0)","v":0},{"$f":"IF(OR(ISBLANK($U290), $U290>'DebitCard Rec '!$E$8), $AO290, 0)","v":0},0,{"$f":"IF(AND($A290<'P&L'!$P$8, $X290='P&L'!$G$6), $AR290, 0)","v":0},0,{"$f":"IF(AND($A290<'P&L'!$P$8, $X290='P&L'!$G$6), $AT290, 0)","v":0}," "," "," "]
[null,null,null,null,null,null,null,null,null,null,null,null,null,null,null,null,null,null,null,null,null,null,"Jan-00",1900,{"$f":"IF(AND($A291<'P&L'!$P$8, YEAR($A291)=Master!$C$6), $K291, 0)","v":0},0,{"$f":"IF(AND(NOT(ISBLANK($O291)), $O291<'P&L'!$P$8), Z291, 0)","v":0},{"$f":"IF(OR(ISBLANK($O291), $O291>'BankRec Main Acct'!$E$8), Z291, 0)","v":0},0,{"$f":"IF(AND(NOT(ISBLANK($O291)), $O291<'P&L'!$P$8), AC291, 0)","v":0},{"$f":"IF(OR(ISBLANK($O291), $O291>'BankRec Main Acct'!$E$8), AC291, 0)","v":0},0,{"$f":"IF(AND(NOT(ISBLANK($S291)), $S291<'P&L'!$P$8), AF291, 0)","v":0},{"$f":"IF(OR(ISBLANK($S291), $S291>'BankRec Main Acct'!$E$8), AF291, 0)","v":0},0,{"$f":"IF(AND(NOT(ISBLANK($S291)), $S291<'P&L'!$P$8), AI291, 0)","v":0},{"$f":"IF(OR(ISBLANK($S291), $S291>'BankRec Main Acct'!$E$8), AI291, 0)","v":0},0,{"$f":"IF(AND(NOT(ISBLANK($U291)), $U291<'P&L'!$P$8), $AL291, 0)","v":0},{"$f":"IF(OR(ISBLANK($U291), $U291>'DebitCard Rec '!$E$8), $AL291, 0)","v":0},0,{"$f":"IF(AND(NOT(ISBLANK($U291)), $U291<'P&L'!$P$8), $AO291, 0)","v":0},{"$f":"IF(OR(ISBLANK($U291), $U291>'DebitCard Rec '!$E$8), $AO291, 0)","v":0},0,{"$f":"IF(AND($A291<'P&L'!$P$8, $X291='P&L'!$G$6), $AR291, 0)","v":0},0,{"$f":"IF(AND($A291<'P&L'!$P$8, $X291='P&L'!$G$6), $AT291, 0)","v":0}," "," "," "]
[null,null,null,null,null,null,null,null,null,null,null,null,null,null,null,null,null,null,null,null,null,null,"Jan-00",1900,{"$f":"IF(AND($A292<'P&L'!$P$8, YEAR($A292)=Master!$C$6), $K292, 0)","v":0},0,{"$f":"IF(AND(NOT(ISBLANK($O292)), $O292<'P&L'!$P$8), Z292, 0)","v":0},{"$f":"IF(OR(ISBLANK($O292), $O292>'BankRec Main Acct'!$E$8), Z292, 0)","v":0},0,{"$f":"IF(AND(NOT(ISBLANK($O292)), $O292<'P&L'!$P$8), AC292, 0)","v":0},{"$f":"IF(OR(ISBLANK($O292), $O292>'BankRec Main Acct'!$E$8), AC292, 0)","v":0},0,{"$f":"IF(AND(NOT(ISBLANK($S292)), $S292<'P&L'!$P$8), AF292, 0)","v":0},{"$f":"IF(OR(ISBLANK($S292), $S292>'BankRec Main Acct'!$E$8), AF292, 0)","v":0},0,{"$f":"IF(AND(NOT(ISBLANK($S292)), $S292<'P&L'!$P$8), AI292, 0)","v":0},{"$f":"IF(OR(ISBLANK($S292), $S292>'BankRec Main Acct'!$E$8), AI292, 0)","v":0},0,{"$f":"IF(AND(NOT(ISBLANK($U292)), $U292<'P&L'!$P$8), $AL292, 0)","v":0},{"$f":"IF(OR(ISBLANK($U292), $U292>'DebitCard Rec '!$E$8), $AL292, 0)","v":0},0,{"$f":"IF(AND(NOT(ISBLANK($U292)), $U292<'P&L'!$P$8), $AO292, 0)","v":0},{"$f":"IF(OR(ISBLANK($U292), $U292>'DebitCard Rec '!$E$8), $AO292, 0)","v":0},0,{"$f":"IF(AND($A292<'P&L'!$P$8, $X292='P&L'!$G$6), $AR292, 0)","v":0},0,{"$f":"IF(AND($A292<'P&L'!$P$8, $X292='P&L'!$G$6), $AT292, 0)","v":0}," "," "," "]
[null,null,null,null,null,null,null,null,null,null,null,null,null,null,null,null,null,null,null,null,null,null,"Jan-00",1900,{"$f":"IF(AND($A293<'P&L'!$P$8, YEAR($A293)=Master!$C$6), $K293, 0)","v":0},0,{"$f":"IF(AND(NOT(ISBLANK($O293)), $O293<'P&L'!$P$8), Z293, 0)","v":0},{"$f":"IF(OR(ISBLANK($O293), $O293>'BankRec Main Acct'!$E$8), Z293, 0)","v":0},0,{"$f":"IF(AND(NOT(ISBLANK($O293)), $O293<'P&L'!$P$8), AC293, 0)","v":0},{"$f":"IF(OR(ISBLANK($O293), $O293>'BankRec Main Acct'!$E$8), AC293, 0)","v":0},0,{"$f":"IF(AND(NOT(ISBLANK($S293)), $S293<'P&L'!$P$8), AF293, 0)","v":0},{"$f":"IF(OR(ISBLANK($S293), $S293>'BankRec Main Acct'!$E$8), AF293, 0)","v":0},0,{"$f":"IF(AND(NOT(ISBLANK($S293)), $S293<'P&L'!$P$8), AI293, 0)","v":0},{"$f":"IF(OR(ISBLANK($S293), $S293>'BankRec Main Acct'!$E$8), AI293, 0)","v":0},0,{"$f":"IF(AND(NOT(ISBLANK($U293)), $U293<'P&L'!$P$8), $AL293, 0)","v":0},{"$f":"IF(OR(ISBLANK($U293), $U293>'DebitCard Rec '!$E$8), $AL293, 0)","v":0},0,{"$f":"IF(AND(NOT(ISBLANK($U293)), $U293<'P&L'!$P$8), $AO293, 0)","v":0},{"$f":"IF(OR(ISBLANK($U293), $U293>'DebitCard Rec '!$E$8), $AO293, 0)","v":0},0,{"$f":"IF(AND($A293<'P&L'!$P$8, $X293='P&L'!$G$6), $AR293, 0)","v":0},0,{"$f":"IF(AND($A293<'P&L'!$P$8, $X293='P&L'!$G$6), $AT293, 0)","v":0}," "," "," "]
[null,null,null,null,null,null,null,null,null,null,null,null,null,null,null,null,null,null,null,null,null,null,"Jan-00",1900,{"$f":"IF(AND($A294<'P&L'!$P$8, YEAR($A294)=Master!$C$6), $K294, 0)","v":0},0,{"$f":"IF(AND(NOT(ISBLANK($O294)), $O294<'P&L'!$P$8), Z294, 0)","v":0},{"$f":"IF(OR(ISBLANK($O294), $O294>'BankRec Main Acct'!$E$8), Z294, 0)","v":0},0,{"$f":"IF(AND(NOT(ISBLANK($O294)), $O294<'P&L'!$P$8), AC294, 0)","v":0},{"$f":"IF(OR(ISBLANK($O294), $O294>'BankRec Main Acct'!$E$8), AC294, 0)","v":0},0,{"$f":"IF(AND(NOT(ISBLANK($S294)), $S294<'P&L'!$P$8), AF294, 0)","v":0},{"$f":"IF(OR(ISBLANK($S294), $S294>'BankRec Main Acct'!$E$8), AF294, 0)","v":0},0,{"$f":"IF(AND(NOT(ISBLANK($S294)), $S294<'P&L'!$P$8), AI294, 0)","v":0},{"$f":"IF(OR(ISBLANK($S294), $S294>'BankRec Main Acct'!$E$8), AI294, 0)","v":0},0,{"$f":"IF(AND(NOT(ISBLANK($U294)), $U294<'P&L'!$P$8), $AL294, 0)","v":0},{"$f":"IF(OR(ISBLANK($U294), $U294>'DebitCard Rec '!$E$8), $AL294, 0)","v":0},0,{"$f":"IF(AND(NOT(ISBLANK($U294)), $U294<'P&L'!$P$8), $AO294, 0)","v":0},{"$f":"IF(OR(ISBLANK($U294), $U294>'DebitCard Rec '!$E$8), $AO294, 0)","v":0},0,{"$f":"IF(AND($A294<'P&L'!$P$8, $X294='P&L'!$G$6), $AR294, 0)","v":0},0,{"$f":"IF(AND($A294<'P&L'!$P$8, $X294='P&L'!$G$6), $AT294, 0)","v":0}," "," "," "]
[null,null,null,null,null,null,null,null,null,null,null,null,null,null,null,null,null,null,null,null,null,null,"Jan-00",1900,{"$f":"IF(AND($A295<'P&L'!$P$8, YEAR($A295)=Master!$C$6), $K295, 0)","v":0},0,{"$f":"IF(AND(NOT(ISBLANK($O295)), $O295<'P&L'!$P$8), Z295, 0)","v":0},{"$f":"IF(OR(ISBLANK($O295), $O295>'BankRec Main Acct'!$E$8), Z295, 0)","v":0},0,{"$f":"IF(AND(NOT(ISBLANK($O295)), $O295<'P&L'!$P$8), AC295, 0)","v":0},{"$f":"IF(OR(ISBLANK($O295), $O295>'BankRec Main Acct'!$E$8), AC295, 0)","v":0},0,{"$f":"IF(AND(NOT(ISBLANK($S295)), $S295<'P&L'!$P$8), AF295, 0)","v":0},{"$f":"IF(OR(ISBLANK($S295), $S295>'BankRec Main Acct'!$E$8), AF295, 0)","v":0},0,{"$f":"IF(AND(NOT(ISBLANK($S295)), $S295<'P&L'!$P$8), AI295, 0)","v":0},{"$f":"IF(OR(ISBLANK($S295), $S295>'BankRec Main Acct'!$E$8), AI295, 0)","v":0},0,{"$f":"IF(AND(NOT(ISBLANK($U295)), $U295<'P&L'!$P$8), $AL295, 0)","v":0},{"$f":"IF(OR(ISBLANK($U295), $U295>'DebitCard Rec '!$E$8), $AL295, 0)","v":0},0,{"$f":"IF(AND(NOT(ISBLANK($U295)), $U295<'P&L'!$P$8), $AO295, 0)","v":0},{"$f":"IF(OR(ISBLANK($U295), $U295>'DebitCard Rec '!$E$8), $AO295, 0)","v":0},0,{"$f":"IF(AND($A295<'P&L'!$P$8, $X295='P&L'!$G$6), $AR295, 0)","v":0},0,{"$f":"IF(AND($A295<'P&L'!$P$8, $X295='P&L'!$G$6), $AT295, 0)","v":0}," "," "," "]
[null,null,null,null,null,null,null,null,null,null,null,null,null,null,null,null,null,null,null,null,null,null,"Jan-00",1900,{"$f":"IF(AND($A296<'P&L'!$P$8, YEAR($A296)=Master!$C$6), $K296, 0)","v":0},0,{"$f":"IF(AND(NOT(ISBLANK($O296)), $O296<'P&L'!$P$8), Z296, 0)","v":0},{"$f":"IF(OR(ISBLANK($O296), $O296>'BankRec Main Acct'!$E$8), Z296, 0)","v":0},0,{"$f":"IF(AND(NOT(ISBLANK($O296)), $O296<'P&L'!$P$8), AC296, 0)","v":0},{"$f":"IF(OR(ISBLANK($O296), $O296>'BankRec Main Acct'!$E$8), AC296, 0)","v":0},0,{"$f":"IF(AND(NOT(ISBLANK($S296)), $S296<'P&L'!$P$8), AF296, 0)","v":0},{"$f":"IF(OR(ISBLANK($S296), $S296>'BankRec Main Acct'!$E$8), AF296, 0)","v":0},0,{"$f":"IF(AND(NOT(ISBLANK($S296)), $S296<'P&L'!$P$8), AI296, 0)","v":0},{"$f":"IF(OR(ISBLANK($S296), $S296>'BankRec Main Acct'!$E$8), AI296, 0)","v":0},0,{"$f":"IF(AND(NOT(ISBLANK($U296)), $U296<'P&L'!$P$8), $AL296, 0)","v":0},{"$f":"IF(OR(ISBLANK($U296), $U296>'DebitCard Rec '!$E$8), $AL296, 0)","v":0},0,{"$f":"IF(AND(NOT(ISBLANK($U296)), $U296<'P&L'!$P$8), $AO296, 0)","v":0},{"$f":"IF(OR(ISBLANK($U296), $U296>'DebitCard Rec '!$E$8), $AO296, 0)","v":0},0,{"$f":"IF(AND($A296<'P&L'!$P$8, $X296='P&L'!$G$6), $AR296, 0)","v":0},0,{"$f":"IF(AND($A296<'P&L'!$P$8, $X296='P&L'!$G$6), $AT296, 0)","v":0}," "," "," "]
[null,null,null,null,null,null,null,null,null,null,null,null,null,null,null,null,null,null,null,null,null,null,"Jan-00",1900,{"$f":"IF(AND($A297<'P&L'!$P$8, YEAR($A297)=Master!$C$6), $K297, 0)","v":0},0,{"$f":"IF(AND(NOT(ISBLANK($O297)), $O297<'P&L'!$P$8), Z297, 0)","v":0},{"$f":"IF(OR(ISBLANK($O297), $O297>'BankRec Main Acct'!$E$8), Z297, 0)","v":0},0,{"$f":"IF(AND(NOT(ISBLANK($O297)), $O297<'P&L'!$P$8), AC297, 0)","v":0},{"$f":"IF(OR(ISBLANK($O297), $O297>'BankRec Main Acct'!$E$8), AC297, 0)","v":0},0,{"$f":"IF(AND(NOT(ISBLANK($S297)), $S297<'P&L'!$P$8), AF297, 0)","v":0},{"$f":"IF(OR(ISBLANK($S297), $S297>'BankRec Main Acct'!$E$8), AF297, 0)","v":0},0,{"$f":"IF(AND(NOT(ISBLANK($S297)), $S297<'P&L'!$P$8), AI297, 0)","v":0},{"$f":"IF(OR(ISBLANK($S297), $S297>'BankRec Main Acct'!$E$8), AI297, 0)","v":0},0,{"$f":"IF(AND(NOT(ISBLANK($U297)), $U297<'P&L'!$P$8), $AL297, 0)","v":0},{"$f":"IF(OR(ISBLANK($U297), $U297>'DebitCard Rec '!$E$8), $AL297, 0)","v":0},0,{"$f":"IF(AND(NOT(ISBLANK($U297)), $U297<'P&L'!$P$8), $AO297, 0)","v":0},{"$f":"IF(OR(ISBLANK($U297), $U297>'DebitCard Rec '!$E$8), $AO297, 0)","v":0},0,{"$f":"IF(AND($A297<'P&L'!$P$8, $X297='P&L'!$G$6), $AR297, 0)","v":0},0,{"$f":"IF(AND($A297<'P&L'!$P$8, $X297='P&L'!$G$6), $AT297, 0)","v":0}," "," "," "]
[null,null,null,null,null,null,null,null,null,null,null,null,null,null,null,null,null,null,null,null,null,null,"Jan-00",1900,{"$f":"IF(AND($A298<'P&L'!$P$8, YEAR($A298)=Master!$C$6), $K298, 0)","v":0},0,{"$f":"IF(AND(NOT(ISBLANK($O298)), $O298<'P&L'!$P$8), Z298, 0)","v":0},{"$f":"IF(OR(ISBLANK($O298), $O298>'BankRec Main Acct'!$E$8), Z298, 0)","v":0},0,{"$f":"IF(AND(NOT(ISBLANK($O298)), $O298<'P&L'!$P$8), AC298, 0)","v":0},{"$f":"IF(OR(ISBLANK($O298), $O298>'BankRec Main Acct'!$E$8), AC298, 0)","v":0},0,{"$f":"IF(AND(NOT(ISBLANK($S298)), $S298<'P&L'!$P$8), AF298, 0)","v":0},{"$f":"IF(OR(ISBLANK($S298), $S298>'BankRec Main Acct'!$E$8), AF298, 0)","v":0},0,{"$f":"IF(AND(NOT(ISBLANK($S298)), $S298<'P&L'!$P$8), AI298, 0)","v":0},{"$f":"IF(OR(ISBLANK($S298), $S298>'BankRec Main Acct'!$E$8), AI298, 0)","v":0},0,{"$f":"IF(AND(NOT(ISBLANK($U298)), $U298<'P&L'!$P$8), $AL298, 0)","v":0},{"$f":"IF(OR(ISBLANK($U298), $U298>'DebitCard Rec '!$E$8), $AL298, 0)","v":0},0,{"$f":"IF(AND(NOT(ISBLANK($U298)), $U298<'P&L'!$P$8), $AO298, 0)","v":0},{"$f":"IF(OR(ISBLANK($U298), $U298>'DebitCard Rec '!$E$8), $AO298, 0)","v":0},0,{"$f":"IF(AND($A298<'P&L'!$P$8, $X298='P&L'!$G$6), $AR298, 0)","v":0},0,{"$f":"IF(AND($A298<'P&L'!$P$8, $X298='P&L'!$G$6), $AT298, 0)","v":0}," "," "," "]
[null,null,null,null,null,null,null,null,null,null,null,null,null,null,null,null,null,null,null,null,null,null,"Jan-00",1900,{"$f":"IF(AND($A299<'P&L'!$P$8, YEAR($A299)=Master!$C$6), $K299, 0)","v":0},0,{"$f":"IF(AND(NOT(ISBLANK($O299)), $O299<'P&L'!$P$8), Z299, 0)","v":0},{"$f":"IF(OR(ISBLANK($O299), $O299>'BankRec Main Acct'!$E$8), Z299, 0)","v":0},0,{"$f":"IF(AND(NOT(ISBLANK($O299)), $O299<'P&L'!$P$8), AC299, 0)","v":0},{"$f":"IF(OR(ISBLANK($O299), $O299>'BankRec Main Acct'!$E$8), AC299, 0)","v":0},0,{"$f":"IF(AND(NOT(ISBLANK($S299)), $S299<'P&L'!$P$8), AF299, 0)","v":0},{"$f":"IF(OR(ISBLANK($S299), $S299>'BankRec Main Acct'!$E$8), AF299, 0)","v":0},0,{"$f":"IF(AND(NOT(ISBLANK($S299)), $S299<'P&L'!$P$8), AI299, 0)","v":0},{"$f":"IF(OR(ISBLANK($S299), $S299>'BankRec Main Acct'!$E$8), AI299, 0)","v":0},0,{"$f":"IF(AND(NOT(ISBLANK($U299)), $U299<'P&L'!$P$8), $AL299, 0)","v":0},{"$f":"IF(OR(ISBLANK($U299), $U299>'DebitCard Rec '!$E$8), $AL299, 0)","v":0},0,{"$f":"IF(AND(NOT(ISBLANK($U299)), $U299<'P&L'!$P$8), $AO299, 0)","v":0},{"$f":"IF(OR(ISBLANK($U299), $U299>'DebitCard Rec '!$E$8), $AO299, 0)","v":0},0,{"$f":"IF(AND($A299<'P&L'!$P$8, $X299='P&L'!$G$6), $AR299, 0)","v":0},0,{"$f":"IF(AND($A299<'P&L'!$P$8, $X299='P&L'!$G$6), $AT299, 0)","v":0}," "," "," "]
[null,null,null,null,null,null,null,null,null,null,null,null,null,null,null,null,null,null,null,null,null,null,"Jan-00",1900,{"$f":"IF(AND($A300<'P&L'!$P$8, YEAR($A300)=Master!$C$6), $K300, 0)","v":0},0,{"$f":"IF(AND(NOT(ISBLANK($O300)), $O300<'P&L'!$P$8), Z300, 0)","v":0},{"$f":"IF(OR(ISBLANK($O300), $O300>'BankRec Main Acct'!$E$8), Z300, 0)","v":0},0,{"$f":"IF(AND(NOT(ISBLANK($O300)), $O300<'P&L'!$P$8), AC300, 0)","v":0},{"$f":"IF(OR(ISBLANK($O300), $O300>'BankRec Main Acct'!$E$8), AC300, 0)","v":0},0,{"$f":"IF(AND(NOT(ISBLANK($S300)), $S300<'P&L'!$P$8), AF300, 0)","v":0},{"$f":"IF(OR(ISBLANK($S300), $S300>'BankRec Main Acct'!$E$8), AF300, 0)","v":0},0,{"$f":"IF(AND(NOT(ISBLANK($S300)), $S300<'P&L'!$P$8), AI300, 0)","v":0},{"$f":"IF(OR(ISBLANK($S300), $S300>'BankRec Main Acct'!$E$8), AI300, 0)","v":0},0,{"$f":"IF(AND(NOT(ISBLANK($U300)), $U300<'P&L'!$P$8), $AL300, 0)","v":0},{"$f":"IF(OR(ISBLANK($U300), $U300>'DebitCard Rec '!$E$8), $AL300, 0)","v":0},0,{"$f":"IF(AND(NOT(ISBLANK($U300)), $U300<'P&L'!$P$8), $AO300, 0)","v":0},{"$f":"IF(OR(ISBLANK($U300), $U300>'DebitCard Rec '!$E$8), $AO300, 0)","v":0},0,{"$f":"IF(AND($A300<'P&L'!$P$8, $X300='P&L'!$G$6), $AR300, 0)","v":0},0,{"$f":"IF(AND($A300<'P&L'!$P$8, $X300='P&L'!$G$6), $AT300, 0)","v":0}," "," "," "]
[null,null,null,null,null,null,null,null,null,null,null,null,null,null,null,null,null,null,null,null,null,null,"Jan-00",1900,{"$f":"IF(AND($A301<'P&L'!$P$8, YEAR($A301)=Master!$C$6), $K301, 0)","v":0},0,{"$f":"IF(AND(NOT(ISBLANK($O301)), $O301<'P&L'!$P$8), Z301, 0)","v":0},{"$f":"IF(OR(ISBLANK($O301), $O301>'BankRec Main Acct'!$E$8), Z301, 0)","v":0},0,{"$f":"IF(AND(NOT(ISBLANK($O301)), $O301<'P&L'!$P$8), AC301, 0)","v":0},{"$f":"IF(OR(ISBLANK($O301), $O301>'BankRec Main Acct'!$E$8), AC301, 0)","v":0},0,{"$f":"IF(AND(NOT(ISBLANK($S301)), $S301<'P&L'!$P$8), AF301, 0)","v":0},{"$f":"IF(OR(ISBLANK($S301), $S301>'BankRec Main Acct'!$E$8), AF301, 0)","v":0},0,{"$f":"IF(AND(NOT(ISBLANK($S301)), $S301<'P&L'!$P$8), AI301, 0)","v":0},{"$f":"IF(OR(ISBLANK($S301), $S301>'BankRec Main Acct'!$E$8), AI301, 0)","v":0},0,{"$f":"IF(AND(NOT(ISBLANK($U301)), $U301<'P&L'!$P$8), $AL301, 0)","v":0},{"$f":"IF(OR(ISBLANK($U301), $U301>'DebitCard Rec '!$E$8), $AL301, 0)","v":0},0,{"$f":"IF(AND(NOT(ISBLANK($U301)), $U301<'P&L'!$P$8), $AO301, 0)","v":0},{"$f":"IF(OR(ISBLANK($U301), $U301>'DebitCard Rec '!$E$8), $AO301, 0)","v":0},0,{"$f":"IF(AND($A301<'P&L'!$P$8, $X301='P&L'!$G$6), $AR301, 0)","v":0},0,{"$f":"IF(AND($A301<'P&L'!$P$8, $X301='P&L'!$G$6), $AT301, 0)","v":0}," "," "," "]
[null,null,null,null,null,null,null,null,null,null,null,null,null,null,null,null,null,null,null,null,null,null,"Jan-00",1900,{"$f":"IF(AND($A302<'P&L'!$P$8, YEAR($A302)=Master!$C$6), $K302, 0)","v":0},0,{"$f":"IF(AND(NOT(ISBLANK($O302)), $O302<'P&L'!$P$8), Z302, 0)","v":0},{"$f":"IF(OR(ISBLANK($O302), $O302>'BankRec Main Acct'!$E$8), Z302, 0)","v":0},0,{"$f":"IF(AND(NOT(ISBLANK($O302)), $O302<'P&L'!$P$8), AC302, 0)","v":0},{"$f":"IF(OR(ISBLANK($O302), $O302>'BankRec Main Acct'!$E$8), AC302, 0)","v":0},0,{"$f":"IF(AND(NOT(ISBLANK($S302)), $S302<'P&L'!$P$8), AF302, 0)","v":0},{"$f":"IF(OR(ISBLANK($S302), $S302>'BankRec Main Acct'!$E$8), AF302, 0)","v":0},0,{"$f":"IF(AND(NOT(ISBLANK($S302)), $S302<'P&L'!$P$8), AI302, 0)","v":0},{"$f":"IF(OR(ISBLANK($S302), $S302>'BankRec Main Acct'!$E$8), AI302, 0)","v":0},0,{"$f":"IF(AND(NOT(ISBLANK($U302)), $U302<'P&L'!$P$8), $AL302, 0)","v":0},{"$f":"IF(OR(ISBLANK($U302), $U302>'DebitCard Rec '!$E$8), $AL302, 0)","v":0},0,{"$f":"IF(AND(NOT(ISBLANK($U302)), $U302<'P&L'!$P$8), $AO302, 0)","v":0},{"$f":"IF(OR(ISBLANK($U302), $U302>'DebitCard Rec '!$E$8), $AO302, 0)","v":0},0,{"$f":"IF(AND($A302<'P&L'!$P$8, $X302='P&L'!$G$6), $AR302, 0)","v":0},0,{"$f":"IF(AND($A302<'P&L'!$P$8, $X302='P&L'!$G$6), $AT302, 0)","v":0}," "," "," "]
[null,null,null,null,null,null,null,null,null,null,null,null,null,null,null,null,null,null,null,null,null,null,"Jan-00",1900,{"$f":"IF(AND($A303<'P&L'!$P$8, YEAR($A303)=Master!$C$6), $K303, 0)","v":0},0,{"$f":"IF(AND(NOT(ISBLANK($O303)), $O303<'P&L'!$P$8), Z303, 0)","v":0},{"$f":"IF(OR(ISBLANK($O303), $O303>'BankRec Main Acct'!$E$8), Z303, 0)","v":0},0,{"$f":"IF(AND(NOT(ISBLANK($O303)), $O303<'P&L'!$P$8), AC303, 0)","v":0},{"$f":"IF(OR(ISBLANK($O303), $O303>'BankRec Main Acct'!$E$8), AC303, 0)","v":0},0,{"$f":"IF(AND(NOT(ISBLANK($S303)), $S303<'P&L'!$P$8), AF303, 0)","v":0},{"$f":"IF(OR(ISBLANK($S303), $S303>'BankRec Main Acct'!$E$8), AF303, 0)","v":0},0,{"$f":"IF(AND(NOT(ISBLANK($S303)), $S303<'P&L'!$P$8), AI303, 0)","v":0},{"$f":"IF(OR(ISBLANK($S303), $S303>'BankRec Main Acct'!$E$8), AI303, 0)","v":0},0,{"$f":"IF(AND(NOT(ISBLANK($U303)), $U303<'P&L'!$P$8), $AL303, 0)","v":0},{"$f":"IF(OR(ISBLANK($U303), $U303>'DebitCard Rec '!$E$8), $AL303, 0)","v":0},0,{"$f":"IF(AND(NOT(ISBLANK($U303)), $U303<'P&L'!$P$8), $AO303, 0)","v":0},{"$f":"IF(OR(ISBLANK($U303), $U303>'DebitCard Rec '!$E$8), $AO303, 0)","v":0},0,{"$f":"IF(AND($A303<'P&L'!$P$8, $X303='P&L'!$G$6), $AR303, 0)","v":0},0,{"$f":"IF(AND($A303<'P&L'!$P$8, $X303='P&L'!$G$6), $AT303, 0)","v":0}," "," "," "]
[null,null,null,null,null,null,null,null,null,null,null,null,null,null,null,null,null,null,null,null,null,null,"Jan-00",1900,{"$f":"IF(AND($A304<'P&L'!$P$8, YEAR($A304)=Master!$C$6), $K304, 0)","v":0},0,{"$f":"IF(AND(NOT(ISBLANK($O304)), $O304<'P&L'!$P$8), Z304, 0)","v":0},{"$f":"IF(OR(ISBLANK($O304), $O304>'BankRec Main Acct'!$E$8), Z304, 0)","v":0},0,{"$f":"IF(AND(NOT(ISBLANK($O304)), $O304<'P&L'!$P$8), AC304, 0)","v":0},{"$f":"IF(OR(ISBLANK($O304), $O304>'BankRec Main Acct'!$E$8), AC304, 0)","v":0},0,{"$f":"IF(AND(NOT(ISBLANK($S304)), $S304<'P&L'!$P$8), AF304, 0)","v":0},{"$f":"IF(OR(ISBLANK($S304), $S304>'BankRec Main Acct'!$E$8), AF304, 0)","v":0},0,{"$f":"IF(AND(NOT(ISBLANK($S304)), $S304<'P&L'!$P$8), AI304, 0)","v":0},{"$f":"IF(OR(ISBLANK($S304), $S304>'BankRec Main Acct'!$E$8), AI304, 0)","v":0},0,{"$f":"IF(AND(NOT(ISBLANK($U304)), $U304<'P&L'!$P$8), $AL304, 0)","v":0},{"$f":"IF(OR(ISBLANK($U304), $U304>'DebitCard Rec '!$E$8), $AL304, 0)","v":0},0,{"$f":"IF(AND(NOT(ISBLANK($U304)), $U304<'P&L'!$P$8), $AO304, 0)","v":0},{"$f":"IF(OR(ISBLANK($U304), $U304>'DebitCard Rec '!$E$8), $AO304, 0)","v":0},0,{"$f":"IF(AND($A304<'P&L'!$P$8, $X304='P&L'!$G$6), $AR304, 0)","v":0},0,{"$f":"IF(AND($A304<'P&L'!$P$8, $X304='P&L'!$G$6), $AT304, 0)","v":0}," "," "," "]
[null,null,null,null,null,null,null,null,null,null,null,null,null,null,null,null,null,null,null,null,null,null,"Jan-00",1900,{"$f":"IF(AND($A305<'P&L'!$P$8, YEAR($A305)=Master!$C$6), $K305, 0)","v":0},0,{"$f":"IF(AND(NOT(ISBLANK($O305)), $O305<'P&L'!$P$8), Z305, 0)","v":0},{"$f":"IF(OR(ISBLANK($O305), $O305>'BankRec Main Acct'!$E$8), Z305, 0)","v":0},0,{"$f":"IF(AND(NOT(ISBLANK($O305)), $O305<'P&L'!$P$8), AC305, 0)","v":0},{"$f":"IF(OR(ISBLANK($O305), $O305>'BankRec Main Acct'!$E$8), AC305, 0)","v":0},0,{"$f":"IF(AND(NOT(ISBLANK($S305)), $S305<'P&L'!$P$8), AF305, 0)","v":0},{"$f":"IF(OR(ISBLANK($S305), $S305>'BankRec Main Acct'!$E$8), AF305, 0)","v":0},0,{"$f":"IF(AND(NOT(ISBLANK($S305)), $S305<'P&L'!$P$8), AI305, 0)","v":0},{"$f":"IF(OR(ISBLANK($S305), $S305>'BankRec Main Acct'!$E$8), AI305, 0)","v":0},0,{"$f":"IF(AND(NOT(ISBLANK($U305)), $U305<'P&L'!$P$8), $AL305, 0)","v":0},{"$f":"IF(OR(ISBLANK($U305), $U305>'DebitCard Rec '!$E$8), $AL305, 0)","v":0},0,{"$f":"IF(AND(NOT(ISBLANK($U305)), $U305<'P&L'!$P$8), $AO305, 0)","v":0},{"$f":"IF(OR(ISBLANK($U305), $U305>'DebitCard Rec '!$E$8), $AO305, 0)","v":0},0,{"$f":"IF(AND($A305<'P&L'!$P$8, $X305='P&L'!$G$6), $AR305, 0)","v":0},0,{"$f":"IF(AND($A305<'P&L'!$P$8, $X305='P&L'!$G$6), $AT305, 0)","v":0}," "," "," "]
[null,null,null,null,null,null,null,null,null,null,null,null,null,null,null,null,null,null,null,null,null,null,"Jan-00",1900,{"$f":"IF(AND($A306<'P&L'!$P$8, YEAR($A306)=Master!$C$6), $K306, 0)","v":0},0,{"$f":"IF(AND(NOT(ISBLANK($O306)), $O306<'P&L'!$P$8), Z306, 0)","v":0},{"$f":"IF(OR(ISBLANK($O306), $O306>'BankRec Main Acct'!$E$8), Z306, 0)","v":0},0,{"$f":"IF(AND(NOT(ISBLANK($O306)), $O306<'P&L'!$P$8), AC306, 0)","v":0},{"$f":"IF(OR(ISBLANK($O306), $O306>'BankRec Main Acct'!$E$8), AC306, 0)","v":0},0,{"$f":"IF(AND(NOT(ISBLANK($S306)), $S306<'P&L'!$P$8), AF306, 0)","v":0},{"$f":"IF(OR(ISBLANK($S306), $S306>'BankRec Main Acct'!$E$8), AF306, 0)","v":0},0,{"$f":"IF(AND(NOT(ISBLANK($S306)), $S306<'P&L'!$P$8), AI306, 0)","v":0},{"$f":"IF(OR(ISBLANK($S306), $S306>'BankRec Main Acct'!$E$8), AI306, 0)","v":0},0,{"$f":"IF(AND(NOT(ISBLANK($U306)), $U306<'P&L'!$P$8), $AL306, 0)","v":0},{"$f":"IF(OR(ISBLANK($U306), $U306>'DebitCard Rec '!$E$8), $AL306, 0)","v":0},0,{"$f":"IF(AND(NOT(ISBLANK($U306)), $U306<'P&L'!$P$8), $AO306, 0)","v":0},{"$f":"IF(OR(ISBLANK($U306), $U306>'DebitCard Rec '!$E$8), $AO306, 0)","v":0},0,{"$f":"IF(AND($A306<'P&L'!$P$8, $X306='P&L'!$G$6), $AR306, 0)","v":0},0,{"$f":"IF(AND($A306<'P&L'!$P$8, $X306='P&L'!$G$6), $AT306, 0)","v":0}," "," "," "]
[null,null,null,null,null,null,null,null,null,null,null,null,null,null,null,null,null,null,null,null,null,null,"Jan-00",1900,{"$f":"IF(AND($A307<'P&L'!$P$8, YEAR($A307)=Master!$C$6), $K307, 0)","v":0},0,{"$f":"IF(AND(NOT(ISBLANK($O307)), $O307<'P&L'!$P$8), Z307, 0)","v":0},{"$f":"IF(OR(ISBLANK($O307), $O307>'BankRec Main Acct'!$E$8), Z307, 0)","v":0},0,{"$f":"IF(AND(NOT(ISBLANK($O307)), $O307<'P&L'!$P$8), AC307, 0)","v":0},{"$f":"IF(OR(ISBLANK($O307), $O307>'BankRec Main Acct'!$E$8), AC307, 0)","v":0},0,{"$f":"IF(AND(NOT(ISBLANK($S307)), $S307<'P&L'!$P$8), AF307, 0)","v":0},{"$f":"IF(OR(ISBLANK($S307), $S307>'BankRec Main Acct'!$E$8), AF307, 0)","v":0},0,{"$f":"IF(AND(NOT(ISBLANK($S307)), $S307<'P&L'!$P$8), AI307, 0)","v":0},{"$f":"IF(OR(ISBLANK($S307), $S307>'BankRec Main Acct'!$E$8), AI307, 0)","v":0},0,{"$f":"IF(AND(NOT(ISBLANK($U307)), $U307<'P&L'!$P$8), $AL307, 0)","v":0},{"$f":"IF(OR(ISBLANK($U307), $U307>'DebitCard Rec '!$E$8), $AL307, 0)","v":0},0,{"$f":"IF(AND(NOT(ISBLANK($U307)), $U307<'P&L'!$P$8), $AO307, 0)","v":0},{"$f":"IF(OR(ISBLANK($U307), $U307>'DebitCard Rec '!$E$8), $AO307, 0)","v":0},0,{"$f":"IF(AND($A307<'P&L'!$P$8, $X307='P&L'!$G$6), $AR307, 0)","v":0},0,{"$f":"IF(AND($A307<'P&L'!$P$8, $X307='P&L'!$G$6), $AT307, 0)","v":0}," "," "," "]
[null,null,null,null,null,null,null,null,null,null,null,null,null,null,null,null,null,null,null,null,null,null,"Jan-00",1900,{"$f":"IF(AND($A308<'P&L'!$P$8, YEAR($A308)=Master!$C$6), $K308, 0)","v":0},0,{"$f":"IF(AND(NOT(ISBLANK($O308)), $O308<'P&L'!$P$8), Z308, 0)","v":0},{"$f":"IF(OR(ISBLANK($O308), $O308>'BankRec Main Acct'!$E$8), Z308, 0)","v":0},0,{"$f":"IF(AND(NOT(ISBLANK($O308)), $O308<'P&L'!$P$8), AC308, 0)","v":0},{"$f":"IF(OR(ISBLANK($O308), $O308>'BankRec Main Acct'!$E$8), AC308, 0)","v":0},0,{"$f":"IF(AND(NOT(ISBLANK($S308)), $S308<'P&L'!$P$8), AF308, 0)","v":0},{"$f":"IF(OR(ISBLANK($S308), $S308>'BankRec Main Acct'!$E$8), AF308, 0)","v":0},0,{"$f":"IF(AND(NOT(ISBLANK($S308)), $S308<'P&L'!$P$8), AI308, 0)","v":0},{"$f":"IF(OR(ISBLANK($S308), $S308>'BankRec Main Acct'!$E$8), AI308, 0)","v":0},0,{"$f":"IF(AND(NOT(ISBLANK($U308)), $U308<'P&L'!$P$8), $AL308, 0)","v":0},{"$f":"IF(OR(ISBLANK($U308), $U308>'DebitCard Rec '!$E$8), $AL308, 0)","v":0},0,{"$f":"IF(AND(NOT(ISBLANK($U308)), $U308<'P&L'!$P$8), $AO308, 0)","v":0},{"$f":"IF(OR(ISBLANK($U308), $U308>'DebitCard Rec '!$E$8), $AO308, 0)","v":0},0,{"$f":"IF(AND($A308<'P&L'!$P$8, $X308='P&L'!$G$6), $AR308, 0)","v":0},0,{"$f":"IF(AND($A308<'P&L'!$P$8, $X308='P&L'!$G$6), $AT308, 0)","v":0}," "," "," "]
[null,null,null,null,null,null,null,null,null,null,null,null,null,null,null,null,null,null,null,null,null,null,"Jan-00",1900,{"$f":"IF(AND($A309<'P&L'!$P$8, YEAR($A309)=Master!$C$6), $K309, 0)","v":0},0,{"$f":"IF(AND(NOT(ISBLANK($O309)), $O309<'P&L'!$P$8), Z309, 0)","v":0},{"$f":"IF(OR(ISBLANK($O309), $O309>'BankRec Main Acct'!$E$8), Z309, 0)","v":0},0,{"$f":"IF(AND(NOT(ISBLANK($O309)), $O309<'P&L'!$P$8), AC309, 0)","v":0},{"$f":"IF(OR(ISBLANK($O309), $O309>'BankRec Main Acct'!$E$8), AC309, 0)","v":0},0,{"$f":"IF(AND(NOT(ISBLANK($S309)), $S309<'P&L'!$P$8), AF309, 0)","v":0},{"$f":"IF(OR(ISBLANK($S309), $S309>'BankRec Main Acct'!$E$8), AF309, 0)","v":0},0,{"$f":"IF(AND(NOT(ISBLANK($S309)), $S309<'P&L'!$P$8), AI309, 0)","v":0},{"$f":"IF(OR(ISBLANK($S309), $S309>'BankRec Main Acct'!$E$8), AI309, 0)","v":0},0,{"$f":"IF(AND(NOT(ISBLANK($U309)), $U309<'P&L'!$P$8), $AL309, 0)","v":0},{"$f":"IF(OR(ISBLANK($U309), $U309>'DebitCard Rec '!$E$8), $AL309, 0)","v":0},0,{"$f":"IF(AND(NOT(ISBLANK($U309)), $U309<'P&L'!$P$8), $AO309, 0)","v":0},{"$f":"IF(OR(ISBLANK($U309), $U309>'DebitCard Rec '!$E$8), $AO309, 0)","v":0},0,{"$f":"IF(AND($A309<'P&L'!$P$8, $X309='P&L'!$G$6), $AR309, 0)","v":0},0,{"$f":"IF(AND($A309<'P&L'!$P$8, $X309='P&L'!$G$6), $AT309, 0)","v":0}," "," "," "]
[null,null,null,null,null,null,null,null,null,null,null,null,null,null,null,null,null,null,null,null,null,null,"Jan-00",1900,{"$f":"IF(AND($A310<'P&L'!$P$8, YEAR($A310)=Master!$C$6), $K310, 0)","v":0},0,{"$f":"IF(AND(NOT(ISBLANK($O310)), $O310<'P&L'!$P$8), Z310, 0)","v":0},{"$f":"IF(OR(ISBLANK($O310), $O310>'BankRec Main Acct'!$E$8), Z310, 0)","v":0},0,{"$f":"IF(AND(NOT(ISBLANK($O310)), $O310<'P&L'!$P$8), AC310, 0)","v":0},{"$f":"IF(OR(ISBLANK($O310), $O310>'BankRec Main Acct'!$E$8), AC310, 0)","v":0},0,{"$f":"IF(AND(NOT(ISBLANK($S310)), $S310<'P&L'!$P$8), AF310, 0)","v":0},{"$f":"IF(OR(ISBLANK($S310), $S310>'BankRec Main Acct'!$E$8), AF310, 0)","v":0},0,{"$f":"IF(AND(NOT(ISBLANK($S310)), $S310<'P&L'!$P$8), AI310, 0)","v":0},{"$f":"IF(OR(ISBLANK($S310), $S310>'BankRec Main Acct'!$E$8), AI310, 0)","v":0},0,{"$f":"IF(AND(NOT(ISBLANK($U310)), $U310<'P&L'!$P$8), $AL310, 0)","v":0},{"$f":"IF(OR(ISBLANK($U310), $U310>'DebitCard Rec '!$E$8), $AL310, 0)","v":0},0,{"$f":"IF(AND(NOT(ISBLANK($U310)), $U310<'P&L'!$P$8), $AO310, 0)","v":0},{"$f":"IF(OR(ISBLANK($U310), $U310>'DebitCard Rec '!$E$8), $AO310, 0)","v":0},0,{"$f":"IF(AND($A310<'P&L'!$P$8, $X310='P&L'!$G$6), $AR310, 0)","v":0},0,{"$f":"IF(AND($A310<'P&L'!$P$8, $X310='P&L'!$G$6), $AT310, 0)","v":0}," "," "," "]
[null,null,null,null,null,null,null,null,null,null,null,null,null,null,null,null,null,null,null,null,null,null,"Jan-00",1900,{"$f":"IF(AND($A311<'P&L'!$P$8, YEAR($A311)=Master!$C$6), $K311, 0)","v":0},0,{"$f":"IF(AND(NOT(ISBLANK($O311)), $O311<'P&L'!$P$8), Z311, 0)","v":0},{"$f":"IF(OR(ISBLANK($O311), $O311>'BankRec Main Acct'!$E$8), Z311, 0)","v":0},0,{"$f":"IF(AND(NOT(ISBLANK($O311)), $O311<'P&L'!$P$8), AC311, 0)","v":0},{"$f":"IF(OR(ISBLANK($O311), $O311>'BankRec Main Acct'!$E$8), AC311, 0)","v":0},0,{"$f":"IF(AND(NOT(ISBLANK($S311)), $S311<'P&L'!$P$8), AF311, 0)","v":0},{"$f":"IF(OR(ISBLANK($S311), $S311>'BankRec Main Acct'!$E$8), AF311, 0)","v":0},0,{"$f":"IF(AND(NOT(ISBLANK($S311)), $S311<'P&L'!$P$8), AI311, 0)","v":0},{"$f":"IF(OR(ISBLANK($S311), $S311>'BankRec Main Acct'!$E$8), AI311, 0)","v":0},0,{"$f":"IF(AND(NOT(ISBLANK($U311)), $U311<'P&L'!$P$8), $AL311, 0)","v":0},{"$f":"IF(OR(ISBLANK($U311), $U311>'DebitCard Rec '!$E$8), $AL311, 0)","v":0},0,{"$f":"IF(AND(NOT(ISBLANK($U311)), $U311<'P&L'!$P$8), $AO311, 0)","v":0},{"$f":"IF(OR(ISBLANK($U311), $U311>'DebitCard Rec '!$E$8), $AO311, 0)","v":0},0,{"$f":"IF(AND($A311<'P&L'!$P$8, $X311='P&L'!$G$6), $AR311, 0)","v":0},0,{"$f":"IF(AND($A311<'P&L'!$P$8, $X311='P&L'!$G$6), $AT311, 0)","v":0}," "," "," "]
[null,null,null,null,null,null,null,null,null,null,null,null,null,null,null,null,null,null,null,null,null,null,"Jan-00",1900,{"$f":"IF(AND($A312<'P&L'!$P$8, YEAR($A312)=Master!$C$6), $K312, 0)","v":0},0,{"$f":"IF(AND(NOT(ISBLANK($O312)), $O312<'P&L'!$P$8), Z312, 0)","v":0},{"$f":"IF(OR(ISBLANK($O312), $O312>'BankRec Main Acct'!$E$8), Z312, 0)","v":0},0,{"$f":"IF(AND(NOT(ISBLANK($O312)), $O312<'P&L'!$P$8), AC312, 0)","v":0},{"$f":"IF(OR(ISBLANK($O312), $O312>'BankRec Main Acct'!$E$8), AC312, 0)","v":0},0,{"$f":"IF(AND(NOT(ISBLANK($S312)), $S312<'P&L'!$P$8), AF312, 0)","v":0},{"$f":"IF(OR(ISBLANK($S312), $S312>'BankRec Main Acct'!$E$8), AF312, 0)","v":0},0,{"$f":"IF(AND(NOT(ISBLANK($S312)), $S312<'P&L'!$P$8), AI312, 0)","v":0},{"$f":"IF(OR(ISBLANK($S312), $S312>'BankRec Main Acct'!$E$8), AI312, 0)","v":0},0,{"$f":"IF(AND(NOT(ISBLANK($U312)), $U312<'P&L'!$P$8), $AL312, 0)","v":0},{"$f":"IF(OR(ISBLANK($U312), $U312>'DebitCard Rec '!$E$8), $AL312, 0)","v":0},0,{"$f":"IF(AND(NOT(ISBLANK($U312)), $U312<'P&L'!$P$8), $AO312, 0)","v":0},{"$f":"IF(OR(ISBLANK($U312), $U312>'DebitCard Rec '!$E$8), $AO312, 0)","v":0},0,{"$f":"IF(AND($A312<'P&L'!$P$8, $X312='P&L'!$G$6), $AR312, 0)","v":0},0,{"$f":"IF(AND($A312<'P&L'!$P$8, $X312='P&L'!$G$6), $AT312, 0)","v":0}," "," "," "]
[null,null,null,null,null,null,null,null,null,null,null,null,null,null,null,null,null,null,null,null,null,null,"Jan-00",1900,{"$f":"IF(AND($A313<'P&L'!$P$8, YEAR($A313)=Master!$C$6), $K313, 0)","v":0},0,{"$f":"IF(AND(NOT(ISBLANK($O313)), $O313<'P&L'!$P$8), Z313, 0)","v":0},{"$f":"IF(OR(ISBLANK($O313), $O313>'BankRec Main Acct'!$E$8), Z313, 0)","v":0},0,{"$f":"IF(AND(NOT(ISBLANK($O313)), $O313<'P&L'!$P$8), AC313, 0)","v":0},{"$f":"IF(OR(ISBLANK($O313), $O313>'BankRec Main Acct'!$E$8), AC313, 0)","v":0},0,{"$f":"IF(AND(NOT(ISBLANK($S313)), $S313<'P&L'!$P$8), AF313, 0)","v":0},{"$f":"IF(OR(ISBLANK($S313), $S313>'BankRec Main Acct'!$E$8), AF313, 0)","v":0},0,{"$f":"IF(AND(NOT(ISBLANK($S313)), $S313<'P&L'!$P$8), AI313, 0)","v":0},{"$f":"IF(OR(ISBLANK($S313), $S313>'BankRec Main Acct'!$E$8), AI313, 0)","v":0},0,{"$f":"IF(AND(NOT(ISBLANK($U313)), $U313<'P&L'!$P$8), $AL313, 0)","v":0},{"$f":"IF(OR(ISBLANK($U313), $U313>'DebitCard Rec '!$E$8), $AL313, 0)","v":0},0,{"$f":"IF(AND(NOT(ISBLANK($U313)), $U313<'P&L'!$P$8), $AO313, 0)","v":0},{"$f":"IF(OR(ISBLANK($U313), $U313>'DebitCard Rec '!$E$8), $AO313, 0)","v":0},0,{"$f":"IF(AND($A313<'P&L'!$P$8, $X313='P&L'!$G$6), $AR313, 0)","v":0},0,{"$f":"IF(AND($A313<'P&L'!$P$8, $X313='P&L'!$G$6), $AT313, 0)","v":0}," "," "," "]
[null,null,null,null,null,null,null,null,null,null,null,null,null,null,null,null,null,null,null,null,null,null,"Jan-00",1900,{"$f":"IF(AND($A314<'P&L'!$P$8, YEAR($A314)=Master!$C$6), $K314, 0)","v":0},0,{"$f":"IF(AND(NOT(ISBLANK($O314)), $O314<'P&L'!$P$8), Z314, 0)","v":0},{"$f":"IF(OR(ISBLANK($O314), $O314>'BankRec Main Acct'!$E$8), Z314, 0)","v":0},0,{"$f":"IF(AND(NOT(ISBLANK($O314)), $O314<'P&L'!$P$8), AC314, 0)","v":0},{"$f":"IF(OR(ISBLANK($O314), $O314>'BankRec Main Acct'!$E$8), AC314, 0)","v":0},0,{"$f":"IF(AND(NOT(ISBLANK($S314)), $S314<'P&L'!$P$8), AF314, 0)","v":0},{"$f":"IF(OR(ISBLANK($S314), $S314>'BankRec Main Acct'!$E$8), AF314, 0)","v":0},0,{"$f":"IF(AND(NOT(ISBLANK($S314)), $S314<'P&L'!$P$8), AI314, 0)","v":0},{"$f":"IF(OR(ISBLANK($S314), $S314>'BankRec Main Acct'!$E$8), AI314, 0)","v":0},0,{"$f":"IF(AND(NOT(ISBLANK($U314)), $U314<'P&L'!$P$8), $AL314, 0)","v":0},{"$f":"IF(OR(ISBLANK($U314), $U314>'DebitCard Rec '!$E$8), $AL314, 0)","v":0},0,{"$f":"IF(AND(NOT(ISBLANK($U314)), $U314<'P&L'!$P$8), $AO314, 0)","v":0},{"$f":"IF(OR(ISBLANK($U314), $U314>'DebitCard Rec '!$E$8), $AO314, 0)","v":0},0,{"$f":"IF(AND($A314<'P&L'!$P$8, $X314='P&L'!$G$6), $AR314, 0)","v":0},0,{"$f":"IF(AND($A314<'P&L'!$P$8, $X314='P&L'!$G$6), $AT314, 0)","v":0}," "," "," "]
[null,null,null,null,null,null,null,null,null,null,null,null,null,null,null,null,null,null,null,null,null,null,"Jan-00",1900,{"$f":"IF(AND($A315<'P&L'!$P$8, YEAR($A315)=Master!$C$6), $K315, 0)","v":0},0,{"$f":"IF(AND(NOT(ISBLANK($O315)), $O315<'P&L'!$P$8), Z315, 0)","v":0},{"$f":"IF(OR(ISBLANK($O315), $O315>'BankRec Main Acct'!$E$8), Z315, 0)","v":0},0,{"$f":"IF(AND(NOT(ISBLANK($O315)), $O315<'P&L'!$P$8), AC315, 0)","v":0},{"$f":"IF(OR(ISBLANK($O315), $O315>'BankRec Main Acct'!$E$8), AC315, 0)","v":0},0,{"$f":"IF(AND(NOT(ISBLANK($S315)), $S315<'P&L'!$P$8), AF315, 0)","v":0},{"$f":"IF(OR(ISBLANK($S315), $S315>'BankRec Main Acct'!$E$8), AF315, 0)","v":0},0,{"$f":"IF(AND(NOT(ISBLANK($S315)), $S315<'P&L'!$P$8), AI315, 0)","v":0},{"$f":"IF(OR(ISBLANK($S315), $S315>'BankRec Main Acct'!$E$8), AI315, 0)","v":0},0,{"$f":"IF(AND(NOT(ISBLANK($U315)), $U315<'P&L'!$P$8), $AL315, 0)","v":0},{"$f":"IF(OR(ISBLANK($U315), $U315>'DebitCard Rec '!$E$8), $AL315, 0)","v":0},0,{"$f":"IF(AND(NOT(ISBLANK($U315)), $U315<'P&L'!$P$8), $AO315, 0)","v":0},{"$f":"IF(OR(ISBLANK($U315), $U315>'DebitCard Rec '!$E$8), $AO315, 0)","v":0},0,{"$f":"IF(AND($A315<'P&L'!$P$8, $X315='P&L'!$G$6), $AR315, 0)","v":0},0,{"$f":"IF(AND($A315<'P&L'!$P$8, $X315='P&L'!$G$6), $AT315, 0)","v":0}," "," "," "]
[null,null,null,null,null,null,null,null,null,null,null,null,null,null,null,null,null,null,null,null,null,null,"Jan-00",1900,{"$f":"IF(AND($A316<'P&L'!$P$8, YEAR($A316)=Master!$C$6), $K316, 0)","v":0},0,{"$f":"IF(AND(NOT(ISBLANK($O316)), $O316<'P&L'!$P$8), Z316, 0)","v":0},{"$f":"IF(OR(ISBLANK($O316), $O316>'BankRec Main Acct'!$E$8), Z316, 0)","v":0},0,{"$f":"IF(AND(NOT(ISBLANK($O316)), $O316<'P&L'!$P$8), AC316, 0)","v":0},{"$f":"IF(OR(ISBLANK($O316), $O316>'BankRec Main Acct'!$E$8), AC316, 0)","v":0},0,{"$f":"IF(AND(NOT(ISBLANK($S316)), $S316<'P&L'!$P$8), AF316, 0)","v":0},{"$f":"IF(OR(ISBLANK($S316), $S316>'BankRec Main Acct'!$E$8), AF316, 0)","v":0},0,{"$f":"IF(AND(NOT(ISBLANK($S316)), $S316<'P&L'!$P$8), AI316, 0)","v":0},{"$f":"IF(OR(ISBLANK($S316), $S316>'BankRec Main Acct'!$E$8), AI316, 0)","v":0},0,{"$f":"IF(AND(NOT(ISBLANK($U316)), $U316<'P&L'!$P$8), $AL316, 0)","v":0},{"$f":"IF(OR(ISBLANK($U316), $U316>'DebitCard Rec '!$E$8), $AL316, 0)","v":0},0,{"$f":"IF(AND(NOT(ISBLANK($U316)), $U316<'P&L'!$P$8), $AO316, 0)","v":0},{"$f":"IF(OR(ISBLANK($U316), $U316>'DebitCard Rec '!$E$8), $AO316, 0)","v":0},0,{"$f":"IF(AND($A316<'P&L'!$P$8, $X316='P&L'!$G$6), $AR316, 0)","v":0},0,{"$f":"IF(AND($A316<'P&L'!$P$8, $X316='P&L'!$G$6), $AT316, 0)","v":0}," "," "," "]
[null,null,null,null,null,null,null,null,null,null,null,null,null,null,null,null,null,null,null,null,null,null,"Jan-00",1900,{"$f":"IF(AND($A317<'P&L'!$P$8, YEAR($A317)=Master!$C$6), $K317, 0)","v":0},0,{"$f":"IF(AND(NOT(ISBLANK($O317)), $O317<'P&L'!$P$8), Z317, 0)","v":0},{"$f":"IF(OR(ISBLANK($O317), $O317>'BankRec Main Acct'!$E$8), Z317, 0)","v":0},0,{"$f":"IF(AND(NOT(ISBLANK($O317)), $O317<'P&L'!$P$8), AC317, 0)","v":0},{"$f":"IF(OR(ISBLANK($O317), $O317>'BankRec Main Acct'!$E$8), AC317, 0)","v":0},0,{"$f":"IF(AND(NOT(ISBLANK($S317)), $S317<'P&L'!$P$8), AF317, 0)","v":0},{"$f":"IF(OR(ISBLANK($S317), $S317>'BankRec Main Acct'!$E$8), AF317, 0)","v":0},0,{"$f":"IF(AND(NOT(ISBLANK($S317)), $S317<'P&L'!$P$8), AI317, 0)","v":0},{"$f":"IF(OR(ISBLANK($S317), $S317>'BankRec Main Acct'!$E$8), AI317, 0)","v":0},0,{"$f":"IF(AND(NOT(ISBLANK($U317)), $U317<'P&L'!$P$8), $AL317, 0)","v":0},{"$f":"IF(OR(ISBLANK($U317), $U317>'DebitCard Rec '!$E$8), $AL317, 0)","v":0},0,{"$f":"IF(AND(NOT(ISBLANK($U317)), $U317<'P&L'!$P$8), $AO317, 0)","v":0},{"$f":"IF(OR(ISBLANK($U317), $U317>'DebitCard Rec '!$E$8), $AO317, 0)","v":0},0,{"$f":"IF(AND($A317<'P&L'!$P$8, $X317='P&L'!$G$6), $AR317, 0)","v":0},0,{"$f":"IF(AND($A317<'P&L'!$P$8, $X317='P&L'!$G$6), $AT317, 0)","v":0}," "," "," "]
[null,null,null,null,null,null,null,null,null,null,null,null,null,null,null,null,null,null,null,null,null,null,"Jan-00",1900,{"$f":"IF(AND($A318<'P&L'!$P$8, YEAR($A318)=Master!$C$6), $K318, 0)","v":0},0,{"$f":"IF(AND(NOT(ISBLANK($O318)), $O318<'P&L'!$P$8), Z318, 0)","v":0},{"$f":"IF(OR(ISBLANK($O318), $O318>'BankRec Main Acct'!$E$8), Z318, 0)","v":0},0,{"$f":"IF(AND(NOT(ISBLANK($O318)), $O318<'P&L'!$P$8), AC318, 0)","v":0},{"$f":"IF(OR(ISBLANK($O318), $O318>'BankRec Main Acct'!$E$8), AC318, 0)","v":0},0,{"$f":"IF(AND(NOT(ISBLANK($S318)), $S318<'P&L'!$P$8), AF318, 0)","v":0},{"$f":"IF(OR(ISBLANK($S318), $S318>'BankRec Main Acct'!$E$8), AF318, 0)","v":0},0,{"$f":"IF(AND(NOT(ISBLANK($S318)), $S318<'P&L'!$P$8), AI318, 0)","v":0},{"$f":"IF(OR(ISBLANK($S318), $S318>'BankRec Main Acct'!$E$8), AI318, 0)","v":0},0,{"$f":"IF(AND(NOT(ISBLANK($U318)), $U318<'P&L'!$P$8), $AL318, 0)","v":0},{"$f":"IF(OR(ISBLANK($U318), $U318>'DebitCard Rec '!$E$8), $AL318, 0)","v":0},0,{"$f":"IF(AND(NOT(ISBLANK($U318)), $U318<'P&L'!$P$8), $AO318, 0)","v":0},{"$f":"IF(OR(ISBLANK($U318), $U318>'DebitCard Rec '!$E$8), $AO318, 0)","v":0},0,{"$f":"IF(AND($A318<'P&L'!$P$8, $X318='P&L'!$G$6), $AR318, 0)","v":0},0,{"$f":"IF(AND($A318<'P&L'!$P$8, $X318='P&L'!$G$6), $AT318, 0)","v":0}," "," "," "]
[null,null,null,null,null,null,null,null,null,null,null,null,null,null,null,null,null,null,null,null,null,null,"Jan-00",1900,{"$f":"IF(AND($A319<'P&L'!$P$8, YEAR($A319)=Master!$C$6), $K319, 0)","v":0},0,{"$f":"IF(AND(NOT(ISBLANK($O319)), $O319<'P&L'!$P$8), Z319, 0)","v":0},{"$f":"IF(OR(ISBLANK($O319), $O319>'BankRec Main Acct'!$E$8), Z319, 0)","v":0},0,{"$f":"IF(AND(NOT(ISBLANK($O319)), $O319<'P&L'!$P$8), AC319, 0)","v":0},{"$f":"IF(OR(ISBLANK($O319), $O319>'BankRec Main Acct'!$E$8), AC319, 0)","v":0},0,{"$f":"IF(AND(NOT(ISBLANK($S319)), $S319<'P&L'!$P$8), AF319, 0)","v":0},{"$f":"IF(OR(ISBLANK($S319), $S319>'BankRec Main Acct'!$E$8), AF319, 0)","v":0},0,{"$f":"IF(AND(NOT(ISBLANK($S319)), $S319<'P&L'!$P$8), AI319, 0)","v":0},{"$f":"IF(OR(ISBLANK($S319), $S319>'BankRec Main Acct'!$E$8), AI319, 0)","v":0},0,{"$f":"IF(AND(NOT(ISBLANK($U319)), $U319<'P&L'!$P$8), $AL319, 0)","v":0},{"$f":"IF(OR(ISBLANK($U319), $U319>'DebitCard Rec '!$E$8), $AL319, 0)","v":0},0,{"$f":"IF(AND(NOT(ISBLANK($U319)), $U319<'P&L'!$P$8), $AO319, 0)","v":0},{"$f":"IF(OR(ISBLANK($U319), $U319>'DebitCard Rec '!$E$8), $AO319, 0)","v":0},0,{"$f":"IF(AND($A319<'P&L'!$P$8, $X319='P&L'!$G$6), $AR319, 0)","v":0},0,{"$f":"IF(AND($A319<'P&L'!$P$8, $X319='P&L'!$G$6), $AT319, 0)","v":0}," "," "," "]
[null,null,null,null,null,null,null,null,null,null,null,null,null,null,null,null,null,null,null,null,null,null,"Jan-00",1900,{"$f":"IF(AND($A320<'P&L'!$P$8, YEAR($A320)=Master!$C$6), $K320, 0)","v":0},0,{"$f":"IF(AND(NOT(ISBLANK($O320)), $O320<'P&L'!$P$8), Z320, 0)","v":0},{"$f":"IF(OR(ISBLANK($O320), $O320>'BankRec Main Acct'!$E$8), Z320, 0)","v":0},0,{"$f":"IF(AND(NOT(ISBLANK($O320)), $O320<'P&L'!$P$8), AC320, 0)","v":0},{"$f":"IF(OR(ISBLANK($O320), $O320>'BankRec Main Acct'!$E$8), AC320, 0)","v":0},0,{"$f":"IF(AND(NOT(ISBLANK($S320)), $S320<'P&L'!$P$8), AF320, 0)","v":0},{"$f":"IF(OR(ISBLANK($S320), $S320>'BankRec Main Acct'!$E$8), AF320, 0)","v":0},0,{"$f":"IF(AND(NOT(ISBLANK($S320)), $S320<'P&L'!$P$8), AI320, 0)","v":0},{"$f":"IF(OR(ISBLANK($S320), $S320>'BankRec Main Acct'!$E$8), AI320, 0)","v":0},0,{"$f":"IF(AND(NOT(ISBLANK($U320)), $U320<'P&L'!$P$8), $AL320, 0)","v":0},{"$f":"IF(OR(ISBLANK($U320), $U320>'DebitCard Rec '!$E$8), $AL320, 0)","v":0},0,{"$f":"IF(AND(NOT(ISBLANK($U320)), $U320<'P&L'!$P$8), $AO320, 0)","v":0},{"$f":"IF(OR(ISBLANK($U320), $U320>'DebitCard Rec '!$E$8), $AO320, 0)","v":0},0,{"$f":"IF(AND($A320<'P&L'!$P$8, $X320='P&L'!$G$6), $AR320, 0)","v":0},0,{"$f":"IF(AND($A320<'P&L'!$P$8, $X320='P&L'!$G$6), $AT320, 0)","v":0}," "," "," "]
[null,null,null,null,null,null,null,null,null,null,null,null,null,null,null,null,null,null,null,null,null,null,"Jan-00",1900,{"$f":"IF(AND($A321<'P&L'!$P$8, YEAR($A321)=Master!$C$6), $K321, 0)","v":0},0,{"$f":"IF(AND(NOT(ISBLANK($O321)), $O321<'P&L'!$P$8), Z321, 0)","v":0},{"$f":"IF(OR(ISBLANK($O321), $O321>'BankRec Main Acct'!$E$8), Z321, 0)","v":0},0,{"$f":"IF(AND(NOT(ISBLANK($O321)), $O321<'P&L'!$P$8), AC321, 0)","v":0},{"$f":"IF(OR(ISBLANK($O321), $O321>'BankRec Main Acct'!$E$8), AC321, 0)","v":0},0,{"$f":"IF(AND(NOT(ISBLANK($S321)), $S321<'P&L'!$P$8), AF321, 0)","v":0},{"$f":"IF(OR(ISBLANK($S321), $S321>'BankRec Main Acct'!$E$8), AF321, 0)","v":0},0,{"$f":"IF(AND(NOT(ISBLANK($S321)), $S321<'P&L'!$P$8), AI321, 0)","v":0},{"$f":"IF(OR(ISBLANK($S321), $S321>'BankRec Main Acct'!$E$8), AI321, 0)","v":0},0,{"$f":"IF(AND(NOT(ISBLANK($U321)), $U321<'P&L'!$P$8), $AL321, 0)","v":0},{"$f":"IF(OR(ISBLANK($U321), $U321>'DebitCard Rec '!$E$8), $AL321, 0)","v":0},0,{"$f":"IF(AND(NOT(ISBLANK($U321)), $U321<'P&L'!$P$8), $AO321, 0)","v":0},{"$f":"IF(OR(ISBLANK($U321), $U321>'DebitCard Rec '!$E$8), $AO321, 0)","v":0},0,{"$f":"IF(AND($A321<'P&L'!$P$8, $X321='P&L'!$G$6), $AR321, 0)","v":0},0,{"$f":"IF(AND($A321<'P&L'!$P$8, $X321='P&L'!$G$6), $AT321, 0)","v":0}," "," "," "]
[null,null,null,null,null,null,null,null,null,null,null,null,null,null,null,null,null,null,null,null,null,null,"Jan-00",1900,{"$f":"IF(AND($A322<'P&L'!$P$8, YEAR($A322)=Master!$C$6), $K322, 0)","v":0},0,{"$f":"IF(AND(NOT(ISBLANK($O322)), $O322<'P&L'!$P$8), Z322, 0)","v":0},{"$f":"IF(OR(ISBLANK($O322), $O322>'BankRec Main Acct'!$E$8), Z322, 0)","v":0},0,{"$f":"IF(AND(NOT(ISBLANK($O322)), $O322<'P&L'!$P$8), AC322, 0)","v":0},{"$f":"IF(OR(ISBLANK($O322), $O322>'BankRec Main Acct'!$E$8), AC322, 0)","v":0},0,{"$f":"IF(AND(NOT(ISBLANK($S322)), $S322<'P&L'!$P$8), AF322, 0)","v":0},{"$f":"IF(OR(ISBLANK($S322), $S322>'BankRec Main Acct'!$E$8), AF322, 0)","v":0},0,{"$f":"IF(AND(NOT(ISBLANK($S322)), $S322<'P&L'!$P$8), AI322, 0)","v":0},{"$f":"IF(OR(ISBLANK($S322), $S322>'BankRec Main Acct'!$E$8), AI322, 0)","v":0},0,{"$f":"IF(AND(NOT(ISBLANK($U322)), $U322<'P&L'!$P$8), $AL322, 0)","v":0},{"$f":"IF(OR(ISBLANK($U322), $U322>'DebitCard Rec '!$E$8), $AL322, 0)","v":0},0,{"$f":"IF(AND(NOT(ISBLANK($U322)), $U322<'P&L'!$P$8), $AO322, 0)","v":0},{"$f":"IF(OR(ISBLANK($U322), $U322>'DebitCard Rec '!$E$8), $AO322, 0)","v":0},0,{"$f":"IF(AND($A322<'P&L'!$P$8, $X322='P&L'!$G$6), $AR322, 0)","v":0},0,{"$f":"IF(AND($A322<'P&L'!$P$8, $X322='P&L'!$G$6), $AT322, 0)","v":0}," "," "," "]
[null,null,null,null,null,null,null,null,null,null,null,null,null,null,null,null,null,null,null,null,null,null,"Jan-00",1900,{"$f":"IF(AND($A323<'P&L'!$P$8, YEAR($A323)=Master!$C$6), $K323, 0)","v":0},0,{"$f":"IF(AND(NOT(ISBLANK($O323)), $O323<'P&L'!$P$8), Z323, 0)","v":0},{"$f":"IF(OR(ISBLANK($O323), $O323>'BankRec Main Acct'!$E$8), Z323, 0)","v":0},0,{"$f":"IF(AND(NOT(ISBLANK($O323)), $O323<'P&L'!$P$8), AC323, 0)","v":0},{"$f":"IF(OR(ISBLANK($O323), $O323>'BankRec Main Acct'!$E$8), AC323, 0)","v":0},0,{"$f":"IF(AND(NOT(ISBLANK($S323)), $S323<'P&L'!$P$8), AF323, 0)","v":0},{"$f":"IF(OR(ISBLANK($S323), $S323>'BankRec Main Acct'!$E$8), AF323, 0)","v":0},0,{"$f":"IF(AND(NOT(ISBLANK($S323)), $S323<'P&L'!$P$8), AI323, 0)","v":0},{"$f":"IF(OR(ISBLANK($S323), $S323>'BankRec Main Acct'!$E$8), AI323, 0)","v":0},0,{"$f":"IF(AND(NOT(ISBLANK($U323)), $U323<'P&L'!$P$8), $AL323, 0)","v":0},{"$f":"IF(OR(ISBLANK($U323), $U323>'DebitCard Rec '!$E$8), $AL323, 0)","v":0},0,{"$f":"IF(AND(NOT(ISBLANK($U323)), $U323<'P&L'!$P$8), $AO323, 0)","v":0},{"$f":"IF(OR(ISBLANK($U323), $U323>'DebitCard Rec '!$E$8), $AO323, 0)","v":0},0,{"$f":"IF(AND($A323<'P&L'!$P$8, $X323='P&L'!$G$6), $AR323, 0)","v":0},0,{"$f":"IF(AND($A323<'P&L'!$P$8, $X323='P&L'!$G$6), $AT323, 0)","v":0}," "," "," "]
[null,null,null,null,null,null,null,null,null,null,null,null,null,null,null,null,null,null,null,null,null,null,"Jan-00",1900,{"$f":"IF(AND($A324<'P&L'!$P$8, YEAR($A324)=Master!$C$6), $K324, 0)","v":0},0,{"$f":"IF(AND(NOT(ISBLANK($O324)), $O324<'P&L'!$P$8), Z324, 0)","v":0},{"$f":"IF(OR(ISBLANK($O324), $O324>'BankRec Main Acct'!$E$8), Z324, 0)","v":0},0,{"$f":"IF(AND(NOT(ISBLANK($O324)), $O324<'P&L'!$P$8), AC324, 0)","v":0},{"$f":"IF(OR(ISBLANK($O324), $O324>'BankRec Main Acct'!$E$8), AC324, 0)","v":0},0,{"$f":"IF(AND(NOT(ISBLANK($S324)), $S324<'P&L'!$P$8), AF324, 0)","v":0},{"$f":"IF(OR(ISBLANK($S324), $S324>'BankRec Main Acct'!$E$8), AF324, 0)","v":0},0,{"$f":"IF(AND(NOT(ISBLANK($S324)), $S324<'P&L'!$P$8), AI324, 0)","v":0},{"$f":"IF(OR(ISBLANK($S324), $S324>'BankRec Main Acct'!$E$8), AI324, 0)","v":0},0,{"$f":"IF(AND(NOT(ISBLANK($U324)), $U324<'P&L'!$P$8), $AL324, 0)","v":0},{"$f":"IF(OR(ISBLANK($U324), $U324>'DebitCard Rec '!$E$8), $AL324, 0)","v":0},0,{"$f":"IF(AND(NOT(ISBLANK($U324)), $U324<'P&L'!$P$8), $AO324, 0)","v":0},{"$f":"IF(OR(ISBLANK($U324), $U324>'DebitCard Rec '!$E$8), $AO324, 0)","v":0},{"$f":"IF($AV324=\"Petty cash Receipt\", $K324, 0)","v":0},{"$f":"IF(AND($A324<'P&L'!$P$8, $X324='P&L'!$G$6), $AR324, 0)","v":0},{"$f":"IF($AV324=\"Petty cash Payment\", $K324, 0)","v":0},{"$f":"IF(AND($A324<'P&L'!$P$8, $X324='P&L'!$G$6), $AT324, 0)","v":0}," ",{"$f":"IF(C324=\"Receipt\",CONCATENATE(D324,\" \", F324), \" \")","v":" "},{"$f":"IF(C324= \"Payment\", CONCATENATE(F324,\" \",E324), \" \")","v":" "}]
[null,null,null,null,null,null,null,null,null,null,null,null,null,null,null,null,null,null,null,null,null,null,"Jan-00",1900,{"$f":"IF(AND($A325<'P&L'!$P$8, YEAR($A325)=Master!$C$6), $K325, 0)","v":0},{"$f":"IF(AND($C325=\"Receipt\",$B325<>\"debit card\",$B325<>\"petty cash\",$B325<>\"Cash_Sub\",$B325<>\"Cheque_Sub\", $B325<>\"EFT_Sub\"),$K325,0)","v":0},{"$f":"IF(AND(NOT(ISBLANK($O325)), $O325<'P&L'!$P$8), Z325, 0)","v":0},{"$f":"IF(OR(ISBLANK($O325), $O325>'BankRec Main Acct'!$E$8), Z325, 0)","v":0},{"$f":"IF(AND($C325=\"Payment\", $B325<>\"debit card\", $B325<>\"petty cash\", $B325<>\"Cash_Sub\", $B325<>\"Cheque_Sub\", $B325<>\"EFT_Sub\"), $K325, 0)","v":0},{"$f":"IF(AND(NOT(ISBLANK($O325)), $O325<'P&L'!$P$8), AC325, 0)","v":0},{"$f":"IF(OR(ISBLANK($O325), $O325>'BankRec Main Acct'!$E$8), AC325, 0)","v":0},{"$f":"IF(AND($C325=\"Receipt\",$B325<>\"debit card\",$B325<>\"petty cash\",$B325<>\"Cash_Main\",$B325<>\"Cheque_Main\", $B325<>\"EFT_Main\"),$K325,0)","v":0},{"$f":"IF(AND(NOT(ISBLANK($S325)), $S325<'P&L'!$P$8), AF325, 0)","v":0},{"$f":"IF(OR(ISBLANK($S325), $S325>'BankRec Main Acct'!$E$8), AF325, 0)","v":0},{"$f":"IF(AND($C325=\"Payment\", $B325<>\"debit card\", $B325<>\"petty cash\", $B325<>\"Cash_Main\", $B325<>\"Cheque_Main\", $B325<>\"EFT_Main\"), $K325, 0)","v":0},{"$f":"IF(AND(NOT(ISBLANK($S325)), $S325<'P&L'!$P$8), AI325, 0)","v":0},{"$f":"IF(OR(ISBLANK($S325), $S325>'BankRec Main Acct'!$E$8), AI325, 0)","v":0},0,{"$f":"IF(AND(NOT(ISBLANK($U325)), $U325<'P&L'!$P$8), $AL325, 0)","v":0},{"$f":"IF(OR(ISBLANK($U325), $U325>'DebitCard Rec '!$E$8), $AL325, 0)","v":0},0,{"$f":"IF(AND(NOT(ISBLANK($U325)), $U325<'P&L'!$P$8), $AO325, 0)","v":0},{"$f":"IF(OR(ISBLANK($U325), $U325>'DebitCard Rec '!$E$8), $AO325, 0)","v":0},0,{"$f":"IF(AND($A325<'P&L'!$P$8, $X325='P&L'!$G$6), $AR325, 0)","v":0},0,{"$f":"IF(AND($A325<'P&L'!$P$8, $X325='P&L'!$G$6), $AT325, 0)","v":0}," "," "," "]
[null,null,null,null,null,null,null,null,null,null,null,null,null,null,null,null,null,null,null,null,null,null,"Jan-00",1900,{"$f":"IF(AND($A326<'P&L'!$P$8, YEAR($A326)=Master!$C$6), $K326, 0)","v":0},0,{"$f":"IF(AND(NOT(ISBLANK($O326)), $O326<'P&L'!$P$8), Z326, 0)","v":0},{"$f":"IF(OR(ISBLANK($O326), $O326>'BankRec Main Acct'!$E$8), Z326, 0)","v":0},0,{"$f":"IF(AND(NOT(ISBLANK($O326)), $O326<'P&L'!$P$8), AC326, 0)","v":0},{"$f":"IF(OR(ISBLANK($O326), $O326>'BankRec Main Acct'!$E$8), AC326, 0)","v":0},0,{"$f":"IF(AND(NOT(ISBLANK($S326)), $S326<'P&L'!$P$8), AF326, 0)","v":0},{"$f":"IF(OR(ISBLANK($S326), $S326>'BankRec Main Acct'!$E$8), AF326, 0)","v":0},0,{"$f":"IF(AND(NOT(ISBLANK($S326)), $S326<'P&L'!$P$8), AI326, 0)","v":0},{"$f":"IF(OR(ISBLANK($S326), $S326>'BankRec Main Acct'!$E$8), AI326, 0)","v":0},0,{"$f":"IF(AND(NOT(ISBLANK($U326)), $U326<'P&L'!$P$8), $AL326, 0)","v":0},{"$f":"IF(OR(ISBLANK($U326), $U326>'DebitCard Rec '!$E$8), $AL326, 0)","v":0},0,{"$f":"IF(AND(NOT(ISBLANK($U326)), $U326<'P&L'!$P$8), $AO326, 0)","v":0},{"$f":"IF(OR(ISBLANK($U326), $U326>'DebitCard Rec '!$E$8), $AO326, 0)","v":0},0,{"$f":"IF(AND($A326<'P&L'!$P$8, $X326='P&L'!$G$6), $AR326, 0)","v":0},0,{"$f":"IF(AND($A326<'P&L'!$P$8, $X326='P&L'!$G$6), $AT326, 0)","v":0}," "," "," "]
[null,null,null,null,null,null,null,null,null,null,null,null,null,null,null,null,null,null,null,null,null,null,"Jan-00",1900,{"$f":"IF(AND($A327<'P&L'!$P$8, YEAR($A327)=Master!$C$6), $K327, 0)","v":0},0,{"$f":"IF(AND(NOT(ISBLANK($O327)), $O327<'P&L'!$P$8), Z327, 0)","v":0},{"$f":"IF(OR(ISBLANK($O327), $O327>'BankRec Main Acct'!$E$8), Z327, 0)","v":0},0,{"$f":"IF(AND(NOT(ISBLANK($O327)), $O327<'P&L'!$P$8), AC327, 0)","v":0},{"$f":"IF(OR(ISBLANK($O327), $O327>'BankRec Main Acct'!$E$8), AC327, 0)","v":0},0,{"$f":"IF(AND(NOT(ISBLANK($S327)), $S327<'P&L'!$P$8), AF327, 0)","v":0},{"$f":"IF(OR(ISBLANK($S327), $S327>'BankRec Main Acct'!$E$8), AF327, 0)","v":0},0,{"$f":"IF(AND(NOT(ISBLANK($S327)), $S327<'P&L'!$P$8), AI327, 0)","v":0},{"$f":"IF(OR(ISBLANK($S327), $S327>'BankRec Main Acct'!$E$8), AI327, 0)","v":0},0,{"$f":"IF(AND(NOT(ISBLANK($U327)), $U327<'P&L'!$P$8), $AL327, 0)","v":0},{"$f":"IF(OR(ISBLANK($U327), $U327>'DebitCard Rec '!$E$8), $AL327, 0)","v":0},0,{"$f":"IF(AND(NOT(ISBLANK($U327)), $U327<'P&L'!$P$8), $AO327, 0)","v":0},{"$f":"IF(OR(ISBLANK($U327), $U327>'DebitCard Rec '!$E$8), $AO327, 0)","v":0},0,{"$f":"IF(AND($A327<'P&L'!$P$8, $X327='P&L'!$G$6), $AR327, 0)","v":0},0,{"$f":"IF(AND($A327<'P&L'!$P$8, $X327='P&L'!$G$6), $AT327, 0)","v":0}," "," "," "]
[null,null,null,null,null,null,null,null,null,null,null,null,null,null,null,null,null,null,null,null,null,null,"Jan-00",1900,{"$f":"IF(AND($A328<'P&L'!$P$8, YEAR($A328)=Master!$C$6), $K328, 0)","v":0},0,{"$f":"IF(AND(NOT(ISBLANK($O328)), $O328<'P&L'!$P$8), Z328, 0)","v":0},{"$f":"IF(OR(ISBLANK($O328), $O328>'BankRec Main Acct'!$E$8), Z328, 0)","v":0},0,{"$f":"IF(AND(NOT(ISBLANK($O328)), $O328<'P&L'!$P$8), AC328, 0)","v":0},{"$f":"IF(OR(ISBLANK($O328), $O328>'BankRec Main Acct'!$E$8), AC328, 0)","v":0},0,{"$f":"IF(AND(NOT(ISBLANK($S328)), $S328<'P&L'!$P$8), AF328, 0)","v":0},{"$f":"IF(OR(ISBLANK($S328), $S328>'BankRec Main Acct'!$E$8), AF328, 0)","v":0},0,{"$f":"IF(AND(NOT(ISBLANK($S328)), $S328<'P&L'!$P$8), AI328, 0)","v":0},{"$f":"IF(OR(ISBLANK($S328), $S328>'BankRec Main Acct'!$E$8), AI328, 0)","v":0},0,{"$f":"IF(AND(NOT(ISBLANK($U328)), $U328<'P&L'!$P$8), $AL328, 0)","v":0},{"$f":"IF(OR(ISBLANK($U328), $U328>'DebitCard Rec '!$E$8), $AL328, 0)","v":0},0,{"$f":"IF(AND(NOT(ISBLANK($U328)), $U328<'P&L'!$P$8), $AO328, 0)","v":0},{"$f":"IF(OR(ISBLANK($U328), $U328>'DebitCard Rec '!$E$8), $AO328, 0)","v":0},0,{"$f":"IF(AND($A328<'P&L'!$P$8, $X328='P&L'!$G$6), $AR328, 0)","v":0},0,{"$f":"IF(AND($A328<'P&L'!$P$8, $X328='P&L'!$G$6), $AT328, 0)","v":0}," "," "," "]
[null,null,null,null,null,null,null,null,null,null,null,null,null,null,null,null,null,null,null,null,null,null,"Jan-00",1900,{"$f":"IF(AND($A329<'P&L'!$P$8, YEAR($A329)=Master!$C$6), $K329, 0)","v":0},0,{"$f":"IF(AND(NOT(ISBLANK($O329)), $O329<'P&L'!$P$8), Z329, 0)","v":0},{"$f":"IF(OR(ISBLANK($O329), $O329>'BankRec Main Acct'!$E$8), Z329, 0)","v":0},0,{"$f":"IF(AND(NOT(ISBLANK($O329)), $O329<'P&L'!$P$8), AC329, 0)","v":0},{"$f":"IF(OR(ISBLANK($O329), $O329>'BankRec Main Acct'!$E$8), AC329, 0)","v":0},0,{"$f":"IF(AND(NOT(ISBLANK($S329)), $S329<'P&L'!$P$8), AF329, 0)","v":0},{"$f":"IF(OR(ISBLANK($S329), $S329>'BankRec Main Acct'!$E$8), AF329, 0)","v":0},0,{"$f":"IF(AND(NOT(ISBLANK($S329)), $S329<'P&L'!$P$8), AI329, 0)","v":0},{"$f":"IF(OR(ISBLANK($S329), $S329>'BankRec Main Acct'!$E$8), AI329, 0)","v":0},0,{"$f":"IF(AND(NOT(ISBLANK($U329)), $U329<'P&L'!$P$8), $AL329, 0)","v":0},{"$f":"IF(OR(ISBLANK($U329), $U329>'DebitCard Rec '!$E$8), $AL329, 0)","v":0},0,{"$f":"IF(AND(NOT(ISBLANK($U329)), $U329<'P&L'!$P$8), $AO329, 0)","v":0},{"$f":"IF(OR(ISBLANK($U329), $U329>'DebitCard Rec '!$E$8), $AO329, 0)","v":0},0,{"$f":"IF(AND($A329<'P&L'!$P$8, $X329='P&L'!$G$6), $AR329, 0)","v":0},0,{"$f":"IF(AND($A329<'P&L'!$P$8, $X329='P&L'!$G$6), $AT329, 0)","v":0}," "," "," "]
[null,null,null,null,null,null,null,null,null,null,null,null,null,null,null,null,null,null,null,null,null,null,"Jan-00",1900,{"$f":"IF(AND($A330<'P&L'!$P$8, YEAR($A330)=Master!$C$6), $K330, 0)","v":0},0,{"$f":"IF(AND(NOT(ISBLANK($O330)), $O330<'P&L'!$P$8), Z330, 0)","v":0},{"$f":"IF(OR(ISBLANK($O330), $O330>'BankRec Main Acct'!$E$8), Z330, 0)","v":0},0,{"$f":"IF(AND(NOT(ISBLANK($O330)), $O330<'P&L'!$P$8), AC330, 0)","v":0},{"$f":"IF(OR(ISBLANK($O330), $O330>'BankRec Main Acct'!$E$8), AC330, 0)","v":0},0,{"$f":"IF(AND(NOT(ISBLANK($S330)), $S330<'P&L'!$P$8), AF330, 0)","v":0},{"$f":"IF(OR(ISBLANK($S330), $S330>'BankRec Main Acct'!$E$8), AF330, 0)","v":0},0,{"$f":"IF(AND(NOT(ISBLANK($S330)), $S330<'P&L'!$P$8), AI330, 0)","v":0},{"$f":"IF(OR(ISBLANK($S330), $S330>'BankRec Main Acct'!$E$8), AI330, 0)","v":0},0,{"$f":"IF(AND(NOT(ISBLANK($U330)), $U330<'P&L'!$P$8), $AL330, 0)","v":0},{"$f":"IF(OR(ISBLANK($U330), $U330>'DebitCard Rec '!$E$8), $AL330, 0)","v":0},0,{"$f":"IF(AND(NOT(ISBLANK($U330)), $U330<'P&L'!$P$8), $AO330, 0)","v":0},{"$f":"IF(OR(ISBLANK($U330), $U330>'DebitCard Rec '!$E$8), $AO330, 0)","v":0},0,{"$f":"IF(AND($A330<'P&L'!$P$8, $X330='P&L'!$G$6), $AR330, 0)","v":0},0,{"$f":"IF(AND($A330<'P&L'!$P$8, $X330='P&L'!$G$6), $AT330, 0)","v":0}," "," "," "]
[null,null,null,null,null,null,null,null,null,null,null,null,null,null,null,null,null,null,null,null,null,null,"Jan-00",1900,{"$f":"IF(AND($A331<'P&L'!$P$8, YEAR($A331)=Master!$C$6), $K331, 0)","v":0},0,{"$f":"IF(AND(NOT(ISBLANK($O331)), $O331<'P&L'!$P$8), Z331, 0)","v":0},{"$f":"IF(OR(ISBLANK($O331), $O331>'BankRec Main Acct'!$E$8), Z331, 0)","v":0},0,{"$f":"IF(AND(NOT(ISBLANK($O331)), $O331<'P&L'!$P$8), AC331, 0)","v":0},{"$f":"IF(OR(ISBLANK($O331), $O331>'BankRec Main Acct'!$E$8), AC331, 0)","v":0},0,{"$f":"IF(AND(NOT(ISBLANK($S331)), $S331<'P&L'!$P$8), AF331, 0)","v":0},{"$f":"IF(OR(ISBLANK($S331), $S331>'BankRec Main Acct'!$E$8), AF331, 0)","v":0},0,{"$f":"IF(AND(NOT(ISBLANK($S331)), $S331<'P&L'!$P$8), AI331, 0)","v":0},{"$f":"IF(OR(ISBLANK($S331), $S331>'BankRec Main Acct'!$E$8), AI331, 0)","v":0},0,{"$f":"IF(AND(NOT(ISBLANK($U331)), $U331<'P&L'!$P$8), $AL331, 0)","v":0},{"$f":"IF(OR(ISBLANK($U331), $U331>'DebitCard Rec '!$E$8), $AL331, 0)","v":0},0,{"$f":"IF(AND(NOT(ISBLANK($U331)), $U331<'P&L'!$P$8), $AO331, 0)","v":0},{"$f":"IF(OR(ISBLANK($U331), $U331>'DebitCard Rec '!$E$8), $AO331, 0)","v":0},0,{"$f":"IF(AND($A331<'P&L'!$P$8, $X331='P&L'!$G$6), $AR331, 0)","v":0},0,{"$f":"IF(AND($A331<'P&L'!$P$8, $X331='P&L'!$G$6), $AT331, 0)","v":0},{"$f":"CONCATENATE(B331,\" \",C331)","v":" "}," "," "]
[null,null,null,null,null,null,null,null,null,null,null,null,null,null,null,null,null,null,null,null,null,null,"Jan-00",1900,{"$f":"IF(AND($A332<'P&L'!$P$8, YEAR($A332)=Master!$C$6), $K332, 0)","v":0},0,{"$f":"IF(AND(NOT(ISBLANK($O332)), $O332<'P&L'!$P$8), Z332, 0)","v":0},{"$f":"IF(OR(ISBLANK($O332), $O332>'BankRec Main Acct'!$E$8), Z332, 0)","v":0},0,{"$f":"IF(AND(NOT(ISBLANK($O332)), $O332<'P&L'!$P$8), AC332, 0)","v":0},{"$f":"IF(OR(ISBLANK($O332), $O332>'BankRec Main Acct'!$E$8), AC332, 0)","v":0},0,{"$f":"IF(AND(NOT(ISBLANK($S332)), $S332<'P&L'!$P$8), AF332, 0)","v":0},{"$f":"IF(OR(ISBLANK($S332), $S332>'BankRec Main Acct'!$E$8), AF332, 0)","v":0},0,{"$f":"IF(AND(NOT(ISBLANK($S332)), $S332<'P&L'!$P$8), AI332, 0)","v":0},{"$f":"IF(OR(ISBLANK($S332), $S332>'BankRec Main Acct'!$E$8), AI332, 0)","v":0},0,{"$f":"IF(AND(NOT(ISBLANK($U332)), $U332<'P&L'!$P$8), $AL332, 0)","v":0},{"$f":"IF(OR(ISBLANK($U332), $U332>'DebitCard Rec '!$E$8), $AL332, 0)","v":0},0,{"$f":"IF(AND(NOT(ISBLANK($U332)), $U332<'P&L'!$P$8), $AO332, 0)","v":0},{"$f":"IF(OR(ISBLANK($U332), $U332>'DebitCard Rec '!$E$8), $AO332, 0)","v":0},0,{"$f":"IF(AND($A332<'P&L'!$P$8, $X332='P&L'!$G$6), $AR332, 0)","v":0},0,{"$f":"IF(AND($A332<'P&L'!$P$8, $X332='P&L'!$G$6), $AT332, 0)","v":0}," "," "," "]
[null,null,null,null,null,null,null,null,null,null,null,null,null,null,null,null,null,null,null,null,null,null,"Jan-00",1900,{"$f":"IF(AND($A333<'P&L'!$P$8, YEAR($A333)=Master!$C$6), $K333, 0)","v":0},0,{"$f":"IF(AND(NOT(ISBLANK($O333)), $O333<'P&L'!$P$8), Z333, 0)","v":0},{"$f":"IF(OR(ISBLANK($O333), $O333>'BankRec Main Acct'!$E$8), Z333, 0)","v":0},0,{"$f":"IF(AND(NOT(ISBLANK($O333)), $O333<'P&L'!$P$8), AC333, 0)","v":0},{"$f":"IF(OR(ISBLANK($O333), $O333>'BankRec Main Acct'!$E$8), AC333, 0)","v":0},0,{"$f":"IF(AND(NOT(ISBLANK($S333)), $S333<'P&L'!$P$8), AF333, 0)","v":0},{"$f":"IF(OR(ISBLANK($S333), $S333>'BankRec Main Acct'!$E$8), AF333, 0)","v":0},0,{"$f":"IF(AND(NOT(ISBLANK($S333)), $S333<'P&L'!$P$8), AI333, 0)","v":0},{"$f":"IF(OR(ISBLANK($S333), $S333>'BankRec Main Acct'!$E$8), AI333, 0)","v":0},0,{"$f":"IF(AND(NOT(ISBLANK($U333)), $U333<'P&L'!$P$8), $AL333, 0)","v":0},{"$f":"IF(OR(ISBLANK($U333), $U333>'DebitCard Rec '!$E$8), $AL333, 0)","v":0},0,{"$f":"IF(AND(NOT(ISBLANK($U333)), $U333<'P&L'!$P$8), $AO333, 0)","v":0},{"$f":"IF(OR(ISBLANK($U333), $U333>'DebitCard Rec '!$E$8), $AO333, 0)","v":0},0,{"$f":"IF(AND($A333<'P&L'!$P$8, $X333='P&L'!$G$6), $AR333, 0)","v":0},0,{"$f":"IF(AND($A333<'P&L'!$P$8, $X333='P&L'!$G$6), $AT333, 0)","v":0}," "," "," "]
[null,null,null,null,null,null,null,null,null,null,null,null,null,null,null,null,null,null,null,null,null,null,"Jan-00",1900,{"$f":"IF(AND($A334<'P&L'!$P$8, YEAR($A334)=Master!$C$6), $K334, 0)","v":0},0,{"$f":"IF(AND(NOT(ISBLANK($O334)), $O334<'P&L'!$P$8), Z334, 0)","v":0},{"$f":"IF(OR(ISBLANK($O334), $O334>'BankRec Main Acct'!$E$8), Z334, 0)","v":0},0,{"$f":"IF(AND(NOT(ISBLANK($O334)), $O334<'P&L'!$P$8), AC334, 0)","v":0},{"$f":"IF(OR(ISBLANK($O334), $O334>'BankRec Main Acct'!$E$8), AC334, 0)","v":0},0,{"$f":"IF(AND(NOT(ISBLANK($S334)), $S334<'P&L'!$P$8), AF334, 0)","v":0},{"$f":"IF(OR(ISBLANK($S334), $S334>'BankRec Main Acct'!$E$8), AF334, 0)","v":0},0,{"$f":"IF(AND(NOT(ISBLANK($S334)), $S334<'P&L'!$P$8), AI334, 0)","v":0},{"$f":"IF(OR(ISBLANK($S334), $S334>'BankRec Main Acct'!$E$8), AI334, 0)","v":0},0,{"$f":"IF(AND(NOT(ISBLANK($U334)), $U334<'P&L'!$P$8), $AL334, 0)","v":0},{"$f":"IF(OR(ISBLANK($U334), $U334>'DebitCard Rec '!$E$8), $AL334, 0)","v":0},0,{"$f":"IF(AND(NOT(ISBLANK($U334)), $U334<'P&L'!$P$8), $AO334, 0)","v":0},{"$f":"IF(OR(ISBLANK($U334), $U334>'DebitCard Rec '!$E$8), $AO334, 0)","v":0},0,{"$f":"IF(AND($A334<'P&L'!$P$8, $X334='P&L'!$G$6), $AR334, 0)","v":0},0,{"$f":"IF(AND($A334<'P&L'!$P$8, $X334='P&L'!$G$6), $AT334, 0)","v":0}," "," "," "]
[null,null,null,null,null,null,null,null,null,null,null,null,null,null,null,null,null,null,null,null,null,null,"Jan-00",1900,{"$f":"IF(AND($A335<'P&L'!$P$8, YEAR($A335)=Master!$C$6), $K335, 0)","v":0},0,{"$f":"IF(AND(NOT(ISBLANK($O335)), $O335<'P&L'!$P$8), Z335, 0)","v":0},{"$f":"IF(OR(ISBLANK($O335), $O335>'BankRec Main Acct'!$E$8), Z335, 0)","v":0},0,{"$f":"IF(AND(NOT(ISBLANK($O335)), $O335<'P&L'!$P$8), AC335, 0)","v":0},{"$f":"IF(OR(ISBLANK($O335), $O335>'BankRec Main Acct'!$E$8), AC335, 0)","v":0},0,{"$f":"IF(AND(NOT(ISBLANK($S335)), $S335<'P&L'!$P$8), AF335, 0)","v":0},{"$f":"IF(OR(ISBLANK($S335), $S335>'BankRec Main Acct'!$E$8), AF335, 0)","v":0},0,{"$f":"IF(AND(NOT(ISBLANK($S335)), $S335<'P&L'!$P$8), AI335, 0)","v":0},{"$f":"IF(OR(ISBLANK($S335), $S335>'BankRec Main Acct'!$E$8), AI335, 0)","v":0},0,{"$f":"IF(AND(NOT(ISBLANK($U335)), $U335<'P&L'!$P$8), $AL335, 0)","v":0},{"$f":"IF(OR(ISBLANK($U335), $U335>'DebitCard Rec '!$E$8), $AL335, 0)","v":0},0,{"$f":"IF(AND(NOT(ISBLANK($U335)), $U335<'P&L'!$P$8), $AO335, 0)","v":0},{"$f":"IF(OR(ISBLANK($U335), $U335>'DebitCard Rec '!$E$8), $AO335, 0)","v":0},0,{"$f":"IF(AND($A335<'P&L'!$P$8, $X335='P&L'!$G$6), $AR335, 0)","v":0},0,{"$f":"IF(AND($A335<'P&L'!$P$8, $X335='P&L'!$G$6), $AT335, 0)","v":0}," "," "," "]
[null,null,null,null,null,null,null,null,null,null,null,null,null,null,null,null,null,null,null,null,null,null,"Jan-00",1900,{"$f":"IF(AND($A336<'P&L'!$P$8, YEAR($A336)=Master!$C$6), $K336, 0)","v":0},0,{"$f":"IF(AND(NOT(ISBLANK($O336)), $O336<'P&L'!$P$8), Z336, 0)","v":0},{"$f":"IF(OR(ISBLANK($O336), $O336>'BankRec Main Acct'!$E$8), Z336, 0)","v":0},0,{"$f":"IF(AND(NOT(ISBLANK($O336)), $O336<'P&L'!$P$8), AC336, 0)","v":0},{"$f":"IF(OR(ISBLANK($O336), $O336>'BankRec Main Acct'!$E$8), AC336, 0)","v":0},0,{"$f":"IF(AND(NOT(ISBLANK($S336)), $S336<'P&L'!$P$8), AF336, 0)","v":0},{"$f":"IF(OR(ISBLANK($S336), $S336>'BankRec Main Acct'!$E$8), AF336, 0)","v":0},0,{"$f":"IF(AND(NOT(ISBLANK($S336)), $S336<'P&L'!$P$8), AI336, 0)","v":0},{"$f":"IF(OR(ISBLANK($S336), $S336>'BankRec Main Acct'!$E$8), AI336, 0)","v":0},0,{"$f":"IF(AND(NOT(ISBLANK($U336)), $U336<'P&L'!$P$8), $AL336, 0)","v":0},{"$f":"IF(OR(ISBLANK($U336), $U336>'DebitCard Rec '!$E$8), $AL336, 0)","v":0},0,{"$f":"IF(AND(NOT(ISBLANK($U336)), $U336<'P&L'!$P$8), $AO336, 0)","v":0},{"$f":"IF(OR(ISBLANK($U336), $U336>'DebitCard Rec '!$E$8), $AO336, 0)","v":0},0,{"$f":"IF(AND($A336<'P&L'!$P$8, $X336='P&L'!$G$6), $AR336, 0)","v":0},0,{"$f":"IF(AND($A336<'P&L'!$P$8, $X336='P&L'!$G$6), $AT336, 0)","v":0}," "," "," "]
[null,null,null,null,null,null,null,null,null,null,null,null,null,null,null,null,null,null,null,null,null,null,"Jan-00",1900,{"$f":"IF(AND($A337<'P&L'!$P$8, YEAR($A337)=Master!$C$6), $K337, 0)","v":0},0,{"$f":"IF(AND(NOT(ISBLANK($O337)), $O337<'P&L'!$P$8), Z337, 0)","v":0},{"$f":"IF(OR(ISBLANK($O337), $O337>'BankRec Main Acct'!$E$8), Z337, 0)","v":0},0,{"$f":"IF(AND(NOT(ISBLANK($O337)), $O337<'P&L'!$P$8), AC337, 0)","v":0},{"$f":"IF(OR(ISBLANK($O337), $O337>'BankRec Main Acct'!$E$8), AC337, 0)","v":0},0,{"$f":"IF(AND(NOT(ISBLANK($S337)), $S337<'P&L'!$P$8), AF337, 0)","v":0},{"$f":"IF(OR(ISBLANK($S337), $S337>'BankRec Main Acct'!$E$8), AF337, 0)","v":0},0,{"$f":"IF(AND(NOT(ISBLANK($S337)), $S337<'P&L'!$P$8), AI337, 0)","v":0},{"$f":"IF(OR(ISBLANK($S337), $S337>'BankRec Main Acct'!$E$8), AI337, 0)","v":0},0,{"$f":"IF(AND(NOT(ISBLANK($U337)), $U337<'P&L'!$P$8), $AL337, 0)","v":0},{"$f":"IF(OR(ISBLANK($U337), $U337>'DebitCard Rec '!$E$8), $AL337, 0)","v":0},0,{"$f":"IF(AND(NOT(ISBLANK($U337)), $U337<'P&L'!$P$8), $AO337, 0)","v":0},{"$f":"IF(OR(ISBLANK($U337), $U337>'DebitCard Rec '!$E$8), $AO337, 0)","v":0},0,{"$f":"IF(AND($A337<'P&L'!$P$8, $X337='P&L'!$G$6), $AR337, 0)","v":0},0,{"$f":"IF(AND($A337<'P&L'!$P$8, $X337='P&L'!$G$6), $AT337, 0)","v":0}," "," "," "]
[null,null,null,null,null,null,null,null,null,null,null,null,null,null,null,null,null,null,null,null,null,null,"Jan-00",1900,{"$f":"IF(AND($A338<'P&L'!$P$8, YEAR($A338)=Master!$C$6), $K338, 0)","v":0},0,{"$f":"IF(AND(NOT(ISBLANK($O338)), $O338<'P&L'!$P$8), Z338, 0)","v":0},{"$f":"IF(OR(ISBLANK($O338), $O338>'BankRec Main Acct'!$E$8), Z338, 0)","v":0},0,{"$f":"IF(AND(NOT(ISBLANK($O338)), $O338<'P&L'!$P$8), AC338, 0)","v":0},{"$f":"IF(OR(ISBLANK($O338), $O338>'BankRec Main Acct'!$E$8), AC338, 0)","v":0},0,{"$f":"IF(AND(NOT(ISBLANK($S338)), $S338<'P&L'!$P$8), AF338, 0)","v":0},{"$f":"IF(OR(ISBLANK($S338), $S338>'BankRec Main Acct'!$E$8), AF338, 0)","v":0},0,{"$f":"IF(AND(NOT(ISBLANK($S338)), $S338<'P&L'!$P$8), AI338, 0)","v":0},{"$f":"IF(OR(ISBLANK($S338), $S338>'BankRec Main Acct'!$E$8), AI338, 0)","v":0},0,{"$f":"IF(AND(NOT(ISBLANK($U338)), $U338<'P&L'!$P$8), $AL338, 0)","v":0},{"$f":"IF(OR(ISBLANK($U338), $U338>'DebitCard Rec '!$E$8), $AL338, 0)","v":0},0,{"$f":"IF(AND(NOT(ISBLANK($U338)), $U338<'P&L'!$P$8), $AO338, 0)","v":0},{"$f":"IF(OR(ISBLANK($U338), $U338>'DebitCard Rec '!$E$8), $AO338, 0)","v":0},0,{"$f":"IF(AND($A338<'P&L'!$P$8, $X338='P&L'!$G$6), $AR338, 0)","v":0},0,{"$f":"IF(AND($A338<'P&L'!$P$8, $X338='P&L'!$G$6), $AT338, 0)","v":0}," "," "," "]
[null,null,null,null,null,null,null,null,null,null,null,null,null,null,null,null,null,null,null,null,null,null,"Jan-00",1900,{"$f":"IF(AND($A339<'P&L'!$P$8, YEAR($A339)=Master!$C$6), $K339, 0)","v":0},0,{"$f":"IF(AND(NOT(ISBLANK($O339)), $O339<'P&L'!$P$8), Z339, 0)","v":0},{"$f":"IF(OR(ISBLANK($O339), $O339>'BankRec Main Acct'!$E$8), Z339, 0)","v":0},0,{"$f":"IF(AND(NOT(ISBLANK($O339)), $O339<'P&L'!$P$8), AC339, 0)","v":0},{"$f":"IF(OR(ISBLANK($O339), $O339>'BankRec Main Acct'!$E$8), AC339, 0)","v":0},0,{"$f":"IF(AND(NOT(ISBLANK($S339)), $S339<'P&L'!$P$8), AF339, 0)","v":0},{"$f":"IF(OR(ISBLANK($S339), $S339>'BankRec Main Acct'!$E$8), AF339, 0)","v":0},0,{"$f":"IF(AND(NOT(ISBLANK($S339)), $S339<'P&L'!$P$8), AI339, 0)","v":0},{"$f":"IF(OR(ISBLANK($S339), $S339>'BankRec Main Acct'!$E$8), AI339, 0)","v":0},0,{"$f":"IF(AND(NOT(ISBLANK($U339)), $U339<'P&L'!$P$8), $AL339, 0)","v":0},{"$f":"IF(OR(ISBLANK($U339), $U339>'DebitCard Rec '!$E$8), $AL339, 0)","v":0},0,{"$f":"IF(AND(NOT(ISBLANK($U339)), $U339<'P&L'!$P$8), $AO339, 0)","v":0},{"$f":"IF(OR(ISBLANK($U339), $U339>'DebitCard Rec '!$E$8), $AO339, 0)","v":0},0,{"$f":"IF(AND($A339<'P&L'!$P$8, $X339='P&L'!$G$6), $AR339, 0)","v":0},0,{"$f":"IF(AND($A339<'P&L'!$P$8, $X339='P&L'!$G$6), $AT339, 0)","v":0}," "," "," "]
[null,null,null,null,null,null,null,null,null,null,null,null,null,null,null,null,null,null,null,null,null,null,{"$f":"TEXT($A340, \"mmm-yy\")","v":"Jan-00"},{"$f":"YEAR($A340)","v":1900},{"$f":"IF(AND($A340<'P&L'!$P$8, YEAR($A340)=Master!$C$6), $K340, 0)","v":0},0,{"$f":"IF(AND(NOT(ISBLANK($O340)), $O340<'P&L'!$P$8), Z340, 0)","v":0},{"$f":"IF(OR(ISBLANK($O340), $O340>'BankRec Main Acct'!$E$8), Z340, 0)","v":0},0,{"$f":"IF(AND(NOT(ISBLANK($O340)), $O340<'P&L'!$P$8), AC340, 0)","v":0},{"$f":"IF(OR(ISBLANK($O340), $O340>'BankRec Main Acct'!$E$8), AC340, 0)","v":0},0,{"$f":"IF(AND(NOT(ISBLANK($S340)), $S340<'P&L'!$P$8), AF340, 0)","v":0},{"$f":"IF(OR(ISBLANK($S340), $S340>'BankRec Main Acct'!$E$8), AF340, 0)","v":0},0,{"$f":"IF(AND(NOT(ISBLANK($S340)), $S340<'P&L'!$P$8), AI340, 0)","v":0},{"$f":"IF(OR(ISBLANK($S340), $S340>'BankRec Main Acct'!$E$8), AI340, 0)","v":0},{"$f":"IF(AND($C340=\"Receipt\",$B340=\"Debit card\"),$K340,0)","v":0},{"$f":"IF(AND(NOT(ISBLANK($U340)), $U340<'P&L'!$P$8), $AL340, 0)","v":0},{"$f":"IF(OR(ISBLANK($U340), $U340>'DebitCard Rec '!$E$8), $AL340, 0)","v":0},{"$f":"IF(AND($C340=\"Payment\",$B340=\"Debit card\"),$K340,0)","v":0},{"$f":"IF(AND(NOT(ISBLANK($U340)), $U340<'P&L'!$P$8), $AO340, 0)","v":0},{"$f":"IF(OR(ISBLANK($U340), $U340>'DebitCard Rec '!$E$8), $AO340, 0)","v":0},0,{"$f":"IF(AND($A340<'P&L'!$P$8, $X340='P&L'!$G$6), $AR340, 0)","v":0},0,{"$f":"IF(AND($A340<'P&L'!$P$8, $X340='P&L'!$G$6), $AT340, 0)","v":0}," "," "," "]
[null,null,null,null,null,null,null,null,null,null,null,null,null,null,null,null,null,null,null,null,null,null,"Jan-00",1900,{"$f":"IF(AND($A341<'P&L'!$P$8, YEAR($A341)=Master!$C$6), $K341, 0)","v":0},0,{"$f":"IF(AND(NOT(ISBLANK($O341)), $O341<'P&L'!$P$8), Z341, 0)","v":0},{"$f":"IF(OR(ISBLANK($O341), $O341>'BankRec Main Acct'!$E$8), Z341, 0)","v":0},0,{"$f":"IF(AND(NOT(ISBLANK($O341)), $O341<'P&L'!$P$8), AC341, 0)","v":0},{"$f":"IF(OR(ISBLANK($O341), $O341>'BankRec Main Acct'!$E$8), AC341, 0)","v":0},0,{"$f":"IF(AND(NOT(ISBLANK($S341)), $S341<'P&L'!$P$8), AF341, 0)","v":0},{"$f":"IF(OR(ISBLANK($S341), $S341>'BankRec Main Acct'!$E$8), AF341, 0)","v":0},0,{"$f":"IF(AND(NOT(ISBLANK($S341)), $S341<'P&L'!$P$8), AI341, 0)","v":0},{"$f":"IF(OR(ISBLANK($S341), $S341>'BankRec Main Acct'!$E$8), AI341, 0)","v":0},0,{"$f":"IF(AND(NOT(ISBLANK($U341)), $U341<'P&L'!$P$8), $AL341, 0)","v":0},{"$f":"IF(OR(ISBLANK($U341), $U341>'DebitCard Rec '!$E$8), $AL341, 0)","v":0},0,{"$f":"IF(AND(NOT(ISBLANK($U341)), $U341<'P&L'!$P$8), $AO341, 0)","v":0},{"$f":"IF(OR(ISBLANK($U341), $U341>'DebitCard Rec '!$E$8), $AO341, 0)","v":0},0,{"$f":"IF(AND($A341<'P&L'!$P$8, $X341='P&L'!$G$6), $AR341, 0)","v":0},0,{"$f":"IF(AND($A341<'P&L'!$P$8, $X341='P&L'!$G$6), $AT341, 0)","v":0}," "," "," "]
[null,null,null,null,null,null,null,null,null,null,null,null,null,null,null,null,null,null,null,null,null,null,"Jan-00",1900,{"$f":"IF(AND($A342<'P&L'!$P$8, YEAR($A342)=Master!$C$6), $K342, 0)","v":0},0,{"$f":"IF(AND(NOT(ISBLANK($O342)), $O342<'P&L'!$P$8), Z342, 0)","v":0},{"$f":"IF(OR(ISBLANK($O342), $O342>'BankRec Main Acct'!$E$8), Z342, 0)","v":0},0,{"$f":"IF(AND(NOT(ISBLANK($O342)), $O342<'P&L'!$P$8), AC342, 0)","v":0},{"$f":"IF(OR(ISBLANK($O342), $O342>'BankRec Main Acct'!$E$8), AC342, 0)","v":0},0,{"$f":"IF(AND(NOT(ISBLANK($S342)), $S342<'P&L'!$P$8), AF342, 0)","v":0},{"$f":"IF(OR(ISBLANK($S342), $S342>'BankRec Main Acct'!$E$8), AF342, 0)","v":0},0,{"$f":"IF(AND(NOT(ISBLANK($S342)), $S342<'P&L'!$P$8), AI342, 0)","v":0},{"$f":"IF(OR(ISBLANK($S342), $S342>'BankRec Main Acct'!$E$8), AI342, 0)","v":0},0,{"$f":"IF(AND(NOT(ISBLANK($U342)), $U342<'P&L'!$P$8), $AL342, 0)","v":0},{"$f":"IF(OR(ISBLANK($U342), $U342>'DebitCard Rec '!$E$8), $AL342, 0)","v":0},0,{"$f":"IF(AND(NOT(ISBLANK($U342)), $U342<'P&L'!$P$8), $AO342, 0)","v":0},{"$f":"IF(OR(ISBLANK($U342), $U342>'DebitCard Rec '!$E$8), $AO342, 0)","v":0},0,{"$f":"IF(AND($A342<'P&L'!$P$8, $X342='P&L'!$G$6), $AR342, 0)","v":0},0,{"$f":"IF(AND($A342<'P&L'!$P$8, $X342='P&L'!$G$6), $AT342, 0)","v":0}," "," "," "]
[null,null,null,null,null,null,null,null,null,null,null,null,null,null,null,null,null,null,null,null,null,null,"Jan-00",1900,{"$f":"IF(AND($A343<'P&L'!$P$8, YEAR($A343)=Master!$C$6), $K343, 0)","v":0},0,{"$f":"IF(AND(NOT(ISBLANK($O343)), $O343<'P&L'!$P$8), Z343, 0)","v":0},{"$f":"IF(OR(ISBLANK($O343), $O343>'BankRec Main Acct'!$E$8), Z343, 0)","v":0},0,{"$f":"IF(AND(NOT(ISBLANK($O343)), $O343<'P&L'!$P$8), AC343, 0)","v":0},{"$f":"IF(OR(ISBLANK($O343), $O343>'BankRec Main Acct'!$E$8), AC343, 0)","v":0},0,{"$f":"IF(AND(NOT(ISBLANK($S343)), $S343<'P&L'!$P$8), AF343, 0)","v":0},{"$f":"IF(OR(ISBLANK($S343), $S343>'BankRec Main Acct'!$E$8), AF343, 0)","v":0},0,{"$f":"IF(AND(NOT(ISBLANK($S343)), $S343<'P&L'!$P$8), AI343, 0)","v":0},{"$f":"IF(OR(ISBLANK($S343), $S343>'BankRec Main Acct'!$E$8), AI343, 0)","v":0},0,{"$f":"IF(AND(NOT(ISBLANK($U343)), $U343<'P&L'!$P$8), $AL343, 0)","v":0},{"$f":"IF(OR(ISBLANK($U343), $U343>'DebitCard Rec '!$E$8), $AL343, 0)","v":0},0,{"$f":"IF(AND(NOT(ISBLANK($U343)), $U343<'P&L'!$P$8), $AO343, 0)","v":0},{"$f":"IF(OR(ISBLANK($U343), $U343>'DebitCard Rec '!$E$8), $AO343, 0)","v":0},0,{"$f":"IF(AND($A343<'P&L'!$P$8, $X343='P&L'!$G$6), $AR343, 0)","v":0},0,{"$f":"IF(AND($A343<'P&L'!$P$8, $X343='P&L'!$G$6), $AT343, 0)","v":0}," "," "," "]
[null,null,null,null,null,null,null,null,null,null,null,null,null,null,null,null,null,null,null,null,null,null,"Jan-00",1900,{"$f":"IF(AND($A344<'P&L'!$P$8, YEAR($A344)=Master!$C$6), $K344, 0)","v":0},0,{"$f":"IF(AND(NOT(ISBLANK($O344)), $O344<'P&L'!$P$8), Z344, 0)","v":0},{"$f":"IF(OR(ISBLANK($O344), $O344>'BankRec Main Acct'!$E$8), Z344, 0)","v":0},0,{"$f":"IF(AND(NOT(ISBLANK($O344)), $O344<'P&L'!$P$8), AC344, 0)","v":0},{"$f":"IF(OR(ISBLANK($O344), $O344>'BankRec Main Acct'!$E$8), AC344, 0)","v":0},0,{"$f":"IF(AND(NOT(ISBLANK($S344)), $S344<'P&L'!$P$8), AF344, 0)","v":0},{"$f":"IF(OR(ISBLANK($S344), $S344>'BankRec Main Acct'!$E$8), AF344, 0)","v":0},0,{"$f":"IF(AND(NOT(ISBLANK($S344)), $S344<'P&L'!$P$8), AI344, 0)","v":0},{"$f":"IF(OR(ISBLANK($S344), $S344>'BankRec Main Acct'!$E$8), AI344, 0)","v":0},0,{"$f":"IF(AND(NOT(ISBLANK($U344)), $U344<'P&L'!$P$8), $AL344, 0)","v":0},{"$f":"IF(OR(ISBLANK($U344), $U344>'DebitCard Rec '!$E$8), $AL344, 0)","v":0},0,{"$f":"IF(AND(NOT(ISBLANK($U344)), $U344<'P&L'!$P$8), $AO344, 0)","v":0},{"$f":"IF(OR(ISBLANK($U344), $U344>'DebitCard Rec '!$E$8), $AO344, 0)","v":0},0,{"$f":"IF(AND($A344<'P&L'!$P$8, $X344='P&L'!$G$6), $AR344, 0)","v":0},0,{"$f":"IF(AND($A344<'P&L'!$P$8, $X344='P&L'!$G$6), $AT344, 0)","v":0}," "," "," "]
[null,null,null,null,null,null,null,null,null,null,null,null,null,null,null,null,null,null,null,null,null,null,"Jan-00",1900,{"$f":"IF(AND($A345<'P&L'!$P$8, YEAR($A345)=Master!$C$6), $K345, 0)","v":0},0,{"$f":"IF(AND(NOT(ISBLANK($O345)), $O345<'P&L'!$P$8), Z345, 0)","v":0},{"$f":"IF(OR(ISBLANK($O345), $O345>'BankRec Main Acct'!$E$8), Z345, 0)","v":0},0,{"$f":"IF(AND(NOT(ISBLANK($O345)), $O345<'P&L'!$P$8), AC345, 0)","v":0},{"$f":"IF(OR(ISBLANK($O345), $O345>'BankRec Main Acct'!$E$8), AC345, 0)","v":0},0,{"$f":"IF(AND(NOT(ISBLANK($S345)), $S345<'P&L'!$P$8), AF345, 0)","v":0},{"$f":"IF(OR(ISBLANK($S345), $S345>'BankRec Main Acct'!$E$8), AF345, 0)","v":0},0,{"$f":"IF(AND(NOT(ISBLANK($S345)), $S345<'P&L'!$P$8), AI345, 0)","v":0},{"$f":"IF(OR(ISBLANK($S345), $S345>'BankRec Main Acct'!$E$8), AI345, 0)","v":0},0,{"$f":"IF(AND(NOT(ISBLANK($U345)), $U345<'P&L'!$P$8), $AL345, 0)","v":0},{"$f":"IF(OR(ISBLANK($U345), $U345>'DebitCard Rec '!$E$8), $AL345, 0)","v":0},0,{"$f":"IF(AND(NOT(ISBLANK($U345)), $U345<'P&L'!$P$8), $AO345, 0)","v":0},{"$f":"IF(OR(ISBLANK($U345), $U345>'DebitCard Rec '!$E$8), $AO345, 0)","v":0},0,{"$f":"IF(AND($A345<'P&L'!$P$8, $X345='P&L'!$G$6), $AR345, 0)","v":0},0,{"$f":"IF(AND($A345<'P&L'!$P$8, $X345='P&L'!$G$6), $AT345, 0)","v":0}," "," "," "]
[null,null,null,null,null,null,null,null,null,null,null,null,null,null,null,null,null,null,null,null,null,null,"Jan-00",1900,{"$f":"IF(AND($A346<'P&L'!$P$8, YEAR($A346)=Master!$C$6), $K346, 0)","v":0},0,{"$f":"IF(AND(NOT(ISBLANK($O346)), $O346<'P&L'!$P$8), Z346, 0)","v":0},{"$f":"IF(OR(ISBLANK($O346), $O346>'BankRec Main Acct'!$E$8), Z346, 0)","v":0},0,{"$f":"IF(AND(NOT(ISBLANK($O346)), $O346<'P&L'!$P$8), AC346, 0)","v":0},{"$f":"IF(OR(ISBLANK($O346), $O346>'BankRec Main Acct'!$E$8), AC346, 0)","v":0},0,{"$f":"IF(AND(NOT(ISBLANK($S346)), $S346<'P&L'!$P$8), AF346, 0)","v":0},{"$f":"IF(OR(ISBLANK($S346), $S346>'BankRec Main Acct'!$E$8), AF346, 0)","v":0},0,{"$f":"IF(AND(NOT(ISBLANK($S346)), $S346<'P&L'!$P$8), AI346, 0)","v":0},{"$f":"IF(OR(ISBLANK($S346), $S346>'BankRec Main Acct'!$E$8), AI346, 0)","v":0},0,{"$f":"IF(AND(NOT(ISBLANK($U346)), $U346<'P&L'!$P$8), $AL346, 0)","v":0},{"$f":"IF(OR(ISBLANK($U346), $U346>'DebitCard Rec '!$E$8), $AL346, 0)","v":0},0,{"$f":"IF(AND(NOT(ISBLANK($U346)), $U346<'P&L'!$P$8), $AO346, 0)","v":0},{"$f":"IF(OR(ISBLANK($U346), $U346>'DebitCard Rec '!$E$8), $AO346, 0)","v":0},0,{"$f":"IF(AND($A346<'P&L'!$P$8, $X346='P&L'!$G$6), $AR346, 0)","v":0},0,{"$f":"IF(AND($A346<'P&L'!$P$8, $X346='P&L'!$G$6), $AT346, 0)","v":0}," "," "," "]
[null,null,null,null,null,null,null,null,null,null,null,null,null,null,null,null,null,null,null,null,null,null,"Jan-00",1900,{"$f":"IF(AND($A347<'P&L'!$P$8, YEAR($A347)=Master!$C$6), $K347, 0)","v":0},0,{"$f":"IF(AND(NOT(ISBLANK($O347)), $O347<'P&L'!$P$8), Z347, 0)","v":0},{"$f":"IF(OR(ISBLANK($O347), $O347>'BankRec Main Acct'!$E$8), Z347, 0)","v":0},0,{"$f":"IF(AND(NOT(ISBLANK($O347)), $O347<'P&L'!$P$8), AC347, 0)","v":0},{"$f":"IF(OR(ISBLANK($O347), $O347>'BankRec Main Acct'!$E$8), AC347, 0)","v":0},0,{"$f":"IF(AND(NOT(ISBLANK($S347)), $S347<'P&L'!$P$8), AF347, 0)","v":0},{"$f":"IF(OR(ISBLANK($S347), $S347>'BankRec Main Acct'!$E$8), AF347, 0)","v":0},0,{"$f":"IF(AND(NOT(ISBLANK($S347)), $S347<'P&L'!$P$8), AI347, 0)","v":0},{"$f":"IF(OR(ISBLANK($S347), $S347>'BankRec Main Acct'!$E$8), AI347, 0)","v":0},0,{"$f":"IF(AND(NOT(ISBLANK($U347)), $U347<'P&L'!$P$8), $AL347, 0)","v":0},{"$f":"IF(OR(ISBLANK($U347), $U347>'DebitCard Rec '!$E$8), $AL347, 0)","v":0},0,{"$f":"IF(AND(NOT(ISBLANK($U347)), $U347<'P&L'!$P$8), $AO347, 0)","v":0},{"$f":"IF(OR(ISBLANK($U347), $U347>'DebitCard Rec '!$E$8), $AO347, 0)","v":0},0,{"$f":"IF(AND($A347<'P&L'!$P$8, $X347='P&L'!$G$6), $AR347, 0)","v":0},0,{"$f":"IF(AND($A347<'P&L'!$P$8, $X347='P&L'!$G$6), $AT347, 0)","v":0}," "," "," "]
[null,null,null,null,null,null,null,null,null,null,null,null,null,null,null,null,null,null,null,null,null,null,"Jan-00",1900,{"$f":"IF(AND($A348<'P&L'!$P$8, YEAR($A348)=Master!$C$6), $K348, 0)","v":0},0,{"$f":"IF(AND(NOT(ISBLANK($O348)), $O348<'P&L'!$P$8), Z348, 0)","v":0},{"$f":"IF(OR(ISBLANK($O348), $O348>'BankRec Main Acct'!$E$8), Z348, 0)","v":0},0,{"$f":"IF(AND(NOT(ISBLANK($O348)), $O348<'P&L'!$P$8), AC348, 0)","v":0},{"$f":"IF(OR(ISBLANK($O348), $O348>'BankRec Main Acct'!$E$8), AC348, 0)","v":0},0,{"$f":"IF(AND(NOT(ISBLANK($S348)), $S348<'P&L'!$P$8), AF348, 0)","v":0},{"$f":"IF(OR(ISBLANK($S348), $S348>'BankRec Main Acct'!$E$8), AF348, 0)","v":0},0,{"$f":"IF(AND(NOT(ISBLANK($S348)), $S348<'P&L'!$P$8), AI348, 0)","v":0},{"$f":"IF(OR(ISBLANK($S348), $S348>'BankRec Main Acct'!$E$8), AI348, 0)","v":0},0,{"$f":"IF(AND(NOT(ISBLANK($U348)), $U348<'P&L'!$P$8), $AL348, 0)","v":0},{"$f":"IF(OR(ISBLANK($U348), $U348>'DebitCard Rec '!$E$8), $AL348, 0)","v":0},0,{"$f":"IF(AND(NOT(ISBLANK($U348)), $U348<'P&L'!$P$8), $AO348, 0)","v":0},{"$f":"IF(OR(ISBLANK($U348), $U348>'DebitCard Rec '!$E$8), $AO348, 0)","v":0},0,{"$f":"IF(AND($A348<'P&L'!$P$8, $X348='P&L'!$G$6), $AR348, 0)","v":0},0,{"$f":"IF(AND($A348<'P&L'!$P$8, $X348='P&L'!$G$6), $AT348, 0)","v":0}," "," "," "]
[null,null,null,null,null,null,null,null,null,null,null,null,null,null,null,null,null,null,null,null,null,null,"Jan-00",1900,{"$f":"IF(AND($A349<'P&L'!$P$8, YEAR($A349)=Master!$C$6), $K349, 0)","v":0},0,{"$f":"IF(AND(NOT(ISBLANK($O349)), $O349<'P&L'!$P$8), Z349, 0)","v":0},{"$f":"IF(OR(ISBLANK($O349), $O349>'BankRec Main Acct'!$E$8), Z349, 0)","v":0},0,{"$f":"IF(AND(NOT(ISBLANK($O349)), $O349<'P&L'!$P$8), AC349, 0)","v":0},{"$f":"IF(OR(ISBLANK($O349), $O349>'BankRec Main Acct'!$E$8), AC349, 0)","v":0},0,{"$f":"IF(AND(NOT(ISBLANK($S349)), $S349<'P&L'!$P$8), AF349, 0)","v":0},{"$f":"IF(OR(ISBLANK($S349), $S349>'BankRec Main Acct'!$E$8), AF349, 0)","v":0},0,{"$f":"IF(AND(NOT(ISBLANK($S349)), $S349<'P&L'!$P$8), AI349, 0)","v":0},{"$f":"IF(OR(ISBLANK($S349), $S349>'BankRec Main Acct'!$E$8), AI349, 0)","v":0},0,{"$f":"IF(AND(NOT(ISBLANK($U349)), $U349<'P&L'!$P$8), $AL349, 0)","v":0},{"$f":"IF(OR(ISBLANK($U349), $U349>'DebitCard Rec '!$E$8), $AL349, 0)","v":0},0,{"$f":"IF(AND(NOT(ISBLANK($U349)), $U349<'P&L'!$P$8), $AO349, 0)","v":0},{"$f":"IF(OR(ISBLANK($U349), $U349>'DebitCard Rec '!$E$8), $AO349, 0)","v":0},0,{"$f":"IF(AND($A349<'P&L'!$P$8, $X349='P&L'!$G$6), $AR349, 0)","v":0},0,{"$f":"IF(AND($A349<'P&L'!$P$8, $X349='P&L'!$G$6), $AT349, 0)","v":0}," "," "," "]
[null,null,null,null,null,null,null,null,null,null,null,null,null,null,null,null,null,null,null,null,null,null,"Jan-00",1900,{"$f":"IF(AND($A350<'P&L'!$P$8, YEAR($A350)=Master!$C$6), $K350, 0)","v":0},0,{"$f":"IF(AND(NOT(ISBLANK($O350)), $O350<'P&L'!$P$8), Z350, 0)","v":0},{"$f":"IF(OR(ISBLANK($O350), $O350>'BankRec Main Acct'!$E$8), Z350, 0)","v":0},0,{"$f":"IF(AND(NOT(ISBLANK($O350)), $O350<'P&L'!$P$8), AC350, 0)","v":0},{"$f":"IF(OR(ISBLANK($O350), $O350>'BankRec Main Acct'!$E$8), AC350, 0)","v":0},0,{"$f":"IF(AND(NOT(ISBLANK($S350)), $S350<'P&L'!$P$8), AF350, 0)","v":0},{"$f":"IF(OR(ISBLANK($S350), $S350>'BankRec Main Acct'!$E$8), AF350, 0)","v":0},0,{"$f":"IF(AND(NOT(ISBLANK($S350)), $S350<'P&L'!$P$8), AI350, 0)","v":0},{"$f":"IF(OR(ISBLANK($S350), $S350>'BankRec Main Acct'!$E$8), AI350, 0)","v":0},0,{"$f":"IF(AND(NOT(ISBLANK($U350)), $U350<'P&L'!$P$8), $AL350, 0)","v":0},{"$f":"IF(OR(ISBLANK($U350), $U350>'DebitCard Rec '!$E$8), $AL350, 0)","v":0},0,{"$f":"IF(AND(NOT(ISBLANK($U350)), $U350<'P&L'!$P$8), $AO350, 0)","v":0},{"$f":"IF(OR(ISBLANK($U350), $U350>'DebitCard Rec '!$E$8), $AO350, 0)","v":0},0,{"$f":"IF(AND($A350<'P&L'!$P$8, $X350='P&L'!$G$6), $AR350, 0)","v":0},0,{"$f":"IF(AND($A350<'P&L'!$P$8, $X350='P&L'!$G$6), $AT350, 0)","v":0}," "," "," "]
[null,null,null,null,null,null,null,null,null,null,null,null,null,null,null,null,null,null,null,null,null,null,"Jan-00",1900,{"$f":"IF(AND($A351<'P&L'!$P$8, YEAR($A351)=Master!$C$6), $K351, 0)","v":0},0,{"$f":"IF(AND(NOT(ISBLANK($O351)), $O351<'P&L'!$P$8), Z351, 0)","v":0},{"$f":"IF(OR(ISBLANK($O351), $O351>'BankRec Main Acct'!$E$8), Z351, 0)","v":0},0,{"$f":"IF(AND(NOT(ISBLANK($O351)), $O351<'P&L'!$P$8), AC351, 0)","v":0},{"$f":"IF(OR(ISBLANK($O351), $O351>'BankRec Main Acct'!$E$8), AC351, 0)","v":0},0,{"$f":"IF(AND(NOT(ISBLANK($S351)), $S351<'P&L'!$P$8), AF351, 0)","v":0},{"$f":"IF(OR(ISBLANK($S351), $S351>'BankRec Main Acct'!$E$8), AF351, 0)","v":0},0,{"$f":"IF(AND(NOT(ISBLANK($S351)), $S351<'P&L'!$P$8), AI351, 0)","v":0},{"$f":"IF(OR(ISBLANK($S351), $S351>'BankRec Main Acct'!$E$8), AI351, 0)","v":0},0,{"$f":"IF(AND(NOT(ISBLANK($U351)), $U351<'P&L'!$P$8), $AL351, 0)","v":0},{"$f":"IF(OR(ISBLANK($U351), $U351>'DebitCard Rec '!$E$8), $AL351, 0)","v":0},0,{"$f":"IF(AND(NOT(ISBLANK($U351)), $U351<'P&L'!$P$8), $AO351, 0)","v":0},{"$f":"IF(OR(ISBLANK($U351), $U351>'DebitCard Rec '!$E$8), $AO351, 0)","v":0},0,{"$f":"IF(AND($A351<'P&L'!$P$8, $X351='P&L'!$G$6), $AR351, 0)","v":0},0,{"$f":"IF(AND($A351<'P&L'!$P$8, $X351='P&L'!$G$6), $AT351, 0)","v":0}," "," "," "]
[null,null,null,null,null,null,null,null,null,null,null,null,null,null,null,null,null,null,null,null,null,null,"Jan-00",1900,{"$f":"IF(AND($A352<'P&L'!$P$8, YEAR($A352)=Master!$C$6), $K352, 0)","v":0},0,{"$f":"IF(AND(NOT(ISBLANK($O352)), $O352<'P&L'!$P$8), Z352, 0)","v":0},{"$f":"IF(OR(ISBLANK($O352), $O352>'BankRec Main Acct'!$E$8), Z352, 0)","v":0},0,{"$f":"IF(AND(NOT(ISBLANK($O352)), $O352<'P&L'!$P$8), AC352, 0)","v":0},{"$f":"IF(OR(ISBLANK($O352), $O352>'BankRec Main Acct'!$E$8), AC352, 0)","v":0},0,{"$f":"IF(AND(NOT(ISBLANK($S352)), $S352<'P&L'!$P$8), AF352, 0)","v":0},{"$f":"IF(OR(ISBLANK($S352), $S352>'BankRec Main Acct'!$E$8), AF352, 0)","v":0},0,{"$f":"IF(AND(NOT(ISBLANK($S352)), $S352<'P&L'!$P$8), AI352, 0)","v":0},{"$f":"IF(OR(ISBLANK($S352), $S352>'BankRec Main Acct'!$E$8), AI352, 0)","v":0},0,{"$f":"IF(AND(NOT(ISBLANK($U352)), $U352<'P&L'!$P$8), $AL352, 0)","v":0},{"$f":"IF(OR(ISBLANK($U352), $U352>'DebitCard Rec '!$E$8), $AL352, 0)","v":0},0,{"$f":"IF(AND(NOT(ISBLANK($U352)), $U352<'P&L'!$P$8), $AO352, 0)","v":0},{"$f":"IF(OR(ISBLANK($U352), $U352>'DebitCard Rec '!$E$8), $AO352, 0)","v":0},0,{"$f":"IF(AND($A352<'P&L'!$P$8, $X352='P&L'!$G$6), $AR352, 0)","v":0},0,{"$f":"IF(AND($A352<'P&L'!$P$8, $X352='P&L'!$G$6), $AT352, 0)","v":0}," "," "," "]
[null,null,null,null,null,null,null,null,null,null,null,null,null,null,null,null,null,null,null,null,null,null,"Jan-00",1900,{"$f":"IF(AND($A353<'P&L'!$P$8, YEAR($A353)=Master!$C$6), $K353, 0)","v":0},0,{"$f":"IF(AND(NOT(ISBLANK($O353)), $O353<'P&L'!$P$8), Z353, 0)","v":0},{"$f":"IF(OR(ISBLANK($O353), $O353>'BankRec Main Acct'!$E$8), Z353, 0)","v":0},0,{"$f":"IF(AND(NOT(ISBLANK($O353)), $O353<'P&L'!$P$8), AC353, 0)","v":0},{"$f":"IF(OR(ISBLANK($O353), $O353>'BankRec Main Acct'!$E$8), AC353, 0)","v":0},0,{"$f":"IF(AND(NOT(ISBLANK($S353)), $S353<'P&L'!$P$8), AF353, 0)","v":0},{"$f":"IF(OR(ISBLANK($S353), $S353>'BankRec Main Acct'!$E$8), AF353, 0)","v":0},0,{"$f":"IF(AND(NOT(ISBLANK($S353)), $S353<'P&L'!$P$8), AI353, 0)","v":0},{"$f":"IF(OR(ISBLANK($S353), $S353>'BankRec Main Acct'!$E$8), AI353, 0)","v":0},0,{"$f":"IF(AND(NOT(ISBLANK($U353)), $U353<'P&L'!$P$8), $AL353, 0)","v":0},{"$f":"IF(OR(ISBLANK($U353), $U353>'DebitCard Rec '!$E$8), $AL353, 0)","v":0},0,{"$f":"IF(AND(NOT(ISBLANK($U353)), $U353<'P&L'!$P$8), $AO353, 0)","v":0},{"$f":"IF(OR(ISBLANK($U353), $U353>'DebitCard Rec '!$E$8), $AO353, 0)","v":0},0,{"$f":"IF(AND($A353<'P&L'!$P$8, $X353='P&L'!$G$6), $AR353, 0)","v":0},0,{"$f":"IF(AND($A353<'P&L'!$P$8, $X353='P&L'!$G$6), $AT353, 0)","v":0}," "," "," "]
[null,null,null,null,null,null,null,null,null,null,null,null,null,null,null,null,null,null,null,null,null,null,"Jan-00",1900,{"$f":"IF(AND($A354<'P&L'!$P$8, YEAR($A354)=Master!$C$6), $K354, 0)","v":0},0,{"$f":"IF(AND(NOT(ISBLANK($O354)), $O354<'P&L'!$P$8), Z354, 0)","v":0},{"$f":"IF(OR(ISBLANK($O354), $O354>'BankRec Main Acct'!$E$8), Z354, 0)","v":0},0,{"$f":"IF(AND(NOT(ISBLANK($O354)), $O354<'P&L'!$P$8), AC354, 0)","v":0},{"$f":"IF(OR(ISBLANK($O354), $O354>'BankRec Main Acct'!$E$8), AC354, 0)","v":0},0,{"$f":"IF(AND(NOT(ISBLANK($S354)), $S354<'P&L'!$P$8), AF354, 0)","v":0},{"$f":"IF(OR(ISBLANK($S354), $S354>'BankRec Main Acct'!$E$8), AF354, 0)","v":0},0,{"$f":"IF(AND(NOT(ISBLANK($S354)), $S354<'P&L'!$P$8), AI354, 0)","v":0},{"$f":"IF(OR(ISBLANK($S354), $S354>'BankRec Main Acct'!$E$8), AI354, 0)","v":0},0,{"$f":"IF(AND(NOT(ISBLANK($U354)), $U354<'P&L'!$P$8), $AL354, 0)","v":0},{"$f":"IF(OR(ISBLANK($U354), $U354>'DebitCard Rec '!$E$8), $AL354, 0)","v":0},0,{"$f":"IF(AND(NOT(ISBLANK($U354)), $U354<'P&L'!$P$8), $AO354, 0)","v":0},{"$f":"IF(OR(ISBLANK($U354), $U354>'DebitCard Rec '!$E$8), $AO354, 0)","v":0},0,{"$f":"IF(AND($A354<'P&L'!$P$8, $X354='P&L'!$G$6), $AR354, 0)","v":0},0,{"$f":"IF(AND($A354<'P&L'!$P$8, $X354='P&L'!$G$6), $AT354, 0)","v":0}," "," "," "]
[null,null,null,null,null,null,null,null,null,null,null,null,null,null,null,null,null,null,null,null,null,null,"Jan-00",1900,{"$f":"IF(AND($A355<'P&L'!$P$8, YEAR($A355)=Master!$C$6), $K355, 0)","v":0},0,{"$f":"IF(AND(NOT(ISBLANK($O355)), $O355<'P&L'!$P$8), Z355, 0)","v":0},{"$f":"IF(OR(ISBLANK($O355), $O355>'BankRec Main Acct'!$E$8), Z355, 0)","v":0},0,{"$f":"IF(AND(NOT(ISBLANK($O355)), $O355<'P&L'!$P$8), AC355, 0)","v":0},{"$f":"IF(OR(ISBLANK($O355), $O355>'BankRec Main Acct'!$E$8), AC355, 0)","v":0},0,{"$f":"IF(AND(NOT(ISBLANK($S355)), $S355<'P&L'!$P$8), AF355, 0)","v":0},{"$f":"IF(OR(ISBLANK($S355), $S355>'BankRec Main Acct'!$E$8), AF355, 0)","v":0},0,{"$f":"IF(AND(NOT(ISBLANK($S355)), $S355<'P&L'!$P$8), AI355, 0)","v":0},{"$f":"IF(OR(ISBLANK($S355), $S355>'BankRec Main Acct'!$E$8), AI355, 0)","v":0},0,{"$f":"IF(AND(NOT(ISBLANK($U355)), $U355<'P&L'!$P$8), $AL355, 0)","v":0},{"$f":"IF(OR(ISBLANK($U355), $U355>'DebitCard Rec '!$E$8), $AL355, 0)","v":0},0,{"$f":"IF(AND(NOT(ISBLANK($U355)), $U355<'P&L'!$P$8), $AO355, 0)","v":0},{"$f":"IF(OR(ISBLANK($U355), $U355>'DebitCard Rec '!$E$8), $AO355, 0)","v":0},0,{"$f":"IF(AND($A355<'P&L'!$P$8, $X355='P&L'!$G$6), $AR355, 0)","v":0},0,{"$f":"IF(AND($A355<'P&L'!$P$8, $X355='P&L'!$G$6), $AT355, 0)","v":0}," "," "," "]
[null,null,null,null,null,null,null,null,null,null,null,null,null,null,null,null,null,null,null,null,null,null,"Jan-00",1900,{"$f":"IF(AND($A356<'P&L'!$P$8, YEAR($A356)=Master!$C$6), $K356, 0)","v":0},0,{"$f":"IF(AND(NOT(ISBLANK($O356)), $O356<'P&L'!$P$8), Z356, 0)","v":0},{"$f":"IF(OR(ISBLANK($O356), $O356>'BankRec Main Acct'!$E$8), Z356, 0)","v":0},0,{"$f":"IF(AND(NOT(ISBLANK($O356)), $O356<'P&L'!$P$8), AC356, 0)","v":0},{"$f":"IF(OR(ISBLANK($O356), $O356>'BankRec Main Acct'!$E$8), AC356, 0)","v":0},0,{"$f":"IF(AND(NOT(ISBLANK($S356)), $S356<'P&L'!$P$8), AF356, 0)","v":0},{"$f":"IF(OR(ISBLANK($S356), $S356>'BankRec Main Acct'!$E$8), AF356, 0)","v":0},0,{"$f":"IF(AND(NOT(ISBLANK($S356)), $S356<'P&L'!$P$8), AI356, 0)","v":0},{"$f":"IF(OR(ISBLANK($S356), $S356>'BankRec Main Acct'!$E$8), AI356, 0)","v":0},0,{"$f":"IF(AND(NOT(ISBLANK($U356)), $U356<'P&L'!$P$8), $AL356, 0)","v":0},{"$f":"IF(OR(ISBLANK($U356), $U356>'DebitCard Rec '!$E$8), $AL356, 0)","v":0},0,{"$f":"IF(AND(NOT(ISBLANK($U356)), $U356<'P&L'!$P$8), $AO356, 0)","v":0},{"$f":"IF(OR(ISBLANK($U356), $U356>'DebitCard Rec '!$E$8), $AO356, 0)","v":0},0,{"$f":"IF(AND($A356<'P&L'!$P$8, $X356='P&L'!$G$6), $AR356, 0)","v":0},0,{"$f":"IF(AND($A356<'P&L'!$P$8, $X356='P&L'!$G$6), $AT356, 0)","v":0}," "," "," "]
[null,null,null,null,null,null,null,null,null,null,null,null,null,null,null,null,null,null,null,null,null,null,"Jan-00",1900,{"$f":"IF(AND($A357<'P&L'!$P$8, YEAR($A357)=Master!$C$6), $K357, 0)","v":0},0,{"$f":"IF(AND(NOT(ISBLANK($O357)), $O357<'P&L'!$P$8), Z357, 0)","v":0},{"$f":"IF(OR(ISBLANK($O357), $O357>'BankRec Main Acct'!$E$8), Z357, 0)","v":0},0,{"$f":"IF(AND(NOT(ISBLANK($O357)), $O357<'P&L'!$P$8), AC357, 0)","v":0},{"$f":"IF(OR(ISBLANK($O357), $O357>'BankRec Main Acct'!$E$8), AC357, 0)","v":0},0,{"$f":"IF(AND(NOT(ISBLANK($S357)), $S357<'P&L'!$P$8), AF357, 0)","v":0},{"$f":"IF(OR(ISBLANK($S357), $S357>'BankRec Main Acct'!$E$8), AF357, 0)","v":0},0,{"$f":"IF(AND(NOT(ISBLANK($S357)), $S357<'P&L'!$P$8), AI357, 0)","v":0},{"$f":"IF(OR(ISBLANK($S357), $S357>'BankRec Main Acct'!$E$8), AI357, 0)","v":0},0,{"$f":"IF(AND(NOT(ISBLANK($U357)), $U357<'P&L'!$P$8), $AL357, 0)","v":0},{"$f":"IF(OR(ISBLANK($U357), $U357>'DebitCard Rec '!$E$8), $AL357, 0)","v":0},0,{"$f":"IF(AND(NOT(ISBLANK($U357)), $U357<'P&L'!$P$8), $AO357, 0)","v":0},{"$f":"IF(OR(ISBLANK($U357), $U357>'DebitCard Rec '!$E$8), $AO357, 0)","v":0},0,{"$f":"IF(AND($A357<'P&L'!$P$8, $X357='P&L'!$G$6), $AR357, 0)","v":0},0,{"$f":"IF(AND($A357<'P&L'!$P$8, $X357='P&L'!$G$6), $AT357, 0)","v":0}," "," "," "]
[null,null,null,null,null,null,null,null,null,null,null,null,null,null,null,null,null,null,null,null,null,null,"Jan-00",1900,{"$f":"IF(AND($A358<'P&L'!$P$8, YEAR($A358)=Master!$C$6), $K358, 0)","v":0},0,{"$f":"IF(AND(NOT(ISBLANK($O358)), $O358<'P&L'!$P$8), Z358, 0)","v":0},{"$f":"IF(OR(ISBLANK($O358), $O358>'BankRec Main Acct'!$E$8), Z358, 0)","v":0},0,{"$f":"IF(AND(NOT(ISBLANK($O358)), $O358<'P&L'!$P$8), AC358, 0)","v":0},{"$f":"IF(OR(ISBLANK($O358), $O358>'BankRec Main Acct'!$E$8), AC358, 0)","v":0},0,{"$f":"IF(AND(NOT(ISBLANK($S358)), $S358<'P&L'!$P$8), AF358, 0)","v":0},{"$f":"IF(OR(ISBLANK($S358), $S358>'BankRec Main Acct'!$E$8), AF358, 0)","v":0},0,{"$f":"IF(AND(NOT(ISBLANK($S358)), $S358<'P&L'!$P$8), AI358, 0)","v":0},{"$f":"IF(OR(ISBLANK($S358), $S358>'BankRec Main Acct'!$E$8), AI358, 0)","v":0},0,{"$f":"IF(AND(NOT(ISBLANK($U358)), $U358<'P&L'!$P$8), $AL358, 0)","v":0},{"$f":"IF(OR(ISBLANK($U358), $U358>'DebitCard Rec '!$E$8), $AL358, 0)","v":0},0,{"$f":"IF(AND(NOT(ISBLANK($U358)), $U358<'P&L'!$P$8), $AO358, 0)","v":0},{"$f":"IF(OR(ISBLANK($U358), $U358>'DebitCard Rec '!$E$8), $AO358, 0)","v":0},0,{"$f":"IF(AND($A358<'P&L'!$P$8, $X358='P&L'!$G$6), $AR358, 0)","v":0},0,{"$f":"IF(AND($A358<'P&L'!$P$8, $X358='P&L'!$G$6), $AT358, 0)","v":0}," "," "," "]
[null,null,null,null,null,null,null,null,null,null,null,null,null,null,null,null,null,null,null,null,null,null,"Jan-00",1900,{"$f":"IF(AND($A359<'P&L'!$P$8, YEAR($A359)=Master!$C$6), $K359, 0)","v":0},0,{"$f":"IF(AND(NOT(ISBLANK($O359)), $O359<'P&L'!$P$8), Z359, 0)","v":0},{"$f":"IF(OR(ISBLANK($O359), $O359>'BankRec Main Acct'!$E$8), Z359, 0)","v":0},0,{"$f":"IF(AND(NOT(ISBLANK($O359)), $O359<'P&L'!$P$8), AC359, 0)","v":0},{"$f":"IF(OR(ISBLANK($O359), $O359>'BankRec Main Acct'!$E$8), AC359, 0)","v":0},0,{"$f":"IF(AND(NOT(ISBLANK($S359)), $S359<'P&L'!$P$8), AF359, 0)","v":0},{"$f":"IF(OR(ISBLANK($S359), $S359>'BankRec Main Acct'!$E$8), AF359, 0)","v":0},0,{"$f":"IF(AND(NOT(ISBLANK($S359)), $S359<'P&L'!$P$8), AI359, 0)","v":0},{"$f":"IF(OR(ISBLANK($S359), $S359>'BankRec Main Acct'!$E$8), AI359, 0)","v":0},0,{"$f":"IF(AND(NOT(ISBLANK($U359)), $U359<'P&L'!$P$8), $AL359, 0)","v":0},{"$f":"IF(OR(ISBLANK($U359), $U359>'DebitCard Rec '!$E$8), $AL359, 0)","v":0},0,{"$f":"IF(AND(NOT(ISBLANK($U359)), $U359<'P&L'!$P$8), $AO359, 0)","v":0},{"$f":"IF(OR(ISBLANK($U359), $U359>'DebitCard Rec '!$E$8), $AO359, 0)","v":0},0,{"$f":"IF(AND($A359<'P&L'!$P$8, $X359='P&L'!$G$6), $AR359, 0)","v":0},0,{"$f":"IF(AND($A359<'P&L'!$P$8, $X359='P&L'!$G$6), $AT359, 0)","v":0}," "," "," "]
[null,null,null,null,null,null,null,null,null,null,null,null,null,null,null,null,null,null,null,null,null,null,"Jan-00",1900,{"$f":"IF(AND($A360<'P&L'!$P$8, YEAR($A360)=Master!$C$6), $K360, 0)","v":0},0,{"$f":"IF(AND(NOT(ISBLANK($O360)), $O360<'P&L'!$P$8), Z360, 0)","v":0},{"$f":"IF(OR(ISBLANK($O360), $O360>'BankRec Main Acct'!$E$8), Z360, 0)","v":0},0,{"$f":"IF(AND(NOT(ISBLANK($O360)), $O360<'P&L'!$P$8), AC360, 0)","v":0},{"$f":"IF(OR(ISBLANK($O360), $O360>'BankRec Main Acct'!$E$8), AC360, 0)","v":0},0,{"$f":"IF(AND(NOT(ISBLANK($S360)), $S360<'P&L'!$P$8), AF360, 0)","v":0},{"$f":"IF(OR(ISBLANK($S360), $S360>'BankRec Main Acct'!$E$8), AF360, 0)","v":0},0,{"$f":"IF(AND(NOT(ISBLANK($S360)), $S360<'P&L'!$P$8), AI360, 0)","v":0},{"$f":"IF(OR(ISBLANK($S360), $S360>'BankRec Main Acct'!$E$8), AI360, 0)","v":0},0,{"$f":"IF(AND(NOT(ISBLANK($U360)), $U360<'P&L'!$P$8), $AL360, 0)","v":0},{"$f":"IF(OR(ISBLANK($U360), $U360>'DebitCard Rec '!$E$8), $AL360, 0)","v":0},0,{"$f":"IF(AND(NOT(ISBLANK($U360)), $U360<'P&L'!$P$8), $AO360, 0)","v":0},{"$f":"IF(OR(ISBLANK($U360), $U360>'DebitCard Rec '!$E$8), $AO360, 0)","v":0},0,{"$f":"IF(AND($A360<'P&L'!$P$8, $X360='P&L'!$G$6), $AR360, 0)","v":0},0,{"$f":"IF(AND($A360<'P&L'!$P$8, $X360='P&L'!$G$6), $AT360, 0)","v":0}," "," "," "]
[null,null,null,null,null,null,null,null,null,null,null,null,null,null,null,null,null,null,null,null,null,null,"Jan-00",1900,{"$f":"IF(AND($A361<'P&L'!$P$8, YEAR($A361)=Master!$C$6), $K361, 0)","v":0},0,{"$f":"IF(AND(NOT(ISBLANK($O361)), $O361<'P&L'!$P$8), Z361, 0)","v":0},{"$f":"IF(OR(ISBLANK($O361), $O361>'BankRec Main Acct'!$E$8), Z361, 0)","v":0},0,{"$f":"IF(AND(NOT(ISBLANK($O361)), $O361<'P&L'!$P$8), AC361, 0)","v":0},{"$f":"IF(OR(ISBLANK($O361), $O361>'BankRec Main Acct'!$E$8), AC361, 0)","v":0},0,{"$f":"IF(AND(NOT(ISBLANK($S361)), $S361<'P&L'!$P$8), AF361, 0)","v":0},{"$f":"IF(OR(ISBLANK($S361), $S361>'BankRec Main Acct'!$E$8), AF361, 0)","v":0},0,{"$f":"IF(AND(NOT(ISBLANK($S361)), $S361<'P&L'!$P$8), AI361, 0)","v":0},{"$f":"IF(OR(ISBLANK($S361), $S361>'BankRec Main Acct'!$E$8), AI361, 0)","v":0},0,{"$f":"IF(AND(NOT(ISBLANK($U361)), $U361<'P&L'!$P$8), $AL361, 0)","v":0},{"$f":"IF(OR(ISBLANK($U361), $U361>'DebitCard Rec '!$E$8), $AL361, 0)","v":0},0,{"$f":"IF(AND(NOT(ISBLANK($U361)), $U361<'P&L'!$P$8), $AO361, 0)","v":0},{"$f":"IF(OR(ISBLANK($U361), $U361>'DebitCard Rec '!$E$8), $AO361, 0)","v":0},0,{"$f":"IF(AND($A361<'P&L'!$P$8, $X361='P&L'!$G$6), $AR361, 0)","v":0},0,{"$f":"IF(AND($A361<'P&L'!$P$8, $X361='P&L'!$G$6), $AT361, 0)","v":0}," "," "," "]
[null,null,null,null,null,null,null,null,null,null,null,null,null,null,null,null,null,null,null,null,null,null,"Jan-00",1900,{"$f":"IF(AND($A362<'P&L'!$P$8, YEAR($A362)=Master!$C$6), $K362, 0)","v":0},0,{"$f":"IF(AND(NOT(ISBLANK($O362)), $O362<'P&L'!$P$8), Z362, 0)","v":0},{"$f":"IF(OR(ISBLANK($O362), $O362>'BankRec Main Acct'!$E$8), Z362, 0)","v":0},0,{"$f":"IF(AND(NOT(ISBLANK($O362)), $O362<'P&L'!$P$8), AC362, 0)","v":0},{"$f":"IF(OR(ISBLANK($O362), $O362>'BankRec Main Acct'!$E$8), AC362, 0)","v":0},0,{"$f":"IF(AND(NOT(ISBLANK($S362)), $S362<'P&L'!$P$8), AF362, 0)","v":0},{"$f":"IF(OR(ISBLANK($S362), $S362>'BankRec Main Acct'!$E$8), AF362, 0)","v":0},0,{"$f":"IF(AND(NOT(ISBLANK($S362)), $S362<'P&L'!$P$8), AI362, 0)","v":0},{"$f":"IF(OR(ISBLANK($S362), $S362>'BankRec Main Acct'!$E$8), AI362, 0)","v":0},0,{"$f":"IF(AND(NOT(ISBLANK($U362)), $U362<'P&L'!$P$8), $AL362, 0)","v":0},{"$f":"IF(OR(ISBLANK($U362), $U362>'DebitCard Rec '!$E$8), $AL362, 0)","v":0},0,{"$f":"IF(AND(NOT(ISBLANK($U362)), $U362<'P&L'!$P$8), $AO362, 0)","v":0},{"$f":"IF(OR(ISBLANK($U362), $U362>'DebitCard Rec '!$E$8), $AO362, 0)","v":0},0,{"$f":"IF(AND($A362<'P&L'!$P$8, $X362='P&L'!$G$6), $AR362, 0)","v":0},0,{"$f":"IF(AND($A362<'P&L'!$P$8, $X362='P&L'!$G$6), $AT362, 0)","v":0}," "," "," "]
[null,null,null,null,null,null,null,null,null,null,null,null,null,null,null,null,null,null,null,null,null,null,"Jan-00",1900,{"$f":"IF(AND($A363<'P&L'!$P$8, YEAR($A363)=Master!$C$6), $K363, 0)","v":0},0,{"$f":"IF(AND(NOT(ISBLANK($O363)), $O363<'P&L'!$P$8), Z363, 0)","v":0},{"$f":"IF(OR(ISBLANK($O363), $O363>'BankRec Main Acct'!$E$8), Z363, 0)","v":0},0,{"$f":"IF(AND(NOT(ISBLANK($O363)), $O363<'P&L'!$P$8), AC363, 0)","v":0},{"$f":"IF(OR(ISBLANK($O363), $O363>'BankRec Main Acct'!$E$8), AC363, 0)","v":0},0,{"$f":"IF(AND(NOT(ISBLANK($S363)), $S363<'P&L'!$P$8), AF363, 0)","v":0},{"$f":"IF(OR(ISBLANK($S363), $S363>'BankRec Main Acct'!$E$8), AF363, 0)","v":0},0,{"$f":"IF(AND(NOT(ISBLANK($S363)), $S363<'P&L'!$P$8), AI363, 0)","v":0},{"$f":"IF(OR(ISBLANK($S363), $S363>'BankRec Main Acct'!$E$8), AI363, 0)","v":0},0,{"$f":"IF(AND(NOT(ISBLANK($U363)), $U363<'P&L'!$P$8), $AL363, 0)","v":0},{"$f":"IF(OR(ISBLANK($U363), $U363>'DebitCard Rec '!$E$8), $AL363, 0)","v":0},0,{"$f":"IF(AND(NOT(ISBLANK($U363)), $U363<'P&L'!$P$8), $AO363, 0)","v":0},{"$f":"IF(OR(ISBLANK($U363), $U363>'DebitCard Rec '!$E$8), $AO363, 0)","v":0},0,{"$f":"IF(AND($A363<'P&L'!$P$8, $X363='P&L'!$G$6), $AR363, 0)","v":0},0,{"$f":"IF(AND($A363<'P&L'!$P$8, $X363='P&L'!$G$6), $AT363, 0)","v":0}," "," "," "]
[null,null,null,null,null,null,null,null,null,null,null,null,null,null,null,null,null,null,null,null,null,null,"Jan-00",1900,{"$f":"IF(AND($A364<'P&L'!$P$8, YEAR($A364)=Master!$C$6), $K364, 0)","v":0},0,{"$f":"IF(AND(NOT(ISBLANK($O364)), $O364<'P&L'!$P$8), Z364, 0)","v":0},{"$f":"IF(OR(ISBLANK($O364), $O364>'BankRec Main Acct'!$E$8), Z364, 0)","v":0},0,{"$f":"IF(AND(NOT(ISBLANK($O364)), $O364<'P&L'!$P$8), AC364, 0)","v":0},{"$f":"IF(OR(ISBLANK($O364), $O364>'BankRec Main Acct'!$E$8), AC364, 0)","v":0},0,{"$f":"IF(AND(NOT(ISBLANK($S364)), $S364<'P&L'!$P$8), AF364, 0)","v":0},{"$f":"IF(OR(ISBLANK($S364), $S364>'BankRec Main Acct'!$E$8), AF364, 0)","v":0},0,{"$f":"IF(AND(NOT(ISBLANK($S364)), $S364<'P&L'!$P$8), AI364, 0)","v":0},{"$f":"IF(OR(ISBLANK($S364), $S364>'BankRec Main Acct'!$E$8), AI364, 0)","v":0},0,{"$f":"IF(AND(NOT(ISBLANK($U364)), $U364<'P&L'!$P$8), $AL364, 0)","v":0},{"$f":"IF(OR(ISBLANK($U364), $U364>'DebitCard Rec '!$E$8), $AL364, 0)","v":0},0,{"$f":"IF(AND(NOT(ISBLANK($U364)), $U364<'P&L'!$P$8), $AO364, 0)","v":0},{"$f":"IF(OR(ISBLANK($U364), $U364>'DebitCard Rec '!$E$8), $AO364, 0)","v":0},0,{"$f":"IF(AND($A364<'P&L'!$P$8, $X364='P&L'!$G$6), $AR364, 0)","v":0},0,{"$f":"IF(AND($A364<'P&L'!$P$8, $X364='P&L'!$G$6), $AT364, 0)","v":0}," "," "," "]
[null,null,null,null,null,null,null,null,null,null,null,null,null,null,null,null,null,null,null,null,null,null,"Jan-00",1900,{"$f":"IF(AND($A365<'P&L'!$P$8, YEAR($A365)=Master!$C$6), $K365, 0)","v":0},0,{"$f":"IF(AND(NOT(ISBLANK($O365)), $O365<'P&L'!$P$8), Z365, 0)","v":0},{"$f":"IF(OR(ISBLANK($O365), $O365>'BankRec Main Acct'!$E$8), Z365, 0)","v":0},0,{"$f":"IF(AND(NOT(ISBLANK($O365)), $O365<'P&L'!$P$8), AC365, 0)","v":0},{"$f":"IF(OR(ISBLANK($O365), $O365>'BankRec Main Acct'!$E$8), AC365, 0)","v":0},0,{"$f":"IF(AND(NOT(ISBLANK($S365)), $S365<'P&L'!$P$8), AF365, 0)","v":0},{"$f":"IF(OR(ISBLANK($S365), $S365>'BankRec Main Acct'!$E$8), AF365, 0)","v":0},0,{"$f":"IF(AND(NOT(ISBLANK($S365)), $S365<'P&L'!$P$8), AI365, 0)","v":0},{"$f":"IF(OR(ISBLANK($S365), $S365>'BankRec Main Acct'!$E$8), AI365, 0)","v":0},0,{"$f":"IF(AND(NOT(ISBLANK($U365)), $U365<'P&L'!$P$8), $AL365, 0)","v":0},{"$f":"IF(OR(ISBLANK($U365), $U365>'DebitCard Rec '!$E$8), $AL365, 0)","v":0},0,{"$f":"IF(AND(NOT(ISBLANK($U365)), $U365<'P&L'!$P$8), $AO365, 0)","v":0},{"$f":"IF(OR(ISBLANK($U365), $U365>'DebitCard Rec '!$E$8), $AO365, 0)","v":0},0,{"$f":"IF(AND($A365<'P&L'!$P$8, $X365='P&L'!$G$6), $AR365, 0)","v":0},0,{"$f":"IF(AND($A365<'P&L'!$P$8, $X365='P&L'!$G$6), $AT365, 0)","v":0}," "," "," "]
[null,null,null,null,null,null,null,null,null,null,null,null,null,null,null,null,null,null,null,null,null,null,"Jan-00",1900,{"$f":"IF(AND($A366<'P&L'!$P$8, YEAR($A366)=Master!$C$6), $K366, 0)","v":0},0,{"$f":"IF(AND(NOT(ISBLANK($O366)), $O366<'P&L'!$P$8), Z366, 0)","v":0},{"$f":"IF(OR(ISBLANK($O366), $O366>'BankRec Main Acct'!$E$8), Z366, 0)","v":0},0,{"$f":"IF(AND(NOT(ISBLANK($O366)), $O366<'P&L'!$P$8), AC366, 0)","v":0},{"$f":"IF(OR(ISBLANK($O366), $O366>'BankRec Main Acct'!$E$8), AC366, 0)","v":0},0,{"$f":"IF(AND(NOT(ISBLANK($S366)), $S366<'P&L'!$P$8), AF366, 0)","v":0},{"$f":"IF(OR(ISBLANK($S366), $S366>'BankRec Main Acct'!$E$8), AF366, 0)","v":0},0,{"$f":"IF(AND(NOT(ISBLANK($S366)), $S366<'P&L'!$P$8), AI366, 0)","v":0},{"$f":"IF(OR(ISBLANK($S366), $S366>'BankRec Main Acct'!$E$8), AI366, 0)","v":0},0,{"$f":"IF(AND(NOT(ISBLANK($U366)), $U366<'P&L'!$P$8), $AL366, 0)","v":0},{"$f":"IF(OR(ISBLANK($U366), $U366>'DebitCard Rec '!$E$8), $AL366, 0)","v":0},0,{"$f":"IF(AND(NOT(ISBLANK($U366)), $U366<'P&L'!$P$8), $AO366, 0)","v":0},{"$f":"IF(OR(ISBLANK($U366), $U366>'DebitCard Rec '!$E$8), $AO366, 0)","v":0},0,{"$f":"IF(AND($A366<'P&L'!$P$8, $X366='P&L'!$G$6), $AR366, 0)","v":0},0,{"$f":"IF(AND($A366<'P&L'!$P$8, $X366='P&L'!$G$6), $AT366, 0)","v":0}," "," "," "]
[null,null,null,null,null,null,null,null,null,null,null,null,null,null,null,null,null,null,null,null,null,null,"Jan-00",1900,{"$f":"IF(AND($A367<'P&L'!$P$8, YEAR($A367)=Master!$C$6), $K367, 0)","v":0},0,{"$f":"IF(AND(NOT(ISBLANK($O367)), $O367<'P&L'!$P$8), Z367, 0)","v":0},{"$f":"IF(OR(ISBLANK($O367), $O367>'BankRec Main Acct'!$E$8), Z367, 0)","v":0},0,{"$f":"IF(AND(NOT(ISBLANK($O367)), $O367<'P&L'!$P$8), AC367, 0)","v":0},{"$f":"IF(OR(ISBLANK($O367), $O367>'BankRec Main Acct'!$E$8), AC367, 0)","v":0},0,{"$f":"IF(AND(NOT(ISBLANK($S367)), $S367<'P&L'!$P$8), AF367, 0)","v":0},{"$f":"IF(OR(ISBLANK($S367), $S367>'BankRec Main Acct'!$E$8), AF367, 0)","v":0},0,{"$f":"IF(AND(NOT(ISBLANK($S367)), $S367<'P&L'!$P$8), AI367, 0)","v":0},{"$f":"IF(OR(ISBLANK($S367), $S367>'BankRec Main Acct'!$E$8), AI367, 0)","v":0},0,{"$f":"IF(AND(NOT(ISBLANK($U367)), $U367<'P&L'!$P$8), $AL367, 0)","v":0},{"$f":"IF(OR(ISBLANK($U367), $U367>'DebitCard Rec '!$E$8), $AL367, 0)","v":0},0,{"$f":"IF(AND(NOT(ISBLANK($U367)), $U367<'P&L'!$P$8), $AO367, 0)","v":0},{"$f":"IF(OR(ISBLANK($U367), $U367>'DebitCard Rec '!$E$8), $AO367, 0)","v":0},0,{"$f":"IF(AND($A367<'P&L'!$P$8, $X367='P&L'!$G$6), $AR367, 0)","v":0},0,{"$f":"IF(AND($A367<'P&L'!$P$8, $X367='P&L'!$G$6), $AT367, 0)","v":0}," "," "," "]
[null,null,null,null,null,null,null,null,null,null,null,null,null,null,null,null,null,null,null,null,null,null,"Jan-00",1900,{"$f":"IF(AND($A368<'P&L'!$P$8, YEAR($A368)=Master!$C$6), $K368, 0)","v":0},0,{"$f":"IF(AND(NOT(ISBLANK($O368)), $O368<'P&L'!$P$8), Z368, 0)","v":0},{"$f":"IF(OR(ISBLANK($O368), $O368>'BankRec Main Acct'!$E$8), Z368, 0)","v":0},0,{"$f":"IF(AND(NOT(ISBLANK($O368)), $O368<'P&L'!$P$8), AC368, 0)","v":0},{"$f":"IF(OR(ISBLANK($O368), $O368>'BankRec Main Acct'!$E$8), AC368, 0)","v":0},0,{"$f":"IF(AND(NOT(ISBLANK($S368)), $S368<'P&L'!$P$8), AF368, 0)","v":0},{"$f":"IF(OR(ISBLANK($S368), $S368>'BankRec Main Acct'!$E$8), AF368, 0)","v":0},0,{"$f":"IF(AND(NOT(ISBLANK($S368)), $S368<'P&L'!$P$8), AI368, 0)","v":0},{"$f":"IF(OR(ISBLANK($S368), $S368>'BankRec Main Acct'!$E$8), AI368, 0)","v":0},0,{"$f":"IF(AND(NOT(ISBLANK($U368)), $U368<'P&L'!$P$8), $AL368, 0)","v":0},{"$f":"IF(OR(ISBLANK($U368), $U368>'DebitCard Rec '!$E$8), $AL368, 0)","v":0},0,{"$f":"IF(AND(NOT(ISBLANK($U368)), $U368<'P&L'!$P$8), $AO368, 0)","v":0},{"$f":"IF(OR(ISBLANK($U368), $U368>'DebitCard Rec '!$E$8), $AO368, 0)","v":0},0,{"$f":"IF(AND($A368<'P&L'!$P$8, $X368='P&L'!$G$6), $AR368, 0)","v":0},0,{"$f":"IF(AND($A368<'P&L'!$P$8, $X368='P&L'!$G$6), $AT368, 0)","v":0}," "," "," "]
[null,null,null,null,null,null,null,null,null,null,null,null,null,null,null,null,null,null,null,null,null,null,"Jan-00",1900,{"$f":"IF(AND($A369<'P&L'!$P$8, YEAR($A369)=Master!$C$6), $K369, 0)","v":0},0,{"$f":"IF(AND(NOT(ISBLANK($O369)), $O369<'P&L'!$P$8), Z369, 0)","v":0},{"$f":"IF(OR(ISBLANK($O369), $O369>'BankRec Main Acct'!$E$8), Z369, 0)","v":0},0,{"$f":"IF(AND(NOT(ISBLANK($O369)), $O369<'P&L'!$P$8), AC369, 0)","v":0},{"$f":"IF(OR(ISBLANK($O369), $O369>'BankRec Main Acct'!$E$8), AC369, 0)","v":0},0,{"$f":"IF(AND(NOT(ISBLANK($S369)), $S369<'P&L'!$P$8), AF369, 0)","v":0},{"$f":"IF(OR(ISBLANK($S369), $S369>'BankRec Main Acct'!$E$8), AF369, 0)","v":0},0,{"$f":"IF(AND(NOT(ISBLANK($S369)), $S369<'P&L'!$P$8), AI369, 0)","v":0},{"$f":"IF(OR(ISBLANK($S369), $S369>'BankRec Main Acct'!$E$8), AI369, 0)","v":0},0,{"$f":"IF(AND(NOT(ISBLANK($U369)), $U369<'P&L'!$P$8), $AL369, 0)","v":0},{"$f":"IF(OR(ISBLANK($U369), $U369>'DebitCard Rec '!$E$8), $AL369, 0)","v":0},0,{"$f":"IF(AND(NOT(ISBLANK($U369)), $U369<'P&L'!$P$8), $AO369, 0)","v":0},{"$f":"IF(OR(ISBLANK($U369), $U369>'DebitCard Rec '!$E$8), $AO369, 0)","v":0},0,{"$f":"IF(AND($A369<'P&L'!$P$8, $X369='P&L'!$G$6), $AR369, 0)","v":0},0,{"$f":"IF(AND($A369<'P&L'!$P$8, $X369='P&L'!$G$6), $AT369, 0)","v":0}," "," "," "]
[null,null,null,null,null,null,null,null,null,null,null,null,null,null,null,null,null,null,null,null,null,null,"Jan-00",1900,{"$f":"IF(AND($A370<'P&L'!$P$8, YEAR($A370)=Master!$C$6), $K370, 0)","v":0},0,{"$f":"IF(AND(NOT(ISBLANK($O370)), $O370<'P&L'!$P$8), Z370, 0)","v":0},{"$f":"IF(OR(ISBLANK($O370), $O370>'BankRec Main Acct'!$E$8), Z370, 0)","v":0},0,{"$f":"IF(AND(NOT(ISBLANK($O370)), $O370<'P&L'!$P$8), AC370, 0)","v":0},{"$f":"IF(OR(ISBLANK($O370), $O370>'BankRec Main Acct'!$E$8), AC370, 0)","v":0},0,{"$f":"IF(AND(NOT(ISBLANK($S370)), $S370<'P&L'!$P$8), AF370, 0)","v":0},{"$f":"IF(OR(ISBLANK($S370), $S370>'BankRec Main Acct'!$E$8), AF370, 0)","v":0},0,{"$f":"IF(AND(NOT(ISBLANK($S370)), $S370<'P&L'!$P$8), AI370, 0)","v":0},{"$f":"IF(OR(ISBLANK($S370), $S370>'BankRec Main Acct'!$E$8), AI370, 0)","v":0},0,{"$f":"IF(AND(NOT(ISBLANK($U370)), $U370<'P&L'!$P$8), $AL370, 0)","v":0},{"$f":"IF(OR(ISBLANK($U370), $U370>'DebitCard Rec '!$E$8), $AL370, 0)","v":0},0,{"$f":"IF(AND(NOT(ISBLANK($U370)), $U370<'P&L'!$P$8), $AO370, 0)","v":0},{"$f":"IF(OR(ISBLANK($U370), $U370>'DebitCard Rec '!$E$8), $AO370, 0)","v":0},0,{"$f":"IF(AND($A370<'P&L'!$P$8, $X370='P&L'!$G$6), $AR370, 0)","v":0},0,{"$f":"IF(AND($A370<'P&L'!$P$8, $X370='P&L'!$G$6), $AT370, 0)","v":0}," "," "," "]
[null,null,null,null,null,null,null,null,null,null,null,null,null,null,null,null,null,null,null,null,null,null,"Jan-00",1900,{"$f":"IF(AND($A371<'P&L'!$P$8, YEAR($A371)=Master!$C$6), $K371, 0)","v":0},0,{"$f":"IF(AND(NOT(ISBLANK($O371)), $O371<'P&L'!$P$8), Z371, 0)","v":0},{"$f":"IF(OR(ISBLANK($O371), $O371>'BankRec Main Acct'!$E$8), Z371, 0)","v":0},0,{"$f":"IF(AND(NOT(ISBLANK($O371)), $O371<'P&L'!$P$8), AC371, 0)","v":0},{"$f":"IF(OR(ISBLANK($O371), $O371>'BankRec Main Acct'!$E$8), AC371, 0)","v":0},0,{"$f":"IF(AND(NOT(ISBLANK($S371)), $S371<'P&L'!$P$8), AF371, 0)","v":0},{"$f":"IF(OR(ISBLANK($S371), $S371>'BankRec Main Acct'!$E$8), AF371, 0)","v":0},0,{"$f":"IF(AND(NOT(ISBLANK($S371)), $S371<'P&L'!$P$8), AI371, 0)","v":0},{"$f":"IF(OR(ISBLANK($S371), $S371>'BankRec Main Acct'!$E$8), AI371, 0)","v":0},0,{"$f":"IF(AND(NOT(ISBLANK($U371)), $U371<'P&L'!$P$8), $AL371, 0)","v":0},{"$f":"IF(OR(ISBLANK($U371), $U371>'DebitCard Rec '!$E$8), $AL371, 0)","v":0},0,{"$f":"IF(AND(NOT(ISBLANK($U371)), $U371<'P&L'!$P$8), $AO371, 0)","v":0},{"$f":"IF(OR(ISBLANK($U371), $U371>'DebitCard Rec '!$E$8), $AO371, 0)","v":0},0,{"$f":"IF(AND($A371<'P&L'!$P$8, $X371='P&L'!$G$6), $AR371, 0)","v":0},0,{"$f":"IF(AND($A371<'P&L'!$P$8, $X371='P&L'!$G$6), $AT371, 0)","v":0}," "," "," "]
[null,null,null,null,null,null,null,null,null,null,null,null,null,null,null,null,null,null,null,null,null,null,"Jan-00",1900,{"$f":"IF(AND($A372<'P&L'!$P$8, YEAR($A372)=Master!$C$6), $K372, 0)","v":0},0,{"$f":"IF(AND(NOT(ISBLANK($O372)), $O372<'P&L'!$P$8), Z372, 0)","v":0},{"$f":"IF(OR(ISBLANK($O372), $O372>'BankRec Main Acct'!$E$8), Z372, 0)","v":0},0,{"$f":"IF(AND(NOT(ISBLANK($O372)), $O372<'P&L'!$P$8), AC372, 0)","v":0},{"$f":"IF(OR(ISBLANK($O372), $O372>'BankRec Main Acct'!$E$8), AC372, 0)","v":0},0,{"$f":"IF(AND(NOT(ISBLANK($S372)), $S372<'P&L'!$P$8), AF372, 0)","v":0},{"$f":"IF(OR(ISBLANK($S372), $S372>'BankRec Main Acct'!$E$8), AF372, 0)","v":0},0,{"$f":"IF(AND(NOT(ISBLANK($S372)), $S372<'P&L'!$P$8), AI372, 0)","v":0},{"$f":"IF(OR(ISBLANK($S372), $S372>'BankRec Main Acct'!$E$8), AI372, 0)","v":0},0,{"$f":"IF(AND(NOT(ISBLANK($U372)), $U372<'P&L'!$P$8), $AL372, 0)","v":0},{"$f":"IF(OR(ISBLANK($U372), $U372>'DebitCard Rec '!$E$8), $AL372, 0)","v":0},0,{"$f":"IF(AND(NOT(ISBLANK($U372)), $U372<'P&L'!$P$8), $AO372, 0)","v":0},{"$f":"IF(OR(ISBLANK($U372), $U372>'DebitCard Rec '!$E$8), $AO372, 0)","v":0},0,{"$f":"IF(AND($A372<'P&L'!$P$8, $X372='P&L'!$G$6), $AR372, 0)","v":0},0,{"$f":"IF(AND($A372<'P&L'!$P$8, $X372='P&L'!$G$6), $AT372, 0)","v":0}," "," "," "]
[null,null,null,null,null,null,null,null,null,null,null,null,null,null,null,null,null,null,null,null,null,null,"Jan-00",1900,{"$f":"IF(AND($A373<'P&L'!$P$8, YEAR($A373)=Master!$C$6), $K373, 0)","v":0},0,{"$f":"IF(AND(NOT(ISBLANK($O373)), $O373<'P&L'!$P$8), Z373, 0)","v":0},{"$f":"IF(OR(ISBLANK($O373), $O373>'BankRec Main Acct'!$E$8), Z373, 0)","v":0},0,{"$f":"IF(AND(NOT(ISBLANK($O373)), $O373<'P&L'!$P$8), AC373, 0)","v":0},{"$f":"IF(OR(ISBLANK($O373), $O373>'BankRec Main Acct'!$E$8), AC373, 0)","v":0},0,{"$f":"IF(AND(NOT(ISBLANK($S373)), $S373<'P&L'!$P$8), AF373, 0)","v":0},{"$f":"IF(OR(ISBLANK($S373), $S373>'BankRec Main Acct'!$E$8), AF373, 0)","v":0},0,{"$f":"IF(AND(NOT(ISBLANK($S373)), $S373<'P&L'!$P$8), AI373, 0)","v":0},{"$f":"IF(OR(ISBLANK($S373), $S373>'BankRec Main Acct'!$E$8), AI373, 0)","v":0},0,{"$f":"IF(AND(NOT(ISBLANK($U373)), $U373<'P&L'!$P$8), $AL373, 0)","v":0},{"$f":"IF(OR(ISBLANK($U373), $U373>'DebitCard Rec '!$E$8), $AL373, 0)","v":0},0,{"$f":"IF(AND(NOT(ISBLANK($U373)), $U373<'P&L'!$P$8), $AO373, 0)","v":0},{"$f":"IF(OR(ISBLANK($U373), $U373>'DebitCard Rec '!$E$8), $AO373, 0)","v":0},0,{"$f":"IF(AND($A373<'P&L'!$P$8, $X373='P&L'!$G$6), $AR373, 0)","v":0},0,{"$f":"IF(AND($A373<'P&L'!$P$8, $X373='P&L'!$G$6), $AT373, 0)","v":0}," "," "," "]
[null,null,null,null,null,null,null,null,null,null,null,null,null,null,null,null,null,null,null,null,null,null,"Jan-00",1900,{"$f":"IF(AND($A374<'P&L'!$P$8, YEAR($A374)=Master!$C$6), $K374, 0)","v":0},0,{"$f":"IF(AND(NOT(ISBLANK($O374)), $O374<'P&L'!$P$8), Z374, 0)","v":0},{"$f":"IF(OR(ISBLANK($O374), $O374>'BankRec Main Acct'!$E$8), Z374, 0)","v":0},0,{"$f":"IF(AND(NOT(ISBLANK($O374)), $O374<'P&L'!$P$8), AC374, 0)","v":0},{"$f":"IF(OR(ISBLANK($O374), $O374>'BankRec Main Acct'!$E$8), AC374, 0)","v":0},0,{"$f":"IF(AND(NOT(ISBLANK($S374)), $S374<'P&L'!$P$8), AF374, 0)","v":0},{"$f":"IF(OR(ISBLANK($S374), $S374>'BankRec Main Acct'!$E$8), AF374, 0)","v":0},0,{"$f":"IF(AND(NOT(ISBLANK($S374)), $S374<'P&L'!$P$8), AI374, 0)","v":0},{"$f":"IF(OR(ISBLANK($S374), $S374>'BankRec Main Acct'!$E$8), AI374, 0)","v":0},0,{"$f":"IF(AND(NOT(ISBLANK($U374)), $U374<'P&L'!$P$8), $AL374, 0)","v":0},{"$f":"IF(OR(ISBLANK($U374), $U374>'DebitCard Rec '!$E$8), $AL374, 0)","v":0},0,{"$f":"IF(AND(NOT(ISBLANK($U374)), $U374<'P&L'!$P$8), $AO374, 0)","v":0},{"$f":"IF(OR(ISBLANK($U374), $U374>'DebitCard Rec '!$E$8), $AO374, 0)","v":0},0,{"$f":"IF(AND($A374<'P&L'!$P$8, $X374='P&L'!$G$6), $AR374, 0)","v":0},0,{"$f":"IF(AND($A374<'P&L'!$P$8, $X374='P&L'!$G$6), $AT374, 0)","v":0}," "," "," "]
[null,null,null,null,null,null,null,null,null,null,null,null,null,null,null,null,null,null,null,null,null,null,"Jan-00",1900,{"$f":"IF(AND($A375<'P&L'!$P$8, YEAR($A375)=Master!$C$6), $K375, 0)","v":0},0,{"$f":"IF(AND(NOT(ISBLANK($O375)), $O375<'P&L'!$P$8), Z375, 0)","v":0},{"$f":"IF(OR(ISBLANK($O375), $O375>'BankRec Main Acct'!$E$8), Z375, 0)","v":0},0,{"$f":"IF(AND(NOT(ISBLANK($O375)), $O375<'P&L'!$P$8), AC375, 0)","v":0},{"$f":"IF(OR(ISBLANK($O375), $O375>'BankRec Main Acct'!$E$8), AC375, 0)","v":0},0,{"$f":"IF(AND(NOT(ISBLANK($S375)), $S375<'P&L'!$P$8), AF375, 0)","v":0},{"$f":"IF(OR(ISBLANK($S375), $S375>'BankRec Main Acct'!$E$8), AF375, 0)","v":0},0,{"$f":"IF(AND(NOT(ISBLANK($S375)), $S375<'P&L'!$P$8), AI375, 0)","v":0},{"$f":"IF(OR(ISBLANK($S375), $S375>'BankRec Main Acct'!$E$8), AI375, 0)","v":0},0,{"$f":"IF(AND(NOT(ISBLANK($U375)), $U375<'P&L'!$P$8), $AL375, 0)","v":0},{"$f":"IF(OR(ISBLANK($U375), $U375>'DebitCard Rec '!$E$8), $AL375, 0)","v":0},0,{"$f":"IF(AND(NOT(ISBLANK($U375)), $U375<'P&L'!$P$8), $AO375, 0)","v":0},{"$f":"IF(OR(ISBLANK($U375), $U375>'DebitCard Rec '!$E$8), $AO375, 0)","v":0},0,{"$f":"IF(AND($A375<'P&L'!$P$8, $X375='P&L'!$G$6), $AR375, 0)","v":0},0,{"$f":"IF(AND($A375<'P&L'!$P$8, $X375='P&L'!$G$6), $AT375, 0)","v":0}," "," "," "]
[null,null,null,null,null,null,null,null,null,null,null,null,null,null,null,null,null,null,null,null,null,null,"Jan-00",1900,{"$f":"IF(AND($A376<'P&L'!$P$8, YEAR($A376)=Master!$C$6), $K376, 0)","v":0},0,{"$f":"IF(AND(NOT(ISBLANK($O376)), $O376<'P&L'!$P$8), Z376, 0)","v":0},{"$f":"IF(OR(ISBLANK($O376), $O376>'BankRec Main Acct'!$E$8), Z376, 0)","v":0},0,{"$f":"IF(AND(NOT(ISBLANK($O376)), $O376<'P&L'!$P$8), AC376, 0)","v":0},{"$f":"IF(OR(ISBLANK($O376), $O376>'BankRec Main Acct'!$E$8), AC376, 0)","v":0},0,{"$f":"IF(AND(NOT(ISBLANK($S376)), $S376<'P&L'!$P$8), AF376, 0)","v":0},{"$f":"IF(OR(ISBLANK($S376), $S376>'BankRec Main Acct'!$E$8), AF376, 0)","v":0},0,{"$f":"IF(AND(NOT(ISBLANK($S376)), $S376<'P&L'!$P$8), AI376, 0)","v":0},{"$f":"IF(OR(ISBLANK($S376), $S376>'BankRec Main Acct'!$E$8), AI376, 0)","v":0},0,{"$f":"IF(AND(NOT(ISBLANK($U376)), $U376<'P&L'!$P$8), $AL376, 0)","v":0},{"$f":"IF(OR(ISBLANK($U376), $U376>'DebitCard Rec '!$E$8), $AL376, 0)","v":0},0,{"$f":"IF(AND(NOT(ISBLANK($U376)), $U376<'P&L'!$P$8), $AO376, 0)","v":0},{"$f":"IF(OR(ISBLANK($U376), $U376>'DebitCard Rec '!$E$8), $AO376, 0)","v":0},0,{"$f":"IF(AND($A376<'P&L'!$P$8, $X376='P&L'!$G$6), $AR376, 0)","v":0},0,{"$f":"IF(AND($A376<'P&L'!$P$8, $X376='P&L'!$G$6), $AT376, 0)","v":0}," "," "," "]
[null,null,null,null,null,null,null,null,null,null,null,null,null,null,null,null,null,null,null,null,null,null,"Jan-00",1900,{"$f":"IF(AND($A377<'P&L'!$P$8, YEAR($A377)=Master!$C$6), $K377, 0)","v":0},0,{"$f":"IF(AND(NOT(ISBLANK($O377)), $O377<'P&L'!$P$8), Z377, 0)","v":0},{"$f":"IF(OR(ISBLANK($O377), $O377>'BankRec Main Acct'!$E$8), Z377, 0)","v":0},0,{"$f":"IF(AND(NOT(ISBLANK($O377)), $O377<'P&L'!$P$8), AC377, 0)","v":0},{"$f":"IF(OR(ISBLANK($O377), $O377>'BankRec Main Acct'!$E$8), AC377, 0)","v":0},0,{"$f":"IF(AND(NOT(ISBLANK($S377)), $S377<'P&L'!$P$8), AF377, 0)","v":0},{"$f":"IF(OR(ISBLANK($S377), $S377>'BankRec Main Acct'!$E$8), AF377, 0)","v":0},0,{"$f":"IF(AND(NOT(ISBLANK($S377)), $S377<'P&L'!$P$8), AI377, 0)","v":0},{"$f":"IF(OR(ISBLANK($S377), $S377>'BankRec Main Acct'!$E$8), AI377, 0)","v":0},0,{"$f":"IF(AND(NOT(ISBLANK($U377)), $U377<'P&L'!$P$8), $AL377, 0)","v":0},{"$f":"IF(OR(ISBLANK($U377), $U377>'DebitCard Rec '!$E$8), $AL377, 0)","v":0},0,{"$f":"IF(AND(NOT(ISBLANK($U377)), $U377<'P&L'!$P$8), $AO377, 0)","v":0},{"$f":"IF(OR(ISBLANK($U377), $U377>'DebitCard Rec '!$E$8), $AO377, 0)","v":0},0,{"$f":"IF(AND($A377<'P&L'!$P$8, $X377='P&L'!$G$6), $AR377, 0)","v":0},0,{"$f":"IF(AND($A377<'P&L'!$P$8, $X377='P&L'!$G$6), $AT377, 0)","v":0}," "," "," "]
[null,null,null,null,null,null,null,null,null,null,null,null,null,null,null,null,null,null,null,null,null,null,"Jan-00",1900,{"$f":"IF(AND($A378<'P&L'!$P$8, YEAR($A378)=Master!$C$6), $K378, 0)","v":0},0,{"$f":"IF(AND(NOT(ISBLANK($O378)), $O378<'P&L'!$P$8), Z378, 0)","v":0},{"$f":"IF(OR(ISBLANK($O378), $O378>'BankRec Main Acct'!$E$8), Z378, 0)","v":0},0,{"$f":"IF(AND(NOT(ISBLANK($O378)), $O378<'P&L'!$P$8), AC378, 0)","v":0},{"$f":"IF(OR(ISBLANK($O378), $O378>'BankRec Main Acct'!$E$8), AC378, 0)","v":0},0,{"$f":"IF(AND(NOT(ISBLANK($S378)), $S378<'P&L'!$P$8), AF378, 0)","v":0},{"$f":"IF(OR(ISBLANK($S378), $S378>'BankRec Main Acct'!$E$8), AF378, 0)","v":0},0,{"$f":"IF(AND(NOT(ISBLANK($S378)), $S378<'P&L'!$P$8), AI378, 0)","v":0},{"$f":"IF(OR(ISBLANK($S378), $S378>'BankRec Main Acct'!$E$8), AI378, 0)","v":0},0,{"$f":"IF(AND(NOT(ISBLANK($U378)), $U378<'P&L'!$P$8), $AL378, 0)","v":0},{"$f":"IF(OR(ISBLANK($U378), $U378>'DebitCard Rec '!$E$8), $AL378, 0)","v":0},0,{"$f":"IF(AND(NOT(ISBLANK($U378)), $U378<'P&L'!$P$8), $AO378, 0)","v":0},{"$f":"IF(OR(ISBLANK($U378), $U378>'DebitCard Rec '!$E$8), $AO378, 0)","v":0},0,{"$f":"IF(AND($A378<'P&L'!$P$8, $X378='P&L'!$G$6), $AR378, 0)","v":0},0,{"$f":"IF(AND($A378<'P&L'!$P$8, $X378='P&L'!$G$6), $AT378, 0)","v":0}," "," "," "]
[null,null,null,null,null,null,null,null,null,null,null,null,null,null,null,null,null,null,null,null,null,null,"Jan-00",1900,{"$f":"IF(AND($A379<'P&L'!$P$8, YEAR($A379)=Master!$C$6), $K379, 0)","v":0},0,{"$f":"IF(AND(NOT(ISBLANK($O379)), $O379<'P&L'!$P$8), Z379, 0)","v":0},{"$f":"IF(OR(ISBLANK($O379), $O379>'BankRec Main Acct'!$E$8), Z379, 0)","v":0},0,{"$f":"IF(AND(NOT(ISBLANK($O379)), $O379<'P&L'!$P$8), AC379, 0)","v":0},{"$f":"IF(OR(ISBLANK($O379), $O379>'BankRec Main Acct'!$E$8), AC379, 0)","v":0},0,{"$f":"IF(AND(NOT(ISBLANK($S379)), $S379<'P&L'!$P$8), AF379, 0)","v":0},{"$f":"IF(OR(ISBLANK($S379), $S379>'BankRec Main Acct'!$E$8), AF379, 0)","v":0},0,{"$f":"IF(AND(NOT(ISBLANK($S379)), $S379<'P&L'!$P$8), AI379, 0)","v":0},{"$f":"IF(OR(ISBLANK($S379), $S379>'BankRec Main Acct'!$E$8), AI379, 0)","v":0},0,{"$f":"IF(AND(NOT(ISBLANK($U379)), $U379<'P&L'!$P$8), $AL379, 0)","v":0},{"$f":"IF(OR(ISBLANK($U379), $U379>'DebitCard Rec '!$E$8), $AL379, 0)","v":0},0,{"$f":"IF(AND(NOT(ISBLANK($U379)), $U379<'P&L'!$P$8), $AO379, 0)","v":0},{"$f":"IF(OR(ISBLANK($U379), $U379>'DebitCard Rec '!$E$8), $AO379, 0)","v":0},0,{"$f":"IF(AND($A379<'P&L'!$P$8, $X379='P&L'!$G$6), $AR379, 0)","v":0},0,{"$f":"IF(AND($A379<'P&L'!$P$8, $X379='P&L'!$G$6), $AT379, 0)","v":0}," "," "," "]
[null,null,null,null,null,null,null,null,null,null,null,null,null,null,null,null,null,null,null,null,null,null,"Jan-00",1900,{"$f":"IF(AND($A380<'P&L'!$P$8, YEAR($A380)=Master!$C$6), $K380, 0)","v":0},0,{"$f":"IF(AND(NOT(ISBLANK($O380)), $O380<'P&L'!$P$8), Z380, 0)","v":0},{"$f":"IF(OR(ISBLANK($O380), $O380>'BankRec Main Acct'!$E$8), Z380, 0)","v":0},0,{"$f":"IF(AND(NOT(ISBLANK($O380)), $O380<'P&L'!$P$8), AC380, 0)","v":0},{"$f":"IF(OR(ISBLANK($O380), $O380>'BankRec Main Acct'!$E$8), AC380, 0)","v":0},0,{"$f":"IF(AND(NOT(ISBLANK($S380)), $S380<'P&L'!$P$8), AF380, 0)","v":0},{"$f":"IF(OR(ISBLANK($S380), $S380>'BankRec Main Acct'!$E$8), AF380, 0)","v":0},0,{"$f":"IF(AND(NOT(ISBLANK($S380)), $S380<'P&L'!$P$8), AI380, 0)","v":0},{"$f":"IF(OR(ISBLANK($S380), $S380>'BankRec Main Acct'!$E$8), AI380, 0)","v":0},0,{"$f":"IF(AND(NOT(ISBLANK($U380)), $U380<'P&L'!$P$8), $AL380, 0)","v":0},{"$f":"IF(OR(ISBLANK($U380), $U380>'DebitCard Rec '!$E$8), $AL380, 0)","v":0},0,{"$f":"IF(AND(NOT(ISBLANK($U380)), $U380<'P&L'!$P$8), $AO380, 0)","v":0},{"$f":"IF(OR(ISBLANK($U380), $U380>'DebitCard Rec '!$E$8), $AO380, 0)","v":0},0,{"$f":"IF(AND($A380<'P&L'!$P$8, $X380='P&L'!$G$6), $AR380, 0)","v":0},0,{"$f":"IF(AND($A380<'P&L'!$P$8, $X380='P&L'!$G$6), $AT380, 0)","v":0}," "," "," "]
[null,null,null,null,null,null,null,null,null,null,null,null,null,null,null,null,null,null,null,null,null,null,"Jan-00",1900,{"$f":"IF(AND($A381<'P&L'!$P$8, YEAR($A381)=Master!$C$6), $K381, 0)","v":0},0,{"$f":"IF(AND(NOT(ISBLANK($O381)), $O381<'P&L'!$P$8), Z381, 0)","v":0},{"$f":"IF(OR(ISBLANK($O381), $O381>'BankRec Main Acct'!$E$8), Z381, 0)","v":0},0,{"$f":"IF(AND(NOT(ISBLANK($O381)), $O381<'P&L'!$P$8), AC381, 0)","v":0},{"$f":"IF(OR(ISBLANK($O381), $O381>'BankRec Main Acct'!$E$8), AC381, 0)","v":0},0,{"$f":"IF(AND(NOT(ISBLANK($S381)), $S381<'P&L'!$P$8), AF381, 0)","v":0},{"$f":"IF(OR(ISBLANK($S381), $S381>'BankRec Main Acct'!$E$8), AF381, 0)","v":0},0,{"$f":"IF(AND(NOT(ISBLANK($S381)), $S381<'P&L'!$P$8), AI381, 0)","v":0},{"$f":"IF(OR(ISBLANK($S381), $S381>'BankRec Main Acct'!$E$8), AI381, 0)","v":0},0,{"$f":"IF(AND(NOT(ISBLANK($U381)), $U381<'P&L'!$P$8), $AL381, 0)","v":0},{"$f":"IF(OR(ISBLANK($U381), $U381>'DebitCard Rec '!$E$8), $AL381, 0)","v":0},0,{"$f":"IF(AND(NOT(ISBLANK($U381)), $U381<'P&L'!$P$8), $AO381, 0)","v":0},{"$f":"IF(OR(ISBLANK($U381), $U381>'DebitCard Rec '!$E$8), $AO381, 0)","v":0},0,{"$f":"IF(AND($A381<'P&L'!$P$8, $X381='P&L'!$G$6), $AR381, 0)","v":0},0,{"$f":"IF(AND($A381<'P&L'!$P$8, $X381='P&L'!$G$6), $AT381, 0)","v":0}," "," "," "]
[null,null,null,null,null,null,null,null,null,null,null,null,null,null,null,null,null,null,null,null,null,null,"Jan-00",1900,{"$f":"IF(AND($A382<'P&L'!$P$8, YEAR($A382)=Master!$C$6), $K382, 0)","v":0},0,{"$f":"IF(AND(NOT(ISBLANK($O382)), $O382<'P&L'!$P$8), Z382, 0)","v":0},{"$f":"IF(OR(ISBLANK($O382), $O382>'BankRec Main Acct'!$E$8), Z382, 0)","v":0},0,{"$f":"IF(AND(NOT(ISBLANK($O382)), $O382<'P&L'!$P$8), AC382, 0)","v":0},{"$f":"IF(OR(ISBLANK($O382), $O382>'BankRec Main Acct'!$E$8), AC382, 0)","v":0},0,{"$f":"IF(AND(NOT(ISBLANK($S382)), $S382<'P&L'!$P$8), AF382, 0)","v":0},{"$f":"IF(OR(ISBLANK($S382), $S382>'BankRec Main Acct'!$E$8), AF382, 0)","v":0},0,{"$f":"IF(AND(NOT(ISBLANK($S382)), $S382<'P&L'!$P$8), AI382, 0)","v":0},{"$f":"IF(OR(ISBLANK($S382), $S382>'BankRec Main Acct'!$E$8), AI382, 0)","v":0},0,{"$f":"IF(AND(NOT(ISBLANK($U382)), $U382<'P&L'!$P$8), $AL382, 0)","v":0},{"$f":"IF(OR(ISBLANK($U382), $U382>'DebitCard Rec '!$E$8), $AL382, 0)","v":0},0,{"$f":"IF(AND(NOT(ISBLANK($U382)), $U382<'P&L'!$P$8), $AO382, 0)","v":0},{"$f":"IF(OR(ISBLANK($U382), $U382>'DebitCard Rec '!$E$8), $AO382, 0)","v":0},0,{"$f":"IF(AND($A382<'P&L'!$P$8, $X382='P&L'!$G$6), $AR382, 0)","v":0},0,{"$f":"IF(AND($A382<'P&L'!$P$8, $X382='P&L'!$G$6), $AT382, 0)","v":0}," "," "," "]
[null,null,null,null,null,null,null,null,null,null,null,null,null,null,null,null,null,null,null,null,null,null,"Jan-00",1900,{"$f":"IF(AND($A383<'P&L'!$P$8, YEAR($A383)=Master!$C$6), $K383, 0)","v":0},0,{"$f":"IF(AND(NOT(ISBLANK($O383)), $O383<'P&L'!$P$8), Z383, 0)","v":0},{"$f":"IF(OR(ISBLANK($O383), $O383>'BankRec Main Acct'!$E$8), Z383, 0)","v":0},0,{"$f":"IF(AND(NOT(ISBLANK($O383)), $O383<'P&L'!$P$8), AC383, 0)","v":0},{"$f":"IF(OR(ISBLANK($O383), $O383>'BankRec Main Acct'!$E$8), AC383, 0)","v":0},0,{"$f":"IF(AND(NOT(ISBLANK($S383)), $S383<'P&L'!$P$8), AF383, 0)","v":0},{"$f":"IF(OR(ISBLANK($S383), $S383>'BankRec Main Acct'!$E$8), AF383, 0)","v":0},0,{"$f":"IF(AND(NOT(ISBLANK($S383)), $S383<'P&L'!$P$8), AI383, 0)","v":0},{"$f":"IF(OR(ISBLANK($S383), $S383>'BankRec Main Acct'!$E$8), AI383, 0)","v":0},0,{"$f":"IF(AND(NOT(ISBLANK($U383)), $U383<'P&L'!$P$8), $AL383, 0)","v":0},{"$f":"IF(OR(ISBLANK($U383), $U383>'DebitCard Rec '!$E$8), $AL383, 0)","v":0},0,{"$f":"IF(AND(NOT(ISBLANK($U383)), $U383<'P&L'!$P$8), $AO383, 0)","v":0},{"$f":"IF(OR(ISBLANK($U383), $U383>'DebitCard Rec '!$E$8), $AO383, 0)","v":0},0,{"$f":"IF(AND($A383<'P&L'!$P$8, $X383='P&L'!$G$6), $AR383, 0)","v":0},0,{"$f":"IF(AND($A383<'P&L'!$P$8, $X383='P&L'!$G$6), $AT383, 0)","v":0}," "," "," "]
[null,null,null,null,null,null,null,null,null,null,null,null,null,null,null,null,null,null,null,null,null,null,"Jan-00",1900,{"$f":"IF(AND($A384<'P&L'!$P$8, YEAR($A384)=Master!$C$6), $K384, 0)","v":0},0,{"$f":"IF(AND(NOT(ISBLANK($O384)), $O384<'P&L'!$P$8), Z384, 0)","v":0},{"$f":"IF(OR(ISBLANK($O384), $O384>'BankRec Main Acct'!$E$8), Z384, 0)","v":0},0,{"$f":"IF(AND(NOT(ISBLANK($O384)), $O384<'P&L'!$P$8), AC384, 0)","v":0},{"$f":"IF(OR(ISBLANK($O384), $O384>'BankRec Main Acct'!$E$8), AC384, 0)","v":0},0,{"$f":"IF(AND(NOT(ISBLANK($S384)), $S384<'P&L'!$P$8), AF384, 0)","v":0},{"$f":"IF(OR(ISBLANK($S384), $S384>'BankRec Main Acct'!$E$8), AF384, 0)","v":0},0,{"$f":"IF(AND(NOT(ISBLANK($S384)), $S384<'P&L'!$P$8), AI384, 0)","v":0},{"$f":"IF(OR(ISBLANK($S384), $S384>'BankRec Main Acct'!$E$8), AI384, 0)","v":0},0,{"$f":"IF(AND(NOT(ISBLANK($U384)), $U384<'P&L'!$P$8), $AL384, 0)","v":0},{"$f":"IF(OR(ISBLANK($U384), $U384>'DebitCard Rec '!$E$8), $AL384, 0)","v":0},0,{"$f":"IF(AND(NOT(ISBLANK($U384)), $U384<'P&L'!$P$8), $AO384, 0)","v":0},{"$f":"IF(OR(ISBLANK($U384), $U384>'DebitCard Rec '!$E$8), $AO384, 0)","v":0},0,{"$f":"IF(AND($A384<'P&L'!$P$8, $X384='P&L'!$G$6), $AR384, 0)","v":0},0,{"$f":"IF(AND($A384<'P&L'!$P$8, $X384='P&L'!$G$6), $AT384, 0)","v":0}," "," "," "]
[null,null,null,null,null,null,null,null,null,null,null,null,null,null,null,null,null,null,null,null,null,null,"Jan-00",1900,{"$f":"IF(AND($A385<'P&L'!$P$8, YEAR($A385)=Master!$C$6), $K385, 0)","v":0},0,{"$f":"IF(AND(NOT(ISBLANK($O385)), $O385<'P&L'!$P$8), Z385, 0)","v":0},{"$f":"IF(OR(ISBLANK($O385), $O385>'BankRec Main Acct'!$E$8), Z385, 0)","v":0},0,{"$f":"IF(AND(NOT(ISBLANK($O385)), $O385<'P&L'!$P$8), AC385, 0)","v":0},{"$f":"IF(OR(ISBLANK($O385), $O385>'BankRec Main Acct'!$E$8), AC385, 0)","v":0},0,{"$f":"IF(AND(NOT(ISBLANK($S385)), $S385<'P&L'!$P$8), AF385, 0)","v":0},{"$f":"IF(OR(ISBLANK($S385), $S385>'BankRec Main Acct'!$E$8), AF385, 0)","v":0},0,{"$f":"IF(AND(NOT(ISBLANK($S385)), $S385<'P&L'!$P$8), AI385, 0)","v":0},{"$f":"IF(OR(ISBLANK($S385), $S385>'BankRec Main Acct'!$E$8), AI385, 0)","v":0},0,{"$f":"IF(AND(NOT(ISBLANK($U385)), $U385<'P&L'!$P$8), $AL385, 0)","v":0},{"$f":"IF(OR(ISBLANK($U385), $U385>'DebitCard Rec '!$E$8), $AL385, 0)","v":0},0,{"$f":"IF(AND(NOT(ISBLANK($U385)), $U385<'P&L'!$P$8), $AO385, 0)","v":0},{"$f":"IF(OR(ISBLANK($U385), $U385>'DebitCard Rec '!$E$8), $AO385, 0)","v":0},0,{"$f":"IF(AND($A385<'P&L'!$P$8, $X385='P&L'!$G$6), $AR385, 0)","v":0},0,{"$f":"IF(AND($A385<'P&L'!$P$8, $X385='P&L'!$G$6), $AT385, 0)","v":0}," "," "," "]
[null,null,null,null,null,null,null,null,null,null,null,null,null,null,null,null,null,null,null,null,null,null,"Jan-00",1900,{"$f":"IF(AND($A386<'P&L'!$P$8, YEAR($A386)=Master!$C$6), $K386, 0)","v":0},0,{"$f":"IF(AND(NOT(ISBLANK($O386)), $O386<'P&L'!$P$8), Z386, 0)","v":0},{"$f":"IF(OR(ISBLANK($O386), $O386>'BankRec Main Acct'!$E$8), Z386, 0)","v":0},0,{"$f":"IF(AND(NOT(ISBLANK($O386)), $O386<'P&L'!$P$8), AC386, 0)","v":0},{"$f":"IF(OR(ISBLANK($O386), $O386>'BankRec Main Acct'!$E$8), AC386, 0)","v":0},0,{"$f":"IF(AND(NOT(ISBLANK($S386)), $S386<'P&L'!$P$8), AF386, 0)","v":0},{"$f":"IF(OR(ISBLANK($S386), $S386>'BankRec Main Acct'!$E$8), AF386, 0)","v":0},0,{"$f":"IF(AND(NOT(ISBLANK($S386)), $S386<'P&L'!$P$8), AI386, 0)","v":0},{"$f":"IF(OR(ISBLANK($S386), $S386>'BankRec Main Acct'!$E$8), AI386, 0)","v":0},0,{"$f":"IF(AND(NOT(ISBLANK($U386)), $U386<'P&L'!$P$8), $AL386, 0)","v":0},{"$f":"IF(OR(ISBLANK($U386), $U386>'DebitCard Rec '!$E$8), $AL386, 0)","v":0},0,{"$f":"IF(AND(NOT(ISBLANK($U386)), $U386<'P&L'!$P$8), $AO386, 0)","v":0},{"$f":"IF(OR(ISBLANK($U386), $U386>'DebitCard Rec '!$E$8), $AO386, 0)","v":0},0,{"$f":"IF(AND($A386<'P&L'!$P$8, $X386='P&L'!$G$6), $AR386, 0)","v":0},0,{"$f":"IF(AND($A386<'P&L'!$P$8, $X386='P&L'!$G$6), $AT386, 0)","v":0}," "," "," "]
[null,null,null,null,null,null,null,null,null,null,null,null,null,null,null,null,null,null,null,null,null,null,"Jan-00",1900,{"$f":"IF(AND($A387<'P&L'!$P$8, YEAR($A387)=Master!$C$6), $K387, 0)","v":0},0,{"$f":"IF(AND(NOT(ISBLANK($O387)), $O387<'P&L'!$P$8), Z387, 0)","v":0},{"$f":"IF(OR(ISBLANK($O387), $O387>'BankRec Main Acct'!$E$8), Z387, 0)","v":0},0,{"$f":"IF(AND(NOT(ISBLANK($O387)), $O387<'P&L'!$P$8), AC387, 0)","v":0},{"$f":"IF(OR(ISBLANK($O387), $O387>'BankRec Main Acct'!$E$8), AC387, 0)","v":0},0,{"$f":"IF(AND(NOT(ISBLANK($S387)), $S387<'P&L'!$P$8), AF387, 0)","v":0},{"$f":"IF(OR(ISBLANK($S387), $S387>'BankRec Main Acct'!$E$8), AF387, 0)","v":0},0,{"$f":"IF(AND(NOT(ISBLANK($S387)), $S387<'P&L'!$P$8), AI387, 0)","v":0},{"$f":"IF(OR(ISBLANK($S387), $S387>'BankRec Main Acct'!$E$8), AI387, 0)","v":0},0,{"$f":"IF(AND(NOT(ISBLANK($U387)), $U387<'P&L'!$P$8), $AL387, 0)","v":0},{"$f":"IF(OR(ISBLANK($U387), $U387>'DebitCard Rec '!$E$8), $AL387, 0)","v":0},0,{"$f":"IF(AND(NOT(ISBLANK($U387)), $U387<'P&L'!$P$8), $AO387, 0)","v":0},{"$f":"IF(OR(ISBLANK($U387), $U387>'DebitCard Rec '!$E$8), $AO387, 0)","v":0},0,{"$f":"IF(AND($A387<'P&L'!$P$8, $X387='P&L'!$G$6), $AR387, 0)","v":0},0,{"$f":"IF(AND($A387<'P&L'!$P$8, $X387='P&L'!$G$6), $AT387, 0)","v":0}," "," "," "]
[null,null,null,null,null,null,null,null,null,null,null,null,null,null,null,null,null,null,null,null,null,null,"Jan-00",1900,{"$f":"IF(AND($A388<'P&L'!$P$8, YEAR($A388)=Master!$C$6), $K388, 0)","v":0},0,{"$f":"IF(AND(NOT(ISBLANK($O388)), $O388<'P&L'!$P$8), Z388, 0)","v":0},{"$f":"IF(OR(ISBLANK($O388), $O388>'BankRec Main Acct'!$E$8), Z388, 0)","v":0},0,{"$f":"IF(AND(NOT(ISBLANK($O388)), $O388<'P&L'!$P$8), AC388, 0)","v":0},{"$f":"IF(OR(ISBLANK($O388), $O388>'BankRec Main Acct'!$E$8), AC388, 0)","v":0},0,{"$f":"IF(AND(NOT(ISBLANK($S388)), $S388<'P&L'!$P$8), AF388, 0)","v":0},{"$f":"IF(OR(ISBLANK($S388), $S388>'BankRec Main Acct'!$E$8), AF388, 0)","v":0},0,{"$f":"IF(AND(NOT(ISBLANK($S388)), $S388<'P&L'!$P$8), AI388, 0)","v":0},{"$f":"IF(OR(ISBLANK($S388), $S388>'BankRec Main Acct'!$E$8), AI388, 0)","v":0},0,{"$f":"IF(AND(NOT(ISBLANK($U388)), $U388<'P&L'!$P$8), $AL388, 0)","v":0},{"$f":"IF(OR(ISBLANK($U388), $U388>'DebitCard Rec '!$E$8), $AL388, 0)","v":0},0,{"$f":"IF(AND(NOT(ISBLANK($U388)), $U388<'P&L'!$P$8), $AO388, 0)","v":0},{"$f":"IF(OR(ISBLANK($U388), $U388>'DebitCard Rec '!$E$8), $AO388, 0)","v":0},{"$f":"IF($AV388=\"Petty cash Receipt\", $K388, 0)","v":0},{"$f":"IF(AND($A388<'P&L'!$P$8, $X388='P&L'!$G$6), $AR388, 0)","v":0},{"$f":"IF($AV388=\"Petty cash Payment\", $K388, 0)","v":0},{"$f":"IF(AND($A388<'P&L'!$P$8, $X388='P&L'!$G$6), $AT388, 0)","v":0}," ",{"$f":"IF(C388=\"Receipt\",CONCATENATE(D388,\" \", F388), \" \")","v":" "},{"$f":"IF(C388= \"Payment\", CONCATENATE(F388,\" \",E388), \" \")","v":" "}]
[null,null,null,null,null,null,null,null,null,null,null,null,null,null,null,null,null,null,null,null,null,null,"Jan-00",1900,{"$f":"IF(AND($A389<'P&L'!$P$8, YEAR($A389)=Master!$C$6), $K389, 0)","v":0},{"$f":"IF(AND($C389=\"Receipt\",$B389<>\"debit card\",$B389<>\"petty cash\",$B389<>\"Cash_Sub\",$B389<>\"Cheque_Sub\", $B389<>\"EFT_Sub\"),$K389,0)","v":0},{"$f":"IF(AND(NOT(ISBLANK($O389)), $O389<'P&L'!$P$8), Z389, 0)","v":0},{"$f":"IF(OR(ISBLANK($O389), $O389>'BankRec Main Acct'!$E$8), Z389, 0)","v":0},{"$f":"IF(AND($C389=\"Payment\", $B389<>\"debit card\", $B389<>\"petty cash\", $B389<>\"Cash_Sub\", $B389<>\"Cheque_Sub\", $B389<>\"EFT_Sub\"), $K389, 0)","v":0},{"$f":"IF(AND(NOT(ISBLANK($O389)), $O389<'P&L'!$P$8), AC389, 0)","v":0},{"$f":"IF(OR(ISBLANK($O389), $O389>'BankRec Main Acct'!$E$8), AC389, 0)","v":0},{"$f":"IF(AND($C389=\"Receipt\",$B389<>\"debit card\",$B389<>\"petty cash\",$B389<>\"Cash_Main\",$B389<>\"Cheque_Main\", $B389<>\"EFT_Main\"),$K389,0)","v":0},{"$f":"IF(AND(NOT(ISBLANK($S389)), $S389<'P&L'!$P$8), AF389, 0)","v":0},{"$f":"IF(OR(ISBLANK($S389), $S389>'BankRec Main Acct'!$E$8), AF389, 0)","v":0},{"$f":"IF(AND($C389=\"Payment\", $B389<>\"debit card\", $B389<>\"petty cash\", $B389<>\"Cash_Main\", $B389<>\"Cheque_Main\", $B389<>\"EFT_Main\"), $K389, 0)","v":0},{"$f":"IF(AND(NOT(ISBLANK($S389)), $S389<'P&L'!$P$8), AI389, 0)","v":0},{"$f":"IF(OR(ISBLANK($S389), $S389>'BankRec Main Acct'!$E$8), AI389, 0)","v":0},0,{"$f":"IF(AND(NOT(ISBLANK($U389)), $U389<'P&L'!$P$8), $AL389, 0)","v":0},{"$f":"IF(OR(ISBLANK($U389), $U389>'DebitCard Rec '!$E$8), $AL389, 0)","v":0},0,{"$f":"IF(AND(NOT(ISBLANK($U389)), $U389<'P&L'!$P$8), $AO389, 0)","v":0},{"$f":"IF(OR(ISBLANK($U389), $U389>'DebitCard Rec '!$E$8), $AO389, 0)","v":0},0,{"$f":"IF(AND($A389<'P&L'!$P$8, $X389='P&L'!$G$6), $AR389, 0)","v":0},0,{"$f":"IF(AND($A389<'P&L'!$P$8, $X389='P&L'!$G$6), $AT389, 0)","v":0}," "," "," "]
[null,null,null,null,null,null,null,null,null,null,null,null,null,null,null,null,null,null,null,null,null,null,"Jan-00",1900,{"$f":"IF(AND($A390<'P&L'!$P$8, YEAR($A390)=Master!$C$6), $K390, 0)","v":0},0,{"$f":"IF(AND(NOT(ISBLANK($O390)), $O390<'P&L'!$P$8), Z390, 0)","v":0},{"$f":"IF(OR(ISBLANK($O390), $O390>'BankRec Main Acct'!$E$8), Z390, 0)","v":0},0,{"$f":"IF(AND(NOT(ISBLANK($O390)), $O390<'P&L'!$P$8), AC390, 0)","v":0},{"$f":"IF(OR(ISBLANK($O390), $O390>'BankRec Main Acct'!$E$8), AC390, 0)","v":0},0,{"$f":"IF(AND(NOT(ISBLANK($S390)), $S390<'P&L'!$P$8), AF390, 0)","v":0},{"$f":"IF(OR(ISBLANK($S390), $S390>'BankRec Main Acct'!$E$8), AF390, 0)","v":0},0,{"$f":"IF(AND(NOT(ISBLANK($S390)), $S390<'P&L'!$P$8), AI390, 0)","v":0},{"$f":"IF(OR(ISBLANK($S390), $S390>'BankRec Main Acct'!$E$8), AI390, 0)","v":0},0,{"$f":"IF(AND(NOT(ISBLANK($U390)), $U390<'P&L'!$P$8), $AL390, 0)","v":0},{"$f":"IF(OR(ISBLANK($U390), $U390>'DebitCard Rec '!$E$8), $AL390, 0)","v":0},0,{"$f":"IF(AND(NOT(ISBLANK($U390)), $U390<'P&L'!$P$8), $AO390, 0)","v":0},{"$f":"IF(OR(ISBLANK($U390), $U390>'DebitCard Rec '!$E$8), $AO390, 0)","v":0},0,{"$f":"IF(AND($A390<'P&L'!$P$8, $X390='P&L'!$G$6), $AR390, 0)","v":0},0,{"$f":"IF(AND($A390<'P&L'!$P$8, $X390='P&L'!$G$6), $AT390, 0)","v":0}," "," "," "]
[null,null,null,null,null,null,null,null,null,null,null,null,null,null,null,null,null,null,null,null,null,null,"Jan-00",1900,{"$f":"IF(AND($A391<'P&L'!$P$8, YEAR($A391)=Master!$C$6), $K391, 0)","v":0},0,{"$f":"IF(AND(NOT(ISBLANK($O391)), $O391<'P&L'!$P$8), Z391, 0)","v":0},{"$f":"IF(OR(ISBLANK($O391), $O391>'BankRec Main Acct'!$E$8), Z391, 0)","v":0},0,{"$f":"IF(AND(NOT(ISBLANK($O391)), $O391<'P&L'!$P$8), AC391, 0)","v":0},{"$f":"IF(OR(ISBLANK($O391), $O391>'BankRec Main Acct'!$E$8), AC391, 0)","v":0},0,{"$f":"IF(AND(NOT(ISBLANK($S391)), $S391<'P&L'!$P$8), AF391, 0)","v":0},{"$f":"IF(OR(ISBLANK($S391), $S391>'BankRec Main Acct'!$E$8), AF391, 0)","v":0},0,{"$f":"IF(AND(NOT(ISBLANK($S391)), $S391<'P&L'!$P$8), AI391, 0)","v":0},{"$f":"IF(OR(ISBLANK($S391), $S391>'BankRec Main Acct'!$E$8), AI391, 0)","v":0},0,{"$f":"IF(AND(NOT(ISBLANK($U391)), $U391<'P&L'!$P$8), $AL391, 0)","v":0},{"$f":"IF(OR(ISBLANK($U391), $U391>'DebitCard Rec '!$E$8), $AL391, 0)","v":0},0,{"$f":"IF(AND(NOT(ISBLANK($U391)), $U391<'P&L'!$P$8), $AO391, 0)","v":0},{"$f":"IF(OR(ISBLANK($U391), $U391>'DebitCard Rec '!$E$8), $AO391, 0)","v":0},0,{"$f":"IF(AND($A391<'P&L'!$P$8, $X391='P&L'!$G$6), $AR391, 0)","v":0},0,{"$f":"IF(AND($A391<'P&L'!$P$8, $X391='P&L'!$G$6), $AT391, 0)","v":0}," "," "," "]
[null,null,null,null,null,null,null,null,null,null,null,null,null,null,null,null,null,null,null,null,null,null,"Jan-00",1900,{"$f":"IF(AND($A392<'P&L'!$P$8, YEAR($A392)=Master!$C$6), $K392, 0)","v":0},0,{"$f":"IF(AND(NOT(ISBLANK($O392)), $O392<'P&L'!$P$8), Z392, 0)","v":0},{"$f":"IF(OR(ISBLANK($O392), $O392>'BankRec Main Acct'!$E$8), Z392, 0)","v":0},0,{"$f":"IF(AND(NOT(ISBLANK($O392)), $O392<'P&L'!$P$8), AC392, 0)","v":0},{"$f":"IF(OR(ISBLANK($O392), $O392>'BankRec Main Acct'!$E$8), AC392, 0)","v":0},0,{"$f":"IF(AND(NOT(ISBLANK($S392)), $S392<'P&L'!$P$8), AF392, 0)","v":0},{"$f":"IF(OR(ISBLANK($S392), $S392>'BankRec Main Acct'!$E$8), AF392, 0)","v":0},0,{"$f":"IF(AND(NOT(ISBLANK($S392)), $S392<'P&L'!$P$8), AI392, 0)","v":0},{"$f":"IF(OR(ISBLANK($S392), $S392>'BankRec Main Acct'!$E$8), AI392, 0)","v":0},0,{"$f":"IF(AND(NOT(ISBLANK($U392)), $U392<'P&L'!$P$8), $AL392, 0)","v":0},{"$f":"IF(OR(ISBLANK($U392), $U392>'DebitCard Rec '!$E$8), $AL392, 0)","v":0},0,{"$f":"IF(AND(NOT(ISBLANK($U392)), $U392<'P&L'!$P$8), $AO392, 0)","v":0},{"$f":"IF(OR(ISBLANK($U392), $U392>'DebitCard Rec '!$E$8), $AO392, 0)","v":0},0,{"$f":"IF(AND($A392<'P&L'!$P$8, $X392='P&L'!$G$6), $AR392, 0)","v":0},0,{"$f":"IF(AND($A392<'P&L'!$P$8, $X392='P&L'!$G$6), $AT392, 0)","v":0}," "," "," "]
[null,null,null,null,null,null,null,null,null,null,null,null,null,null,null,null,null,null,null,null,null,null,"Jan-00",1900,{"$f":"IF(AND($A393<'P&L'!$P$8, YEAR($A393)=Master!$C$6), $K393, 0)","v":0},0,{"$f":"IF(AND(NOT(ISBLANK($O393)), $O393<'P&L'!$P$8), Z393, 0)","v":0},{"$f":"IF(OR(ISBLANK($O393), $O393>'BankRec Main Acct'!$E$8), Z393, 0)","v":0},0,{"$f":"IF(AND(NOT(ISBLANK($O393)), $O393<'P&L'!$P$8), AC393, 0)","v":0},{"$f":"IF(OR(ISBLANK($O393), $O393>'BankRec Main Acct'!$E$8), AC393, 0)","v":0},0,{"$f":"IF(AND(NOT(ISBLANK($S393)), $S393<'P&L'!$P$8), AF393, 0)","v":0},{"$f":"IF(OR(ISBLANK($S393), $S393>'BankRec Main Acct'!$E$8), AF393, 0)","v":0},0,{"$f":"IF(AND(NOT(ISBLANK($S393)), $S393<'P&L'!$P$8), AI393, 0)","v":0},{"$f":"IF(OR(ISBLANK($S393), $S393>'BankRec Main Acct'!$E$8), AI393, 0)","v":0},0,{"$f":"IF(AND(NOT(ISBLANK($U393)), $U393<'P&L'!$P$8), $AL393, 0)","v":0},{"$f":"IF(OR(ISBLANK($U393), $U393>'DebitCard Rec '!$E$8), $AL393, 0)","v":0},0,{"$f":"IF(AND(NOT(ISBLANK($U393)), $U393<'P&L'!$P$8), $AO393, 0)","v":0},{"$f":"IF(OR(ISBLANK($U393), $U393>'DebitCard Rec '!$E$8), $AO393, 0)","v":0},0,{"$f":"IF(AND($A393<'P&L'!$P$8, $X393='P&L'!$G$6), $AR393, 0)","v":0},0,{"$f":"IF(AND($A393<'P&L'!$P$8, $X393='P&L'!$G$6), $AT393, 0)","v":0}," "," "," "]
[null,null,null,null,null,null,null,null,null,null,null,null,null,null,null,null,null,null,null,null,null,null,"Jan-00",1900,{"$f":"IF(AND($A394<'P&L'!$P$8, YEAR($A394)=Master!$C$6), $K394, 0)","v":0},0,{"$f":"IF(AND(NOT(ISBLANK($O394)), $O394<'P&L'!$P$8), Z394, 0)","v":0},{"$f":"IF(OR(ISBLANK($O394), $O394>'BankRec Main Acct'!$E$8), Z394, 0)","v":0},0,{"$f":"IF(AND(NOT(ISBLANK($O394)), $O394<'P&L'!$P$8), AC394, 0)","v":0},{"$f":"IF(OR(ISBLANK($O394), $O394>'BankRec Main Acct'!$E$8), AC394, 0)","v":0},0,{"$f":"IF(AND(NOT(ISBLANK($S394)), $S394<'P&L'!$P$8), AF394, 0)","v":0},{"$f":"IF(OR(ISBLANK($S394), $S394>'BankRec Main Acct'!$E$8), AF394, 0)","v":0},0,{"$f":"IF(AND(NOT(ISBLANK($S394)), $S394<'P&L'!$P$8), AI394, 0)","v":0},{"$f":"IF(OR(ISBLANK($S394), $S394>'BankRec Main Acct'!$E$8), AI394, 0)","v":0},0,{"$f":"IF(AND(NOT(ISBLANK($U394)), $U394<'P&L'!$P$8), $AL394, 0)","v":0},{"$f":"IF(OR(ISBLANK($U394), $U394>'DebitCard Rec '!$E$8), $AL394, 0)","v":0},0,{"$f":"IF(AND(NOT(ISBLANK($U394)), $U394<'P&L'!$P$8), $AO394, 0)","v":0},{"$f":"IF(OR(ISBLANK($U394), $U394>'DebitCard Rec '!$E$8), $AO394, 0)","v":0},0,{"$f":"IF(AND($A394<'P&L'!$P$8, $X394='P&L'!$G$6), $AR394, 0)","v":0},0,{"$f":"IF(AND($A394<'P&L'!$P$8, $X394='P&L'!$G$6), $AT394, 0)","v":0}," "," "," "]
[null,null,null,null,null,null,null,null,null,null,null,null,null,null,null,null,null,null,null,null,null,null,"Jan-00",1900,{"$f":"IF(AND($A395<'P&L'!$P$8, YEAR($A395)=Master!$C$6), $K395, 0)","v":0},0,{"$f":"IF(AND(NOT(ISBLANK($O395)), $O395<'P&L'!$P$8), Z395, 0)","v":0},{"$f":"IF(OR(ISBLANK($O395), $O395>'BankRec Main Acct'!$E$8), Z395, 0)","v":0},0,{"$f":"IF(AND(NOT(ISBLANK($O395)), $O395<'P&L'!$P$8), AC395, 0)","v":0},{"$f":"IF(OR(ISBLANK($O395), $O395>'BankRec Main Acct'!$E$8), AC395, 0)","v":0},0,{"$f":"IF(AND(NOT(ISBLANK($S395)), $S395<'P&L'!$P$8), AF395, 0)","v":0},{"$f":"IF(OR(ISBLANK($S395), $S395>'BankRec Main Acct'!$E$8), AF395, 0)","v":0},0,{"$f":"IF(AND(NOT(ISBLANK($S395)), $S395<'P&L'!$P$8), AI395, 0)","v":0},{"$f":"IF(OR(ISBLANK($S395), $S395>'BankRec Main Acct'!$E$8), AI395, 0)","v":0},0,{"$f":"IF(AND(NOT(ISBLANK($U395)), $U395<'P&L'!$P$8), $AL395, 0)","v":0},{"$f":"IF(OR(ISBLANK($U395), $U395>'DebitCard Rec '!$E$8), $AL395, 0)","v":0},0,{"$f":"IF(AND(NOT(ISBLANK($U395)), $U395<'P&L'!$P$8), $AO395, 0)","v":0},{"$f":"IF(OR(ISBLANK($U395), $U395>'DebitCard Rec '!$E$8), $AO395, 0)","v":0},0,{"$f":"IF(AND($A395<'P&L'!$P$8, $X395='P&L'!$G$6), $AR395, 0)","v":0},0,{"$f":"IF(AND($A395<'P&L'!$P$8, $X395='P&L'!$G$6), $AT395, 0)","v":0},{"$f":"CONCATENATE(B395,\" \",C395)","v":" "}," "," "]
[null,null,null,null,null,null,null,null,null,null,null,null,null,null,null,null,null,null,null,null,null,null,"Jan-00",1900,{"$f":"IF(AND($A396<'P&L'!$P$8, YEAR($A396)=Master!$C$6), $K396, 0)","v":0},0,{"$f":"IF(AND(NOT(ISBLANK($O396)), $O396<'P&L'!$P$8), Z396, 0)","v":0},{"$f":"IF(OR(ISBLANK($O396), $O396>'BankRec Main Acct'!$E$8), Z396, 0)","v":0},0,{"$f":"IF(AND(NOT(ISBLANK($O396)), $O396<'P&L'!$P$8), AC396, 0)","v":0},{"$f":"IF(OR(ISBLANK($O396), $O396>'BankRec Main Acct'!$E$8), AC396, 0)","v":0},0,{"$f":"IF(AND(NOT(ISBLANK($S396)), $S396<'P&L'!$P$8), AF396, 0)","v":0},{"$f":"IF(OR(ISBLANK($S396), $S396>'BankRec Main Acct'!$E$8), AF396, 0)","v":0},0,{"$f":"IF(AND(NOT(ISBLANK($S396)), $S396<'P&L'!$P$8), AI396, 0)","v":0},{"$f":"IF(OR(ISBLANK($S396), $S396>'BankRec Main Acct'!$E$8), AI396, 0)","v":0},0,{"$f":"IF(AND(NOT(ISBLANK($U396)), $U396<'P&L'!$P$8), $AL396, 0)","v":0},{"$f":"IF(OR(ISBLANK($U396), $U396>'DebitCard Rec '!$E$8), $AL396, 0)","v":0},0,{"$f":"IF(AND(NOT(ISBLANK($U396)), $U396<'P&L'!$P$8), $AO396, 0)","v":0},{"$f":"IF(OR(ISBLANK($U396), $U396>'DebitCard Rec '!$E$8), $AO396, 0)","v":0},0,{"$f":"IF(AND($A396<'P&L'!$P$8, $X396='P&L'!$G$6), $AR396, 0)","v":0},0,{"$f":"IF(AND($A396<'P&L'!$P$8, $X396='P&L'!$G$6), $AT396, 0)","v":0}," "," "," "]
[null,null,null,null,null,null,null,null,null,null,null,null,null,null,null,null,null,null,null,null,null,null,"Jan-00",1900,{"$f":"IF(AND($A397<'P&L'!$P$8, YEAR($A397)=Master!$C$6), $K397, 0)","v":0},0,{"$f":"IF(AND(NOT(ISBLANK($O397)), $O397<'P&L'!$P$8), Z397, 0)","v":0},{"$f":"IF(OR(ISBLANK($O397), $O397>'BankRec Main Acct'!$E$8), Z397, 0)","v":0},0,{"$f":"IF(AND(NOT(ISBLANK($O397)), $O397<'P&L'!$P$8), AC397, 0)","v":0},{"$f":"IF(OR(ISBLANK($O397), $O397>'BankRec Main Acct'!$E$8), AC397, 0)","v":0},0,{"$f":"IF(AND(NOT(ISBLANK($S397)), $S397<'P&L'!$P$8), AF397, 0)","v":0},{"$f":"IF(OR(ISBLANK($S397), $S397>'BankRec Main Acct'!$E$8), AF397, 0)","v":0},0,{"$f":"IF(AND(NOT(ISBLANK($S397)), $S397<'P&L'!$P$8), AI397, 0)","v":0},{"$f":"IF(OR(ISBLANK($S397), $S397>'BankRec Main Acct'!$E$8), AI397, 0)","v":0},0,{"$f":"IF(AND(NOT(ISBLANK($U397)), $U397<'P&L'!$P$8), $AL397, 0)","v":0},{"$f":"IF(OR(ISBLANK($U397), $U397>'DebitCard Rec '!$E$8), $AL397, 0)","v":0},0,{"$f":"IF(AND(NOT(ISBLANK($U397)), $U397<'P&L'!$P$8), $AO397, 0)","v":0},{"$f":"IF(OR(ISBLANK($U397), $U397>'DebitCard Rec '!$E$8), $AO397, 0)","v":0},0,{"$f":"IF(AND($A397<'P&L'!$P$8, $X397='P&L'!$G$6), $AR397, 0)","v":0},0,{"$f":"IF(AND($A397<'P&L'!$P$8, $X397='P&L'!$G$6), $AT397, 0)","v":0}," "," "," "]
[null,null,null,null,null,null,null,null,null,null,null,null,null,null,null,null,null,null,null,null,null,null,"Jan-00",1900,{"$f":"IF(AND($A398<'P&L'!$P$8, YEAR($A398)=Master!$C$6), $K398, 0)","v":0},0,{"$f":"IF(AND(NOT(ISBLANK($O398)), $O398<'P&L'!$P$8), Z398, 0)","v":0},{"$f":"IF(OR(ISBLANK($O398), $O398>'BankRec Main Acct'!$E$8), Z398, 0)","v":0},0,{"$f":"IF(AND(NOT(ISBLANK($O398)), $O398<'P&L'!$P$8), AC398, 0)","v":0},{"$f":"IF(OR(ISBLANK($O398), $O398>'BankRec Main Acct'!$E$8), AC398, 0)","v":0},0,{"$f":"IF(AND(NOT(ISBLANK($S398)), $S398<'P&L'!$P$8), AF398, 0)","v":0},{"$f":"IF(OR(ISBLANK($S398), $S398>'BankRec Main Acct'!$E$8), AF398, 0)","v":0},0,{"$f":"IF(AND(NOT(ISBLANK($S398)), $S398<'P&L'!$P$8), AI398, 0)","v":0},{"$f":"IF(OR(ISBLANK($S398), $S398>'BankRec Main Acct'!$E$8), AI398, 0)","v":0},0,{"$f":"IF(AND(NOT(ISBLANK($U398)), $U398<'P&L'!$P$8), $AL398, 0)","v":0},{"$f":"IF(OR(ISBLANK($U398), $U398>'DebitCard Rec '!$E$8), $AL398, 0)","v":0},0,{"$f":"IF(AND(NOT(ISBLANK($U398)), $U398<'P&L'!$P$8), $AO398, 0)","v":0},{"$f":"IF(OR(ISBLANK($U398), $U398>'DebitCard Rec '!$E$8), $AO398, 0)","v":0},0,{"$f":"IF(AND($A398<'P&L'!$P$8, $X398='P&L'!$G$6), $AR398, 0)","v":0},0,{"$f":"IF(AND($A398<'P&L'!$P$8, $X398='P&L'!$G$6), $AT398, 0)","v":0}," "," "," "]
[null,null,null,null,null,null,null,null,null,null,null,null,null,null,null,null,null,null,null,null,null,null,"Jan-00",1900,{"$f":"IF(AND($A399<'P&L'!$P$8, YEAR($A399)=Master!$C$6), $K399, 0)","v":0},0,{"$f":"IF(AND(NOT(ISBLANK($O399)), $O399<'P&L'!$P$8), Z399, 0)","v":0},{"$f":"IF(OR(ISBLANK($O399), $O399>'BankRec Main Acct'!$E$8), Z399, 0)","v":0},0,{"$f":"IF(AND(NOT(ISBLANK($O399)), $O399<'P&L'!$P$8), AC399, 0)","v":0},{"$f":"IF(OR(ISBLANK($O399), $O399>'BankRec Main Acct'!$E$8), AC399, 0)","v":0},0,{"$f":"IF(AND(NOT(ISBLANK($S399)), $S399<'P&L'!$P$8), AF399, 0)","v":0},{"$f":"IF(OR(ISBLANK($S399), $S399>'BankRec Main Acct'!$E$8), AF399, 0)","v":0},0,{"$f":"IF(AND(NOT(ISBLANK($S399)), $S399<'P&L'!$P$8), AI399, 0)","v":0},{"$f":"IF(OR(ISBLANK($S399), $S399>'BankRec Main Acct'!$E$8), AI399, 0)","v":0},0,{"$f":"IF(AND(NOT(ISBLANK($U399)), $U399<'P&L'!$P$8), $AL399, 0)","v":0},{"$f":"IF(OR(ISBLANK($U399), $U399>'DebitCard Rec '!$E$8), $AL399, 0)","v":0},0,{"$f":"IF(AND(NOT(ISBLANK($U399)), $U399<'P&L'!$P$8), $AO399, 0)","v":0},{"$f":"IF(OR(ISBLANK($U399), $U399>'DebitCard Rec '!$E$8), $AO399, 0)","v":0},0,{"$f":"IF(AND($A399<'P&L'!$P$8, $X399='P&L'!$G$6), $AR399, 0)","v":0},0,{"$f":"IF(AND($A399<'P&L'!$P$8, $X399='P&L'!$G$6), $AT399, 0)","v":0}," "," "," "]
[null,null,null,null,null,null,null,null,null,null,null,null,null,null,null,null,null,null,null,null,null,null,"Jan-00",1900,{"$f":"IF(AND($A400<'P&L'!$P$8, YEAR($A400)=Master!$C$6), $K400, 0)","v":0},0,{"$f":"IF(AND(NOT(ISBLANK($O400)), $O400<'P&L'!$P$8), Z400, 0)","v":0},{"$f":"IF(OR(ISBLANK($O400), $O400>'BankRec Main Acct'!$E$8), Z400, 0)","v":0},0,{"$f":"IF(AND(NOT(ISBLANK($O400)), $O400<'P&L'!$P$8), AC400, 0)","v":0},{"$f":"IF(OR(ISBLANK($O400), $O400>'BankRec Main Acct'!$E$8), AC400, 0)","v":0},0,{"$f":"IF(AND(NOT(ISBLANK($S400)), $S400<'P&L'!$P$8), AF400, 0)","v":0},{"$f":"IF(OR(ISBLANK($S400), $S400>'BankRec Main Acct'!$E$8), AF400, 0)","v":0},0,{"$f":"IF(AND(NOT(ISBLANK($S400)), $S400<'P&L'!$P$8), AI400, 0)","v":0},{"$f":"IF(OR(ISBLANK($S400), $S400>'BankRec Main Acct'!$E$8), AI400, 0)","v":0},0,{"$f":"IF(AND(NOT(ISBLANK($U400)), $U400<'P&L'!$P$8), $AL400, 0)","v":0},{"$f":"IF(OR(ISBLANK($U400), $U400>'DebitCard Rec '!$E$8), $AL400, 0)","v":0},0,{"$f":"IF(AND(NOT(ISBLANK($U400)), $U400<'P&L'!$P$8), $AO400, 0)","v":0},{"$f":"IF(OR(ISBLANK($U400), $U400>'DebitCard Rec '!$E$8), $AO400, 0)","v":0},0,{"$f":"IF(AND($A400<'P&L'!$P$8, $X400='P&L'!$G$6), $AR400, 0)","v":0},0,{"$f":"IF(AND($A400<'P&L'!$P$8, $X400='P&L'!$G$6), $AT400, 0)","v":0}," "," "," "]
[null,null,null,null,null,null,null,null,null,null,null,null,null,null,null,null,null,null,null,null,null,null,"Jan-00",1900,{"$f":"IF(AND($A401<'P&L'!$P$8, YEAR($A401)=Master!$C$6), $K401, 0)","v":0},0,{"$f":"IF(AND(NOT(ISBLANK($O401)), $O401<'P&L'!$P$8), Z401, 0)","v":0},{"$f":"IF(OR(ISBLANK($O401), $O401>'BankRec Main Acct'!$E$8), Z401, 0)","v":0},0,{"$f":"IF(AND(NOT(ISBLANK($O401)), $O401<'P&L'!$P$8), AC401, 0)","v":0},{"$f":"IF(OR(ISBLANK($O401), $O401>'BankRec Main Acct'!$E$8), AC401, 0)","v":0},0,{"$f":"IF(AND(NOT(ISBLANK($S401)), $S401<'P&L'!$P$8), AF401, 0)","v":0},{"$f":"IF(OR(ISBLANK($S401), $S401>'BankRec Main Acct'!$E$8), AF401, 0)","v":0},0,{"$f":"IF(AND(NOT(ISBLANK($S401)), $S401<'P&L'!$P$8), AI401, 0)","v":0},{"$f":"IF(OR(ISBLANK($S401), $S401>'BankRec Main Acct'!$E$8), AI401, 0)","v":0},0,{"$f":"IF(AND(NOT(ISBLANK($U401)), $U401<'P&L'!$P$8), $AL401, 0)","v":0},{"$f":"IF(OR(ISBLANK($U401), $U401>'DebitCard Rec '!$E$8), $AL401, 0)","v":0},0,{"$f":"IF(AND(NOT(ISBLANK($U401)), $U401<'P&L'!$P$8), $AO401, 0)","v":0},{"$f":"IF(OR(ISBLANK($U401), $U401>'DebitCard Rec '!$E$8), $AO401, 0)","v":0},0,{"$f":"IF(AND($A401<'P&L'!$P$8, $X401='P&L'!$G$6), $AR401, 0)","v":0},0,{"$f":"IF(AND($A401<'P&L'!$P$8, $X401='P&L'!$G$6), $AT401, 0)","v":0}," "," "," "]
[null,null,null,null,null,null,null,null,null,null,null,null,null,null,null,null,null,null,null,null,null,null,"Jan-00",1900,{"$f":"IF(AND($A402<'P&L'!$P$8, YEAR($A402)=Master!$C$6), $K402, 0)","v":0},0,{"$f":"IF(AND(NOT(ISBLANK($O402)), $O402<'P&L'!$P$8), Z402, 0)","v":0},{"$f":"IF(OR(ISBLANK($O402), $O402>'BankRec Main Acct'!$E$8), Z402, 0)","v":0},0,{"$f":"IF(AND(NOT(ISBLANK($O402)), $O402<'P&L'!$P$8), AC402, 0)","v":0},{"$f":"IF(OR(ISBLANK($O402), $O402>'BankRec Main Acct'!$E$8), AC402, 0)","v":0},0,{"$f":"IF(AND(NOT(ISBLANK($S402)), $S402<'P&L'!$P$8), AF402, 0)","v":0},{"$f":"IF(OR(ISBLANK($S402), $S402>'BankRec Main Acct'!$E$8), AF402, 0)","v":0},0,{"$f":"IF(AND(NOT(ISBLANK($S402)), $S402<'P&L'!$P$8), AI402, 0)","v":0},{"$f":"IF(OR(ISBLANK($S402), $S402>'BankRec Main Acct'!$E$8), AI402, 0)","v":0},0,{"$f":"IF(AND(NOT(ISBLANK($U402)), $U402<'P&L'!$P$8), $AL402, 0)","v":0},{"$f":"IF(OR(ISBLANK($U402), $U402>'DebitCard Rec '!$E$8), $AL402, 0)","v":0},0,{"$f":"IF(AND(NOT(ISBLANK($U402)), $U402<'P&L'!$P$8), $AO402, 0)","v":0},{"$f":"IF(OR(ISBLANK($U402), $U402>'DebitCard Rec '!$E$8), $AO402, 0)","v":0},0,{"$f":"IF(AND($A402<'P&L'!$P$8, $X402='P&L'!$G$6), $AR402, 0)","v":0},0,{"$f":"IF(AND($A402<'P&L'!$P$8, $X402='P&L'!$G$6), $AT402, 0)","v":0}," "," "," "]
[null,null,null,null,null,null,null,null,null,null,null,null,null,null,null,null,null,null,null,null,null,null,"Jan-00",1900,{"$f":"IF(AND($A403<'P&L'!$P$8, YEAR($A403)=Master!$C$6), $K403, 0)","v":0},0,{"$f":"IF(AND(NOT(ISBLANK($O403)), $O403<'P&L'!$P$8), Z403, 0)","v":0},{"$f":"IF(OR(ISBLANK($O403), $O403>'BankRec Main Acct'!$E$8), Z403, 0)","v":0},0,{"$f":"IF(AND(NOT(ISBLANK($O403)), $O403<'P&L'!$P$8), AC403, 0)","v":0},{"$f":"IF(OR(ISBLANK($O403), $O403>'BankRec Main Acct'!$E$8), AC403, 0)","v":0},0,{"$f":"IF(AND(NOT(ISBLANK($S403)), $S403<'P&L'!$P$8), AF403, 0)","v":0},{"$f":"IF(OR(ISBLANK($S403), $S403>'BankRec Main Acct'!$E$8), AF403, 0)","v":0},0,{"$f":"IF(AND(NOT(ISBLANK($S403)), $S403<'P&L'!$P$8), AI403, 0)","v":0},{"$f":"IF(OR(ISBLANK($S403), $S403>'BankRec Main Acct'!$E$8), AI403, 0)","v":0},0,{"$f":"IF(AND(NOT(ISBLANK($U403)), $U403<'P&L'!$P$8), $AL403, 0)","v":0},{"$f":"IF(OR(ISBLANK($U403), $U403>'DebitCard Rec '!$E$8), $AL403, 0)","v":0},0,{"$f":"IF(AND(NOT(ISBLANK($U403)), $U403<'P&L'!$P$8), $AO403, 0)","v":0},{"$f":"IF(OR(ISBLANK($U403), $U403>'DebitCard Rec '!$E$8), $AO403, 0)","v":0},0,{"$f":"IF(AND($A403<'P&L'!$P$8, $X403='P&L'!$G$6), $AR403, 0)","v":0},0,{"$f":"IF(AND($A403<'P&L'!$P$8, $X403='P&L'!$G$6), $AT403, 0)","v":0}," "," "," "]
[null,null,null,null,null,null,null,null,null,null,null,null,null,null,null,null,null,null,null,null,null,null,{"$f":"TEXT($A404, \"mmm-yy\")","v":"Jan-00"},{"$f":"YEAR($A404)","v":1900},{"$f":"IF(AND($A404<'P&L'!$P$8, YEAR($A404)=Master!$C$6), $K404, 0)","v":0},0,{"$f":"IF(AND(NOT(ISBLANK($O404)), $O404<'P&L'!$P$8), Z404, 0)","v":0},{"$f":"IF(OR(ISBLANK($O404), $O404>'BankRec Main Acct'!$E$8), Z404, 0)","v":0},0,{"$f":"IF(AND(NOT(ISBLANK($O404)), $O404<'P&L'!$P$8), AC404, 0)","v":0},{"$f":"IF(OR(ISBLANK($O404), $O404>'BankRec Main Acct'!$E$8), AC404, 0)","v":0},0,{"$f":"IF(AND(NOT(ISBLANK($S404)), $S404<'P&L'!$P$8), AF404, 0)","v":0},{"$f":"IF(OR(ISBLANK($S404), $S404>'BankRec Main Acct'!$E$8), AF404, 0)","v":0},0,{"$f":"IF(AND(NOT(ISBLANK($S404)), $S404<'P&L'!$P$8), AI404, 0)","v":0},{"$f":"IF(OR(ISBLANK($S404), $S404>'BankRec Main Acct'!$E$8), AI404, 0)","v":0},{"$f":"IF(AND($C404=\"Receipt\",$B404=\"Debit card\"),$K404,0)","v":0},{"$f":"IF(AND(NOT(ISBLANK($U404)), $U404<'P&L'!$P$8), $AL404, 0)","v":0},{"$f":"IF(OR(ISBLANK($U404), $U404>'DebitCard Rec '!$E$8), $AL404, 0)","v":0},{"$f":"IF(AND($C404=\"Payment\",$B404=\"Debit card\"),$K404,0)","v":0},{"$f":"IF(AND(NOT(ISBLANK($U404)), $U404<'P&L'!$P$8), $AO404, 0)","v":0},{"$f":"IF(OR(ISBLANK($U404), $U404>'DebitCard Rec '!$E$8), $AO404, 0)","v":0},0,{"$f":"IF(AND($A404<'P&L'!$P$8, $X404='P&L'!$G$6), $AR404, 0)","v":0},0,{"$f":"IF(AND($A404<'P&L'!$P$8, $X404='P&L'!$G$6), $AT404, 0)","v":0}," "," "," "]
[null,null,null,null,null,null,null,null,null,null,null,null,null,null,null,null,null,null,null,null,null,null,"Jan-00",1900,{"$f":"IF(AND($A405<'P&L'!$P$8, YEAR($A405)=Master!$C$6), $K405, 0)","v":0},0,{"$f":"IF(AND(NOT(ISBLANK($O405)), $O405<'P&L'!$P$8), Z405, 0)","v":0},{"$f":"IF(OR(ISBLANK($O405), $O405>'BankRec Main Acct'!$E$8), Z405, 0)","v":0},0,{"$f":"IF(AND(NOT(ISBLANK($O405)), $O405<'P&L'!$P$8), AC405, 0)","v":0},{"$f":"IF(OR(ISBLANK($O405), $O405>'BankRec Main Acct'!$E$8), AC405, 0)","v":0},0,{"$f":"IF(AND(NOT(ISBLANK($S405)), $S405<'P&L'!$P$8), AF405, 0)","v":0},{"$f":"IF(OR(ISBLANK($S405), $S405>'BankRec Main Acct'!$E$8), AF405, 0)","v":0},0,{"$f":"IF(AND(NOT(ISBLANK($S405)), $S405<'P&L'!$P$8), AI405, 0)","v":0},{"$f":"IF(OR(ISBLANK($S405), $S405>'BankRec Main Acct'!$E$8), AI405, 0)","v":0},0,{"$f":"IF(AND(NOT(ISBLANK($U405)), $U405<'P&L'!$P$8), $AL405, 0)","v":0},{"$f":"IF(OR(ISBLANK($U405), $U405>'DebitCard Rec '!$E$8), $AL405, 0)","v":0},0,{"$f":"IF(AND(NOT(ISBLANK($U405)), $U405<'P&L'!$P$8), $AO405, 0)","v":0},{"$f":"IF(OR(ISBLANK($U405), $U405>'DebitCard Rec '!$E$8), $AO405, 0)","v":0},0,{"$f":"IF(AND($A405<'P&L'!$P$8, $X405='P&L'!$G$6), $AR405, 0)","v":0},0,{"$f":"IF(AND($A405<'P&L'!$P$8, $X405='P&L'!$G$6), $AT405, 0)","v":0}," "," "," "]
[null,null,null,null,null,null,null,null,null,null,null,null,null,null,null,null,null,null,null,null,null,null,"Jan-00",1900,{"$f":"IF(AND($A406<'P&L'!$P$8, YEAR($A406)=Master!$C$6), $K406, 0)","v":0},0,{"$f":"IF(AND(NOT(ISBLANK($O406)), $O406<'P&L'!$P$8), Z406, 0)","v":0},{"$f":"IF(OR(ISBLANK($O406), $O406>'BankRec Main Acct'!$E$8), Z406, 0)","v":0},0,{"$f":"IF(AND(NOT(ISBLANK($O406)), $O406<'P&L'!$P$8), AC406, 0)","v":0},{"$f":"IF(OR(ISBLANK($O406), $O406>'BankRec Main Acct'!$E$8), AC406, 0)","v":0},0,{"$f":"IF(AND(NOT(ISBLANK($S406)), $S406<'P&L'!$P$8), AF406, 0)","v":0},{"$f":"IF(OR(ISBLANK($S406), $S406>'BankRec Main Acct'!$E$8), AF406, 0)","v":0},0,{"$f":"IF(AND(NOT(ISBLANK($S406)), $S406<'P&L'!$P$8), AI406, 0)","v":0},{"$f":"IF(OR(ISBLANK($S406), $S406>'BankRec Main Acct'!$E$8), AI406, 0)","v":0},0,{"$f":"IF(AND(NOT(ISBLANK($U406)), $U406<'P&L'!$P$8), $AL406, 0)","v":0},{"$f":"IF(OR(ISBLANK($U406), $U406>'DebitCard Rec '!$E$8), $AL406, 0)","v":0},0,{"$f":"IF(AND(NOT(ISBLANK($U406)), $U406<'P&L'!$P$8), $AO406, 0)","v":0},{"$f":"IF(OR(ISBLANK($U406), $U406>'DebitCard Rec '!$E$8), $AO406, 0)","v":0},0,{"$f":"IF(AND($A406<'P&L'!$P$8, $X406='P&L'!$G$6), $AR406, 0)","v":0},0,{"$f":"IF(AND($A406<'P&L'!$P$8, $X406='P&L'!$G$6), $AT406, 0)","v":0}," "," "," "]
[null,null,null,null,null,null,null,null,null,null,null,null,null,null,null,null,null,null,null,null,null,null,"Jan-00",1900,{"$f":"IF(AND($A407<'P&L'!$P$8, YEAR($A407)=Master!$C$6), $K407, 0)","v":0},0,{"$f":"IF(AND(NOT(ISBLANK($O407)), $O407<'P&L'!$P$8), Z407, 0)","v":0},{"$f":"IF(OR(ISBLANK($O407), $O407>'BankRec Main Acct'!$E$8), Z407, 0)","v":0},0,{"$f":"IF(AND(NOT(ISBLANK($O407)), $O407<'P&L'!$P$8), AC407, 0)","v":0},{"$f":"IF(OR(ISBLANK($O407), $O407>'BankRec Main Acct'!$E$8), AC407, 0)","v":0},0,{"$f":"IF(AND(NOT(ISBLANK($S407)), $S407<'P&L'!$P$8), AF407, 0)","v":0},{"$f":"IF(OR(ISBLANK($S407), $S407>'BankRec Main Acct'!$E$8), AF407, 0)","v":0},0,{"$f":"IF(AND(NOT(ISBLANK($S407)), $S407<'P&L'!$P$8), AI407, 0)","v":0},{"$f":"IF(OR(ISBLANK($S407), $S407>'BankRec Main Acct'!$E$8), AI407, 0)","v":0},0,{"$f":"IF(AND(NOT(ISBLANK($U407)), $U407<'P&L'!$P$8), $AL407, 0)","v":0},{"$f":"IF(OR(ISBLANK($U407), $U407>'DebitCard Rec '!$E$8), $AL407, 0)","v":0},0,{"$f":"IF(AND(NOT(ISBLANK($U407)), $U407<'P&L'!$P$8), $AO407, 0)","v":0},{"$f":"IF(OR(ISBLANK($U407), $U407>'DebitCard Rec '!$E$8), $AO407, 0)","v":0},0,{"$f":"IF(AND($A407<'P&L'!$P$8, $X407='P&L'!$G$6), $AR407, 0)","v":0},0,{"$f":"IF(AND($A407<'P&L'!$P$8, $X407='P&L'!$G$6), $AT407, 0)","v":0}," "," "," "]
[null,null,null,null,null,null,null,null,null,null,null,null,null,null,null,null,null,null,null,null,null,null,"Jan-00",1900,{"$f":"IF(AND($A408<'P&L'!$P$8, YEAR($A408)=Master!$C$6), $K408, 0)","v":0},0,{"$f":"IF(AND(NOT(ISBLANK($O408)), $O408<'P&L'!$P$8), Z408, 0)","v":0},{"$f":"IF(OR(ISBLANK($O408), $O408>'BankRec Main Acct'!$E$8), Z408, 0)","v":0},0,{"$f":"IF(AND(NOT(ISBLANK($O408)), $O408<'P&L'!$P$8), AC408, 0)","v":0},{"$f":"IF(OR(ISBLANK($O408), $O408>'BankRec Main Acct'!$E$8), AC408, 0)","v":0},0,{"$f":"IF(AND(NOT(ISBLANK($S408)), $S408<'P&L'!$P$8), AF408, 0)","v":0},{"$f":"IF(OR(ISBLANK($S408), $S408>'BankRec Main Acct'!$E$8), AF408, 0)","v":0},0,{"$f":"IF(AND(NOT(ISBLANK($S408)), $S408<'P&L'!$P$8), AI408, 0)","v":0},{"$f":"IF(OR(ISBLANK($S408), $S408>'BankRec Main Acct'!$E$8), AI408, 0)","v":0},0,{"$f":"IF(AND(NOT(ISBLANK($U408)), $U408<'P&L'!$P$8), $AL408, 0)","v":0},{"$f":"IF(OR(ISBLANK($U408), $U408>'DebitCard Rec '!$E$8), $AL408, 0)","v":0},0,{"$f":"IF(AND(NOT(ISBLANK($U408)), $U408<'P&L'!$P$8), $AO408, 0)","v":0},{"$f":"IF(OR(ISBLANK($U408), $U408>'DebitCard Rec '!$E$8), $AO408, 0)","v":0},0,{"$f":"IF(AND($A408<'P&L'!$P$8, $X408='P&L'!$G$6), $AR408, 0)","v":0},0,{"$f":"IF(AND($A408<'P&L'!$P$8, $X408='P&L'!$G$6), $AT408, 0)","v":0}," "," "," "]
[null,null,null,null,null,null,null,null,null,null,null,null,null,null,null,null,null,null,null,null,null,null,"Jan-00",1900,{"$f":"IF(AND($A409<'P&L'!$P$8, YEAR($A409)=Master!$C$6), $K409, 0)","v":0},0,{"$f":"IF(AND(NOT(ISBLANK($O409)), $O409<'P&L'!$P$8), Z409, 0)","v":0},{"$f":"IF(OR(ISBLANK($O409), $O409>'BankRec Main Acct'!$E$8), Z409, 0)","v":0},0,{"$f":"IF(AND(NOT(ISBLANK($O409)), $O409<'P&L'!$P$8), AC409, 0)","v":0},{"$f":"IF(OR(ISBLANK($O409), $O409>'BankRec Main Acct'!$E$8), AC409, 0)","v":0},0,{"$f":"IF(AND(NOT(ISBLANK($S409)), $S409<'P&L'!$P$8), AF409, 0)","v":0},{"$f":"IF(OR(ISBLANK($S409), $S409>'BankRec Main Acct'!$E$8), AF409, 0)","v":0},0,{"$f":"IF(AND(NOT(ISBLANK($S409)), $S409<'P&L'!$P$8), AI409, 0)","v":0},{"$f":"IF(OR(ISBLANK($S409), $S409>'BankRec Main Acct'!$E$8), AI409, 0)","v":0},0,{"$f":"IF(AND(NOT(ISBLANK($U409)), $U409<'P&L'!$P$8), $AL409, 0)","v":0},{"$f":"IF(OR(ISBLANK($U409), $U409>'DebitCard Rec '!$E$8), $AL409, 0)","v":0},0,{"$f":"IF(AND(NOT(ISBLANK($U409)), $U409<'P&L'!$P$8), $AO409, 0)","v":0},{"$f":"IF(OR(ISBLANK($U409), $U409>'DebitCard Rec '!$E$8), $AO409, 0)","v":0},0,{"$f":"IF(AND($A409<'P&L'!$P$8, $X409='P&L'!$G$6), $AR409, 0)","v":0},0,{"$f":"IF(AND($A409<'P&L'!$P$8, $X409='P&L'!$G$6), $AT409, 0)","v":0}," "," "," "]
[null,null,null,null,null,null,null,null,null,null,null,null,null,null,null,null,null,null,null,null,null,null,"Jan-00",1900,{"$f":"IF(AND($A410<'P&L'!$P$8, YEAR($A410)=Master!$C$6), $K410, 0)","v":0},0,{"$f":"IF(AND(NOT(ISBLANK($O410)), $O410<'P&L'!$P$8), Z410, 0)","v":0},{"$f":"IF(OR(ISBLANK($O410), $O410>'BankRec Main Acct'!$E$8), Z410, 0)","v":0},0,{"$f":"IF(AND(NOT(ISBLANK($O410)), $O410<'P&L'!$P$8), AC410, 0)","v":0},{"$f":"IF(OR(ISBLANK($O410), $O410>'BankRec Main Acct'!$E$8), AC410, 0)","v":0},0,{"$f":"IF(AND(NOT(ISBLANK($S410)), $S410<'P&L'!$P$8), AF410, 0)","v":0},{"$f":"IF(OR(ISBLANK($S410), $S410>'BankRec Main Acct'!$E$8), AF410, 0)","v":0},0,{"$f":"IF(AND(NOT(ISBLANK($S410)), $S410<'P&L'!$P$8), AI410, 0)","v":0},{"$f":"IF(OR(ISBLANK($S410), $S410>'BankRec Main Acct'!$E$8), AI410, 0)","v":0},0,{"$f":"IF(AND(NOT(ISBLANK($U410)), $U410<'P&L'!$P$8), $AL410, 0)","v":0},{"$f":"IF(OR(ISBLANK($U410), $U410>'DebitCard Rec '!$E$8), $AL410, 0)","v":0},0,{"$f":"IF(AND(NOT(ISBLANK($U410)), $U410<'P&L'!$P$8), $AO410, 0)","v":0},{"$f":"IF(OR(ISBLANK($U410), $U410>'DebitCard Rec '!$E$8), $AO410, 0)","v":0},0,{"$f":"IF(AND($A410<'P&L'!$P$8, $X410='P&L'!$G$6), $AR410, 0)","v":0},0,{"$f":"IF(AND($A410<'P&L'!$P$8, $X410='P&L'!$G$6), $AT410, 0)","v":0}," "," "," "]
[null,null,null,null,null,null,null,null,null,null,null,null,null,null,null,null,null,null,null,null,null,null,"Jan-00",1900,{"$f":"IF(AND($A411<'P&L'!$P$8, YEAR($A411)=Master!$C$6), $K411, 0)","v":0},0,{"$f":"IF(AND(NOT(ISBLANK($O411)), $O411<'P&L'!$P$8), Z411, 0)","v":0},{"$f":"IF(OR(ISBLANK($O411), $O411>'BankRec Main Acct'!$E$8), Z411, 0)","v":0},0,{"$f":"IF(AND(NOT(ISBLANK($O411)), $O411<'P&L'!$P$8), AC411, 0)","v":0},{"$f":"IF(OR(ISBLANK($O411), $O411>'BankRec Main Acct'!$E$8), AC411, 0)","v":0},0,{"$f":"IF(AND(NOT(ISBLANK($S411)), $S411<'P&L'!$P$8), AF411, 0)","v":0},{"$f":"IF(OR(ISBLANK($S411), $S411>'BankRec Main Acct'!$E$8), AF411, 0)","v":0},0,{"$f":"IF(AND(NOT(ISBLANK($S411)), $S411<'P&L'!$P$8), AI411, 0)","v":0},{"$f":"IF(OR(ISBLANK($S411), $S411>'BankRec Main Acct'!$E$8), AI411, 0)","v":0},0,{"$f":"IF(AND(NOT(ISBLANK($U411)), $U411<'P&L'!$P$8), $AL411, 0)","v":0},{"$f":"IF(OR(ISBLANK($U411), $U411>'DebitCard Rec '!$E$8), $AL411, 0)","v":0},0,{"$f":"IF(AND(NOT(ISBLANK($U411)), $U411<'P&L'!$P$8), $AO411, 0)","v":0},{"$f":"IF(OR(ISBLANK($U411), $U411>'DebitCard Rec '!$E$8), $AO411, 0)","v":0},0,{"$f":"IF(AND($A411<'P&L'!$P$8, $X411='P&L'!$G$6), $AR411, 0)","v":0},0,{"$f":"IF(AND($A411<'P&L'!$P$8, $X411='P&L'!$G$6), $AT411, 0)","v":0}," "," "," "]
[null,null,null,null,null,null,null,null,null,null,null,null,null,null,null,null,null,null,null,null,null,null,"Jan-00",1900,{"$f":"IF(AND($A412<'P&L'!$P$8, YEAR($A412)=Master!$C$6), $K412, 0)","v":0},0,{"$f":"IF(AND(NOT(ISBLANK($O412)), $O412<'P&L'!$P$8), Z412, 0)","v":0},{"$f":"IF(OR(ISBLANK($O412), $O412>'BankRec Main Acct'!$E$8), Z412, 0)","v":0},0,{"$f":"IF(AND(NOT(ISBLANK($O412)), $O412<'P&L'!$P$8), AC412, 0)","v":0},{"$f":"IF(OR(ISBLANK($O412), $O412>'BankRec Main Acct'!$E$8), AC412, 0)","v":0},0,{"$f":"IF(AND(NOT(ISBLANK($S412)), $S412<'P&L'!$P$8), AF412, 0)","v":0},{"$f":"IF(OR(ISBLANK($S412), $S412>'BankRec Main Acct'!$E$8), AF412, 0)","v":0},0,{"$f":"IF(AND(NOT(ISBLANK($S412)), $S412<'P&L'!$P$8), AI412, 0)","v":0},{"$f":"IF(OR(ISBLANK($S412), $S412>'BankRec Main Acct'!$E$8), AI412, 0)","v":0},0,{"$f":"IF(AND(NOT(ISBLANK($U412)), $U412<'P&L'!$P$8), $AL412, 0)","v":0},{"$f":"IF(OR(ISBLANK($U412), $U412>'DebitCard Rec '!$E$8), $AL412, 0)","v":0},0,{"$f":"IF(AND(NOT(ISBLANK($U412)), $U412<'P&L'!$P$8), $AO412, 0)","v":0},{"$f":"IF(OR(ISBLANK($U412), $U412>'DebitCard Rec '!$E$8), $AO412, 0)","v":0},0,{"$f":"IF(AND($A412<'P&L'!$P$8, $X412='P&L'!$G$6), $AR412, 0)","v":0},0,{"$f":"IF(AND($A412<'P&L'!$P$8, $X412='P&L'!$G$6), $AT412, 0)","v":0}," "," "," "]
[null,null,null,null,null,null,null,null,null,null,null,null,null,null,null,null,null,null,null,null,null,null,"Jan-00",1900,{"$f":"IF(AND($A413<'P&L'!$P$8, YEAR($A413)=Master!$C$6), $K413, 0)","v":0},0,{"$f":"IF(AND(NOT(ISBLANK($O413)), $O413<'P&L'!$P$8), Z413, 0)","v":0},{"$f":"IF(OR(ISBLANK($O413), $O413>'BankRec Main Acct'!$E$8), Z413, 0)","v":0},0,{"$f":"IF(AND(NOT(ISBLANK($O413)), $O413<'P&L'!$P$8), AC413, 0)","v":0},{"$f":"IF(OR(ISBLANK($O413), $O413>'BankRec Main Acct'!$E$8), AC413, 0)","v":0},0,{"$f":"IF(AND(NOT(ISBLANK($S413)), $S413<'P&L'!$P$8), AF413, 0)","v":0},{"$f":"IF(OR(ISBLANK($S413), $S413>'BankRec Main Acct'!$E$8), AF413, 0)","v":0},0,{"$f":"IF(AND(NOT(ISBLANK($S413)), $S413<'P&L'!$P$8), AI413, 0)","v":0},{"$f":"IF(OR(ISBLANK($S413), $S413>'BankRec Main Acct'!$E$8), AI413, 0)","v":0},0,{"$f":"IF(AND(NOT(ISBLANK($U413)), $U413<'P&L'!$P$8), $AL413, 0)","v":0},{"$f":"IF(OR(ISBLANK($U413), $U413>'DebitCard Rec '!$E$8), $AL413, 0)","v":0},0,{"$f":"IF(AND(NOT(ISBLANK($U413)), $U413<'P&L'!$P$8), $AO413, 0)","v":0},{"$f":"IF(OR(ISBLANK($U413), $U413>'DebitCard Rec '!$E$8), $AO413, 0)","v":0},0,{"$f":"IF(AND($A413<'P&L'!$P$8, $X413='P&L'!$G$6), $AR413, 0)","v":0},0,{"$f":"IF(AND($A413<'P&L'!$P$8, $X413='P&L'!$G$6), $AT413, 0)","v":0}," "," "," "]
[null,null,null,null,null,null,null,null,null,null,null,null,null,null,null,null,null,null,null,null,null,null,"Jan-00",1900,{"$f":"IF(AND($A414<'P&L'!$P$8, YEAR($A414)=Master!$C$6), $K414, 0)","v":0},0,{"$f":"IF(AND(NOT(ISBLANK($O414)), $O414<'P&L'!$P$8), Z414, 0)","v":0},{"$f":"IF(OR(ISBLANK($O414), $O414>'BankRec Main Acct'!$E$8), Z414, 0)","v":0},0,{"$f":"IF(AND(NOT(ISBLANK($O414)), $O414<'P&L'!$P$8), AC414, 0)","v":0},{"$f":"IF(OR(ISBLANK($O414), $O414>'BankRec Main Acct'!$E$8), AC414, 0)","v":0},0,{"$f":"IF(AND(NOT(ISBLANK($S414)), $S414<'P&L'!$P$8), AF414, 0)","v":0},{"$f":"IF(OR(ISBLANK($S414), $S414>'BankRec Main Acct'!$E$8), AF414, 0)","v":0},0,{"$f":"IF(AND(NOT(ISBLANK($S414)), $S414<'P&L'!$P$8), AI414, 0)","v":0},{"$f":"IF(OR(ISBLANK($S414), $S414>'BankRec Main Acct'!$E$8), AI414, 0)","v":0},0,{"$f":"IF(AND(NOT(ISBLANK($U414)), $U414<'P&L'!$P$8), $AL414, 0)","v":0},{"$f":"IF(OR(ISBLANK($U414), $U414>'DebitCard Rec '!$E$8), $AL414, 0)","v":0},0,{"$f":"IF(AND(NOT(ISBLANK($U414)), $U414<'P&L'!$P$8), $AO414, 0)","v":0},{"$f":"IF(OR(ISBLANK($U414), $U414>'DebitCard Rec '!$E$8), $AO414, 0)","v":0},0,{"$f":"IF(AND($A414<'P&L'!$P$8, $X414='P&L'!$G$6), $AR414, 0)","v":0},0,{"$f":"IF(AND($A414<'P&L'!$P$8, $X414='P&L'!$G$6), $AT414, 0)","v":0}," "," "," "]
[null,null,null,null,null,null,null,null,null,null,null,null,null,null,null,null,null,null,null,null,null,null,"Jan-00",1900,{"$f":"IF(AND($A415<'P&L'!$P$8, YEAR($A415)=Master!$C$6), $K415, 0)","v":0},0,{"$f":"IF(AND(NOT(ISBLANK($O415)), $O415<'P&L'!$P$8), Z415, 0)","v":0},{"$f":"IF(OR(ISBLANK($O415), $O415>'BankRec Main Acct'!$E$8), Z415, 0)","v":0},0,{"$f":"IF(AND(NOT(ISBLANK($O415)), $O415<'P&L'!$P$8), AC415, 0)","v":0},{"$f":"IF(OR(ISBLANK($O415), $O415>'BankRec Main Acct'!$E$8), AC415, 0)","v":0},0,{"$f":"IF(AND(NOT(ISBLANK($S415)), $S415<'P&L'!$P$8), AF415, 0)","v":0},{"$f":"IF(OR(ISBLANK($S415), $S415>'BankRec Main Acct'!$E$8), AF415, 0)","v":0},0,{"$f":"IF(AND(NOT(ISBLANK($S415)), $S415<'P&L'!$P$8), AI415, 0)","v":0},{"$f":"IF(OR(ISBLANK($S415), $S415>'BankRec Main Acct'!$E$8), AI415, 0)","v":0},0,{"$f":"IF(AND(NOT(ISBLANK($U415)), $U415<'P&L'!$P$8), $AL415, 0)","v":0},{"$f":"IF(OR(ISBLANK($U415), $U415>'DebitCard Rec '!$E$8), $AL415, 0)","v":0},0,{"$f":"IF(AND(NOT(ISBLANK($U415)), $U415<'P&L'!$P$8), $AO415, 0)","v":0},{"$f":"IF(OR(ISBLANK($U415), $U415>'DebitCard Rec '!$E$8), $AO415, 0)","v":0},0,{"$f":"IF(AND($A415<'P&L'!$P$8, $X415='P&L'!$G$6), $AR415, 0)","v":0},0,{"$f":"IF(AND($A415<'P&L'!$P$8, $X415='P&L'!$G$6), $AT415, 0)","v":0}," "," "," "]
[null,null,null,null,null,null,null,null,null,null,null,null,null,null,null,null,null,null,null,null,null,null,"Jan-00",1900,{"$f":"IF(AND($A416<'P&L'!$P$8, YEAR($A416)=Master!$C$6), $K416, 0)","v":0},0,{"$f":"IF(AND(NOT(ISBLANK($O416)), $O416<'P&L'!$P$8), Z416, 0)","v":0},{"$f":"IF(OR(ISBLANK($O416), $O416>'BankRec Main Acct'!$E$8), Z416, 0)","v":0},0,{"$f":"IF(AND(NOT(ISBLANK($O416)), $O416<'P&L'!$P$8), AC416, 0)","v":0},{"$f":"IF(OR(ISBLANK($O416), $O416>'BankRec Main Acct'!$E$8), AC416, 0)","v":0},0,{"$f":"IF(AND(NOT(ISBLANK($S416)), $S416<'P&L'!$P$8), AF416, 0)","v":0},{"$f":"IF(OR(ISBLANK($S416), $S416>'BankRec Main Acct'!$E$8), AF416, 0)","v":0},0,{"$f":"IF(AND(NOT(ISBLANK($S416)), $S416<'P&L'!$P$8), AI416, 0)","v":0},{"$f":"IF(OR(ISBLANK($S416), $S416>'BankRec Main Acct'!$E$8), AI416, 0)","v":0},0,{"$f":"IF(AND(NOT(ISBLANK($U416)), $U416<'P&L'!$P$8), $AL416, 0)","v":0},{"$f":"IF(OR(ISBLANK($U416), $U416>'DebitCard Rec '!$E$8), $AL416, 0)","v":0},0,{"$f":"IF(AND(NOT(ISBLANK($U416)), $U416<'P&L'!$P$8), $AO416, 0)","v":0},{"$f":"IF(OR(ISBLANK($U416), $U416>'DebitCard Rec '!$E$8), $AO416, 0)","v":0},0,{"$f":"IF(AND($A416<'P&L'!$P$8, $X416='P&L'!$G$6), $AR416, 0)","v":0},0,{"$f":"IF(AND($A416<'P&L'!$P$8, $X416='P&L'!$G$6), $AT416, 0)","v":0}," "," "," "]
[null,null,null,null,null,null,null,null,null,null,null,null,null,null,null,null,null,null,null,null,null,null,"Jan-00",1900,{"$f":"IF(AND($A417<'P&L'!$P$8, YEAR($A417)=Master!$C$6), $K417, 0)","v":0},0,{"$f":"IF(AND(NOT(ISBLANK($O417)), $O417<'P&L'!$P$8), Z417, 0)","v":0},{"$f":"IF(OR(ISBLANK($O417), $O417>'BankRec Main Acct'!$E$8), Z417, 0)","v":0},0,{"$f":"IF(AND(NOT(ISBLANK($O417)), $O417<'P&L'!$P$8), AC417, 0)","v":0},{"$f":"IF(OR(ISBLANK($O417), $O417>'BankRec Main Acct'!$E$8), AC417, 0)","v":0},0,{"$f":"IF(AND(NOT(ISBLANK($S417)), $S417<'P&L'!$P$8), AF417, 0)","v":0},{"$f":"IF(OR(ISBLANK($S417), $S417>'BankRec Main Acct'!$E$8), AF417, 0)","v":0},0,{"$f":"IF(AND(NOT(ISBLANK($S417)), $S417<'P&L'!$P$8), AI417, 0)","v":0},{"$f":"IF(OR(ISBLANK($S417), $S417>'BankRec Main Acct'!$E$8), AI417, 0)","v":0},0,{"$f":"IF(AND(NOT(ISBLANK($U417)), $U417<'P&L'!$P$8), $AL417, 0)","v":0},{"$f":"IF(OR(ISBLANK($U417), $U417>'DebitCard Rec '!$E$8), $AL417, 0)","v":0},0,{"$f":"IF(AND(NOT(ISBLANK($U417)), $U417<'P&L'!$P$8), $AO417, 0)","v":0},{"$f":"IF(OR(ISBLANK($U417), $U417>'DebitCard Rec '!$E$8), $AO417, 0)","v":0},0,{"$f":"IF(AND($A417<'P&L'!$P$8, $X417='P&L'!$G$6), $AR417, 0)","v":0},0,{"$f":"IF(AND($A417<'P&L'!$P$8, $X417='P&L'!$G$6), $AT417, 0)","v":0}," "," "," "]
[null,null,null,null,null,null,null,null,null,null,null,null,null,null,null,null,null,null,null,null,null,null,"Jan-00",1900,{"$f":"IF(AND($A418<'P&L'!$P$8, YEAR($A418)=Master!$C$6), $K418, 0)","v":0},0,{"$f":"IF(AND(NOT(ISBLANK($O418)), $O418<'P&L'!$P$8), Z418, 0)","v":0},{"$f":"IF(OR(ISBLANK($O418), $O418>'BankRec Main Acct'!$E$8), Z418, 0)","v":0},0,{"$f":"IF(AND(NOT(ISBLANK($O418)), $O418<'P&L'!$P$8), AC418, 0)","v":0},{"$f":"IF(OR(ISBLANK($O418), $O418>'BankRec Main Acct'!$E$8), AC418, 0)","v":0},0,{"$f":"IF(AND(NOT(ISBLANK($S418)), $S418<'P&L'!$P$8), AF418, 0)","v":0},{"$f":"IF(OR(ISBLANK($S418), $S418>'BankRec Main Acct'!$E$8), AF418, 0)","v":0},0,{"$f":"IF(AND(NOT(ISBLANK($S418)), $S418<'P&L'!$P$8), AI418, 0)","v":0},{"$f":"IF(OR(ISBLANK($S418), $S418>'BankRec Main Acct'!$E$8), AI418, 0)","v":0},0,{"$f":"IF(AND(NOT(ISBLANK($U418)), $U418<'P&L'!$P$8), $AL418, 0)","v":0},{"$f":"IF(OR(ISBLANK($U418), $U418>'DebitCard Rec '!$E$8), $AL418, 0)","v":0},0,{"$f":"IF(AND(NOT(ISBLANK($U418)), $U418<'P&L'!$P$8), $AO418, 0)","v":0},{"$f":"IF(OR(ISBLANK($U418), $U418>'DebitCard Rec '!$E$8), $AO418, 0)","v":0},0,{"$f":"IF(AND($A418<'P&L'!$P$8, $X418='P&L'!$G$6), $AR418, 0)","v":0},0,{"$f":"IF(AND($A418<'P&L'!$P$8, $X418='P&L'!$G$6), $AT418, 0)","v":0}," "," "," "]
[null,null,null,null,null,null,null,null,null,null,null,null,null,null,null,null,null,null,null,null,null,null,"Jan-00",1900,{"$f":"IF(AND($A419<'P&L'!$P$8, YEAR($A419)=Master!$C$6), $K419, 0)","v":0},0,{"$f":"IF(AND(NOT(ISBLANK($O419)), $O419<'P&L'!$P$8), Z419, 0)","v":0},{"$f":"IF(OR(ISBLANK($O419), $O419>'BankRec Main Acct'!$E$8), Z419, 0)","v":0},0,{"$f":"IF(AND(NOT(ISBLANK($O419)), $O419<'P&L'!$P$8), AC419, 0)","v":0},{"$f":"IF(OR(ISBLANK($O419), $O419>'BankRec Main Acct'!$E$8), AC419, 0)","v":0},0,{"$f":"IF(AND(NOT(ISBLANK($S419)), $S419<'P&L'!$P$8), AF419, 0)","v":0},{"$f":"IF(OR(ISBLANK($S419), $S419>'BankRec Main Acct'!$E$8), AF419, 0)","v":0},0,{"$f":"IF(AND(NOT(ISBLANK($S419)), $S419<'P&L'!$P$8), AI419, 0)","v":0},{"$f":"IF(OR(ISBLANK($S419), $S419>'BankRec Main Acct'!$E$8), AI419, 0)","v":0},0,{"$f":"IF(AND(NOT(ISBLANK($U419)), $U419<'P&L'!$P$8), $AL419, 0)","v":0},{"$f":"IF(OR(ISBLANK($U419), $U419>'DebitCard Rec '!$E$8), $AL419, 0)","v":0},0,{"$f":"IF(AND(NOT(ISBLANK($U419)), $U419<'P&L'!$P$8), $AO419, 0)","v":0},{"$f":"IF(OR(ISBLANK($U419), $U419>'DebitCard Rec '!$E$8), $AO419, 0)","v":0},0,{"$f":"IF(AND($A419<'P&L'!$P$8, $X419='P&L'!$G$6), $AR419, 0)","v":0},0,{"$f":"IF(AND($A419<'P&L'!$P$8, $X419='P&L'!$G$6), $AT419, 0)","v":0}," "," "," "]
[null,null,null,null,null,null,null,null,null,null,null,null,null,null,null,null,null,null,null,null,null,null,"Jan-00",1900,{"$f":"IF(AND($A420<'P&L'!$P$8, YEAR($A420)=Master!$C$6), $K420, 0)","v":0},0,{"$f":"IF(AND(NOT(ISBLANK($O420)), $O420<'P&L'!$P$8), Z420, 0)","v":0},{"$f":"IF(OR(ISBLANK($O420), $O420>'BankRec Main Acct'!$E$8), Z420, 0)","v":0},0,{"$f":"IF(AND(NOT(ISBLANK($O420)), $O420<'P&L'!$P$8), AC420, 0)","v":0},{"$f":"IF(OR(ISBLANK($O420), $O420>'BankRec Main Acct'!$E$8), AC420, 0)","v":0},0,{"$f":"IF(AND(NOT(ISBLANK($S420)), $S420<'P&L'!$P$8), AF420, 0)","v":0},{"$f":"IF(OR(ISBLANK($S420), $S420>'BankRec Main Acct'!$E$8), AF420, 0)","v":0},0,{"$f":"IF(AND(NOT(ISBLANK($S420)), $S420<'P&L'!$P$8), AI420, 0)","v":0},{"$f":"IF(OR(ISBLANK($S420), $S420>'BankRec Main Acct'!$E$8), AI420, 0)","v":0},0,{"$f":"IF(AND(NOT(ISBLANK($U420)), $U420<'P&L'!$P$8), $AL420, 0)","v":0},{"$f":"IF(OR(ISBLANK($U420), $U420>'DebitCard Rec '!$E$8), $AL420, 0)","v":0},0,{"$f":"IF(AND(NOT(ISBLANK($U420)), $U420<'P&L'!$P$8), $AO420, 0)","v":0},{"$f":"IF(OR(ISBLANK($U420), $U420>'DebitCard Rec '!$E$8), $AO420, 0)","v":0},0,{"$f":"IF(AND($A420<'P&L'!$P$8, $X420='P&L'!$G$6), $AR420, 0)","v":0},0,{"$f":"IF(AND($A420<'P&L'!$P$8, $X420='P&L'!$G$6), $AT420, 0)","v":0}," "," "," "]
[null,null,null,null,null,null,null,null,null,null,null,null,null,null,null,null,null,null,null,null,null,null,"Jan-00",1900,{"$f":"IF(AND($A421<'P&L'!$P$8, YEAR($A421)=Master!$C$6), $K421, 0)","v":0},0,{"$f":"IF(AND(NOT(ISBLANK($O421)), $O421<'P&L'!$P$8), Z421, 0)","v":0},{"$f":"IF(OR(ISBLANK($O421), $O421>'BankRec Main Acct'!$E$8), Z421, 0)","v":0},0,{"$f":"IF(AND(NOT(ISBLANK($O421)), $O421<'P&L'!$P$8), AC421, 0)","v":0},{"$f":"IF(OR(ISBLANK($O421), $O421>'BankRec Main Acct'!$E$8), AC421, 0)","v":0},0,{"$f":"IF(AND(NOT(ISBLANK($S421)), $S421<'P&L'!$P$8), AF421, 0)","v":0},{"$f":"IF(OR(ISBLANK($S421), $S421>'BankRec Main Acct'!$E$8), AF421, 0)","v":0},0,{"$f":"IF(AND(NOT(ISBLANK($S421)), $S421<'P&L'!$P$8), AI421, 0)","v":0},{"$f":"IF(OR(ISBLANK($S421), $S421>'BankRec Main Acct'!$E$8), AI421, 0)","v":0},0,{"$f":"IF(AND(NOT(ISBLANK($U421)), $U421<'P&L'!$P$8), $AL421, 0)","v":0},{"$f":"IF(OR(ISBLANK($U421), $U421>'DebitCard Rec '!$E$8), $AL421, 0)","v":0},0,{"$f":"IF(AND(NOT(ISBLANK($U421)), $U421<'P&L'!$P$8), $AO421, 0)","v":0},{"$f":"IF(OR(ISBLANK($U421), $U421>'DebitCard Rec '!$E$8), $AO421, 0)","v":0},0,{"$f":"IF(AND($A421<'P&L'!$P$8, $X421='P&L'!$G$6), $AR421, 0)","v":0},0,{"$f":"IF(AND($A421<'P&L'!$P$8, $X421='P&L'!$G$6), $AT421, 0)","v":0}," "," "," "]
[null,null,null,null,null,null,null,null,null,null,null,null,null,null,null,null,null,null,null,null,null,null,"Jan-00",1900,{"$f":"IF(AND($A422<'P&L'!$P$8, YEAR($A422)=Master!$C$6), $K422, 0)","v":0},0,{"$f":"IF(AND(NOT(ISBLANK($O422)), $O422<'P&L'!$P$8), Z422, 0)","v":0},{"$f":"IF(OR(ISBLANK($O422), $O422>'BankRec Main Acct'!$E$8), Z422, 0)","v":0},0,{"$f":"IF(AND(NOT(ISBLANK($O422)), $O422<'P&L'!$P$8), AC422, 0)","v":0},{"$f":"IF(OR(ISBLANK($O422), $O422>'BankRec Main Acct'!$E$8), AC422, 0)","v":0},0,{"$f":"IF(AND(NOT(ISBLANK($S422)), $S422<'P&L'!$P$8), AF422, 0)","v":0},{"$f":"IF(OR(ISBLANK($S422), $S422>'BankRec Main Acct'!$E$8), AF422, 0)","v":0},0,{"$f":"IF(AND(NOT(ISBLANK($S422)), $S422<'P&L'!$P$8), AI422, 0)","v":0},{"$f":"IF(OR(ISBLANK($S422), $S422>'BankRec Main Acct'!$E$8), AI422, 0)","v":0},0,{"$f":"IF(AND(NOT(ISBLANK($U422)), $U422<'P&L'!$P$8), $AL422, 0)","v":0},{"$f":"IF(OR(ISBLANK($U422), $U422>'DebitCard Rec '!$E$8), $AL422, 0)","v":0},0,{"$f":"IF(AND(NOT(ISBLANK($U422)), $U422<'P&L'!$P$8), $AO422, 0)","v":0},{"$f":"IF(OR(ISBLANK($U422), $U422>'DebitCard Rec '!$E$8), $AO422, 0)","v":0},0,{"$f":"IF(AND($A422<'P&L'!$P$8, $X422='P&L'!$G$6), $AR422, 0)","v":0},0,{"$f":"IF(AND($A422<'P&L'!$P$8, $X422='P&L'!$G$6), $AT422, 0)","v":0}," "," "," "]
[null,null,null,null,null,null,null,null,null,null,null,null,null,null,null,null,null,null,null,null,null,null,"Jan-00",1900,{"$f":"IF(AND($A423<'P&L'!$P$8, YEAR($A423)=Master!$C$6), $K423, 0)","v":0},0,{"$f":"IF(AND(NOT(ISBLANK($O423)), $O423<'P&L'!$P$8), Z423, 0)","v":0},{"$f":"IF(OR(ISBLANK($O423), $O423>'BankRec Main Acct'!$E$8), Z423, 0)","v":0},0,{"$f":"IF(AND(NOT(ISBLANK($O423)), $O423<'P&L'!$P$8), AC423, 0)","v":0},{"$f":"IF(OR(ISBLANK($O423), $O423>'BankRec Main Acct'!$E$8), AC423, 0)","v":0},0,{"$f":"IF(AND(NOT(ISBLANK($S423)), $S423<'P&L'!$P$8), AF423, 0)","v":0},{"$f":"IF(OR(ISBLANK($S423), $S423>'BankRec Main Acct'!$E$8), AF423, 0)","v":0},0,{"$f":"IF(AND(NOT(ISBLANK($S423)), $S423<'P&L'!$P$8), AI423, 0)","v":0},{"$f":"IF(OR(ISBLANK($S423), $S423>'BankRec Main Acct'!$E$8), AI423, 0)","v":0},0,{"$f":"IF(AND(NOT(ISBLANK($U423)), $U423<'P&L'!$P$8), $AL423, 0)","v":0},{"$f":"IF(OR(ISBLANK($U423), $U423>'DebitCard Rec '!$E$8), $AL423, 0)","v":0},0,{"$f":"IF(AND(NOT(ISBLANK($U423)), $U423<'P&L'!$P$8), $AO423, 0)","v":0},{"$f":"IF(OR(ISBLANK($U423), $U423>'DebitCard Rec '!$E$8), $AO423, 0)","v":0},0,{"$f":"IF(AND($A423<'P&L'!$P$8, $X423='P&L'!$G$6), $AR423, 0)","v":0},0,{"$f":"IF(AND($A423<'P&L'!$P$8, $X423='P&L'!$G$6), $AT423, 0)","v":0}," "," "," "]
[null,null,null,null,null,null,null,null,null,null,null,null,null,null,null,null,null,null,null,null,null,null,"Jan-00",1900,{"$f":"IF(AND($A424<'P&L'!$P$8, YEAR($A424)=Master!$C$6), $K424, 0)","v":0},0,{"$f":"IF(AND(NOT(ISBLANK($O424)), $O424<'P&L'!$P$8), Z424, 0)","v":0},{"$f":"IF(OR(ISBLANK($O424), $O424>'BankRec Main Acct'!$E$8), Z424, 0)","v":0},0,{"$f":"IF(AND(NOT(ISBLANK($O424)), $O424<'P&L'!$P$8), AC424, 0)","v":0},{"$f":"IF(OR(ISBLANK($O424), $O424>'BankRec Main Acct'!$E$8), AC424, 0)","v":0},0,{"$f":"IF(AND(NOT(ISBLANK($S424)), $S424<'P&L'!$P$8), AF424, 0)","v":0},{"$f":"IF(OR(ISBLANK($S424), $S424>'BankRec Main Acct'!$E$8), AF424, 0)","v":0},0,{"$f":"IF(AND(NOT(ISBLANK($S424)), $S424<'P&L'!$P$8), AI424, 0)","v":0},{"$f":"IF(OR(ISBLANK($S424), $S424>'BankRec Main Acct'!$E$8), AI424, 0)","v":0},0,{"$f":"IF(AND(NOT(ISBLANK($U424)), $U424<'P&L'!$P$8), $AL424, 0)","v":0},{"$f":"IF(OR(ISBLANK($U424), $U424>'DebitCard Rec '!$E$8), $AL424, 0)","v":0},0,{"$f":"IF(AND(NOT(ISBLANK($U424)), $U424<'P&L'!$P$8), $AO424, 0)","v":0},{"$f":"IF(OR(ISBLANK($U424), $U424>'DebitCard Rec '!$E$8), $AO424, 0)","v":0},0,{"$f":"IF(AND($A424<'P&L'!$P$8, $X424='P&L'!$G$6), $AR424, 0)","v":0},0,{"$f":"IF(AND($A424<'P&L'!$P$8, $X424='P&L'!$G$6), $AT424, 0)","v":0}," "," "," "]
[null,null,null,null,null,null,null,null,null,null,null,null,null,null,null,null,null,null,null,null,null,null,"Jan-00",1900,{"$f":"IF(AND($A425<'P&L'!$P$8, YEAR($A425)=Master!$C$6), $K425, 0)","v":0},0,{"$f":"IF(AND(NOT(ISBLANK($O425)), $O425<'P&L'!$P$8), Z425, 0)","v":0},{"$f":"IF(OR(ISBLANK($O425), $O425>'BankRec Main Acct'!$E$8), Z425, 0)","v":0},0,{"$f":"IF(AND(NOT(ISBLANK($O425)), $O425<'P&L'!$P$8), AC425, 0)","v":0},{"$f":"IF(OR(ISBLANK($O425), $O425>'BankRec Main Acct'!$E$8), AC425, 0)","v":0},0,{"$f":"IF(AND(NOT(ISBLANK($S425)), $S425<'P&L'!$P$8), AF425, 0)","v":0},{"$f":"IF(OR(ISBLANK($S425), $S425>'BankRec Main Acct'!$E$8), AF425, 0)","v":0},0,{"$f":"IF(AND(NOT(ISBLANK($S425)), $S425<'P&L'!$P$8), AI425, 0)","v":0},{"$f":"IF(OR(ISBLANK($S425), $S425>'BankRec Main Acct'!$E$8), AI425, 0)","v":0},0,{"$f":"IF(AND(NOT(ISBLANK($U425)), $U425<'P&L'!$P$8), $AL425, 0)","v":0},{"$f":"IF(OR(ISBLANK($U425), $U425>'DebitCard Rec '!$E$8), $AL425, 0)","v":0},0,{"$f":"IF(AND(NOT(ISBLANK($U425)), $U425<'P&L'!$P$8), $AO425, 0)","v":0},{"$f":"IF(OR(ISBLANK($U425), $U425>'DebitCard Rec '!$E$8), $AO425, 0)","v":0},0,{"$f":"IF(AND($A425<'P&L'!$P$8, $X425='P&L'!$G$6), $AR425, 0)","v":0},0,{"$f":"IF(AND($A425<'P&L'!$P$8, $X425='P&L'!$G$6), $AT425, 0)","v":0}," "," "," "]
[null,null,null,null,null,null,null,null,null,null,null,null,null,null,null,null,null,null,null,null,null,null,"Jan-00",1900,{"$f":"IF(AND($A426<'P&L'!$P$8, YEAR($A426)=Master!$C$6), $K426, 0)","v":0},0,{"$f":"IF(AND(NOT(ISBLANK($O426)), $O426<'P&L'!$P$8), Z426, 0)","v":0},{"$f":"IF(OR(ISBLANK($O426), $O426>'BankRec Main Acct'!$E$8), Z426, 0)","v":0},0,{"$f":"IF(AND(NOT(ISBLANK($O426)), $O426<'P&L'!$P$8), AC426, 0)","v":0},{"$f":"IF(OR(ISBLANK($O426), $O426>'BankRec Main Acct'!$E$8), AC426, 0)","v":0},0,{"$f":"IF(AND(NOT(ISBLANK($S426)), $S426<'P&L'!$P$8), AF426, 0)","v":0},{"$f":"IF(OR(ISBLANK($S426), $S426>'BankRec Main Acct'!$E$8), AF426, 0)","v":0},0,{"$f":"IF(AND(NOT(ISBLANK($S426)), $S426<'P&L'!$P$8), AI426, 0)","v":0},{"$f":"IF(OR(ISBLANK($S426), $S426>'BankRec Main Acct'!$E$8), AI426, 0)","v":0},0,{"$f":"IF(AND(NOT(ISBLANK($U426)), $U426<'P&L'!$P$8), $AL426, 0)","v":0},{"$f":"IF(OR(ISBLANK($U426), $U426>'DebitCard Rec '!$E$8), $AL426, 0)","v":0},0,{"$f":"IF(AND(NOT(ISBLANK($U426)), $U426<'P&L'!$P$8), $AO426, 0)","v":0},{"$f":"IF(OR(ISBLANK($U426), $U426>'DebitCard Rec '!$E$8), $AO426, 0)","v":0},0,{"$f":"IF(AND($A426<'P&L'!$P$8, $X426='P&L'!$G$6), $AR426, 0)","v":0},0,{"$f":"IF(AND($A426<'P&L'!$P$8, $X426='P&L'!$G$6), $AT426, 0)","v":0}," "," "," "]
[null,null,null,null,null,null,null,null,null,null,null,null,null,null,null,null,null,null,null,null,null,null,"Jan-00",1900,{"$f":"IF(AND($A427<'P&L'!$P$8, YEAR($A427)=Master!$C$6), $K427, 0)","v":0},0,{"$f":"IF(AND(NOT(ISBLANK($O427)), $O427<'P&L'!$P$8), Z427, 0)","v":0},{"$f":"IF(OR(ISBLANK($O427), $O427>'BankRec Main Acct'!$E$8), Z427, 0)","v":0},0,{"$f":"IF(AND(NOT(ISBLANK($O427)), $O427<'P&L'!$P$8), AC427, 0)","v":0},{"$f":"IF(OR(ISBLANK($O427), $O427>'BankRec Main Acct'!$E$8), AC427, 0)","v":0},0,{"$f":"IF(AND(NOT(ISBLANK($S427)), $S427<'P&L'!$P$8), AF427, 0)","v":0},{"$f":"IF(OR(ISBLANK($S427), $S427>'BankRec Main Acct'!$E$8), AF427, 0)","v":0},0,{"$f":"IF(AND(NOT(ISBLANK($S427)), $S427<'P&L'!$P$8), AI427, 0)","v":0},{"$f":"IF(OR(ISBLANK($S427), $S427>'BankRec Main Acct'!$E$8), AI427, 0)","v":0},0,{"$f":"IF(AND(NOT(ISBLANK($U427)), $U427<'P&L'!$P$8), $AL427, 0)","v":0},{"$f":"IF(OR(ISBLANK($U427), $U427>'DebitCard Rec '!$E$8), $AL427, 0)","v":0},0,{"$f":"IF(AND(NOT(ISBLANK($U427)), $U427<'P&L'!$P$8), $AO427, 0)","v":0},{"$f":"IF(OR(ISBLANK($U427), $U427>'DebitCard Rec '!$E$8), $AO427, 0)","v":0},0,{"$f":"IF(AND($A427<'P&L'!$P$8, $X427='P&L'!$G$6), $AR427, 0)","v":0},0,{"$f":"IF(AND($A427<'P&L'!$P$8, $X427='P&L'!$G$6), $AT427, 0)","v":0}," "," "," "]
[null,null,null,null,null,null,null,null,null,null,null,null,null,null,null,null,null,null,null,null,null,null,"Jan-00",1900,{"$f":"IF(AND($A428<'P&L'!$P$8, YEAR($A428)=Master!$C$6), $K428, 0)","v":0},0,{"$f":"IF(AND(NOT(ISBLANK($O428)), $O428<'P&L'!$P$8), Z428, 0)","v":0},{"$f":"IF(OR(ISBLANK($O428), $O428>'BankRec Main Acct'!$E$8), Z428, 0)","v":0},0,{"$f":"IF(AND(NOT(ISBLANK($O428)), $O428<'P&L'!$P$8), AC428, 0)","v":0},{"$f":"IF(OR(ISBLANK($O428), $O428>'BankRec Main Acct'!$E$8), AC428, 0)","v":0},0,{"$f":"IF(AND(NOT(ISBLANK($S428)), $S428<'P&L'!$P$8), AF428, 0)","v":0},{"$f":"IF(OR(ISBLANK($S428), $S428>'BankRec Main Acct'!$E$8), AF428, 0)","v":0},0,{"$f":"IF(AND(NOT(ISBLANK($S428)), $S428<'P&L'!$P$8), AI428, 0)","v":0},{"$f":"IF(OR(ISBLANK($S428), $S428>'BankRec Main Acct'!$E$8), AI428, 0)","v":0},0,{"$f":"IF(AND(NOT(ISBLANK($U428)), $U428<'P&L'!$P$8), $AL428, 0)","v":0},{"$f":"IF(OR(ISBLANK($U428), $U428>'DebitCard Rec '!$E$8), $AL428, 0)","v":0},0,{"$f":"IF(AND(NOT(ISBLANK($U428)), $U428<'P&L'!$P$8), $AO428, 0)","v":0},{"$f":"IF(OR(ISBLANK($U428), $U428>'DebitCard Rec '!$E$8), $AO428, 0)","v":0},0,{"$f":"IF(AND($A428<'P&L'!$P$8, $X428='P&L'!$G$6), $AR428, 0)","v":0},0,{"$f":"IF(AND($A428<'P&L'!$P$8, $X428='P&L'!$G$6), $AT428, 0)","v":0}," "," "," "]
[null,null,null,null,null,null,null,null,null,null,null,null,null,null,null,null,null,null,null,null,null,null,"Jan-00",1900,{"$f":"IF(AND($A429<'P&L'!$P$8, YEAR($A429)=Master!$C$6), $K429, 0)","v":0},0,{"$f":"IF(AND(NOT(ISBLANK($O429)), $O429<'P&L'!$P$8), Z429, 0)","v":0},{"$f":"IF(OR(ISBLANK($O429), $O429>'BankRec Main Acct'!$E$8), Z429, 0)","v":0},0,{"$f":"IF(AND(NOT(ISBLANK($O429)), $O429<'P&L'!$P$8), AC429, 0)","v":0},{"$f":"IF(OR(ISBLANK($O429), $O429>'BankRec Main Acct'!$E$8), AC429, 0)","v":0},0,{"$f":"IF(AND(NOT(ISBLANK($S429)), $S429<'P&L'!$P$8), AF429, 0)","v":0},{"$f":"IF(OR(ISBLANK($S429), $S429>'BankRec Main Acct'!$E$8), AF429, 0)","v":0},0,{"$f":"IF(AND(NOT(ISBLANK($S429)), $S429<'P&L'!$P$8), AI429, 0)","v":0},{"$f":"IF(OR(ISBLANK($S429), $S429>'BankRec Main Acct'!$E$8), AI429, 0)","v":0},0,{"$f":"IF(AND(NOT(ISBLANK($U429)), $U429<'P&L'!$P$8), $AL429, 0)","v":0},{"$f":"IF(OR(ISBLANK($U429), $U429>'DebitCard Rec '!$E$8), $AL429, 0)","v":0},0,{"$f":"IF(AND(NOT(ISBLANK($U429)), $U429<'P&L'!$P$8), $AO429, 0)","v":0},{"$f":"IF(OR(ISBLANK($U429), $U429>'DebitCard Rec '!$E$8), $AO429, 0)","v":0},0,{"$f":"IF(AND($A429<'P&L'!$P$8, $X429='P&L'!$G$6), $AR429, 0)","v":0},0,{"$f":"IF(AND($A429<'P&L'!$P$8, $X429='P&L'!$G$6), $AT429, 0)","v":0}," "," "," "]
[null,null,null,null,null,null,null,null,null,null,null,null,null,null,null,null,null,null,null,null,null,null,"Jan-00",1900,{"$f":"IF(AND($A430<'P&L'!$P$8, YEAR($A430)=Master!$C$6), $K430, 0)","v":0},0,{"$f":"IF(AND(NOT(ISBLANK($O430)), $O430<'P&L'!$P$8), Z430, 0)","v":0},{"$f":"IF(OR(ISBLANK($O430), $O430>'BankRec Main Acct'!$E$8), Z430, 0)","v":0},0,{"$f":"IF(AND(NOT(ISBLANK($O430)), $O430<'P&L'!$P$8), AC430, 0)","v":0},{"$f":"IF(OR(ISBLANK($O430), $O430>'BankRec Main Acct'!$E$8), AC430, 0)","v":0},0,{"$f":"IF(AND(NOT(ISBLANK($S430)), $S430<'P&L'!$P$8), AF430, 0)","v":0},{"$f":"IF(OR(ISBLANK($S430), $S430>'BankRec Main Acct'!$E$8), AF430, 0)","v":0},0,{"$f":"IF(AND(NOT(ISBLANK($S430)), $S430<'P&L'!$P$8), AI430, 0)","v":0},{"$f":"IF(OR(ISBLANK($S430), $S430>'BankRec Main Acct'!$E$8), AI430, 0)","v":0},0,{"$f":"IF(AND(NOT(ISBLANK($U430)), $U430<'P&L'!$P$8), $AL430, 0)","v":0},{"$f":"IF(OR(ISBLANK($U430), $U430>'DebitCard Rec '!$E$8), $AL430, 0)","v":0},0,{"$f":"IF(AND(NOT(ISBLANK($U430)), $U430<'P&L'!$P$8), $AO430, 0)","v":0},{"$f":"IF(OR(ISBLANK($U430), $U430>'DebitCard Rec '!$E$8), $AO430, 0)","v":0},0,{"$f":"IF(AND($A430<'P&L'!$P$8, $X430='P&L'!$G$6), $AR430, 0)","v":0},0,{"$f":"IF(AND($A430<'P&L'!$P$8, $X430='P&L'!$G$6), $AT430, 0)","v":0}," "," "," "]
[null,null,null,null,null,null,null,null,null,null,null,null,null,null,null,null,null,null,null,null,null,null,"Jan-00",1900,{"$f":"IF(AND($A431<'P&L'!$P$8, YEAR($A431)=Master!$C$6), $K431, 0)","v":0},0,{"$f":"IF(AND(NOT(ISBLANK($O431)), $O431<'P&L'!$P$8), Z431, 0)","v":0},{"$f":"IF(OR(ISBLANK($O431), $O431>'BankRec Main Acct'!$E$8), Z431, 0)","v":0},0,{"$f":"IF(AND(NOT(ISBLANK($O431)), $O431<'P&L'!$P$8), AC431, 0)","v":0},{"$f":"IF(OR(ISBLANK($O431), $O431>'BankRec Main Acct'!$E$8), AC431, 0)","v":0},0,{"$f":"IF(AND(NOT(ISBLANK($S431)), $S431<'P&L'!$P$8), AF431, 0)","v":0},{"$f":"IF(OR(ISBLANK($S431), $S431>'BankRec Main Acct'!$E$8), AF431, 0)","v":0},0,{"$f":"IF(AND(NOT(ISBLANK($S431)), $S431<'P&L'!$P$8), AI431, 0)","v":0},{"$f":"IF(OR(ISBLANK($S431), $S431>'BankRec Main Acct'!$E$8), AI431, 0)","v":0},0,{"$f":"IF(AND(NOT(ISBLANK($U431)), $U431<'P&L'!$P$8), $AL431, 0)","v":0},{"$f":"IF(OR(ISBLANK($U431), $U431>'DebitCard Rec '!$E$8), $AL431, 0)","v":0},0,{"$f":"IF(AND(NOT(ISBLANK($U431)), $U431<'P&L'!$P$8), $AO431, 0)","v":0},{"$f":"IF(OR(ISBLANK($U431), $U431>'DebitCard Rec '!$E$8), $AO431, 0)","v":0},0,{"$f":"IF(AND($A431<'P&L'!$P$8, $X431='P&L'!$G$6), $AR431, 0)","v":0},0,{"$f":"IF(AND($A431<'P&L'!$P$8, $X431='P&L'!$G$6), $AT431, 0)","v":0}," "," "," "]
[null,null,null,null,null,null,null,null,null,null,null,null,null,null,null,null,null,null,null,null,null,null,"Jan-00",1900,{"$f":"IF(AND($A432<'P&L'!$P$8, YEAR($A432)=Master!$C$6), $K432, 0)","v":0},0,{"$f":"IF(AND(NOT(ISBLANK($O432)), $O432<'P&L'!$P$8), Z432, 0)","v":0},{"$f":"IF(OR(ISBLANK($O432), $O432>'BankRec Main Acct'!$E$8), Z432, 0)","v":0},0,{"$f":"IF(AND(NOT(ISBLANK($O432)), $O432<'P&L'!$P$8), AC432, 0)","v":0},{"$f":"IF(OR(ISBLANK($O432), $O432>'BankRec Main Acct'!$E$8), AC432, 0)","v":0},0,{"$f":"IF(AND(NOT(ISBLANK($S432)), $S432<'P&L'!$P$8), AF432, 0)","v":0},{"$f":"IF(OR(ISBLANK($S432), $S432>'BankRec Main Acct'!$E$8), AF432, 0)","v":0},0,{"$f":"IF(AND(NOT(ISBLANK($S432)), $S432<'P&L'!$P$8), AI432, 0)","v":0},{"$f":"IF(OR(ISBLANK($S432), $S432>'BankRec Main Acct'!$E$8), AI432, 0)","v":0},0,{"$f":"IF(AND(NOT(ISBLANK($U432)), $U432<'P&L'!$P$8), $AL432, 0)","v":0},{"$f":"IF(OR(ISBLANK($U432), $U432>'DebitCard Rec '!$E$8), $AL432, 0)","v":0},0,{"$f":"IF(AND(NOT(ISBLANK($U432)), $U432<'P&L'!$P$8), $AO432, 0)","v":0},{"$f":"IF(OR(ISBLANK($U432), $U432>'DebitCard Rec '!$E$8), $AO432, 0)","v":0},0,{"$f":"IF(AND($A432<'P&L'!$P$8, $X432='P&L'!$G$6), $AR432, 0)","v":0},0,{"$f":"IF(AND($A432<'P&L'!$P$8, $X432='P&L'!$G$6), $AT432, 0)","v":0}," "," "," "]
[null,null,null,null,null,null,null,null,null,null,null,null,null,null,null,null,null,null,null,null,null,null,"Jan-00",1900,{"$f":"IF(AND($A433<'P&L'!$P$8, YEAR($A433)=Master!$C$6), $K433, 0)","v":0},0,{"$f":"IF(AND(NOT(ISBLANK($O433)), $O433<'P&L'!$P$8), Z433, 0)","v":0},{"$f":"IF(OR(ISBLANK($O433), $O433>'BankRec Main Acct'!$E$8), Z433, 0)","v":0},0,{"$f":"IF(AND(NOT(ISBLANK($O433)), $O433<'P&L'!$P$8), AC433, 0)","v":0},{"$f":"IF(OR(ISBLANK($O433), $O433>'BankRec Main Acct'!$E$8), AC433, 0)","v":0},0,{"$f":"IF(AND(NOT(ISBLANK($S433)), $S433<'P&L'!$P$8), AF433, 0)","v":0},{"$f":"IF(OR(ISBLANK($S433), $S433>'BankRec Main Acct'!$E$8), AF433, 0)","v":0},0,{"$f":"IF(AND(NOT(ISBLANK($S433)), $S433<'P&L'!$P$8), AI433, 0)","v":0},{"$f":"IF(OR(ISBLANK($S433), $S433>'BankRec Main Acct'!$E$8), AI433, 0)","v":0},0,{"$f":"IF(AND(NOT(ISBLANK($U433)), $U433<'P&L'!$P$8), $AL433, 0)","v":0},{"$f":"IF(OR(ISBLANK($U433), $U433>'DebitCard Rec '!$E$8), $AL433, 0)","v":0},0,{"$f":"IF(AND(NOT(ISBLANK($U433)), $U433<'P&L'!$P$8), $AO433, 0)","v":0},{"$f":"IF(OR(ISBLANK($U433), $U433>'DebitCard Rec '!$E$8), $AO433, 0)","v":0},0,{"$f":"IF(AND($A433<'P&L'!$P$8, $X433='P&L'!$G$6), $AR433, 0)","v":0},0,{"$f":"IF(AND($A433<'P&L'!$P$8, $X433='P&L'!$G$6), $AT433, 0)","v":0}," "," "," "]
[null,null,null,null,null,null,null,null,null,null,null,null,null,null,null,null,null,null,null,null,null,null,"Jan-00",1900,{"$f":"IF(AND($A434<'P&L'!$P$8, YEAR($A434)=Master!$C$6), $K434, 0)","v":0},0,{"$f":"IF(AND(NOT(ISBLANK($O434)), $O434<'P&L'!$P$8), Z434, 0)","v":0},{"$f":"IF(OR(ISBLANK($O434), $O434>'BankRec Main Acct'!$E$8), Z434, 0)","v":0},0,{"$f":"IF(AND(NOT(ISBLANK($O434)), $O434<'P&L'!$P$8), AC434, 0)","v":0},{"$f":"IF(OR(ISBLANK($O434), $O434>'BankRec Main Acct'!$E$8), AC434, 0)","v":0},0,{"$f":"IF(AND(NOT(ISBLANK($S434)), $S434<'P&L'!$P$8), AF434, 0)","v":0},{"$f":"IF(OR(ISBLANK($S434), $S434>'BankRec Main Acct'!$E$8), AF434, 0)","v":0},0,{"$f":"IF(AND(NOT(ISBLANK($S434)), $S434<'P&L'!$P$8), AI434, 0)","v":0},{"$f":"IF(OR(ISBLANK($S434), $S434>'BankRec Main Acct'!$E$8), AI434, 0)","v":0},0,{"$f":"IF(AND(NOT(ISBLANK($U434)), $U434<'P&L'!$P$8), $AL434, 0)","v":0},{"$f":"IF(OR(ISBLANK($U434), $U434>'DebitCard Rec '!$E$8), $AL434, 0)","v":0},0,{"$f":"IF(AND(NOT(ISBLANK($U434)), $U434<'P&L'!$P$8), $AO434, 0)","v":0},{"$f":"IF(OR(ISBLANK($U434), $U434>'DebitCard Rec '!$E$8), $AO434, 0)","v":0},0,{"$f":"IF(AND($A434<'P&L'!$P$8, $X434='P&L'!$G$6), $AR434, 0)","v":0},0,{"$f":"IF(AND($A434<'P&L'!$P$8, $X434='P&L'!$G$6), $AT434, 0)","v":0}," "," "," "]
[null,null,null,null,null,null,null,null,null,null,null,null,null,null,null,null,null,null,null,null,null,null,"Jan-00",1900,{"$f":"IF(AND($A435<'P&L'!$P$8, YEAR($A435)=Master!$C$6), $K435, 0)","v":0},0,{"$f":"IF(AND(NOT(ISBLANK($O435)), $O435<'P&L'!$P$8), Z435, 0)","v":0},{"$f":"IF(OR(ISBLANK($O435), $O435>'BankRec Main Acct'!$E$8), Z435, 0)","v":0},0,{"$f":"IF(AND(NOT(ISBLANK($O435)), $O435<'P&L'!$P$8), AC435, 0)","v":0},{"$f":"IF(OR(ISBLANK($O435), $O435>'BankRec Main Acct'!$E$8), AC435, 0)","v":0},0,{"$f":"IF(AND(NOT(ISBLANK($S435)), $S435<'P&L'!$P$8), AF435, 0)","v":0},{"$f":"IF(OR(ISBLANK($S435), $S435>'BankRec Main Acct'!$E$8), AF435, 0)","v":0},0,{"$f":"IF(AND(NOT(ISBLANK($S435)), $S435<'P&L'!$P$8), AI435, 0)","v":0},{"$f":"IF(OR(ISBLANK($S435), $S435>'BankRec Main Acct'!$E$8), AI435, 0)","v":0},0,{"$f":"IF(AND(NOT(ISBLANK($U435)), $U435<'P&L'!$P$8), $AL435, 0)","v":0},{"$f":"IF(OR(ISBLANK($U435), $U435>'DebitCard Rec '!$E$8), $AL435, 0)","v":0},0,{"$f":"IF(AND(NOT(ISBLANK($U435)), $U435<'P&L'!$P$8), $AO435, 0)","v":0},{"$f":"IF(OR(ISBLANK($U435), $U435>'DebitCard Rec '!$E$8), $AO435, 0)","v":0},0,{"$f":"IF(AND($A435<'P&L'!$P$8, $X435='P&L'!$G$6), $AR435, 0)","v":0},0,{"$f":"IF(AND($A435<'P&L'!$P$8, $X435='P&L'!$G$6), $AT435, 0)","v":0}," "," "," "]
[null,null,null,null,null,null,null,null,null,null,null,null,null,null,null,null,null,null,null,null,null,null,"Jan-00",1900,{"$f":"IF(AND($A436<'P&L'!$P$8, YEAR($A436)=Master!$C$6), $K436, 0)","v":0},0,{"$f":"IF(AND(NOT(ISBLANK($O436)), $O436<'P&L'!$P$8), Z436, 0)","v":0},{"$f":"IF(OR(ISBLANK($O436), $O436>'BankRec Main Acct'!$E$8), Z436, 0)","v":0},0,{"$f":"IF(AND(NOT(ISBLANK($O436)), $O436<'P&L'!$P$8), AC436, 0)","v":0},{"$f":"IF(OR(ISBLANK($O436), $O436>'BankRec Main Acct'!$E$8), AC436, 0)","v":0},0,{"$f":"IF(AND(NOT(ISBLANK($S436)), $S436<'P&L'!$P$8), AF436, 0)","v":0},{"$f":"IF(OR(ISBLANK($S436), $S436>'BankRec Main Acct'!$E$8), AF436, 0)","v":0},0,{"$f":"IF(AND(NOT(ISBLANK($S436)), $S436<'P&L'!$P$8), AI436, 0)","v":0},{"$f":"IF(OR(ISBLANK($S436), $S436>'BankRec Main Acct'!$E$8), AI436, 0)","v":0},0,{"$f":"IF(AND(NOT(ISBLANK($U436)), $U436<'P&L'!$P$8), $AL436, 0)","v":0},{"$f":"IF(OR(ISBLANK($U436), $U436>'DebitCard Rec '!$E$8), $AL436, 0)","v":0},0,{"$f":"IF(AND(NOT(ISBLANK($U436)), $U436<'P&L'!$P$8), $AO436, 0)","v":0},{"$f":"IF(OR(ISBLANK($U436), $U436>'DebitCard Rec '!$E$8), $AO436, 0)","v":0},0,{"$f":"IF(AND($A436<'P&L'!$P$8, $X436='P&L'!$G$6), $AR436, 0)","v":0},0,{"$f":"IF(AND($A436<'P&L'!$P$8, $X436='P&L'!$G$6), $AT436, 0)","v":0}," "," "," "]
[null,null,null,null,null,null,null,null,null,null,null,null,null,null,null,null,null,null,null,null,null,null,"Jan-00",1900,{"$f":"IF(AND($A437<'P&L'!$P$8, YEAR($A437)=Master!$C$6), $K437, 0)","v":0},0,{"$f":"IF(AND(NOT(ISBLANK($O437)), $O437<'P&L'!$P$8), Z437, 0)","v":0},{"$f":"IF(OR(ISBLANK($O437), $O437>'BankRec Main Acct'!$E$8), Z437, 0)","v":0},0,{"$f":"IF(AND(NOT(ISBLANK($O437)), $O437<'P&L'!$P$8), AC437, 0)","v":0},{"$f":"IF(OR(ISBLANK($O437), $O437>'BankRec Main Acct'!$E$8), AC437, 0)","v":0},0,{"$f":"IF(AND(NOT(ISBLANK($S437)), $S437<'P&L'!$P$8), AF437, 0)","v":0},{"$f":"IF(OR(ISBLANK($S437), $S437>'BankRec Main Acct'!$E$8), AF437, 0)","v":0},0,{"$f":"IF(AND(NOT(ISBLANK($S437)), $S437<'P&L'!$P$8), AI437, 0)","v":0},{"$f":"IF(OR(ISBLANK($S437), $S437>'BankRec Main Acct'!$E$8), AI437, 0)","v":0},0,{"$f":"IF(AND(NOT(ISBLANK($U437)), $U437<'P&L'!$P$8), $AL437, 0)","v":0},{"$f":"IF(OR(ISBLANK($U437), $U437>'DebitCard Rec '!$E$8), $AL437, 0)","v":0},0,{"$f":"IF(AND(NOT(ISBLANK($U437)), $U437<'P&L'!$P$8), $AO437, 0)","v":0},{"$f":"IF(OR(ISBLANK($U437), $U437>'DebitCard Rec '!$E$8), $AO437, 0)","v":0},0,{"$f":"IF(AND($A437<'P&L'!$P$8, $X437='P&L'!$G$6), $AR437, 0)","v":0},0,{"$f":"IF(AND($A437<'P&L'!$P$8, $X437='P&L'!$G$6), $AT437, 0)","v":0}," "," "," "]
[null,null,null,null,null,null,null,null,null,null,null,null,null,null,null,null,null,null,null,null,null,null,"Jan-00",1900,{"$f":"IF(AND($A438<'P&L'!$P$8, YEAR($A438)=Master!$C$6), $K438, 0)","v":0},0,{"$f":"IF(AND(NOT(ISBLANK($O438)), $O438<'P&L'!$P$8), Z438, 0)","v":0},{"$f":"IF(OR(ISBLANK($O438), $O438>'BankRec Main Acct'!$E$8), Z438, 0)","v":0},0,{"$f":"IF(AND(NOT(ISBLANK($O438)), $O438<'P&L'!$P$8), AC438, 0)","v":0},{"$f":"IF(OR(ISBLANK($O438), $O438>'BankRec Main Acct'!$E$8), AC438, 0)","v":0},0,{"$f":"IF(AND(NOT(ISBLANK($S438)), $S438<'P&L'!$P$8), AF438, 0)","v":0},{"$f":"IF(OR(ISBLANK($S438), $S438>'BankRec Main Acct'!$E$8), AF438, 0)","v":0},0,{"$f":"IF(AND(NOT(ISBLANK($S438)), $S438<'P&L'!$P$8), AI438, 0)","v":0},{"$f":"IF(OR(ISBLANK($S438), $S438>'BankRec Main Acct'!$E$8), AI438, 0)","v":0},0,{"$f":"IF(AND(NOT(ISBLANK($U438)), $U438<'P&L'!$P$8), $AL438, 0)","v":0},{"$f":"IF(OR(ISBLANK($U438), $U438>'DebitCard Rec '!$E$8), $AL438, 0)","v":0},0,{"$f":"IF(AND(NOT(ISBLANK($U438)), $U438<'P&L'!$P$8), $AO438, 0)","v":0},{"$f":"IF(OR(ISBLANK($U438), $U438>'DebitCard Rec '!$E$8), $AO438, 0)","v":0},0,{"$f":"IF(AND($A438<'P&L'!$P$8, $X438='P&L'!$G$6), $AR438, 0)","v":0},0,{"$f":"IF(AND($A438<'P&L'!$P$8, $X438='P&L'!$G$6), $AT438, 0)","v":0}," "," "," "]
[null,null,null,null,null,null,null,null,null,null,null,null,null,null,null,null,null,null,null,null,null,null,"Jan-00",1900,{"$f":"IF(AND($A439<'P&L'!$P$8, YEAR($A439)=Master!$C$6), $K439, 0)","v":0},0,{"$f":"IF(AND(NOT(ISBLANK($O439)), $O439<'P&L'!$P$8), Z439, 0)","v":0},{"$f":"IF(OR(ISBLANK($O439), $O439>'BankRec Main Acct'!$E$8), Z439, 0)","v":0},0,{"$f":"IF(AND(NOT(ISBLANK($O439)), $O439<'P&L'!$P$8), AC439, 0)","v":0},{"$f":"IF(OR(ISBLANK($O439), $O439>'BankRec Main Acct'!$E$8), AC439, 0)","v":0},0,{"$f":"IF(AND(NOT(ISBLANK($S439)), $S439<'P&L'!$P$8), AF439, 0)","v":0},{"$f":"IF(OR(ISBLANK($S439), $S439>'BankRec Main Acct'!$E$8), AF439, 0)","v":0},0,{"$f":"IF(AND(NOT(ISBLANK($S439)), $S439<'P&L'!$P$8), AI439, 0)","v":0},{"$f":"IF(OR(ISBLANK($S439), $S439>'BankRec Main Acct'!$E$8), AI439, 0)","v":0},0,{"$f":"IF(AND(NOT(ISBLANK($U439)), $U439<'P&L'!$P$8), $AL439, 0)","v":0},{"$f":"IF(OR(ISBLANK($U439), $U439>'DebitCard Rec '!$E$8), $AL439, 0)","v":0},0,{"$f":"IF(AND(NOT(ISBLANK($U439)), $U439<'P&L'!$P$8), $AO439, 0)","v":0},{"$f":"IF(OR(ISBLANK($U439), $U439>'DebitCard Rec '!$E$8), $AO439, 0)","v":0},0,{"$f":"IF(AND($A439<'P&L'!$P$8, $X439='P&L'!$G$6), $AR439, 0)","v":0},0,{"$f":"IF(AND($A439<'P&L'!$P$8, $X439='P&L'!$G$6), $AT439, 0)","v":0}," "," "," "]
[null,null,null,null,null,null,null,null,null,null,null,null,null,null,null,null,null,null,null,null,null,null,"Jan-00",1900,{"$f":"IF(AND($A440<'P&L'!$P$8, YEAR($A440)=Master!$C$6), $K440, 0)","v":0},0,{"$f":"IF(AND(NOT(ISBLANK($O440)), $O440<'P&L'!$P$8), Z440, 0)","v":0},{"$f":"IF(OR(ISBLANK($O440), $O440>'BankRec Main Acct'!$E$8), Z440, 0)","v":0},0,{"$f":"IF(AND(NOT(ISBLANK($O440)), $O440<'P&L'!$P$8), AC440, 0)","v":0},{"$f":"IF(OR(ISBLANK($O440), $O440>'BankRec Main Acct'!$E$8), AC440, 0)","v":0},0,{"$f":"IF(AND(NOT(ISBLANK($S440)), $S440<'P&L'!$P$8), AF440, 0)","v":0},{"$f":"IF(OR(ISBLANK($S440), $S440>'BankRec Main Acct'!$E$8), AF440, 0)","v":0},0,{"$f":"IF(AND(NOT(ISBLANK($S440)), $S440<'P&L'!$P$8), AI440, 0)","v":0},{"$f":"IF(OR(ISBLANK($S440), $S440>'BankRec Main Acct'!$E$8), AI440, 0)","v":0},0,{"$f":"IF(AND(NOT(ISBLANK($U440)), $U440<'P&L'!$P$8), $AL440, 0)","v":0},{"$f":"IF(OR(ISBLANK($U440), $U440>'DebitCard Rec '!$E$8), $AL440, 0)","v":0},0,{"$f":"IF(AND(NOT(ISBLANK($U440)), $U440<'P&L'!$P$8), $AO440, 0)","v":0},{"$f":"IF(OR(ISBLANK($U440), $U440>'DebitCard Rec '!$E$8), $AO440, 0)","v":0},0,{"$f":"IF(AND($A440<'P&L'!$P$8, $X440='P&L'!$G$6), $AR440, 0)","v":0},0,{"$f":"IF(AND($A440<'P&L'!$P$8, $X440='P&L'!$G$6), $AT440, 0)","v":0}," "," "," "]
[null,null,null,null,null,null,null,null,null,null,null,null,null,null,null,null,null,null,null,null,null,null,"Jan-00",1900,{"$f":"IF(AND($A441<'P&L'!$P$8, YEAR($A441)=Master!$C$6), $K441, 0)","v":0},0,{"$f":"IF(AND(NOT(ISBLANK($O441)), $O441<'P&L'!$P$8), Z441, 0)","v":0},{"$f":"IF(OR(ISBLANK($O441), $O441>'BankRec Main Acct'!$E$8), Z441, 0)","v":0},0,{"$f":"IF(AND(NOT(ISBLANK($O441)), $O441<'P&L'!$P$8), AC441, 0)","v":0},{"$f":"IF(OR(ISBLANK($O441), $O441>'BankRec Main Acct'!$E$8), AC441, 0)","v":0},0,{"$f":"IF(AND(NOT(ISBLANK($S441)), $S441<'P&L'!$P$8), AF441, 0)","v":0},{"$f":"IF(OR(ISBLANK($S441), $S441>'BankRec Main Acct'!$E$8), AF441, 0)","v":0},0,{"$f":"IF(AND(NOT(ISBLANK($S441)), $S441<'P&L'!$P$8), AI441, 0)","v":0},{"$f":"IF(OR(ISBLANK($S441), $S441>'BankRec Main Acct'!$E$8), AI441, 0)","v":0},0,{"$f":"IF(AND(NOT(ISBLANK($U441)), $U441<'P&L'!$P$8), $AL441, 0)","v":0},{"$f":"IF(OR(ISBLANK($U441), $U441>'DebitCard Rec '!$E$8), $AL441, 0)","v":0},0,{"$f":"IF(AND(NOT(ISBLANK($U441)), $U441<'P&L'!$P$8), $AO441, 0)","v":0},{"$f":"IF(OR(ISBLANK($U441), $U441>'DebitCard Rec '!$E$8), $AO441, 0)","v":0},0,{"$f":"IF(AND($A441<'P&L'!$P$8, $X441='P&L'!$G$6), $AR441, 0)","v":0},0,{"$f":"IF(AND($A441<'P&L'!$P$8, $X441='P&L'!$G$6), $AT441, 0)","v":0}," "," "," "]
[null,null,null,null,null,null,null,null,null,null,null,null,null,null,null,null,null,null,null,null,null,null,"Jan-00",1900,{"$f":"IF(AND($A442<'P&L'!$P$8, YEAR($A442)=Master!$C$6), $K442, 0)","v":0},0,{"$f":"IF(AND(NOT(ISBLANK($O442)), $O442<'P&L'!$P$8), Z442, 0)","v":0},{"$f":"IF(OR(ISBLANK($O442), $O442>'BankRec Main Acct'!$E$8), Z442, 0)","v":0},0,{"$f":"IF(AND(NOT(ISBLANK($O442)), $O442<'P&L'!$P$8), AC442, 0)","v":0},{"$f":"IF(OR(ISBLANK($O442), $O442>'BankRec Main Acct'!$E$8), AC442, 0)","v":0},0,{"$f":"IF(AND(NOT(ISBLANK($S442)), $S442<'P&L'!$P$8), AF442, 0)","v":0},{"$f":"IF(OR(ISBLANK($S442), $S442>'BankRec Main Acct'!$E$8), AF442, 0)","v":0},0,{"$f":"IF(AND(NOT(ISBLANK($S442)), $S442<'P&L'!$P$8), AI442, 0)","v":0},{"$f":"IF(OR(ISBLANK($S442), $S442>'BankRec Main Acct'!$E$8), AI442, 0)","v":0},0,{"$f":"IF(AND(NOT(ISBLANK($U442)), $U442<'P&L'!$P$8), $AL442, 0)","v":0},{"$f":"IF(OR(ISBLANK($U442), $U442>'DebitCard Rec '!$E$8), $AL442, 0)","v":0},0,{"$f":"IF(AND(NOT(ISBLANK($U442)), $U442<'P&L'!$P$8), $AO442, 0)","v":0},{"$f":"IF(OR(ISBLANK($U442), $U442>'DebitCard Rec '!$E$8), $AO442, 0)","v":0},0,{"$f":"IF(AND($A442<'P&L'!$P$8, $X442='P&L'!$G$6), $AR442, 0)","v":0},0,{"$f":"IF(AND($A442<'P&L'!$P$8, $X442='P&L'!$G$6), $AT442, 0)","v":0}," "," "," "]
[null,null,null,null,null,null,null,null,null,null,null,null,null,null,null,null,null,null,null,null,null,null,"Jan-00",1900,{"$f":"IF(AND($A443<'P&L'!$P$8, YEAR($A443)=Master!$C$6), $K443, 0)","v":0},0,{"$f":"IF(AND(NOT(ISBLANK($O443)), $O443<'P&L'!$P$8), Z443, 0)","v":0},{"$f":"IF(OR(ISBLANK($O443), $O443>'BankRec Main Acct'!$E$8), Z443, 0)","v":0},0,{"$f":"IF(AND(NOT(ISBLANK($O443)), $O443<'P&L'!$P$8), AC443, 0)","v":0},{"$f":"IF(OR(ISBLANK($O443), $O443>'BankRec Main Acct'!$E$8), AC443, 0)","v":0},0,{"$f":"IF(AND(NOT(ISBLANK($S443)), $S443<'P&L'!$P$8), AF443, 0)","v":0},{"$f":"IF(OR(ISBLANK($S443), $S443>'BankRec Main Acct'!$E$8), AF443, 0)","v":0},0,{"$f":"IF(AND(NOT(ISBLANK($S443)), $S443<'P&L'!$P$8), AI443, 0)","v":0},{"$f":"IF(OR(ISBLANK($S443), $S443>'BankRec Main Acct'!$E$8), AI443, 0)","v":0},0,{"$f":"IF(AND(NOT(ISBLANK($U443)), $U443<'P&L'!$P$8), $AL443, 0)","v":0},{"$f":"IF(OR(ISBLANK($U443), $U443>'DebitCard Rec '!$E$8), $AL443, 0)","v":0},0,{"$f":"IF(AND(NOT(ISBLANK($U443)), $U443<'P&L'!$P$8), $AO443, 0)","v":0},{"$f":"IF(OR(ISBLANK($U443), $U443>'DebitCard Rec '!$E$8), $AO443, 0)","v":0},0,{"$f":"IF(AND($A443<'P&L'!$P$8, $X443='P&L'!$G$6), $AR443, 0)","v":0},0,{"$f":"IF(AND($A443<'P&L'!$P$8, $X443='P&L'!$G$6), $AT443, 0)","v":0}," "," "," "]
[null,null,null,null,null,null,null,null,null,null,null,null,null,null,null,null,null,null,null,null,null,null,"Jan-00",1900,{"$f":"IF(AND($A444<'P&L'!$P$8, YEAR($A444)=Master!$C$6), $K444, 0)","v":0},0,{"$f":"IF(AND(NOT(ISBLANK($O444)), $O444<'P&L'!$P$8), Z444, 0)","v":0},{"$f":"IF(OR(ISBLANK($O444), $O444>'BankRec Main Acct'!$E$8), Z444, 0)","v":0},0,{"$f":"IF(AND(NOT(ISBLANK($O444)), $O444<'P&L'!$P$8), AC444, 0)","v":0},{"$f":"IF(OR(ISBLANK($O444), $O444>'BankRec Main Acct'!$E$8), AC444, 0)","v":0},0,{"$f":"IF(AND(NOT(ISBLANK($S444)), $S444<'P&L'!$P$8), AF444, 0)","v":0},{"$f":"IF(OR(ISBLANK($S444), $S444>'BankRec Main Acct'!$E$8), AF444, 0)","v":0},0,{"$f":"IF(AND(NOT(ISBLANK($S444)), $S444<'P&L'!$P$8), AI444, 0)","v":0},{"$f":"IF(OR(ISBLANK($S444), $S444>'BankRec Main Acct'!$E$8), AI444, 0)","v":0},0,{"$f":"IF(AND(NOT(ISBLANK($U444)), $U444<'P&L'!$P$8), $AL444, 0)","v":0},{"$f":"IF(OR(ISBLANK($U444), $U444>'DebitCard Rec '!$E$8), $AL444, 0)","v":0},0,{"$f":"IF(AND(NOT(ISBLANK($U444)), $U444<'P&L'!$P$8), $AO444, 0)","v":0},{"$f":"IF(OR(ISBLANK($U444), $U444>'DebitCard Rec '!$E$8), $AO444, 0)","v":0},0,{"$f":"IF(AND($A444<'P&L'!$P$8, $X444='P&L'!$G$6), $AR444, 0)","v":0},0,{"$f":"IF(AND($A444<'P&L'!$P$8, $X444='P&L'!$G$6), $AT444, 0)","v":0}," "," "," "]
[null,null,null,null,null,null,null,null,null,null,null,null,null,null,null,null,null,null,null,null,null,null,"Jan-00",1900,{"$f":"IF(AND($A445<'P&L'!$P$8, YEAR($A445)=Master!$C$6), $K445, 0)","v":0},0,{"$f":"IF(AND(NOT(ISBLANK($O445)), $O445<'P&L'!$P$8), Z445, 0)","v":0},{"$f":"IF(OR(ISBLANK($O445), $O445>'BankRec Main Acct'!$E$8), Z445, 0)","v":0},0,{"$f":"IF(AND(NOT(ISBLANK($O445)), $O445<'P&L'!$P$8), AC445, 0)","v":0},{"$f":"IF(OR(ISBLANK($O445), $O445>'BankRec Main Acct'!$E$8), AC445, 0)","v":0},0,{"$f":"IF(AND(NOT(ISBLANK($S445)), $S445<'P&L'!$P$8), AF445, 0)","v":0},{"$f":"IF(OR(ISBLANK($S445), $S445>'BankRec Main Acct'!$E$8), AF445, 0)","v":0},0,{"$f":"IF(AND(NOT(ISBLANK($S445)), $S445<'P&L'!$P$8), AI445, 0)","v":0},{"$f":"IF(OR(ISBLANK($S445), $S445>'BankRec Main Acct'!$E$8), AI445, 0)","v":0},0,{"$f":"IF(AND(NOT(ISBLANK($U445)), $U445<'P&L'!$P$8), $AL445, 0)","v":0},{"$f":"IF(OR(ISBLANK($U445), $U445>'DebitCard Rec '!$E$8), $AL445, 0)","v":0},0,{"$f":"IF(AND(NOT(ISBLANK($U445)), $U445<'P&L'!$P$8), $AO445, 0)","v":0},{"$f":"IF(OR(ISBLANK($U445), $U445>'DebitCard Rec '!$E$8), $AO445, 0)","v":0},0,{"$f":"IF(AND($A445<'P&L'!$P$8, $X445='P&L'!$G$6), $AR445, 0)","v":0},0,{"$f":"IF(AND($A445<'P&L'!$P$8, $X445='P&L'!$G$6), $AT445, 0)","v":0}," "," "," "]
[null,null,null,null,null,null,null,null,null,null,null,null,null,null,null,null,null,null,null,null,null,null,"Jan-00",1900,{"$f":"IF(AND($A446<'P&L'!$P$8, YEAR($A446)=Master!$C$6), $K446, 0)","v":0},0,{"$f":"IF(AND(NOT(ISBLANK($O446)), $O446<'P&L'!$P$8), Z446, 0)","v":0},{"$f":"IF(OR(ISBLANK($O446), $O446>'BankRec Main Acct'!$E$8), Z446, 0)","v":0},0,{"$f":"IF(AND(NOT(ISBLANK($O446)), $O446<'P&L'!$P$8), AC446, 0)","v":0},{"$f":"IF(OR(ISBLANK($O446), $O446>'BankRec Main Acct'!$E$8), AC446, 0)","v":0},0,{"$f":"IF(AND(NOT(ISBLANK($S446)), $S446<'P&L'!$P$8), AF446, 0)","v":0},{"$f":"IF(OR(ISBLANK($S446), $S446>'BankRec Main Acct'!$E$8), AF446, 0)","v":0},0,{"$f":"IF(AND(NOT(ISBLANK($S446)), $S446<'P&L'!$P$8), AI446, 0)","v":0},{"$f":"IF(OR(ISBLANK($S446), $S446>'BankRec Main Acct'!$E$8), AI446, 0)","v":0},0,{"$f":"IF(AND(NOT(ISBLANK($U446)), $U446<'P&L'!$P$8), $AL446, 0)","v":0},{"$f":"IF(OR(ISBLANK($U446), $U446>'DebitCard Rec '!$E$8), $AL446, 0)","v":0},0,{"$f":"IF(AND(NOT(ISBLANK($U446)), $U446<'P&L'!$P$8), $AO446, 0)","v":0},{"$f":"IF(OR(ISBLANK($U446), $U446>'DebitCard Rec '!$E$8), $AO446, 0)","v":0},0,{"$f":"IF(AND($A446<'P&L'!$P$8, $X446='P&L'!$G$6), $AR446, 0)","v":0},0,{"$f":"IF(AND($A446<'P&L'!$P$8, $X446='P&L'!$G$6), $AT446, 0)","v":0}," "," "," "]
[null,null,null,null,null,null,null,null,null,null,null,null,null,null,null,null,null,null,null,null,null,null,"Jan-00",1900,{"$f":"IF(AND($A447<'P&L'!$P$8, YEAR($A447)=Master!$C$6), $K447, 0)","v":0},0,{"$f":"IF(AND(NOT(ISBLANK($O447)), $O447<'P&L'!$P$8), Z447, 0)","v":0},{"$f":"IF(OR(ISBLANK($O447), $O447>'BankRec Main Acct'!$E$8), Z447, 0)","v":0},0,{"$f":"IF(AND(NOT(ISBLANK($O447)), $O447<'P&L'!$P$8), AC447, 0)","v":0},{"$f":"IF(OR(ISBLANK($O447), $O447>'BankRec Main Acct'!$E$8), AC447, 0)","v":0},0,{"$f":"IF(AND(NOT(ISBLANK($S447)), $S447<'P&L'!$P$8), AF447, 0)","v":0},{"$f":"IF(OR(ISBLANK($S447), $S447>'BankRec Main Acct'!$E$8), AF447, 0)","v":0},0,{"$f":"IF(AND(NOT(ISBLANK($S447)), $S447<'P&L'!$P$8), AI447, 0)","v":0},{"$f":"IF(OR(ISBLANK($S447), $S447>'BankRec Main Acct'!$E$8), AI447, 0)","v":0},0,{"$f":"IF(AND(NOT(ISBLANK($U447)), $U447<'P&L'!$P$8), $AL447, 0)","v":0},{"$f":"IF(OR(ISBLANK($U447), $U447>'DebitCard Rec '!$E$8), $AL447, 0)","v":0},0,{"$f":"IF(AND(NOT(ISBLANK($U447)), $U447<'P&L'!$P$8), $AO447, 0)","v":0},{"$f":"IF(OR(ISBLANK($U447), $U447>'DebitCard Rec '!$E$8), $AO447, 0)","v":0},0,{"$f":"IF(AND($A447<'P&L'!$P$8, $X447='P&L'!$G$6), $AR447, 0)","v":0},0,{"$f":"IF(AND($A447<'P&L'!$P$8, $X447='P&L'!$G$6), $AT447, 0)","v":0}," "," "," "]
[null,null,null,null,null,null,null,null,null,null,null,null,null,null,null,null,null,null,null,null,null,null,"Jan-00",1900,{"$f":"IF(AND($A448<'P&L'!$P$8, YEAR($A448)=Master!$C$6), $K448, 0)","v":0},0,{"$f":"IF(AND(NOT(ISBLANK($O448)), $O448<'P&L'!$P$8), Z448, 0)","v":0},{"$f":"IF(OR(ISBLANK($O448), $O448>'BankRec Main Acct'!$E$8), Z448, 0)","v":0},0,{"$f":"IF(AND(NOT(ISBLANK($O448)), $O448<'P&L'!$P$8), AC448, 0)","v":0},{"$f":"IF(OR(ISBLANK($O448), $O448>'BankRec Main Acct'!$E$8), AC448, 0)","v":0},0,{"$f":"IF(AND(NOT(ISBLANK($S448)), $S448<'P&L'!$P$8), AF448, 0)","v":0},{"$f":"IF(OR(ISBLANK($S448), $S448>'BankRec Main Acct'!$E$8), AF448, 0)","v":0},0,{"$f":"IF(AND(NOT(ISBLANK($S448)), $S448<'P&L'!$P$8), AI448, 0)","v":0},{"$f":"IF(OR(ISBLANK($S448), $S448>'BankRec Main Acct'!$E$8), AI448, 0)","v":0},0,{"$f":"IF(AND(NOT(ISBLANK($U448)), $U448<'P&L'!$P$8), $AL448, 0)","v":0},{"$f":"IF(OR(ISBLANK($U448), $U448>'DebitCard Rec '!$E$8), $AL448, 0)","v":0},0,{"$f":"IF(AND(NOT(ISBLANK($U448)), $U448<'P&L'!$P$8), $AO448, 0)","v":0},{"$f":"IF(OR(ISBLANK($U448), $U448>'DebitCard Rec '!$E$8), $AO448, 0)","v":0},0,{"$f":"IF(AND($A448<'P&L'!$P$8, $X448='P&L'!$G$6), $AR448, 0)","v":0},0,{"$f":"IF(AND($A448<'P&L'!$P$8, $X448='P&L'!$G$6), $AT448, 0)","v":0}," "," "," "]
[null,null,null,null,null,null,null,null,null,null,null,null,null,null,null,null,null,null,null,null,null,null,"Jan-00",1900,{"$f":"IF(AND($A449<'P&L'!$P$8, YEAR($A449)=Master!$C$6), $K449, 0)","v":0},0,{"$f":"IF(AND(NOT(ISBLANK($O449)), $O449<'P&L'!$P$8), Z449, 0)","v":0},{"$f":"IF(OR(ISBLANK($O449), $O449>'BankRec Main Acct'!$E$8), Z449, 0)","v":0},0,{"$f":"IF(AND(NOT(ISBLANK($O449)), $O449<'P&L'!$P$8), AC449, 0)","v":0},{"$f":"IF(OR(ISBLANK($O449), $O449>'BankRec Main Acct'!$E$8), AC449, 0)","v":0},0,{"$f":"IF(AND(NOT(ISBLANK($S449)), $S449<'P&L'!$P$8), AF449, 0)","v":0},{"$f":"IF(OR(ISBLANK($S449), $S449>'BankRec Main Acct'!$E$8), AF449, 0)","v":0},0,{"$f":"IF(AND(NOT(ISBLANK($S449)), $S449<'P&L'!$P$8), AI449, 0)","v":0},{"$f":"IF(OR(ISBLANK($S449), $S449>'BankRec Main Acct'!$E$8), AI449, 0)","v":0},0,{"$f":"IF(AND(NOT(ISBLANK($U449)), $U449<'P&L'!$P$8), $AL449, 0)","v":0},{"$f":"IF(OR(ISBLANK($U449), $U449>'DebitCard Rec '!$E$8), $AL449, 0)","v":0},0,{"$f":"IF(AND(NOT(ISBLANK($U449)), $U449<'P&L'!$P$8), $AO449, 0)","v":0},{"$f":"IF(OR(ISBLANK($U449), $U449>'DebitCard Rec '!$E$8), $AO449, 0)","v":0},0,{"$f":"IF(AND($A449<'P&L'!$P$8, $X449='P&L'!$G$6), $AR449, 0)","v":0},0,{"$f":"IF(AND($A449<'P&L'!$P$8, $X449='P&L'!$G$6), $AT449, 0)","v":0}," "," "," "]
[null,null,null,null,null,null,null,null,null,null,null,null,null,null,null,null,null,null,null,null,null,null,"Jan-00",1900,{"$f":"IF(AND($A450<'P&L'!$P$8, YEAR($A450)=Master!$C$6), $K450, 0)","v":0},0,{"$f":"IF(AND(NOT(ISBLANK($O450)), $O450<'P&L'!$P$8), Z450, 0)","v":0},{"$f":"IF(OR(ISBLANK($O450), $O450>'BankRec Main Acct'!$E$8), Z450, 0)","v":0},0,{"$f":"IF(AND(NOT(ISBLANK($O450)), $O450<'P&L'!$P$8), AC450, 0)","v":0},{"$f":"IF(OR(ISBLANK($O450), $O450>'BankRec Main Acct'!$E$8), AC450, 0)","v":0},0,{"$f":"IF(AND(NOT(ISBLANK($S450)), $S450<'P&L'!$P$8), AF450, 0)","v":0},{"$f":"IF(OR(ISBLANK($S450), $S450>'BankRec Main Acct'!$E$8), AF450, 0)","v":0},0,{"$f":"IF(AND(NOT(ISBLANK($S450)), $S450<'P&L'!$P$8), AI450, 0)","v":0},{"$f":"IF(OR(ISBLANK($S450), $S450>'BankRec Main Acct'!$E$8), AI450, 0)","v":0},0,{"$f":"IF(AND(NOT(ISBLANK($U450)), $U450<'P&L'!$P$8), $AL450, 0)","v":0},{"$f":"IF(OR(ISBLANK($U450), $U450>'DebitCard Rec '!$E$8), $AL450, 0)","v":0},0,{"$f":"IF(AND(NOT(ISBLANK($U450)), $U450<'P&L'!$P$8), $AO450, 0)","v":0},{"$f":"IF(OR(ISBLANK($U450), $U450>'DebitCard Rec '!$E$8), $AO450, 0)","v":0},0,{"$f":"IF(AND($A450<'P&L'!$P$8, $X450='P&L'!$G$6), $AR450, 0)","v":0},0,{"$f":"IF(AND($A450<'P&L'!$P$8, $X450='P&L'!$G$6), $AT450, 0)","v":0}," "," "," "]
[null,null,null,null,null,null,null,null,null,null,null,null,null,null,null,null,null,null,null,null,null,null,"Jan-00",1900,{"$f":"IF(AND($A451<'P&L'!$P$8, YEAR($A451)=Master!$C$6), $K451, 0)","v":0},0,{"$f":"IF(AND(NOT(ISBLANK($O451)), $O451<'P&L'!$P$8), Z451, 0)","v":0},{"$f":"IF(OR(ISBLANK($O451), $O451>'BankRec Main Acct'!$E$8), Z451, 0)","v":0},0,{"$f":"IF(AND(NOT(ISBLANK($O451)), $O451<'P&L'!$P$8), AC451, 0)","v":0},{"$f":"IF(OR(ISBLANK($O451), $O451>'BankRec Main Acct'!$E$8), AC451, 0)","v":0},0,{"$f":"IF(AND(NOT(ISBLANK($S451)), $S451<'P&L'!$P$8), AF451, 0)","v":0},{"$f":"IF(OR(ISBLANK($S451), $S451>'BankRec Main Acct'!$E$8), AF451, 0)","v":0},0,{"$f":"IF(AND(NOT(ISBLANK($S451)), $S451<'P&L'!$P$8), AI451, 0)","v":0},{"$f":"IF(OR(ISBLANK($S451), $S451>'BankRec Main Acct'!$E$8), AI451, 0)","v":0},0,{"$f":"IF(AND(NOT(ISBLANK($U451)), $U451<'P&L'!$P$8), $AL451, 0)","v":0},{"$f":"IF(OR(ISBLANK($U451), $U451>'DebitCard Rec '!$E$8), $AL451, 0)","v":0},0,{"$f":"IF(AND(NOT(ISBLANK($U451)), $U451<'P&L'!$P$8), $AO451, 0)","v":0},{"$f":"IF(OR(ISBLANK($U451), $U451>'DebitCard Rec '!$E$8), $AO451, 0)","v":0},0,{"$f":"IF(AND($A451<'P&L'!$P$8, $X451='P&L'!$G$6), $AR451, 0)","v":0},0,{"$f":"IF(AND($A451<'P&L'!$P$8, $X451='P&L'!$G$6), $AT451, 0)","v":0}," "," "," "]
[null,null,null,null,null,null,null,null,null,null,null,null,null,null,null,null,null,null,null,null,null,null,"Jan-00",1900,{"$f":"IF(AND($A452<'P&L'!$P$8, YEAR($A452)=Master!$C$6), $K452, 0)","v":0},0,{"$f":"IF(AND(NOT(ISBLANK($O452)), $O452<'P&L'!$P$8), Z452, 0)","v":0},{"$f":"IF(OR(ISBLANK($O452), $O452>'BankRec Main Acct'!$E$8), Z452, 0)","v":0},0,{"$f":"IF(AND(NOT(ISBLANK($O452)), $O452<'P&L'!$P$8), AC452, 0)","v":0},{"$f":"IF(OR(ISBLANK($O452), $O452>'BankRec Main Acct'!$E$8), AC452, 0)","v":0},0,{"$f":"IF(AND(NOT(ISBLANK($S452)), $S452<'P&L'!$P$8), AF452, 0)","v":0},{"$f":"IF(OR(ISBLANK($S452), $S452>'BankRec Main Acct'!$E$8), AF452, 0)","v":0},0,{"$f":"IF(AND(NOT(ISBLANK($S452)), $S452<'P&L'!$P$8), AI452, 0)","v":0},{"$f":"IF(OR(ISBLANK($S452), $S452>'BankRec Main Acct'!$E$8), AI452, 0)","v":0},0,{"$f":"IF(AND(NOT(ISBLANK($U452)), $U452<'P&L'!$P$8), $AL452, 0)","v":0},{"$f":"IF(OR(ISBLANK($U452), $U452>'DebitCard Rec '!$E$8), $AL452, 0)","v":0},0,{"$f":"IF(AND(NOT(ISBLANK($U452)), $U452<'P&L'!$P$8), $AO452, 0)","v":0},{"$f":"IF(OR(ISBLANK($U452), $U452>'DebitCard Rec '!$E$8), $AO452, 0)","v":0},{"$f":"IF($AV452=\"Petty cash Receipt\", $K452, 0)","v":0},{"$f":"IF(AND($A452<'P&L'!$P$8, $X452='P&L'!$G$6), $AR452, 0)","v":0},{"$f":"IF($AV452=\"Petty cash Payment\", $K452, 0)","v":0},{"$f":"IF(AND($A452<'P&L'!$P$8, $X452='P&L'!$G$6), $AT452, 0)","v":0}," ",{"$f":"IF(C452=\"Receipt\",CONCATENATE(D452,\" \", F452), \" \")","v":" "},{"$f":"IF(C452= \"Payment\", CONCATENATE(F452,\" \",E452), \" \")","v":" "}]
[null,null,null,null,null,null,null,null,null,null,null,null,null,null,null,null,null,null,null,null,null,null,"Jan-00",1900,{"$f":"IF(AND($A453<'P&L'!$P$8, YEAR($A453)=Master!$C$6), $K453, 0)","v":0},{"$f":"IF(AND($C453=\"Receipt\",$B453<>\"debit card\",$B453<>\"petty cash\",$B453<>\"Cash_Sub\",$B453<>\"Cheque_Sub\", $B453<>\"EFT_Sub\"),$K453,0)","v":0},{"$f":"IF(AND(NOT(ISBLANK($O453)), $O453<'P&L'!$P$8), Z453, 0)","v":0},{"$f":"IF(OR(ISBLANK($O453), $O453>'BankRec Main Acct'!$E$8), Z453, 0)","v":0},{"$f":"IF(AND($C453=\"Payment\", $B453<>\"debit card\", $B453<>\"petty cash\", $B453<>\"Cash_Sub\", $B453<>\"Cheque_Sub\", $B453<>\"EFT_Sub\"), $K453, 0)","v":0},{"$f":"IF(AND(NOT(ISBLANK($O453)), $O453<'P&L'!$P$8), AC453, 0)","v":0},{"$f":"IF(OR(ISBLANK($O453), $O453>'BankRec Main Acct'!$E$8), AC453, 0)","v":0},{"$f":"IF(AND($C453=\"Receipt\",$B453<>\"debit card\",$B453<>\"petty cash\",$B453<>\"Cash_Main\",$B453<>\"Cheque_Main\", $B453<>\"EFT_Main\"),$K453,0)","v":0},{"$f":"IF(AND(NOT(ISBLANK($S453)), $S453<'P&L'!$P$8), AF453, 0)","v":0},{"$f":"IF(OR(ISBLANK($S453), $S453>'BankRec Main Acct'!$E$8), AF453, 0)","v":0},{"$f":"IF(AND($C453=\"Payment\", $B453<>\"debit card\", $B453<>\"petty cash\", $B453<>\"Cash_Main\", $B453<>\"Cheque_Main\", $B453<>\"EFT_Main\"), $K453, 0)","v":0},{"$f":"IF(AND(NOT(ISBLANK($S453)), $S453<'P&L'!$P$8), AI453, 0)","v":0},{"$f":"IF(OR(ISBLANK($S453), $S453>'BankRec Main Acct'!$E$8), AI453, 0)","v":0},0,{"$f":"IF(AND(NOT(ISBLANK($U453)), $U453<'P&L'!$P$8), $AL453, 0)","v":0},{"$f":"IF(OR(ISBLANK($U453), $U453>'DebitCard Rec '!$E$8), $AL453, 0)","v":0},0,{"$f":"IF(AND(NOT(ISBLANK($U453)), $U453<'P&L'!$P$8), $AO453, 0)","v":0},{"$f":"IF(OR(ISBLANK($U453), $U453>'DebitCard Rec '!$E$8), $AO453, 0)","v":0},0,{"$f":"IF(AND($A453<'P&L'!$P$8, $X453='P&L'!$G$6), $AR453, 0)","v":0},0,{"$f":"IF(AND($A453<'P&L'!$P$8, $X453='P&L'!$G$6), $AT453, 0)","v":0}," "," "," "]
[null,null,null,null,null,null,null,null,null,null,null,null,null,null,null,null,null,null,null,null,null,null,"Jan-00",1900,{"$f":"IF(AND($A454<'P&L'!$P$8, YEAR($A454)=Master!$C$6), $K454, 0)","v":0},0,{"$f":"IF(AND(NOT(ISBLANK($O454)), $O454<'P&L'!$P$8), Z454, 0)","v":0},{"$f":"IF(OR(ISBLANK($O454), $O454>'BankRec Main Acct'!$E$8), Z454, 0)","v":0},0,{"$f":"IF(AND(NOT(ISBLANK($O454)), $O454<'P&L'!$P$8), AC454, 0)","v":0},{"$f":"IF(OR(ISBLANK($O454), $O454>'BankRec Main Acct'!$E$8), AC454, 0)","v":0},0,{"$f":"IF(AND(NOT(ISBLANK($S454)), $S454<'P&L'!$P$8), AF454, 0)","v":0},{"$f":"IF(OR(ISBLANK($S454), $S454>'BankRec Main Acct'!$E$8), AF454, 0)","v":0},0,{"$f":"IF(AND(NOT(ISBLANK($S454)), $S454<'P&L'!$P$8), AI454, 0)","v":0},{"$f":"IF(OR(ISBLANK($S454), $S454>'BankRec Main Acct'!$E$8), AI454, 0)","v":0},0,{"$f":"IF(AND(NOT(ISBLANK($U454)), $U454<'P&L'!$P$8), $AL454, 0)","v":0},{"$f":"IF(OR(ISBLANK($U454), $U454>'DebitCard Rec '!$E$8), $AL454, 0)","v":0},0,{"$f":"IF(AND(NOT(ISBLANK($U454)), $U454<'P&L'!$P$8), $AO454, 0)","v":0},{"$f":"IF(OR(ISBLANK($U454), $U454>'DebitCard Rec '!$E$8), $AO454, 0)","v":0},0,{"$f":"IF(AND($A454<'P&L'!$P$8, $X454='P&L'!$G$6), $AR454, 0)","v":0},0,{"$f":"IF(AND($A454<'P&L'!$P$8, $X454='P&L'!$G$6), $AT454, 0)","v":0}," "," "," "]
[null,null,null,null,null,null,null,null,null,null,null,null,null,null,null,null,null,null,null,null,null,null,"Jan-00",1900,{"$f":"IF(AND($A455<'P&L'!$P$8, YEAR($A455)=Master!$C$6), $K455, 0)","v":0},0,{"$f":"IF(AND(NOT(ISBLANK($O455)), $O455<'P&L'!$P$8), Z455, 0)","v":0},{"$f":"IF(OR(ISBLANK($O455), $O455>'BankRec Main Acct'!$E$8), Z455, 0)","v":0},0,{"$f":"IF(AND(NOT(ISBLANK($O455)), $O455<'P&L'!$P$8), AC455, 0)","v":0},{"$f":"IF(OR(ISBLANK($O455), $O455>'BankRec Main Acct'!$E$8), AC455, 0)","v":0},0,{"$f":"IF(AND(NOT(ISBLANK($S455)), $S455<'P&L'!$P$8), AF455, 0)","v":0},{"$f":"IF(OR(ISBLANK($S455), $S455>'BankRec Main Acct'!$E$8), AF455, 0)","v":0},0,{"$f":"IF(AND(NOT(ISBLANK($S455)), $S455<'P&L'!$P$8), AI455, 0)","v":0},{"$f":"IF(OR(ISBLANK($S455), $S455>'BankRec Main Acct'!$E$8), AI455, 0)","v":0},0,{"$f":"IF(AND(NOT(ISBLANK($U455)), $U455<'P&L'!$P$8), $AL455, 0)","v":0},{"$f":"IF(OR(ISBLANK($U455), $U455>'DebitCard Rec '!$E$8), $AL455, 0)","v":0},0,{"$f":"IF(AND(NOT(ISBLANK($U455)), $U455<'P&L'!$P$8), $AO455, 0)","v":0},{"$f":"IF(OR(ISBLANK($U455), $U455>'DebitCard Rec '!$E$8), $AO455, 0)","v":0},0,{"$f":"IF(AND($A455<'P&L'!$P$8, $X455='P&L'!$G$6), $AR455, 0)","v":0},0,{"$f":"IF(AND($A455<'P&L'!$P$8, $X455='P&L'!$G$6), $AT455, 0)","v":0}," "," "," "]
[null,null,null,null,null,null,null,null,null,null,null,null,null,null,null,null,null,null,null,null,null,null,"Jan-00",1900,{"$f":"IF(AND($A456<'P&L'!$P$8, YEAR($A456)=Master!$C$6), $K456, 0)","v":0},0,{"$f":"IF(AND(NOT(ISBLANK($O456)), $O456<'P&L'!$P$8), Z456, 0)","v":0},{"$f":"IF(OR(ISBLANK($O456), $O456>'BankRec Main Acct'!$E$8), Z456, 0)","v":0},0,{"$f":"IF(AND(NOT(ISBLANK($O456)), $O456<'P&L'!$P$8), AC456, 0)","v":0},{"$f":"IF(OR(ISBLANK($O456), $O456>'BankRec Main Acct'!$E$8), AC456, 0)","v":0},0,{"$f":"IF(AND(NOT(ISBLANK($S456)), $S456<'P&L'!$P$8), AF456, 0)","v":0},{"$f":"IF(OR(ISBLANK($S456), $S456>'BankRec Main Acct'!$E$8), AF456, 0)","v":0},0,{"$f":"IF(AND(NOT(ISBLANK($S456)), $S456<'P&L'!$P$8), AI456, 0)","v":0},{"$f":"IF(OR(ISBLANK($S456), $S456>'BankRec Main Acct'!$E$8), AI456, 0)","v":0},0,{"$f":"IF(AND(NOT(ISBLANK($U456)), $U456<'P&L'!$P$8), $AL456, 0)","v":0},{"$f":"IF(OR(ISBLANK($U456), $U456>'DebitCard Rec '!$E$8), $AL456, 0)","v":0},0,{"$f":"IF(AND(NOT(ISBLANK($U456)), $U456<'P&L'!$P$8), $AO456, 0)","v":0},{"$f":"IF(OR(ISBLANK($U456), $U456>'DebitCard Rec '!$E$8), $AO456, 0)","v":0},0,{"$f":"IF(AND($A456<'P&L'!$P$8, $X456='P&L'!$G$6), $AR456, 0)","v":0},0,{"$f":"IF(AND($A456<'P&L'!$P$8, $X456='P&L'!$G$6), $AT456, 0)","v":0}," "," "," "]
[null,null,null,null,null,null,null,null,null,null,null,null,null,null,null,null,null,null,null,null,null,null,"Jan-00",1900,{"$f":"IF(AND($A457<'P&L'!$P$8, YEAR($A457)=Master!$C$6), $K457, 0)","v":0},0,{"$f":"IF(AND(NOT(ISBLANK($O457)), $O457<'P&L'!$P$8), Z457, 0)","v":0},{"$f":"IF(OR(ISBLANK($O457), $O457>'BankRec Main Acct'!$E$8), Z457, 0)","v":0},0,{"$f":"IF(AND(NOT(ISBLANK($O457)), $O457<'P&L'!$P$8), AC457, 0)","v":0},{"$f":"IF(OR(ISBLANK($O457), $O457>'BankRec Main Acct'!$E$8), AC457, 0)","v":0},0,{"$f":"IF(AND(NOT(ISBLANK($S457)), $S457<'P&L'!$P$8), AF457, 0)","v":0},{"$f":"IF(OR(ISBLANK($S457), $S457>'BankRec Main Acct'!$E$8), AF457, 0)","v":0},0,{"$f":"IF(AND(NOT(ISBLANK($S457)), $S457<'P&L'!$P$8), AI457, 0)","v":0},{"$f":"IF(OR(ISBLANK($S457), $S457>'BankRec Main Acct'!$E$8), AI457, 0)","v":0},0,{"$f":"IF(AND(NOT(ISBLANK($U457)), $U457<'P&L'!$P$8), $AL457, 0)","v":0},{"$f":"IF(OR(ISBLANK($U457), $U457>'DebitCard Rec '!$E$8), $AL457, 0)","v":0},0,{"$f":"IF(AND(NOT(ISBLANK($U457)), $U457<'P&L'!$P$8), $AO457, 0)","v":0},{"$f":"IF(OR(ISBLANK($U457), $U457>'DebitCard Rec '!$E$8), $AO457, 0)","v":0},0,{"$f":"IF(AND($A457<'P&L'!$P$8, $X457='P&L'!$G$6), $AR457, 0)","v":0},0,{"$f":"IF(AND($A457<'P&L'!$P$8, $X457='P&L'!$G$6), $AT457, 0)","v":0}," "," "," "]
[null,null,null,null,null,null,null,null,null,null,null,null,null,null,null,null,null,null,null,null,null,null,"Jan-00",1900,{"$f":"IF(AND($A458<'P&L'!$P$8, YEAR($A458)=Master!$C$6), $K458, 0)","v":0},0,{"$f":"IF(AND(NOT(ISBLANK($O458)), $O458<'P&L'!$P$8), Z458, 0)","v":0},{"$f":"IF(OR(ISBLANK($O458), $O458>'BankRec Main Acct'!$E$8), Z458, 0)","v":0},0,{"$f":"IF(AND(NOT(ISBLANK($O458)), $O458<'P&L'!$P$8), AC458, 0)","v":0},{"$f":"IF(OR(ISBLANK($O458), $O458>'BankRec Main Acct'!$E$8), AC458, 0)","v":0},0,{"$f":"IF(AND(NOT(ISBLANK($S458)), $S458<'P&L'!$P$8), AF458, 0)","v":0},{"$f":"IF(OR(ISBLANK($S458), $S458>'BankRec Main Acct'!$E$8), AF458, 0)","v":0},0,{"$f":"IF(AND(NOT(ISBLANK($S458)), $S458<'P&L'!$P$8), AI458, 0)","v":0},{"$f":"IF(OR(ISBLANK($S458), $S458>'BankRec Main Acct'!$E$8), AI458, 0)","v":0},0,{"$f":"IF(AND(NOT(ISBLANK($U458)), $U458<'P&L'!$P$8), $AL458, 0)","v":0},{"$f":"IF(OR(ISBLANK($U458), $U458>'DebitCard Rec '!$E$8), $AL458, 0)","v":0},0,{"$f":"IF(AND(NOT(ISBLANK($U458)), $U458<'P&L'!$P$8), $AO458, 0)","v":0},{"$f":"IF(OR(ISBLANK($U458), $U458>'DebitCard Rec '!$E$8), $AO458, 0)","v":0},0,{"$f":"IF(AND($A458<'P&L'!$P$8, $X458='P&L'!$G$6), $AR458, 0)","v":0},0,{"$f":"IF(AND($A458<'P&L'!$P$8, $X458='P&L'!$G$6), $AT458, 0)","v":0}," "," "," "]
[null,null,null,null,null,null,null,null,null,null,null,null,null,null,null,null,null,null,null,null,null,null,"Jan-00",1900,{"$f":"IF(AND($A459<'P&L'!$P$8, YEAR($A459)=Master!$C$6), $K459, 0)","v":0},0,{"$f":"IF(AND(NOT(ISBLANK($O459)), $O459<'P&L'!$P$8), Z459, 0)","v":0},{"$f":"IF(OR(ISBLANK($O459), $O459>'BankRec Main Acct'!$E$8), Z459, 0)","v":0},0,{"$f":"IF(AND(NOT(ISBLANK($O459)), $O459<'P&L'!$P$8), AC459, 0)","v":0},{"$f":"IF(OR(ISBLANK($O459), $O459>'BankRec Main Acct'!$E$8), AC459, 0)","v":0},0,{"$f":"IF(AND(NOT(ISBLANK($S459)), $S459<'P&L'!$P$8), AF459, 0)","v":0},{"$f":"IF(OR(ISBLANK($S459), $S459>'BankRec Main Acct'!$E$8), AF459, 0)","v":0},0,{"$f":"IF(AND(NOT(ISBLANK($S459)), $S459<'P&L'!$P$8), AI459, 0)","v":0},{"$f":"IF(OR(ISBLANK($S459), $S459>'BankRec Main Acct'!$E$8), AI459, 0)","v":0},0,{"$f":"IF(AND(NOT(ISBLANK($U459)), $U459<'P&L'!$P$8), $AL459, 0)","v":0},{"$f":"IF(OR(ISBLANK($U459), $U459>'DebitCard Rec '!$E$8), $AL459, 0)","v":0},0,{"$f":"IF(AND(NOT(ISBLANK($U459)), $U459<'P&L'!$P$8), $AO459, 0)","v":0},{"$f":"IF(OR(ISBLANK($U459), $U459>'DebitCard Rec '!$E$8), $AO459, 0)","v":0},0,{"$f":"IF(AND($A459<'P&L'!$P$8, $X459='P&L'!$G$6), $AR459, 0)","v":0},0,{"$f":"IF(AND($A459<'P&L'!$P$8, $X459='P&L'!$G$6), $AT459, 0)","v":0},{"$f":"CONCATENATE(B459,\" \",C459)","v":" "}," "," "]
[null,null,null,null,null,null,null,null,null,null,null,null,null,null,null,null,null,null,null,null,null,null,"Jan-00",1900,{"$f":"IF(AND($A460<'P&L'!$P$8, YEAR($A460)=Master!$C$6), $K460, 0)","v":0},0,{"$f":"IF(AND(NOT(ISBLANK($O460)), $O460<'P&L'!$P$8), Z460, 0)","v":0},{"$f":"IF(OR(ISBLANK($O460), $O460>'BankRec Main Acct'!$E$8), Z460, 0)","v":0},0,{"$f":"IF(AND(NOT(ISBLANK($O460)), $O460<'P&L'!$P$8), AC460, 0)","v":0},{"$f":"IF(OR(ISBLANK($O460), $O460>'BankRec Main Acct'!$E$8), AC460, 0)","v":0},0,{"$f":"IF(AND(NOT(ISBLANK($S460)), $S460<'P&L'!$P$8), AF460, 0)","v":0},{"$f":"IF(OR(ISBLANK($S460), $S460>'BankRec Main Acct'!$E$8), AF460, 0)","v":0},0,{"$f":"IF(AND(NOT(ISBLANK($S460)), $S460<'P&L'!$P$8), AI460, 0)","v":0},{"$f":"IF(OR(ISBLANK($S460), $S460>'BankRec Main Acct'!$E$8), AI460, 0)","v":0},0,{"$f":"IF(AND(NOT(ISBLANK($U460)), $U460<'P&L'!$P$8), $AL460, 0)","v":0},{"$f":"IF(OR(ISBLANK($U460), $U460>'DebitCard Rec '!$E$8), $AL460, 0)","v":0},0,{"$f":"IF(AND(NOT(ISBLANK($U460)), $U460<'P&L'!$P$8), $AO460, 0)","v":0},{"$f":"IF(OR(ISBLANK($U460), $U460>'DebitCard Rec '!$E$8), $AO460, 0)","v":0},0,{"$f":"IF(AND($A460<'P&L'!$P$8, $X460='P&L'!$G$6), $AR460, 0)","v":0},0,{"$f":"IF(AND($A460<'P&L'!$P$8, $X460='P&L'!$G$6), $AT460, 0)","v":0}," "," "," "]
[null,null,null,null,null,null,null,null,null,null,null,null,null,null,null,null,null,null,null,null,null,null,"Jan-00",1900,{"$f":"IF(AND($A461<'P&L'!$P$8, YEAR($A461)=Master!$C$6), $K461, 0)","v":0},0,{"$f":"IF(AND(NOT(ISBLANK($O461)), $O461<'P&L'!$P$8), Z461, 0)","v":0},{"$f":"IF(OR(ISBLANK($O461), $O461>'BankRec Main Acct'!$E$8), Z461, 0)","v":0},0,{"$f":"IF(AND(NOT(ISBLANK($O461)), $O461<'P&L'!$P$8), AC461, 0)","v":0},{"$f":"IF(OR(ISBLANK($O461), $O461>'BankRec Main Acct'!$E$8), AC461, 0)","v":0},0,{"$f":"IF(AND(NOT(ISBLANK($S461)), $S461<'P&L'!$P$8), AF461, 0)","v":0},{"$f":"IF(OR(ISBLANK($S461), $S461>'BankRec Main Acct'!$E$8), AF461, 0)","v":0},0,{"$f":"IF(AND(NOT(ISBLANK($S461)), $S461<'P&L'!$P$8), AI461, 0)","v":0},{"$f":"IF(OR(ISBLANK($S461), $S461>'BankRec Main Acct'!$E$8), AI461, 0)","v":0},0,{"$f":"IF(AND(NOT(ISBLANK($U461)), $U461<'P&L'!$P$8), $AL461, 0)","v":0},{"$f":"IF(OR(ISBLANK($U461), $U461>'DebitCard Rec '!$E$8), $AL461, 0)","v":0},0,{"$f":"IF(AND(NOT(ISBLANK($U461)), $U461<'P&L'!$P$8), $AO461, 0)","v":0},{"$f":"IF(OR(ISBLANK($U461), $U461>'DebitCard Rec '!$E$8), $AO461, 0)","v":0},0,{"$f":"IF(AND($A461<'P&L'!$P$8, $X461='P&L'!$G$6), $AR461, 0)","v":0},0,{"$f":"IF(AND($A461<'P&L'!$P$8, $X461='P&L'!$G$6), $AT461, 0)","v":0}," "," "," "]
[null,null,null,null,null,null,null,null,null,null,null,null,null,null,null,null,null,null,null,null,null,null,"Jan-00",1900,{"$f":"IF(AND($A462<'P&L'!$P$8, YEAR($A462)=Master!$C$6), $K462, 0)","v":0},0,{"$f":"IF(AND(NOT(ISBLANK($O462)), $O462<'P&L'!$P$8), Z462, 0)","v":0},{"$f":"IF(OR(ISBLANK($O462), $O462>'BankRec Main Acct'!$E$8), Z462, 0)","v":0},0,{"$f":"IF(AND(NOT(ISBLANK($O462)), $O462<'P&L'!$P$8), AC462, 0)","v":0},{"$f":"IF(OR(ISBLANK($O462), $O462>'BankRec Main Acct'!$E$8), AC462, 0)","v":0},0,{"$f":"IF(AND(NOT(ISBLANK($S462)), $S462<'P&L'!$P$8), AF462, 0)","v":0},{"$f":"IF(OR(ISBLANK($S462), $S462>'BankRec Main Acct'!$E$8), AF462, 0)","v":0},0,{"$f":"IF(AND(NOT(ISBLANK($S462)), $S462<'P&L'!$P$8), AI462, 0)","v":0},{"$f":"IF(OR(ISBLANK($S462), $S462>'BankRec Main Acct'!$E$8), AI462, 0)","v":0},0,{"$f":"IF(AND(NOT(ISBLANK($U462)), $U462<'P&L'!$P$8), $AL462, 0)","v":0},{"$f":"IF(OR(ISBLANK($U462), $U462>'DebitCard Rec '!$E$8), $AL462, 0)","v":0},0,{"$f":"IF(AND(NOT(ISBLANK($U462)), $U462<'P&L'!$P$8), $AO462, 0)","v":0},{"$f":"IF(OR(ISBLANK($U462), $U462>'DebitCard Rec '!$E$8), $AO462, 0)","v":0},0,{"$f":"IF(AND($A462<'P&L'!$P$8, $X462='P&L'!$G$6), $AR462, 0)","v":0},0,{"$f":"IF(AND($A462<'P&L'!$P$8, $X462='P&L'!$G$6), $AT462, 0)","v":0}," "," "," "]
[null,null,null,null,null,null,null,null,null,null,null,null,null,null,null,null,null,null,null,null,null,null,"Jan-00",1900,{"$f":"IF(AND($A463<'P&L'!$P$8, YEAR($A463)=Master!$C$6), $K463, 0)","v":0},0,{"$f":"IF(AND(NOT(ISBLANK($O463)), $O463<'P&L'!$P$8), Z463, 0)","v":0},{"$f":"IF(OR(ISBLANK($O463), $O463>'BankRec Main Acct'!$E$8), Z463, 0)","v":0},0,{"$f":"IF(AND(NOT(ISBLANK($O463)), $O463<'P&L'!$P$8), AC463, 0)","v":0},{"$f":"IF(OR(ISBLANK($O463), $O463>'BankRec Main Acct'!$E$8), AC463, 0)","v":0},0,{"$f":"IF(AND(NOT(ISBLANK($S463)), $S463<'P&L'!$P$8), AF463, 0)","v":0},{"$f":"IF(OR(ISBLANK($S463), $S463>'BankRec Main Acct'!$E$8), AF463, 0)","v":0},0,{"$f":"IF(AND(NOT(ISBLANK($S463)), $S463<'P&L'!$P$8), AI463, 0)","v":0},{"$f":"IF(OR(ISBLANK($S463), $S463>'BankRec Main Acct'!$E$8), AI463, 0)","v":0},0,{"$f":"IF(AND(NOT(ISBLANK($U463)), $U463<'P&L'!$P$8), $AL463, 0)","v":0},{"$f":"IF(OR(ISBLANK($U463), $U463>'DebitCard Rec '!$E$8), $AL463, 0)","v":0},0,{"$f":"IF(AND(NOT(ISBLANK($U463)), $U463<'P&L'!$P$8), $AO463, 0)","v":0},{"$f":"IF(OR(ISBLANK($U463), $U463>'DebitCard Rec '!$E$8), $AO463, 0)","v":0},0,{"$f":"IF(AND($A463<'P&L'!$P$8, $X463='P&L'!$G$6), $AR463, 0)","v":0},0,{"$f":"IF(AND($A463<'P&L'!$P$8, $X463='P&L'!$G$6), $AT463, 0)","v":0}," "," "," "]
[null,null,null,null,null,null,null,null,null,null,null,null,null,null,null,null,null,null,null,null,null,null,"Jan-00",1900,{"$f":"IF(AND($A464<'P&L'!$P$8, YEAR($A464)=Master!$C$6), $K464, 0)","v":0},0,{"$f":"IF(AND(NOT(ISBLANK($O464)), $O464<'P&L'!$P$8), Z464, 0)","v":0},{"$f":"IF(OR(ISBLANK($O464), $O464>'BankRec Main Acct'!$E$8), Z464, 0)","v":0},0,{"$f":"IF(AND(NOT(ISBLANK($O464)), $O464<'P&L'!$P$8), AC464, 0)","v":0},{"$f":"IF(OR(ISBLANK($O464), $O464>'BankRec Main Acct'!$E$8), AC464, 0)","v":0},0,{"$f":"IF(AND(NOT(ISBLANK($S464)), $S464<'P&L'!$P$8), AF464, 0)","v":0},{"$f":"IF(OR(ISBLANK($S464), $S464>'BankRec Main Acct'!$E$8), AF464, 0)","v":0},0,{"$f":"IF(AND(NOT(ISBLANK($S464)), $S464<'P&L'!$P$8), AI464, 0)","v":0},{"$f":"IF(OR(ISBLANK($S464), $S464>'BankRec Main Acct'!$E$8), AI464, 0)","v":0},0,{"$f":"IF(AND(NOT(ISBLANK($U464)), $U464<'P&L'!$P$8), $AL464, 0)","v":0},{"$f":"IF(OR(ISBLANK($U464), $U464>'DebitCard Rec '!$E$8), $AL464, 0)","v":0},0,{"$f":"IF(AND(NOT(ISBLANK($U464)), $U464<'P&L'!$P$8), $AO464, 0)","v":0},{"$f":"IF(OR(ISBLANK($U464), $U464>'DebitCard Rec '!$E$8), $AO464, 0)","v":0},0,{"$f":"IF(AND($A464<'P&L'!$P$8, $X464='P&L'!$G$6), $AR464, 0)","v":0},0,{"$f":"IF(AND($A464<'P&L'!$P$8, $X464='P&L'!$G$6), $AT464, 0)","v":0}," "," "," "]
[null,null,null,null,null,null,null,null,null,null,null,null,null,null,null,null,null,null,null,null,null,null,"Jan-00",1900,{"$f":"IF(AND($A465<'P&L'!$P$8, YEAR($A465)=Master!$C$6), $K465, 0)","v":0},0,{"$f":"IF(AND(NOT(ISBLANK($O465)), $O465<'P&L'!$P$8), Z465, 0)","v":0},{"$f":"IF(OR(ISBLANK($O465), $O465>'BankRec Main Acct'!$E$8), Z465, 0)","v":0},0,{"$f":"IF(AND(NOT(ISBLANK($O465)), $O465<'P&L'!$P$8), AC465, 0)","v":0},{"$f":"IF(OR(ISBLANK($O465), $O465>'BankRec Main Acct'!$E$8), AC465, 0)","v":0},0,{"$f":"IF(AND(NOT(ISBLANK($S465)), $S465<'P&L'!$P$8), AF465, 0)","v":0},{"$f":"IF(OR(ISBLANK($S465), $S465>'BankRec Main Acct'!$E$8), AF465, 0)","v":0},0,{"$f":"IF(AND(NOT(ISBLANK($S465)), $S465<'P&L'!$P$8), AI465, 0)","v":0},{"$f":"IF(OR(ISBLANK($S465), $S465>'BankRec Main Acct'!$E$8), AI465, 0)","v":0},0,{"$f":"IF(AND(NOT(ISBLANK($U465)), $U465<'P&L'!$P$8), $AL465, 0)","v":0},{"$f":"IF(OR(ISBLANK($U465), $U465>'DebitCard Rec '!$E$8), $AL465, 0)","v":0},0,{"$f":"IF(AND(NOT(ISBLANK($U465)), $U465<'P&L'!$P$8), $AO465, 0)","v":0},{"$f":"IF(OR(ISBLANK($U465), $U465>'DebitCard Rec '!$E$8), $AO465, 0)","v":0},0,{"$f":"IF(AND($A465<'P&L'!$P$8, $X465='P&L'!$G$6), $AR465, 0)","v":0},0,{"$f":"IF(AND($A465<'P&L'!$P$8, $X465='P&L'!$G$6), $AT465, 0)","v":0}," "," "," "]
[null,null,null,null,null,null,null,null,null,null,null,null,null,null,null,null,null,null,null,null,null,null,"Jan-00",1900,{"$f":"IF(AND($A466<'P&L'!$P$8, YEAR($A466)=Master!$C$6), $K466, 0)","v":0},0,{"$f":"IF(AND(NOT(ISBLANK($O466)), $O466<'P&L'!$P$8), Z466, 0)","v":0},{"$f":"IF(OR(ISBLANK($O466), $O466>'BankRec Main Acct'!$E$8), Z466, 0)","v":0},0,{"$f":"IF(AND(NOT(ISBLANK($O466)), $O466<'P&L'!$P$8), AC466, 0)","v":0},{"$f":"IF(OR(ISBLANK($O466), $O466>'BankRec Main Acct'!$E$8), AC466, 0)","v":0},0,{"$f":"IF(AND(NOT(ISBLANK($S466)), $S466<'P&L'!$P$8), AF466, 0)","v":0},{"$f":"IF(OR(ISBLANK($S466), $S466>'BankRec Main Acct'!$E$8), AF466, 0)","v":0},0,{"$f":"IF(AND(NOT(ISBLANK($S466)), $S466<'P&L'!$P$8), AI466, 0)","v":0},{"$f":"IF(OR(ISBLANK($S466), $S466>'BankRec Main Acct'!$E$8), AI466, 0)","v":0},0,{"$f":"IF(AND(NOT(ISBLANK($U466)), $U466<'P&L'!$P$8), $AL466, 0)","v":0},{"$f":"IF(OR(ISBLANK($U466), $U466>'DebitCard Rec '!$E$8), $AL466, 0)","v":0},0,{"$f":"IF(AND(NOT(ISBLANK($U466)), $U466<'P&L'!$P$8), $AO466, 0)","v":0},{"$f":"IF(OR(ISBLANK($U466), $U466>'DebitCard Rec '!$E$8), $AO466, 0)","v":0},0,{"$f":"IF(AND($A466<'P&L'!$P$8, $X466='P&L'!$G$6), $AR466, 0)","v":0},0,{"$f":"IF(AND($A466<'P&L'!$P$8, $X466='P&L'!$G$6), $AT466, 0)","v":0}," "," "," "]
[null,null,null,null,null,null,null,null,null,null,null,null,null,null,null,null,null,null,null,null,null,null,"Jan-00",1900,{"$f":"IF(AND($A467<'P&L'!$P$8, YEAR($A467)=Master!$C$6), $K467, 0)","v":0},0,{"$f":"IF(AND(NOT(ISBLANK($O467)), $O467<'P&L'!$P$8), Z467, 0)","v":0},{"$f":"IF(OR(ISBLANK($O467), $O467>'BankRec Main Acct'!$E$8), Z467, 0)","v":0},0,{"$f":"IF(AND(NOT(ISBLANK($O467)), $O467<'P&L'!$P$8), AC467, 0)","v":0},{"$f":"IF(OR(ISBLANK($O467), $O467>'BankRec Main Acct'!$E$8), AC467, 0)","v":0},0,{"$f":"IF(AND(NOT(ISBLANK($S467)), $S467<'P&L'!$P$8), AF467, 0)","v":0},{"$f":"IF(OR(ISBLANK($S467), $S467>'BankRec Main Acct'!$E$8), AF467, 0)","v":0},0,{"$f":"IF(AND(NOT(ISBLANK($S467)), $S467<'P&L'!$P$8), AI467, 0)","v":0},{"$f":"IF(OR(ISBLANK($S467), $S467>'BankRec Main Acct'!$E$8), AI467, 0)","v":0},0,{"$f":"IF(AND(NOT(ISBLANK($U467)), $U467<'P&L'!$P$8), $AL467, 0)","v":0},{"$f":"IF(OR(ISBLANK($U467), $U467>'DebitCard Rec '!$E$8), $AL467, 0)","v":0},0,{"$f":"IF(AND(NOT(ISBLANK($U467)), $U467<'P&L'!$P$8), $AO467, 0)","v":0},{"$f":"IF(OR(ISBLANK($U467), $U467>'DebitCard Rec '!$E$8), $AO467, 0)","v":0},0,{"$f":"IF(AND($A467<'P&L'!$P$8, $X467='P&L'!$G$6), $AR467, 0)","v":0},0,{"$f":"IF(AND($A467<'P&L'!$P$8, $X467='P&L'!$G$6), $AT467, 0)","v":0}," "," "," "]
[null,null,null,null,null,null,null,null,null,null,null,null,null,null,null,null,null,null,null,null,null,null,{"$f":"TEXT($A468, \"mmm-yy\")","v":"Jan-00"},{"$f":"YEAR($A468)","v":1900},{"$f":"IF(AND($A468<'P&L'!$P$8, YEAR($A468)=Master!$C$6), $K468, 0)","v":0},0,{"$f":"IF(AND(NOT(ISBLANK($O468)), $O468<'P&L'!$P$8), Z468, 0)","v":0},{"$f":"IF(OR(ISBLANK($O468), $O468>'BankRec Main Acct'!$E$8), Z468, 0)","v":0},0,{"$f":"IF(AND(NOT(ISBLANK($O468)), $O468<'P&L'!$P$8), AC468, 0)","v":0},{"$f":"IF(OR(ISBLANK($O468), $O468>'BankRec Main Acct'!$E$8), AC468, 0)","v":0},0,{"$f":"IF(AND(NOT(ISBLANK($S468)), $S468<'P&L'!$P$8), AF468, 0)","v":0},{"$f":"IF(OR(ISBLANK($S468), $S468>'BankRec Main Acct'!$E$8), AF468, 0)","v":0},0,{"$f":"IF(AND(NOT(ISBLANK($S468)), $S468<'P&L'!$P$8), AI468, 0)","v":0},{"$f":"IF(OR(ISBLANK($S468), $S468>'BankRec Main Acct'!$E$8), AI468, 0)","v":0},{"$f":"IF(AND($C468=\"Receipt\",$B468=\"Debit card\"),$K468,0)","v":0},{"$f":"IF(AND(NOT(ISBLANK($U468)), $U468<'P&L'!$P$8), $AL468, 0)","v":0},{"$f":"IF(OR(ISBLANK($U468), $U468>'DebitCard Rec '!$E$8), $AL468, 0)","v":0},{"$f":"IF(AND($C468=\"Payment\",$B468=\"Debit card\"),$K468,0)","v":0},{"$f":"IF(AND(NOT(ISBLANK($U468)), $U468<'P&L'!$P$8), $AO468, 0)","v":0},{"$f":"IF(OR(ISBLANK($U468), $U468>'DebitCard Rec '!$E$8), $AO468, 0)","v":0},0,{"$f":"IF(AND($A468<'P&L'!$P$8, $X468='P&L'!$G$6), $AR468, 0)","v":0},0,{"$f":"IF(AND($A468<'P&L'!$P$8, $X468='P&L'!$G$6), $AT468, 0)","v":0}," "," "," "]
[null,null,null,null,null,null,null,null,null,null,null,null,null,null,null,null,null,null,null,null,null,null,"Jan-00",1900,{"$f":"IF(AND($A469<'P&L'!$P$8, YEAR($A469)=Master!$C$6), $K469, 0)","v":0},0,{"$f":"IF(AND(NOT(ISBLANK($O469)), $O469<'P&L'!$P$8), Z469, 0)","v":0},{"$f":"IF(OR(ISBLANK($O469), $O469>'BankRec Main Acct'!$E$8), Z469, 0)","v":0},0,{"$f":"IF(AND(NOT(ISBLANK($O469)), $O469<'P&L'!$P$8), AC469, 0)","v":0},{"$f":"IF(OR(ISBLANK($O469), $O469>'BankRec Main Acct'!$E$8), AC469, 0)","v":0},0,{"$f":"IF(AND(NOT(ISBLANK($S469)), $S469<'P&L'!$P$8), AF469, 0)","v":0},{"$f":"IF(OR(ISBLANK($S469), $S469>'BankRec Main Acct'!$E$8), AF469, 0)","v":0},0,{"$f":"IF(AND(NOT(ISBLANK($S469)), $S469<'P&L'!$P$8), AI469, 0)","v":0},{"$f":"IF(OR(ISBLANK($S469), $S469>'BankRec Main Acct'!$E$8), AI469, 0)","v":0},0,{"$f":"IF(AND(NOT(ISBLANK($U469)), $U469<'P&L'!$P$8), $AL469, 0)","v":0},{"$f":"IF(OR(ISBLANK($U469), $U469>'DebitCard Rec '!$E$8), $AL469, 0)","v":0},0,{"$f":"IF(AND(NOT(ISBLANK($U469)), $U469<'P&L'!$P$8), $AO469, 0)","v":0},{"$f":"IF(OR(ISBLANK($U469), $U469>'DebitCard Rec '!$E$8), $AO469, 0)","v":0},0,{"$f":"IF(AND($A469<'P&L'!$P$8, $X469='P&L'!$G$6), $AR469, 0)","v":0},0,{"$f":"IF(AND($A469<'P&L'!$P$8, $X469='P&L'!$G$6), $AT469, 0)","v":0}," "," "," "]
[null,null,null,null,null,null,null,null,null,null,null,null,null,null,null,null,null,null,null,null,null,null,"Jan-00",1900,{"$f":"IF(AND($A470<'P&L'!$P$8, YEAR($A470)=Master!$C$6), $K470, 0)","v":0},0,{"$f":"IF(AND(NOT(ISBLANK($O470)), $O470<'P&L'!$P$8), Z470, 0)","v":0},{"$f":"IF(OR(ISBLANK($O470), $O470>'BankRec Main Acct'!$E$8), Z470, 0)","v":0},0,{"$f":"IF(AND(NOT(ISBLANK($O470)), $O470<'P&L'!$P$8), AC470, 0)","v":0},{"$f":"IF(OR(ISBLANK($O470), $O470>'BankRec Main Acct'!$E$8), AC470, 0)","v":0},0,{"$f":"IF(AND(NOT(ISBLANK($S470)), $S470<'P&L'!$P$8), AF470, 0)","v":0},{"$f":"IF(OR(ISBLANK($S470), $S470>'BankRec Main Acct'!$E$8), AF470, 0)","v":0},0,{"$f":"IF(AND(NOT(ISBLANK($S470)), $S470<'P&L'!$P$8), AI470, 0)","v":0},{"$f":"IF(OR(ISBLANK($S470), $S470>'BankRec Main Acct'!$E$8), AI470, 0)","v":0},0,{"$f":"IF(AND(NOT(ISBLANK($U470)), $U470<'P&L'!$P$8), $AL470, 0)","v":0},{"$f":"IF(OR(ISBLANK($U470), $U470>'DebitCard Rec '!$E$8), $AL470, 0)","v":0},0,{"$f":"IF(AND(NOT(ISBLANK($U470)), $U470<'P&L'!$P$8), $AO470, 0)","v":0},{"$f":"IF(OR(ISBLANK($U470), $U470>'DebitCard Rec '!$E$8), $AO470, 0)","v":0},0,{"$f":"IF(AND($A470<'P&L'!$P$8, $X470='P&L'!$G$6), $AR470, 0)","v":0},0,{"$f":"IF(AND($A470<'P&L'!$P$8, $X470='P&L'!$G$6), $AT470, 0)","v":0}," "," "," "]
[null,null,null,null,null,null,null,null,null,null,null,null,null,null,null,null,null,null,null,null,null,null,"Jan-00",1900,{"$f":"IF(AND($A471<'P&L'!$P$8, YEAR($A471)=Master!$C$6), $K471, 0)","v":0},0,{"$f":"IF(AND(NOT(ISBLANK($O471)), $O471<'P&L'!$P$8), Z471, 0)","v":0},{"$f":"IF(OR(ISBLANK($O471), $O471>'BankRec Main Acct'!$E$8), Z471, 0)","v":0},0,{"$f":"IF(AND(NOT(ISBLANK($O471)), $O471<'P&L'!$P$8), AC471, 0)","v":0},{"$f":"IF(OR(ISBLANK($O471), $O471>'BankRec Main Acct'!$E$8), AC471, 0)","v":0},0,{"$f":"IF(AND(NOT(ISBLANK($S471)), $S471<'P&L'!$P$8), AF471, 0)","v":0},{"$f":"IF(OR(ISBLANK($S471), $S471>'BankRec Main Acct'!$E$8), AF471, 0)","v":0},0,{"$f":"IF(AND(NOT(ISBLANK($S471)), $S471<'P&L'!$P$8), AI471, 0)","v":0},{"$f":"IF(OR(ISBLANK($S471), $S471>'BankRec Main Acct'!$E$8), AI471, 0)","v":0},0,{"$f":"IF(AND(NOT(ISBLANK($U471)), $U471<'P&L'!$P$8), $AL471, 0)","v":0},{"$f":"IF(OR(ISBLANK($U471), $U471>'DebitCard Rec '!$E$8), $AL471, 0)","v":0},0,{"$f":"IF(AND(NOT(ISBLANK($U471)), $U471<'P&L'!$P$8), $AO471, 0)","v":0},{"$f":"IF(OR(ISBLANK($U471), $U471>'DebitCard Rec '!$E$8), $AO471, 0)","v":0},0,{"$f":"IF(AND($A471<'P&L'!$P$8, $X471='P&L'!$G$6), $AR471, 0)","v":0},0,{"$f":"IF(AND($A471<'P&L'!$P$8, $X471='P&L'!$G$6), $AT471, 0)","v":0}," "," "," "]
[null,null,null,null,null,null,null,null,null,null,null,null,null,null,null,null,null,null,null,null,null,null,"Jan-00",1900,{"$f":"IF(AND($A472<'P&L'!$P$8, YEAR($A472)=Master!$C$6), $K472, 0)","v":0},0,{"$f":"IF(AND(NOT(ISBLANK($O472)), $O472<'P&L'!$P$8), Z472, 0)","v":0},{"$f":"IF(OR(ISBLANK($O472), $O472>'BankRec Main Acct'!$E$8), Z472, 0)","v":0},0,{"$f":"IF(AND(NOT(ISBLANK($O472)), $O472<'P&L'!$P$8), AC472, 0)","v":0},{"$f":"IF(OR(ISBLANK($O472), $O472>'BankRec Main Acct'!$E$8), AC472, 0)","v":0},0,{"$f":"IF(AND(NOT(ISBLANK($S472)), $S472<'P&L'!$P$8), AF472, 0)","v":0},{"$f":"IF(OR(ISBLANK($S472), $S472>'BankRec Main Acct'!$E$8), AF472, 0)","v":0},0,{"$f":"IF(AND(NOT(ISBLANK($S472)), $S472<'P&L'!$P$8), AI472, 0)","v":0},{"$f":"IF(OR(ISBLANK($S472), $S472>'BankRec Main Acct'!$E$8), AI472, 0)","v":0},0,{"$f":"IF(AND(NOT(ISBLANK($U472)), $U472<'P&L'!$P$8), $AL472, 0)","v":0},{"$f":"IF(OR(ISBLANK($U472), $U472>'DebitCard Rec '!$E$8), $AL472, 0)","v":0},0,{"$f":"IF(AND(NOT(ISBLANK($U472)), $U472<'P&L'!$P$8), $AO472, 0)","v":0},{"$f":"IF(OR(ISBLANK($U472), $U472>'DebitCard Rec '!$E$8), $AO472, 0)","v":0},0,{"$f":"IF(AND($A472<'P&L'!$P$8, $X472='P&L'!$G$6), $AR472, 0)","v":0},0,{"$f":"IF(AND($A472<'P&L'!$P$8, $X472='P&L'!$G$6), $AT472, 0)","v":0}," "," "," "]
[null,null,null,null,null,null,null,null,null,null,null,null,null,null,null,null,null,null,null,null,null,null,"Jan-00",1900,{"$f":"IF(AND($A473<'P&L'!$P$8, YEAR($A473)=Master!$C$6), $K473, 0)","v":0},0,{"$f":"IF(AND(NOT(ISBLANK($O473)), $O473<'P&L'!$P$8), Z473, 0)","v":0},{"$f":"IF(OR(ISBLANK($O473), $O473>'BankRec Main Acct'!$E$8), Z473, 0)","v":0},0,{"$f":"IF(AND(NOT(ISBLANK($O473)), $O473<'P&L'!$P$8), AC473, 0)","v":0},{"$f":"IF(OR(ISBLANK($O473), $O473>'BankRec Main Acct'!$E$8), AC473, 0)","v":0},0,{"$f":"IF(AND(NOT(ISBLANK($S473)), $S473<'P&L'!$P$8), AF473, 0)","v":0},{"$f":"IF(OR(ISBLANK($S473), $S473>'BankRec Main Acct'!$E$8), AF473, 0)","v":0},0,{"$f":"IF(AND(NOT(ISBLANK($S473)), $S473<'P&L'!$P$8), AI473, 0)","v":0},{"$f":"IF(OR(ISBLANK($S473), $S473>'BankRec Main Acct'!$E$8), AI473, 0)","v":0},0,{"$f":"IF(AND(NOT(ISBLANK($U473)), $U473<'P&L'!$P$8), $AL473, 0)","v":0},{"$f":"IF(OR(ISBLANK($U473), $U473>'DebitCard Rec '!$E$8), $AL473, 0)","v":0},0,{"$f":"IF(AND(NOT(ISBLANK($U473)), $U473<'P&L'!$P$8), $AO473, 0)","v":0},{"$f":"IF(OR(ISBLANK($U473), $U473>'DebitCard Rec '!$E$8), $AO473, 0)","v":0},0,{"$f":"IF(AND($A473<'P&L'!$P$8, $X473='P&L'!$G$6), $AR473, 0)","v":0},0,{"$f":"IF(AND($A473<'P&L'!$P$8, $X473='P&L'!$G$6), $AT473, 0)","v":0}," "," "," "]
[null,null,null,null,null,null,null,null,null,null,null,null,null,null,null,null,null,null,null,null,null,null,"Jan-00",1900,{"$f":"IF(AND($A474<'P&L'!$P$8, YEAR($A474)=Master!$C$6), $K474, 0)","v":0},0,{"$f":"IF(AND(NOT(ISBLANK($O474)), $O474<'P&L'!$P$8), Z474, 0)","v":0},{"$f":"IF(OR(ISBLANK($O474), $O474>'BankRec Main Acct'!$E$8), Z474, 0)","v":0},0,{"$f":"IF(AND(NOT(ISBLANK($O474)), $O474<'P&L'!$P$8), AC474, 0)","v":0},{"$f":"IF(OR(ISBLANK($O474), $O474>'BankRec Main Acct'!$E$8), AC474, 0)","v":0},0,{"$f":"IF(AND(NOT(ISBLANK($S474)), $S474<'P&L'!$P$8), AF474, 0)","v":0},{"$f":"IF(OR(ISBLANK($S474), $S474>'BankRec Main Acct'!$E$8), AF474, 0)","v":0},0,{"$f":"IF(AND(NOT(ISBLANK($S474)), $S474<'P&L'!$P$8), AI474, 0)","v":0},{"$f":"IF(OR(ISBLANK($S474), $S474>'BankRec Main Acct'!$E$8), AI474, 0)","v":0},0,{"$f":"IF(AND(NOT(ISBLANK($U474)), $U474<'P&L'!$P$8), $AL474, 0)","v":0},{"$f":"IF(OR(ISBLANK($U474), $U474>'DebitCard Rec '!$E$8), $AL474, 0)","v":0},0,{"$f":"IF(AND(NOT(ISBLANK($U474)), $U474<'P&L'!$P$8), $AO474, 0)","v":0},{"$f":"IF(OR(ISBLANK($U474), $U474>'DebitCard Rec '!$E$8), $AO474, 0)","v":0},0,{"$f":"IF(AND($A474<'P&L'!$P$8, $X474='P&L'!$G$6), $AR474, 0)","v":0},0,{"$f":"IF(AND($A474<'P&L'!$P$8, $X474='P&L'!$G$6), $AT474, 0)","v":0}," "," "," "]
[null,null,null,null,null,null,null,null,null,null,null,null,null,null,null,null,null,null,null,null,null,null,"Jan-00",1900,{"$f":"IF(AND($A475<'P&L'!$P$8, YEAR($A475)=Master!$C$6), $K475, 0)","v":0},0,{"$f":"IF(AND(NOT(ISBLANK($O475)), $O475<'P&L'!$P$8), Z475, 0)","v":0},{"$f":"IF(OR(ISBLANK($O475), $O475>'BankRec Main Acct'!$E$8), Z475, 0)","v":0},0,{"$f":"IF(AND(NOT(ISBLANK($O475)), $O475<'P&L'!$P$8), AC475, 0)","v":0},{"$f":"IF(OR(ISBLANK($O475), $O475>'BankRec Main Acct'!$E$8), AC475, 0)","v":0},0,{"$f":"IF(AND(NOT(ISBLANK($S475)), $S475<'P&L'!$P$8), AF475, 0)","v":0},{"$f":"IF(OR(ISBLANK($S475), $S475>'BankRec Main Acct'!$E$8), AF475, 0)","v":0},0,{"$f":"IF(AND(NOT(ISBLANK($S475)), $S475<'P&L'!$P$8), AI475, 0)","v":0},{"$f":"IF(OR(ISBLANK($S475), $S475>'BankRec Main Acct'!$E$8), AI475, 0)","v":0},0,{"$f":"IF(AND(NOT(ISBLANK($U475)), $U475<'P&L'!$P$8), $AL475, 0)","v":0},{"$f":"IF(OR(ISBLANK($U475), $U475>'DebitCard Rec '!$E$8), $AL475, 0)","v":0},0,{"$f":"IF(AND(NOT(ISBLANK($U475)), $U475<'P&L'!$P$8), $AO475, 0)","v":0},{"$f":"IF(OR(ISBLANK($U475), $U475>'DebitCard Rec '!$E$8), $AO475, 0)","v":0},0,{"$f":"IF(AND($A475<'P&L'!$P$8, $X475='P&L'!$G$6), $AR475, 0)","v":0},0,{"$f":"IF(AND($A475<'P&L'!$P$8, $X475='P&L'!$G$6), $AT475, 0)","v":0}," "," "," "]
[null,null,null,null,null,null,null,null,null,null,null,null,null,null,null,null,null,null,null,null,null,null,"Jan-00",1900,{"$f":"IF(AND($A476<'P&L'!$P$8, YEAR($A476)=Master!$C$6), $K476, 0)","v":0},0,{"$f":"IF(AND(NOT(ISBLANK($O476)), $O476<'P&L'!$P$8), Z476, 0)","v":0},{"$f":"IF(OR(ISBLANK($O476), $O476>'BankRec Main Acct'!$E$8), Z476, 0)","v":0},0,{"$f":"IF(AND(NOT(ISBLANK($O476)), $O476<'P&L'!$P$8), AC476, 0)","v":0},{"$f":"IF(OR(ISBLANK($O476), $O476>'BankRec Main Acct'!$E$8), AC476, 0)","v":0},0,{"$f":"IF(AND(NOT(ISBLANK($S476)), $S476<'P&L'!$P$8), AF476, 0)","v":0},{"$f":"IF(OR(ISBLANK($S476), $S476>'BankRec Main Acct'!$E$8), AF476, 0)","v":0},0,{"$f":"IF(AND(NOT(ISBLANK($S476)), $S476<'P&L'!$P$8), AI476, 0)","v":0},{"$f":"IF(OR(ISBLANK($S476), $S476>'BankRec Main Acct'!$E$8), AI476, 0)","v":0},0,{"$f":"IF(AND(NOT(ISBLANK($U476)), $U476<'P&L'!$P$8), $AL476, 0)","v":0},{"$f":"IF(OR(ISBLANK($U476), $U476>'DebitCard Rec '!$E$8), $AL476, 0)","v":0},0,{"$f":"IF(AND(NOT(ISBLANK($U476)), $U476<'P&L'!$P$8), $AO476, 0)","v":0},{"$f":"IF(OR(ISBLANK($U476), $U476>'DebitCard Rec '!$E$8), $AO476, 0)","v":0},0,{"$f":"IF(AND($A476<'P&L'!$P$8, $X476='P&L'!$G$6), $AR476, 0)","v":0},0,{"$f":"IF(AND($A476<'P&L'!$P$8, $X476='P&L'!$G$6), $AT476, 0)","v":0}," "," "," "]
[null,null,null,null,null,null,null,null,null,null,null,null,null,null,null,null,null,null,null,null,null,null,"Jan-00",1900,{"$f":"IF(AND($A477<'P&L'!$P$8, YEAR($A477)=Master!$C$6), $K477, 0)","v":0},0,{"$f":"IF(AND(NOT(ISBLANK($O477)), $O477<'P&L'!$P$8), Z477, 0)","v":0},{"$f":"IF(OR(ISBLANK($O477), $O477>'BankRec Main Acct'!$E$8), Z477, 0)","v":0},0,{"$f":"IF(AND(NOT(ISBLANK($O477)), $O477<'P&L'!$P$8), AC477, 0)","v":0},{"$f":"IF(OR(ISBLANK($O477), $O477>'BankRec Main Acct'!$E$8), AC477, 0)","v":0},0,{"$f":"IF(AND(NOT(ISBLANK($S477)), $S477<'P&L'!$P$8), AF477, 0)","v":0},{"$f":"IF(OR(ISBLANK($S477), $S477>'BankRec Main Acct'!$E$8), AF477, 0)","v":0},0,{"$f":"IF(AND(NOT(ISBLANK($S477)), $S477<'P&L'!$P$8), AI477, 0)","v":0},{"$f":"IF(OR(ISBLANK($S477), $S477>'BankRec Main Acct'!$E$8), AI477, 0)","v":0},0,{"$f":"IF(AND(NOT(ISBLANK($U477)), $U477<'P&L'!$P$8), $AL477, 0)","v":0},{"$f":"IF(OR(ISBLANK($U477), $U477>'DebitCard Rec '!$E$8), $AL477, 0)","v":0},0,{"$f":"IF(AND(NOT(ISBLANK($U477)), $U477<'P&L'!$P$8), $AO477, 0)","v":0},{"$f":"IF(OR(ISBLANK($U477), $U477>'DebitCard Rec '!$E$8), $AO477, 0)","v":0},0,{"$f":"IF(AND($A477<'P&L'!$P$8, $X477='P&L'!$G$6), $AR477, 0)","v":0},0,{"$f":"IF(AND($A477<'P&L'!$P$8, $X477='P&L'!$G$6), $AT477, 0)","v":0}," "," "," "]
[null,null,null,null,null,null,null,null,null,null,null,null,null,null,null,null,null,null,null,null,null,null,"Jan-00",1900,{"$f":"IF(AND($A478<'P&L'!$P$8, YEAR($A478)=Master!$C$6), $K478, 0)","v":0},0,{"$f":"IF(AND(NOT(ISBLANK($O478)), $O478<'P&L'!$P$8), Z478, 0)","v":0},{"$f":"IF(OR(ISBLANK($O478), $O478>'BankRec Main Acct'!$E$8), Z478, 0)","v":0},0,{"$f":"IF(AND(NOT(ISBLANK($O478)), $O478<'P&L'!$P$8), AC478, 0)","v":0},{"$f":"IF(OR(ISBLANK($O478), $O478>'BankRec Main Acct'!$E$8), AC478, 0)","v":0},0,{"$f":"IF(AND(NOT(ISBLANK($S478)), $S478<'P&L'!$P$8), AF478, 0)","v":0},{"$f":"IF(OR(ISBLANK($S478), $S478>'BankRec Main Acct'!$E$8), AF478, 0)","v":0},0,{"$f":"IF(AND(NOT(ISBLANK($S478)), $S478<'P&L'!$P$8), AI478, 0)","v":0},{"$f":"IF(OR(ISBLANK($S478), $S478>'BankRec Main Acct'!$E$8), AI478, 0)","v":0},0,{"$f":"IF(AND(NOT(ISBLANK($U478)), $U478<'P&L'!$P$8), $AL478, 0)","v":0},{"$f":"IF(OR(ISBLANK($U478), $U478>'DebitCard Rec '!$E$8), $AL478, 0)","v":0},0,{"$f":"IF(AND(NOT(ISBLANK($U478)), $U478<'P&L'!$P$8), $AO478, 0)","v":0},{"$f":"IF(OR(ISBLANK($U478), $U478>'DebitCard Rec '!$E$8), $AO478, 0)","v":0},0,{"$f":"IF(AND($A478<'P&L'!$P$8, $X478='P&L'!$G$6), $AR478, 0)","v":0},0,{"$f":"IF(AND($A478<'P&L'!$P$8, $X478='P&L'!$G$6), $AT478, 0)","v":0}," "," "," "]
[null,null,null,null,null,null,null,null,null,null,null,null,null,null,null,null,null,null,null,null,null,null,"Jan-00",1900,{"$f":"IF(AND($A479<'P&L'!$P$8, YEAR($A479)=Master!$C$6), $K479, 0)","v":0},0,{"$f":"IF(AND(NOT(ISBLANK($O479)), $O479<'P&L'!$P$8), Z479, 0)","v":0},{"$f":"IF(OR(ISBLANK($O479), $O479>'BankRec Main Acct'!$E$8), Z479, 0)","v":0},0,{"$f":"IF(AND(NOT(ISBLANK($O479)), $O479<'P&L'!$P$8), AC479, 0)","v":0},{"$f":"IF(OR(ISBLANK($O479), $O479>'BankRec Main Acct'!$E$8), AC479, 0)","v":0},0,{"$f":"IF(AND(NOT(ISBLANK($S479)), $S479<'P&L'!$P$8), AF479, 0)","v":0},{"$f":"IF(OR(ISBLANK($S479), $S479>'BankRec Main Acct'!$E$8), AF479, 0)","v":0},0,{"$f":"IF(AND(NOT(ISBLANK($S479)), $S479<'P&L'!$P$8), AI479, 0)","v":0},{"$f":"IF(OR(ISBLANK($S479), $S479>'BankRec Main Acct'!$E$8), AI479, 0)","v":0},0,{"$f":"IF(AND(NOT(ISBLANK($U479)), $U479<'P&L'!$P$8), $AL479, 0)","v":0},{"$f":"IF(OR(ISBLANK($U479), $U479>'DebitCard Rec '!$E$8), $AL479, 0)","v":0},0,{"$f":"IF(AND(NOT(ISBLANK($U479)), $U479<'P&L'!$P$8), $AO479, 0)","v":0},{"$f":"IF(OR(ISBLANK($U479), $U479>'DebitCard Rec '!$E$8), $AO479, 0)","v":0},0,{"$f":"IF(AND($A479<'P&L'!$P$8, $X479='P&L'!$G$6), $AR479, 0)","v":0},0,{"$f":"IF(AND($A479<'P&L'!$P$8, $X479='P&L'!$G$6), $AT479, 0)","v":0}," "," "," "]
[null,null,null,null,null,null,null,null,null,null,null,null,null,null,null,null,null,null,null,null,null,null,"Jan-00",1900,{"$f":"IF(AND($A480<'P&L'!$P$8, YEAR($A480)=Master!$C$6), $K480, 0)","v":0},0,{"$f":"IF(AND(NOT(ISBLANK($O480)), $O480<'P&L'!$P$8), Z480, 0)","v":0},{"$f":"IF(OR(ISBLANK($O480), $O480>'BankRec Main Acct'!$E$8), Z480, 0)","v":0},0,{"$f":"IF(AND(NOT(ISBLANK($O480)), $O480<'P&L'!$P$8), AC480, 0)","v":0},{"$f":"IF(OR(ISBLANK($O480), $O480>'BankRec Main Acct'!$E$8), AC480, 0)","v":0},0,{"$f":"IF(AND(NOT(ISBLANK($S480)), $S480<'P&L'!$P$8), AF480, 0)","v":0},{"$f":"IF(OR(ISBLANK($S480), $S480>'BankRec Main Acct'!$E$8), AF480, 0)","v":0},0,{"$f":"IF(AND(NOT(ISBLANK($S480)), $S480<'P&L'!$P$8), AI480, 0)","v":0},{"$f":"IF(OR(ISBLANK($S480), $S480>'BankRec Main Acct'!$E$8), AI480, 0)","v":0},0,{"$f":"IF(AND(NOT(ISBLANK($U480)), $U480<'P&L'!$P$8), $AL480, 0)","v":0},{"$f":"IF(OR(ISBLANK($U480), $U480>'DebitCard Rec '!$E$8), $AL480, 0)","v":0},0,{"$f":"IF(AND(NOT(ISBLANK($U480)), $U480<'P&L'!$P$8), $AO480, 0)","v":0},{"$f":"IF(OR(ISBLANK($U480), $U480>'DebitCard Rec '!$E$8), $AO480, 0)","v":0},0,{"$f":"IF(AND($A480<'P&L'!$P$8, $X480='P&L'!$G$6), $AR480, 0)","v":0},0,{"$f":"IF(AND($A480<'P&L'!$P$8, $X480='P&L'!$G$6), $AT480, 0)","v":0}," "," "," "]
[null,null,null,null,null,null,null,null,null,null,null,null,null,null,null,null,null,null,null,null,null,null,"Jan-00",1900,{"$f":"IF(AND($A481<'P&L'!$P$8, YEAR($A481)=Master!$C$6), $K481, 0)","v":0},0,{"$f":"IF(AND(NOT(ISBLANK($O481)), $O481<'P&L'!$P$8), Z481, 0)","v":0},{"$f":"IF(OR(ISBLANK($O481), $O481>'BankRec Main Acct'!$E$8), Z481, 0)","v":0},0,{"$f":"IF(AND(NOT(ISBLANK($O481)), $O481<'P&L'!$P$8), AC481, 0)","v":0},{"$f":"IF(OR(ISBLANK($O481), $O481>'BankRec Main Acct'!$E$8), AC481, 0)","v":0},0,{"$f":"IF(AND(NOT(ISBLANK($S481)), $S481<'P&L'!$P$8), AF481, 0)","v":0},{"$f":"IF(OR(ISBLANK($S481), $S481>'BankRec Main Acct'!$E$8), AF481, 0)","v":0},0,{"$f":"IF(AND(NOT(ISBLANK($S481)), $S481<'P&L'!$P$8), AI481, 0)","v":0},{"$f":"IF(OR(ISBLANK($S481), $S481>'BankRec Main Acct'!$E$8), AI481, 0)","v":0},0,{"$f":"IF(AND(NOT(ISBLANK($U481)), $U481<'P&L'!$P$8), $AL481, 0)","v":0},{"$f":"IF(OR(ISBLANK($U481), $U481>'DebitCard Rec '!$E$8), $AL481, 0)","v":0},0,{"$f":"IF(AND(NOT(ISBLANK($U481)), $U481<'P&L'!$P$8), $AO481, 0)","v":0},{"$f":"IF(OR(ISBLANK($U481), $U481>'DebitCard Rec '!$E$8), $AO481, 0)","v":0},0,{"$f":"IF(AND($A481<'P&L'!$P$8, $X481='P&L'!$G$6), $AR481, 0)","v":0},0,{"$f":"IF(AND($A481<'P&L'!$P$8, $X481='P&L'!$G$6), $AT481, 0)","v":0}," "," "," "]
[null,null,null,null,null,null,null,null,null,null,null,null,null,null,null,null,null,null,null,null,null,null,"Jan-00",1900,{"$f":"IF(AND($A482<'P&L'!$P$8, YEAR($A482)=Master!$C$6), $K482, 0)","v":0},0,{"$f":"IF(AND(NOT(ISBLANK($O482)), $O482<'P&L'!$P$8), Z482, 0)","v":0},{"$f":"IF(OR(ISBLANK($O482), $O482>'BankRec Main Acct'!$E$8), Z482, 0)","v":0},0,{"$f":"IF(AND(NOT(ISBLANK($O482)), $O482<'P&L'!$P$8), AC482, 0)","v":0},{"$f":"IF(OR(ISBLANK($O482), $O482>'BankRec Main Acct'!$E$8), AC482, 0)","v":0},0,{"$f":"IF(AND(NOT(ISBLANK($S482)), $S482<'P&L'!$P$8), AF482, 0)","v":0},{"$f":"IF(OR(ISBLANK($S482), $S482>'BankRec Main Acct'!$E$8), AF482, 0)","v":0},0,{"$f":"IF(AND(NOT(ISBLANK($S482)), $S482<'P&L'!$P$8), AI482, 0)","v":0},{"$f":"IF(OR(ISBLANK($S482), $S482>'BankRec Main Acct'!$E$8), AI482, 0)","v":0},0,{"$f":"IF(AND(NOT(ISBLANK($U482)), $U482<'P&L'!$P$8), $AL482, 0)","v":0},{"$f":"IF(OR(ISBLANK($U482), $U482>'DebitCard Rec '!$E$8), $AL482, 0)","v":0},0,{"$f":"IF(AND(NOT(ISBLANK($U482)), $U482<'P&L'!$P$8), $AO482, 0)","v":0},{"$f":"IF(OR(ISBLANK($U482), $U482>'DebitCard Rec '!$E$8), $AO482, 0)","v":0},0,{"$f":"IF(AND($A482<'P&L'!$P$8, $X482='P&L'!$G$6), $AR482, 0)","v":0},0,{"$f":"IF(AND($A482<'P&L'!$P$8, $X482='P&L'!$G$6), $AT482, 0)","v":0}," "," "," "]
[null,null,null,null,null,null,null,null,null,null,null,null,null,null,null,null,null,null,null,null,null,null,"Jan-00",1900,{"$f":"IF(AND($A483<'P&L'!$P$8, YEAR($A483)=Master!$C$6), $K483, 0)","v":0},0,{"$f":"IF(AND(NOT(ISBLANK($O483)), $O483<'P&L'!$P$8), Z483, 0)","v":0},{"$f":"IF(OR(ISBLANK($O483), $O483>'BankRec Main Acct'!$E$8), Z483, 0)","v":0},0,{"$f":"IF(AND(NOT(ISBLANK($O483)), $O483<'P&L'!$P$8), AC483, 0)","v":0},{"$f":"IF(OR(ISBLANK($O483), $O483>'BankRec Main Acct'!$E$8), AC483, 0)","v":0},0,{"$f":"IF(AND(NOT(ISBLANK($S483)), $S483<'P&L'!$P$8), AF483, 0)","v":0},{"$f":"IF(OR(ISBLANK($S483), $S483>'BankRec Main Acct'!$E$8), AF483, 0)","v":0},0,{"$f":"IF(AND(NOT(ISBLANK($S483)), $S483<'P&L'!$P$8), AI483, 0)","v":0},{"$f":"IF(OR(ISBLANK($S483), $S483>'BankRec Main Acct'!$E$8), AI483, 0)","v":0},0,{"$f":"IF(AND(NOT(ISBLANK($U483)), $U483<'P&L'!$P$8), $AL483, 0)","v":0},{"$f":"IF(OR(ISBLANK($U483), $U483>'DebitCard Rec '!$E$8), $AL483, 0)","v":0},0,{"$f":"IF(AND(NOT(ISBLANK($U483)), $U483<'P&L'!$P$8), $AO483, 0)","v":0},{"$f":"IF(OR(ISBLANK($U483), $U483>'DebitCard Rec '!$E$8), $AO483, 0)","v":0},0,{"$f":"IF(AND($A483<'P&L'!$P$8, $X483='P&L'!$G$6), $AR483, 0)","v":0},0,{"$f":"IF(AND($A483<'P&L'!$P$8, $X483='P&L'!$G$6), $AT483, 0)","v":0}," "," "," "]
[null,null,null,null,null,null,null,null,null,null,null,null,null,null,null,null,null,null,null,null,null,null,"Jan-00",1900,{"$f":"IF(AND($A484<'P&L'!$P$8, YEAR($A484)=Master!$C$6), $K484, 0)","v":0},0,{"$f":"IF(AND(NOT(ISBLANK($O484)), $O484<'P&L'!$P$8), Z484, 0)","v":0},{"$f":"IF(OR(ISBLANK($O484), $O484>'BankRec Main Acct'!$E$8), Z484, 0)","v":0},0,{"$f":"IF(AND(NOT(ISBLANK($O484)), $O484<'P&L'!$P$8), AC484, 0)","v":0},{"$f":"IF(OR(ISBLANK($O484), $O484>'BankRec Main Acct'!$E$8), AC484, 0)","v":0},0,{"$f":"IF(AND(NOT(ISBLANK($S484)), $S484<'P&L'!$P$8), AF484, 0)","v":0},{"$f":"IF(OR(ISBLANK($S484), $S484>'BankRec Main Acct'!$E$8), AF484, 0)","v":0},0,{"$f":"IF(AND(NOT(ISBLANK($S484)), $S484<'P&L'!$P$8), AI484, 0)","v":0},{"$f":"IF(OR(ISBLANK($S484), $S484>'BankRec Main Acct'!$E$8), AI484, 0)","v":0},0,{"$f":"IF(AND(NOT(ISBLANK($U484)), $U484<'P&L'!$P$8), $AL484, 0)","v":0},{"$f":"IF(OR(ISBLANK($U484), $U484>'DebitCard Rec '!$E$8), $AL484, 0)","v":0},0,{"$f":"IF(AND(NOT(ISBLANK($U484)), $U484<'P&L'!$P$8), $AO484, 0)","v":0},{"$f":"IF(OR(ISBLANK($U484), $U484>'DebitCard Rec '!$E$8), $AO484, 0)","v":0},0,{"$f":"IF(AND($A484<'P&L'!$P$8, $X484='P&L'!$G$6), $AR484, 0)","v":0},0,{"$f":"IF(AND($A484<'P&L'!$P$8, $X484='P&L'!$G$6), $AT484, 0)","v":0}," "," "," "]
[null,null,null,null,null,null,null,null,null,null,null,null,null,null,null,null,null,null,null,null,null,null,"Jan-00",1900,{"$f":"IF(AND($A485<'P&L'!$P$8, YEAR($A485)=Master!$C$6), $K485, 0)","v":0},0,{"$f":"IF(AND(NOT(ISBLANK($O485)), $O485<'P&L'!$P$8), Z485, 0)","v":0},{"$f":"IF(OR(ISBLANK($O485), $O485>'BankRec Main Acct'!$E$8), Z485, 0)","v":0},0,{"$f":"IF(AND(NOT(ISBLANK($O485)), $O485<'P&L'!$P$8), AC485, 0)","v":0},{"$f":"IF(OR(ISBLANK($O485), $O485>'BankRec Main Acct'!$E$8), AC485, 0)","v":0},0,{"$f":"IF(AND(NOT(ISBLANK($S485)), $S485<'P&L'!$P$8), AF485, 0)","v":0},{"$f":"IF(OR(ISBLANK($S485), $S485>'BankRec Main Acct'!$E$8), AF485, 0)","v":0},0,{"$f":"IF(AND(NOT(ISBLANK($S485)), $S485<'P&L'!$P$8), AI485, 0)","v":0},{"$f":"IF(OR(ISBLANK($S485), $S485>'BankRec Main Acct'!$E$8), AI485, 0)","v":0},0,{"$f":"IF(AND(NOT(ISBLANK($U485)), $U485<'P&L'!$P$8), $AL485, 0)","v":0},{"$f":"IF(OR(ISBLANK($U485), $U485>'DebitCard Rec '!$E$8), $AL485, 0)","v":0},0,{"$f":"IF(AND(NOT(ISBLANK($U485)), $U485<'P&L'!$P$8), $AO485, 0)","v":0},{"$f":"IF(OR(ISBLANK($U485), $U485>'DebitCard Rec '!$E$8), $AO485, 0)","v":0},0,{"$f":"IF(AND($A485<'P&L'!$P$8, $X485='P&L'!$G$6), $AR485, 0)","v":0},0,{"$f":"IF(AND($A485<'P&L'!$P$8, $X485='P&L'!$G$6), $AT485, 0)","v":0}," "," "," "]
[null,null,null,null,null,null,null,null,null,null,null,null,null,null,null,null,null,null,null,null,null,null,"Jan-00",1900,{"$f":"IF(AND($A486<'P&L'!$P$8, YEAR($A486)=Master!$C$6), $K486, 0)","v":0},0,{"$f":"IF(AND(NOT(ISBLANK($O486)), $O486<'P&L'!$P$8), Z486, 0)","v":0},{"$f":"IF(OR(ISBLANK($O486), $O486>'BankRec Main Acct'!$E$8), Z486, 0)","v":0},0,{"$f":"IF(AND(NOT(ISBLANK($O486)), $O486<'P&L'!$P$8), AC486, 0)","v":0},{"$f":"IF(OR(ISBLANK($O486), $O486>'BankRec Main Acct'!$E$8), AC486, 0)","v":0},0,{"$f":"IF(AND(NOT(ISBLANK($S486)), $S486<'P&L'!$P$8), AF486, 0)","v":0},{"$f":"IF(OR(ISBLANK($S486), $S486>'BankRec Main Acct'!$E$8), AF486, 0)","v":0},0,{"$f":"IF(AND(NOT(ISBLANK($S486)), $S486<'P&L'!$P$8), AI486, 0)","v":0},{"$f":"IF(OR(ISBLANK($S486), $S486>'BankRec Main Acct'!$E$8), AI486, 0)","v":0},0,{"$f":"IF(AND(NOT(ISBLANK($U486)), $U486<'P&L'!$P$8), $AL486, 0)","v":0},{"$f":"IF(OR(ISBLANK($U486), $U486>'DebitCard Rec '!$E$8), $AL486, 0)","v":0},0,{"$f":"IF(AND(NOT(ISBLANK($U486)), $U486<'P&L'!$P$8), $AO486, 0)","v":0},{"$f":"IF(OR(ISBLANK($U486), $U486>'DebitCard Rec '!$E$8), $AO486, 0)","v":0},0,{"$f":"IF(AND($A486<'P&L'!$P$8, $X486='P&L'!$G$6), $AR486, 0)","v":0},0,{"$f":"IF(AND($A486<'P&L'!$P$8, $X486='P&L'!$G$6), $AT486, 0)","v":0}," "," "," "]
[null,null,null,null,null,null,null,null,null,null,null,null,null,null,null,null,null,null,null,null,null,null,"Jan-00",1900,{"$f":"IF(AND($A487<'P&L'!$P$8, YEAR($A487)=Master!$C$6), $K487, 0)","v":0},0,{"$f":"IF(AND(NOT(ISBLANK($O487)), $O487<'P&L'!$P$8), Z487, 0)","v":0},{"$f":"IF(OR(ISBLANK($O487), $O487>'BankRec Main Acct'!$E$8), Z487, 0)","v":0},0,{"$f":"IF(AND(NOT(ISBLANK($O487)), $O487<'P&L'!$P$8), AC487, 0)","v":0},{"$f":"IF(OR(ISBLANK($O487), $O487>'BankRec Main Acct'!$E$8), AC487, 0)","v":0},0,{"$f":"IF(AND(NOT(ISBLANK($S487)), $S487<'P&L'!$P$8), AF487, 0)","v":0},{"$f":"IF(OR(ISBLANK($S487), $S487>'BankRec Main Acct'!$E$8), AF487, 0)","v":0},0,{"$f":"IF(AND(NOT(ISBLANK($S487)), $S487<'P&L'!$P$8), AI487, 0)","v":0},{"$f":"IF(OR(ISBLANK($S487), $S487>'BankRec Main Acct'!$E$8), AI487, 0)","v":0},0,{"$f":"IF(AND(NOT(ISBLANK($U487)), $U487<'P&L'!$P$8), $AL487, 0)","v":0},{"$f":"IF(OR(ISBLANK($U487), $U487>'DebitCard Rec '!$E$8), $AL487, 0)","v":0},0,{"$f":"IF(AND(NOT(ISBLANK($U487)), $U487<'P&L'!$P$8), $AO487, 0)","v":0},{"$f":"IF(OR(ISBLANK($U487), $U487>'DebitCard Rec '!$E$8), $AO487, 0)","v":0},0,{"$f":"IF(AND($A487<'P&L'!$P$8, $X487='P&L'!$G$6), $AR487, 0)","v":0},0,{"$f":"IF(AND($A487<'P&L'!$P$8, $X487='P&L'!$G$6), $AT487, 0)","v":0}," "," "," "]
[null,null,null,null,null,null,null,null,null,null,null,null,null,null,null,null,null,null,null,null,null,null,"Jan-00",1900,{"$f":"IF(AND($A488<'P&L'!$P$8, YEAR($A488)=Master!$C$6), $K488, 0)","v":0},0,{"$f":"IF(AND(NOT(ISBLANK($O488)), $O488<'P&L'!$P$8), Z488, 0)","v":0},{"$f":"IF(OR(ISBLANK($O488), $O488>'BankRec Main Acct'!$E$8), Z488, 0)","v":0},0,{"$f":"IF(AND(NOT(ISBLANK($O488)), $O488<'P&L'!$P$8), AC488, 0)","v":0},{"$f":"IF(OR(ISBLANK($O488), $O488>'BankRec Main Acct'!$E$8), AC488, 0)","v":0},0,{"$f":"IF(AND(NOT(ISBLANK($S488)), $S488<'P&L'!$P$8), AF488, 0)","v":0},{"$f":"IF(OR(ISBLANK($S488), $S488>'BankRec Main Acct'!$E$8), AF488, 0)","v":0},0,{"$f":"IF(AND(NOT(ISBLANK($S488)), $S488<'P&L'!$P$8), AI488, 0)","v":0},{"$f":"IF(OR(ISBLANK($S488), $S488>'BankRec Main Acct'!$E$8), AI488, 0)","v":0},0,{"$f":"IF(AND(NOT(ISBLANK($U488)), $U488<'P&L'!$P$8), $AL488, 0)","v":0},{"$f":"IF(OR(ISBLANK($U488), $U488>'DebitCard Rec '!$E$8), $AL488, 0)","v":0},0,{"$f":"IF(AND(NOT(ISBLANK($U488)), $U488<'P&L'!$P$8), $AO488, 0)","v":0},{"$f":"IF(OR(ISBLANK($U488), $U488>'DebitCard Rec '!$E$8), $AO488, 0)","v":0},0,{"$f":"IF(AND($A488<'P&L'!$P$8, $X488='P&L'!$G$6), $AR488, 0)","v":0},0,{"$f":"IF(AND($A488<'P&L'!$P$8, $X488='P&L'!$G$6), $AT488, 0)","v":0}," "," "," "]
[null,null,null,null,null,null,null,null,null,null,null,null,null,null,null,null,null,null,null,null,null,null,"Jan-00",1900,{"$f":"IF(AND($A489<'P&L'!$P$8, YEAR($A489)=Master!$C$6), $K489, 0)","v":0},0,{"$f":"IF(AND(NOT(ISBLANK($O489)), $O489<'P&L'!$P$8), Z489, 0)","v":0},{"$f":"IF(OR(ISBLANK($O489), $O489>'BankRec Main Acct'!$E$8), Z489, 0)","v":0},0,{"$f":"IF(AND(NOT(ISBLANK($O489)), $O489<'P&L'!$P$8), AC489, 0)","v":0},{"$f":"IF(OR(ISBLANK($O489), $O489>'BankRec Main Acct'!$E$8), AC489, 0)","v":0},0,{"$f":"IF(AND(NOT(ISBLANK($S489)), $S489<'P&L'!$P$8), AF489, 0)","v":0},{"$f":"IF(OR(ISBLANK($S489), $S489>'BankRec Main Acct'!$E$8), AF489, 0)","v":0},0,{"$f":"IF(AND(NOT(ISBLANK($S489)), $S489<'P&L'!$P$8), AI489, 0)","v":0},{"$f":"IF(OR(ISBLANK($S489), $S489>'BankRec Main Acct'!$E$8), AI489, 0)","v":0},0,{"$f":"IF(AND(NOT(ISBLANK($U489)), $U489<'P&L'!$P$8), $AL489, 0)","v":0},{"$f":"IF(OR(ISBLANK($U489), $U489>'DebitCard Rec '!$E$8), $AL489, 0)","v":0},0,{"$f":"IF(AND(NOT(ISBLANK($U489)), $U489<'P&L'!$P$8), $AO489, 0)","v":0},{"$f":"IF(OR(ISBLANK($U489), $U489>'DebitCard Rec '!$E$8), $AO489, 0)","v":0},0,{"$f":"IF(AND($A489<'P&L'!$P$8, $X489='P&L'!$G$6), $AR489, 0)","v":0},0,{"$f":"IF(AND($A489<'P&L'!$P$8, $X489='P&L'!$G$6), $AT489, 0)","v":0}," "," "," "]
[null,null,null,null,null,null,null,null,null,null,null,null,null,null,null,null,null,null,null,null,null,null,"Jan-00",1900,{"$f":"IF(AND($A490<'P&L'!$P$8, YEAR($A490)=Master!$C$6), $K490, 0)","v":0},0,{"$f":"IF(AND(NOT(ISBLANK($O490)), $O490<'P&L'!$P$8), Z490, 0)","v":0},{"$f":"IF(OR(ISBLANK($O490), $O490>'BankRec Main Acct'!$E$8), Z490, 0)","v":0},0,{"$f":"IF(AND(NOT(ISBLANK($O490)), $O490<'P&L'!$P$8), AC490, 0)","v":0},{"$f":"IF(OR(ISBLANK($O490), $O490>'BankRec Main Acct'!$E$8), AC490, 0)","v":0},0,{"$f":"IF(AND(NOT(ISBLANK($S490)), $S490<'P&L'!$P$8), AF490, 0)","v":0},{"$f":"IF(OR(ISBLANK($S490), $S490>'BankRec Main Acct'!$E$8), AF490, 0)","v":0},0,{"$f":"IF(AND(NOT(ISBLANK($S490)), $S490<'P&L'!$P$8), AI490, 0)","v":0},{"$f":"IF(OR(ISBLANK($S490), $S490>'BankRec Main Acct'!$E$8), AI490, 0)","v":0},0,{"$f":"IF(AND(NOT(ISBLANK($U490)), $U490<'P&L'!$P$8), $AL490, 0)","v":0},{"$f":"IF(OR(ISBLANK($U490), $U490>'DebitCard Rec '!$E$8), $AL490, 0)","v":0},0,{"$f":"IF(AND(NOT(ISBLANK($U490)), $U490<'P&L'!$P$8), $AO490, 0)","v":0},{"$f":"IF(OR(ISBLANK($U490), $U490>'DebitCard Rec '!$E$8), $AO490, 0)","v":0},0,{"$f":"IF(AND($A490<'P&L'!$P$8, $X490='P&L'!$G$6), $AR490, 0)","v":0},0,{"$f":"IF(AND($A490<'P&L'!$P$8, $X490='P&L'!$G$6), $AT490, 0)","v":0}," "," "," "]
[null,null,null,null,null,null,null,null,null,null,null,null,null,null,null,null,null,null,null,null,null,null,"Jan-00",1900,{"$f":"IF(AND($A491<'P&L'!$P$8, YEAR($A491)=Master!$C$6), $K491, 0)","v":0},0,{"$f":"IF(AND(NOT(ISBLANK($O491)), $O491<'P&L'!$P$8), Z491, 0)","v":0},{"$f":"IF(OR(ISBLANK($O491), $O491>'BankRec Main Acct'!$E$8), Z491, 0)","v":0},0,{"$f":"IF(AND(NOT(ISBLANK($O491)), $O491<'P&L'!$P$8), AC491, 0)","v":0},{"$f":"IF(OR(ISBLANK($O491), $O491>'BankRec Main Acct'!$E$8), AC491, 0)","v":0},0,{"$f":"IF(AND(NOT(ISBLANK($S491)), $S491<'P&L'!$P$8), AF491, 0)","v":0},{"$f":"IF(OR(ISBLANK($S491), $S491>'BankRec Main Acct'!$E$8), AF491, 0)","v":0},0,{"$f":"IF(AND(NOT(ISBLANK($S491)), $S491<'P&L'!$P$8), AI491, 0)","v":0},{"$f":"IF(OR(ISBLANK($S491), $S491>'BankRec Main Acct'!$E$8), AI491, 0)","v":0},0,{"$f":"IF(AND(NOT(ISBLANK($U491)), $U491<'P&L'!$P$8), $AL491, 0)","v":0},{"$f":"IF(OR(ISBLANK($U491), $U491>'DebitCard Rec '!$E$8), $AL491, 0)","v":0},0,{"$f":"IF(AND(NOT(ISBLANK($U491)), $U491<'P&L'!$P$8), $AO491, 0)","v":0},{"$f":"IF(OR(ISBLANK($U491), $U491>'DebitCard Rec '!$E$8), $AO491, 0)","v":0},0,{"$f":"IF(AND($A491<'P&L'!$P$8, $X491='P&L'!$G$6), $AR491, 0)","v":0},0,{"$f":"IF(AND($A491<'P&L'!$P$8, $X491='P&L'!$G$6), $AT491, 0)","v":0}," "," "," "]
[null,null,null,null,null,null,null,null,null,null,null,null,null,null,null,null,null,null,null,null,null,null,"Jan-00",1900,{"$f":"IF(AND($A492<'P&L'!$P$8, YEAR($A492)=Master!$C$6), $K492, 0)","v":0},0,{"$f":"IF(AND(NOT(ISBLANK($O492)), $O492<'P&L'!$P$8), Z492, 0)","v":0},{"$f":"IF(OR(ISBLANK($O492), $O492>'BankRec Main Acct'!$E$8), Z492, 0)","v":0},0,{"$f":"IF(AND(NOT(ISBLANK($O492)), $O492<'P&L'!$P$8), AC492, 0)","v":0},{"$f":"IF(OR(ISBLANK($O492), $O492>'BankRec Main Acct'!$E$8), AC492, 0)","v":0},0,{"$f":"IF(AND(NOT(ISBLANK($S492)), $S492<'P&L'!$P$8), AF492, 0)","v":0},{"$f":"IF(OR(ISBLANK($S492), $S492>'BankRec Main Acct'!$E$8), AF492, 0)","v":0},0,{"$f":"IF(AND(NOT(ISBLANK($S492)), $S492<'P&L'!$P$8), AI492, 0)","v":0},{"$f":"IF(OR(ISBLANK($S492), $S492>'BankRec Main Acct'!$E$8), AI492, 0)","v":0},0,{"$f":"IF(AND(NOT(ISBLANK($U492)), $U492<'P&L'!$P$8), $AL492, 0)","v":0},{"$f":"IF(OR(ISBLANK($U492), $U492>'DebitCard Rec '!$E$8), $AL492, 0)","v":0},0,{"$f":"IF(AND(NOT(ISBLANK($U492)), $U492<'P&L'!$P$8), $AO492, 0)","v":0},{"$f":"IF(OR(ISBLANK($U492), $U492>'DebitCard Rec '!$E$8), $AO492, 0)","v":0},0,{"$f":"IF(AND($A492<'P&L'!$P$8, $X492='P&L'!$G$6), $AR492, 0)","v":0},0,{"$f":"IF(AND($A492<'P&L'!$P$8, $X492='P&L'!$G$6), $AT492, 0)","v":0}," "," "," "]
[null,null,null,null,null,null,null,null,null,null,null,null,null,null,null,null,null,null,null,null,null,null,"Jan-00",1900,{"$f":"IF(AND($A493<'P&L'!$P$8, YEAR($A493)=Master!$C$6), $K493, 0)","v":0},0,{"$f":"IF(AND(NOT(ISBLANK($O493)), $O493<'P&L'!$P$8), Z493, 0)","v":0},{"$f":"IF(OR(ISBLANK($O493), $O493>'BankRec Main Acct'!$E$8), Z493, 0)","v":0},0,{"$f":"IF(AND(NOT(ISBLANK($O493)), $O493<'P&L'!$P$8), AC493, 0)","v":0},{"$f":"IF(OR(ISBLANK($O493), $O493>'BankRec Main Acct'!$E$8), AC493, 0)","v":0},0,{"$f":"IF(AND(NOT(ISBLANK($S493)), $S493<'P&L'!$P$8), AF493, 0)","v":0},{"$f":"IF(OR(ISBLANK($S493), $S493>'BankRec Main Acct'!$E$8), AF493, 0)","v":0},0,{"$f":"IF(AND(NOT(ISBLANK($S493)), $S493<'P&L'!$P$8), AI493, 0)","v":0},{"$f":"IF(OR(ISBLANK($S493), $S493>'BankRec Main Acct'!$E$8), AI493, 0)","v":0},0,{"$f":"IF(AND(NOT(ISBLANK($U493)), $U493<'P&L'!$P$8), $AL493, 0)","v":0},{"$f":"IF(OR(ISBLANK($U493), $U493>'DebitCard Rec '!$E$8), $AL493, 0)","v":0},0,{"$f":"IF(AND(NOT(ISBLANK($U493)), $U493<'P&L'!$P$8), $AO493, 0)","v":0},{"$f":"IF(OR(ISBLANK($U493), $U493>'DebitCard Rec '!$E$8), $AO493, 0)","v":0},0,{"$f":"IF(AND($A493<'P&L'!$P$8, $X493='P&L'!$G$6), $AR493, 0)","v":0},0,{"$f":"IF(AND($A493<'P&L'!$P$8, $X493='P&L'!$G$6), $AT493, 0)","v":0}," "," "," "]
[null,null,null,null,null,null,null,null,null,null,null,null,null,null,null,null,null,null,null,null,null,null,"Jan-00",1900,{"$f":"IF(AND($A494<'P&L'!$P$8, YEAR($A494)=Master!$C$6), $K494, 0)","v":0},0,{"$f":"IF(AND(NOT(ISBLANK($O494)), $O494<'P&L'!$P$8), Z494, 0)","v":0},{"$f":"IF(OR(ISBLANK($O494), $O494>'BankRec Main Acct'!$E$8), Z494, 0)","v":0},0,{"$f":"IF(AND(NOT(ISBLANK($O494)), $O494<'P&L'!$P$8), AC494, 0)","v":0},{"$f":"IF(OR(ISBLANK($O494), $O494>'BankRec Main Acct'!$E$8), AC494, 0)","v":0},0,{"$f":"IF(AND(NOT(ISBLANK($S494)), $S494<'P&L'!$P$8), AF494, 0)","v":0},{"$f":"IF(OR(ISBLANK($S494), $S494>'BankRec Main Acct'!$E$8), AF494, 0)","v":0},0,{"$f":"IF(AND(NOT(ISBLANK($S494)), $S494<'P&L'!$P$8), AI494, 0)","v":0},{"$f":"IF(OR(ISBLANK($S494), $S494>'BankRec Main Acct'!$E$8), AI494, 0)","v":0},0,{"$f":"IF(AND(NOT(ISBLANK($U494)), $U494<'P&L'!$P$8), $AL494, 0)","v":0},{"$f":"IF(OR(ISBLANK($U494), $U494>'DebitCard Rec '!$E$8), $AL494, 0)","v":0},0,{"$f":"IF(AND(NOT(ISBLANK($U494)), $U494<'P&L'!$P$8), $AO494, 0)","v":0},{"$f":"IF(OR(ISBLANK($U494), $U494>'DebitCard Rec '!$E$8), $AO494, 0)","v":0},0,{"$f":"IF(AND($A494<'P&L'!$P$8, $X494='P&L'!$G$6), $AR494, 0)","v":0},0,{"$f":"IF(AND($A494<'P&L'!$P$8, $X494='P&L'!$G$6), $AT494, 0)","v":0}," "," "," "]
[null,null,null,null,null,null,null,null,null,null,null,null,null,null,null,null,null,null,null,null,null,null,"Jan-00",1900,{"$f":"IF(AND($A495<'P&L'!$P$8, YEAR($A495)=Master!$C$6), $K495, 0)","v":0},0,{"$f":"IF(AND(NOT(ISBLANK($O495)), $O495<'P&L'!$P$8), Z495, 0)","v":0},{"$f":"IF(OR(ISBLANK($O495), $O495>'BankRec Main Acct'!$E$8), Z495, 0)","v":0},0,{"$f":"IF(AND(NOT(ISBLANK($O495)), $O495<'P&L'!$P$8), AC495, 0)","v":0},{"$f":"IF(OR(ISBLANK($O495), $O495>'BankRec Main Acct'!$E$8), AC495, 0)","v":0},0,{"$f":"IF(AND(NOT(ISBLANK($S495)), $S495<'P&L'!$P$8), AF495, 0)","v":0},{"$f":"IF(OR(ISBLANK($S495), $S495>'BankRec Main Acct'!$E$8), AF495, 0)","v":0},0,{"$f":"IF(AND(NOT(ISBLANK($S495)), $S495<'P&L'!$P$8), AI495, 0)","v":0},{"$f":"IF(OR(ISBLANK($S495), $S495>'BankRec Main Acct'!$E$8), AI495, 0)","v":0},0,{"$f":"IF(AND(NOT(ISBLANK($U495)), $U495<'P&L'!$P$8), $AL495, 0)","v":0},{"$f":"IF(OR(ISBLANK($U495), $U495>'DebitCard Rec '!$E$8), $AL495, 0)","v":0},0,{"$f":"IF(AND(NOT(ISBLANK($U495)), $U495<'P&L'!$P$8), $AO495, 0)","v":0},{"$f":"IF(OR(ISBLANK($U495), $U495>'DebitCard Rec '!$E$8), $AO495, 0)","v":0},0,{"$f":"IF(AND($A495<'P&L'!$P$8, $X495='P&L'!$G$6), $AR495, 0)","v":0},0,{"$f":"IF(AND($A495<'P&L'!$P$8, $X495='P&L'!$G$6), $AT495, 0)","v":0}," "," "," "]
[null,null,null,null,null,null,null,null,null,null,null,null,null,null,null,null,null,null,null,null,null,null,"Jan-00",1900,{"$f":"IF(AND($A496<'P&L'!$P$8, YEAR($A496)=Master!$C$6), $K496, 0)","v":0},0,{"$f":"IF(AND(NOT(ISBLANK($O496)), $O496<'P&L'!$P$8), Z496, 0)","v":0},{"$f":"IF(OR(ISBLANK($O496), $O496>'BankRec Main Acct'!$E$8), Z496, 0)","v":0},0,{"$f":"IF(AND(NOT(ISBLANK($O496)), $O496<'P&L'!$P$8), AC496, 0)","v":0},{"$f":"IF(OR(ISBLANK($O496), $O496>'BankRec Main Acct'!$E$8), AC496, 0)","v":0},0,{"$f":"IF(AND(NOT(ISBLANK($S496)), $S496<'P&L'!$P$8), AF496, 0)","v":0},{"$f":"IF(OR(ISBLANK($S496), $S496>'BankRec Main Acct'!$E$8), AF496, 0)","v":0},0,{"$f":"IF(AND(NOT(ISBLANK($S496)), $S496<'P&L'!$P$8), AI496, 0)","v":0},{"$f":"IF(OR(ISBLANK($S496), $S496>'BankRec Main Acct'!$E$8), AI496, 0)","v":0},0,{"$f":"IF(AND(NOT(ISBLANK($U496)), $U496<'P&L'!$P$8), $AL496, 0)","v":0},{"$f":"IF(OR(ISBLANK($U496), $U496>'DebitCard Rec '!$E$8), $AL496, 0)","v":0},0,{"$f":"IF(AND(NOT(ISBLANK($U496)), $U496<'P&L'!$P$8), $AO496, 0)","v":0},{"$f":"IF(OR(ISBLANK($U496), $U496>'DebitCard Rec '!$E$8), $AO496, 0)","v":0},0,{"$f":"IF(AND($A496<'P&L'!$P$8, $X496='P&L'!$G$6), $AR496, 0)","v":0},0,{"$f":"IF(AND($A496<'P&L'!$P$8, $X496='P&L'!$G$6), $AT496, 0)","v":0}," "," "," "]
[null,null,null,null,null,null,null,null,null,null,null,null,null,null,null,null,null,null,null,null,null,null,"Jan-00",1900,{"$f":"IF(AND($A497<'P&L'!$P$8, YEAR($A497)=Master!$C$6), $K497, 0)","v":0},0,{"$f":"IF(AND(NOT(ISBLANK($O497)), $O497<'P&L'!$P$8), Z497, 0)","v":0},{"$f":"IF(OR(ISBLANK($O497), $O497>'BankRec Main Acct'!$E$8), Z497, 0)","v":0},0,{"$f":"IF(AND(NOT(ISBLANK($O497)), $O497<'P&L'!$P$8), AC497, 0)","v":0},{"$f":"IF(OR(ISBLANK($O497), $O497>'BankRec Main Acct'!$E$8), AC497, 0)","v":0},0,{"$f":"IF(AND(NOT(ISBLANK($S497)), $S497<'P&L'!$P$8), AF497, 0)","v":0},{"$f":"IF(OR(ISBLANK($S497), $S497>'BankRec Main Acct'!$E$8), AF497, 0)","v":0},0,{"$f":"IF(AND(NOT(ISBLANK($S497)), $S497<'P&L'!$P$8), AI497, 0)","v":0},{"$f":"IF(OR(ISBLANK($S497), $S497>'BankRec Main Acct'!$E$8), AI497, 0)","v":0},0,{"$f":"IF(AND(NOT(ISBLANK($U497)), $U497<'P&L'!$P$8), $AL497, 0)","v":0},{"$f":"IF(OR(ISBLANK($U497), $U497>'DebitCard Rec '!$E$8), $AL497, 0)","v":0},0,{"$f":"IF(AND(NOT(ISBLANK($U497)), $U497<'P&L'!$P$8), $AO497, 0)","v":0},{"$f":"IF(OR(ISBLANK($U497), $U497>'DebitCard Rec '!$E$8), $AO497, 0)","v":0},0,{"$f":"IF(AND($A497<'P&L'!$P$8, $X497='P&L'!$G$6), $AR497, 0)","v":0},0,{"$f":"IF(AND($A497<'P&L'!$P$8, $X497='P&L'!$G$6), $AT497, 0)","v":0}," "," "," "]
[null,null,null,null,null,null,null,null,null,null,null,null,null,null,null,null,null,null,null,null,null,null,"Jan-00",1900,{"$f":"IF(AND($A498<'P&L'!$P$8, YEAR($A498)=Master!$C$6), $K498, 0)","v":0},0,{"$f":"IF(AND(NOT(ISBLANK($O498)), $O498<'P&L'!$P$8), Z498, 0)","v":0},{"$f":"IF(OR(ISBLANK($O498), $O498>'BankRec Main Acct'!$E$8), Z498, 0)","v":0},0,{"$f":"IF(AND(NOT(ISBLANK($O498)), $O498<'P&L'!$P$8), AC498, 0)","v":0},{"$f":"IF(OR(ISBLANK($O498), $O498>'BankRec Main Acct'!$E$8), AC498, 0)","v":0},0,{"$f":"IF(AND(NOT(ISBLANK($S498)), $S498<'P&L'!$P$8), AF498, 0)","v":0},{"$f":"IF(OR(ISBLANK($S498), $S498>'BankRec Main Acct'!$E$8), AF498, 0)","v":0},0,{"$f":"IF(AND(NOT(ISBLANK($S498)), $S498<'P&L'!$P$8), AI498, 0)","v":0},{"$f":"IF(OR(ISBLANK($S498), $S498>'BankRec Main Acct'!$E$8), AI498, 0)","v":0},0,{"$f":"IF(AND(NOT(ISBLANK($U498)), $U498<'P&L'!$P$8), $AL498, 0)","v":0},{"$f":"IF(OR(ISBLANK($U498), $U498>'DebitCard Rec '!$E$8), $AL498, 0)","v":0},0,{"$f":"IF(AND(NOT(ISBLANK($U498)), $U498<'P&L'!$P$8), $AO498, 0)","v":0},{"$f":"IF(OR(ISBLANK($U498), $U498>'DebitCard Rec '!$E$8), $AO498, 0)","v":0},0,{"$f":"IF(AND($A498<'P&L'!$P$8, $X498='P&L'!$G$6), $AR498, 0)","v":0},0,{"$f":"IF(AND($A498<'P&L'!$P$8, $X498='P&L'!$G$6), $AT498, 0)","v":0}," "," "," "]
[null,null,null,null,null,null,null,null,null,null,null,null,null,null,null,null,null,null,null,null,null,null,"Jan-00",1900,{"$f":"IF(AND($A499<'P&L'!$P$8, YEAR($A499)=Master!$C$6), $K499, 0)","v":0},0,{"$f":"IF(AND(NOT(ISBLANK($O499)), $O499<'P&L'!$P$8), Z499, 0)","v":0},{"$f":"IF(OR(ISBLANK($O499), $O499>'BankRec Main Acct'!$E$8), Z499, 0)","v":0},0,{"$f":"IF(AND(NOT(ISBLANK($O499)), $O499<'P&L'!$P$8), AC499, 0)","v":0},{"$f":"IF(OR(ISBLANK($O499), $O499>'BankRec Main Acct'!$E$8), AC499, 0)","v":0},0,{"$f":"IF(AND(NOT(ISBLANK($S499)), $S499<'P&L'!$P$8), AF499, 0)","v":0},{"$f":"IF(OR(ISBLANK($S499), $S499>'BankRec Main Acct'!$E$8), AF499, 0)","v":0},0,{"$f":"IF(AND(NOT(ISBLANK($S499)), $S499<'P&L'!$P$8), AI499, 0)","v":0},{"$f":"IF(OR(ISBLANK($S499), $S499>'BankRec Main Acct'!$E$8), AI499, 0)","v":0},0,{"$f":"IF(AND(NOT(ISBLANK($U499)), $U499<'P&L'!$P$8), $AL499, 0)","v":0},{"$f":"IF(OR(ISBLANK($U499), $U499>'DebitCard Rec '!$E$8), $AL499, 0)","v":0},0,{"$f":"IF(AND(NOT(ISBLANK($U499)), $U499<'P&L'!$P$8), $AO499, 0)","v":0},{"$f":"IF(OR(ISBLANK($U499), $U499>'DebitCard Rec '!$E$8), $AO499, 0)","v":0},0,{"$f":"IF(AND($A499<'P&L'!$P$8, $X499='P&L'!$G$6), $AR499, 0)","v":0},0,{"$f":"IF(AND($A499<'P&L'!$P$8, $X499='P&L'!$G$6), $AT499, 0)","v":0}," "," "," "]
[null,null,null,null,null,null,null,null,null,null,null,null,null,null,null,null,null,null,null,null,null,null,"Jan-00",1900,{"$f":"IF(AND($A500<'P&L'!$P$8, YEAR($A500)=Master!$C$6), $K500, 0)","v":0},0,{"$f":"IF(AND(NOT(ISBLANK($O500)), $O500<'P&L'!$P$8), Z500, 0)","v":0},{"$f":"IF(OR(ISBLANK($O500), $O500>'BankRec Main Acct'!$E$8), Z500, 0)","v":0},0,{"$f":"IF(AND(NOT(ISBLANK($O500)), $O500<'P&L'!$P$8), AC500, 0)","v":0},{"$f":"IF(OR(ISBLANK($O500), $O500>'BankRec Main Acct'!$E$8), AC500, 0)","v":0},0,{"$f":"IF(AND(NOT(ISBLANK($S500)), $S500<'P&L'!$P$8), AF500, 0)","v":0},{"$f":"IF(OR(ISBLANK($S500), $S500>'BankRec Main Acct'!$E$8), AF500, 0)","v":0},0,{"$f":"IF(AND(NOT(ISBLANK($S500)), $S500<'P&L'!$P$8), AI500, 0)","v":0},{"$f":"IF(OR(ISBLANK($S500), $S500>'BankRec Main Acct'!$E$8), AI500, 0)","v":0},0,{"$f":"IF(AND(NOT(ISBLANK($U500)), $U500<'P&L'!$P$8), $AL500, 0)","v":0},{"$f":"IF(OR(ISBLANK($U500), $U500>'DebitCard Rec '!$E$8), $AL500, 0)","v":0},0,{"$f":"IF(AND(NOT(ISBLANK($U500)), $U500<'P&L'!$P$8), $AO500, 0)","v":0},{"$f":"IF(OR(ISBLANK($U500), $U500>'DebitCard Rec '!$E$8), $AO500, 0)","v":0},0,{"$f":"IF(AND($A500<'P&L'!$P$8, $X500='P&L'!$G$6), $AR500, 0)","v":0},0,{"$f":"IF(AND($A500<'P&L'!$P$8, $X500='P&L'!$G$6), $AT500, 0)","v":0}," "," "," "]
[null,null,null,null,null,null,null,null,null,null,null,null,null,null,null,null,null,null,null,null,null,null,"Jan-00",1900,{"$f":"IF(AND($A502<'P&L'!$P$8, YEAR($A502)=Master!$C$6), $K502, 0)","v":0},0,{"$f":"IF(AND(NOT(ISBLANK($O502)), $O502<'P&L'!$P$8), Z502, 0)","v":0},{"$f":"IF(OR(ISBLANK($O502), $O502>'BankRec Main Acct'!$E$8), Z502, 0)","v":0},0,{"$f":"IF(AND(NOT(ISBLANK($O502)), $O502<'P&L'!$P$8), AC502, 0)","v":0},{"$f":"IF(OR(ISBLANK($O502), $O502>'BankRec Main Acct'!$E$8), AC502, 0)","v":0},0,{"$f":"IF(AND(NOT(ISBLANK($S502)), $S502<'P&L'!$P$8), AF502, 0)","v":0},{"$f":"IF(OR(ISBLANK($S502), $S502>'BankRec Main Acct'!$E$8), AF502, 0)","v":0},0,{"$f":"IF(AND(NOT(ISBLANK($S502)), $S502<'P&L'!$P$8), AI502, 0)","v":0},{"$f":"IF(OR(ISBLANK($S502), $S502>'BankRec Main Acct'!$E$8), AI502, 0)","v":0},0,{"$f":"IF(AND(NOT(ISBLANK($U502)), $U502<'P&L'!$P$8), $AL502, 0)","v":0},{"$f":"IF(OR(ISBLANK($U502), $U502>'DebitCard Rec '!$E$8), $AL502, 0)","v":0},0,{"$f":"IF(AND(NOT(ISBLANK($U502)), $U502<'P&L'!$P$8), $AO502, 0)","v":0},{"$f":"IF(OR(ISBLANK($U502), $U502>'DebitCard Rec '!$E$8), $AO502, 0)","v":0},0,{"$f":"IF(AND($A502<'P&L'!$P$8, $X502='P&L'!$G$6), $AR502, 0)","v":0},0,{"$f":"IF(AND($A502<'P&L'!$P$8, $X502='P&L'!$G$6), $AT502, 0)","v":0}," "," "," "]
[null,null,null,null,null,null,null,null,null,null,null,null,null,null,null,null,null,null,null,null,null,null,"Jan-00",1900,{"$f":"IF(AND($A513<'P&L'!$P$8, YEAR($A513)=Master!$C$6), $K513, 0)","v":0},0,{"$f":"IF(AND(NOT(ISBLANK($O513)), $O513<'P&L'!$P$8), Z513, 0)","v":0},{"$f":"IF(OR(ISBLANK($O513), $O513>'BankRec Main Acct'!$E$8), Z513, 0)","v":0},0,{"$f":"IF(AND(NOT(ISBLANK($O513)), $O513<'P&L'!$P$8), AC513, 0)","v":0},{"$f":"IF(OR(ISBLANK($O513), $O513>'BankRec Main Acct'!$E$8), AC513, 0)","v":0},0,{"$f":"IF(AND(NOT(ISBLANK($S513)), $S513<'P&L'!$P$8), AF513, 0)","v":0},{"$f":"IF(OR(ISBLANK($S513), $S513>'BankRec Main Acct'!$E$8), AF513, 0)","v":0},0,{"$f":"IF(AND(NOT(ISBLANK($S513)), $S513<'P&L'!$P$8), AI513, 0)","v":0},{"$f":"IF(OR(ISBLANK($S513), $S513>'BankRec Main Acct'!$E$8), AI513, 0)","v":0},0,{"$f":"IF(AND(NOT(ISBLANK($U513)), $U513<'P&L'!$P$8), $AL513, 0)","v":0},{"$f":"IF(OR(ISBLANK($U513), $U513>'DebitCard Rec '!$E$8), $AL513, 0)","v":0},0,{"$f":"IF(AND(NOT(ISBLANK($U513)), $U513<'P&L'!$P$8), $AO513, 0)","v":0},{"$f":"IF(OR(ISBLANK($U513), $U513>'DebitCard Rec '!$E$8), $AO513, 0)","v":0},0,{"$f":"IF(AND($A513<'P&L'!$P$8, $X513='P&L'!$G$6), $AR513, 0)","v":0},0,{"$f":"IF(AND($A513<'P&L'!$P$8, $X513='P&L'!$G$6), $AT513, 0)","v":0}," "," "," "]
[null,null,null,null,null,null,null,null,null,null,null,null,null,null,null,null,null,null,null,null,null,null,"Jan-00",1900,{"$f":"IF(AND($A525<'P&L'!$P$8, YEAR($A525)=Master!$C$6), $K525, 0)","v":0},0,{"$f":"IF(AND(NOT(ISBLANK($O525)), $O525<'P&L'!$P$8), Z525, 0)","v":0},{"$f":"IF(OR(ISBLANK($O525), $O525>'BankRec Main Acct'!$E$8), Z525, 0)","v":0},0,{"$f":"IF(AND(NOT(ISBLANK($O525)), $O525<'P&L'!$P$8), AC525, 0)","v":0},{"$f":"IF(OR(ISBLANK($O525), $O525>'BankRec Main Acct'!$E$8), AC525, 0)","v":0},0,{"$f":"IF(AND(NOT(ISBLANK($S525)), $S525<'P&L'!$P$8), AF525, 0)","v":0},{"$f":"IF(OR(ISBLANK($S525), $S525>'BankRec Main Acct'!$E$8), AF525, 0)","v":0},0,{"$f":"IF(AND(NOT(ISBLANK($S525)), $S525<'P&L'!$P$8), AI525, 0)","v":0},{"$f":"IF(OR(ISBLANK($S525), $S525>'BankRec Main Acct'!$E$8), AI525, 0)","v":0},0,{"$f":"IF(AND(NOT(ISBLANK($U525)), $U525<'P&L'!$P$8), $AL525, 0)","v":0},{"$f":"IF(OR(ISBLANK($U525), $U525>'DebitCard Rec '!$E$8), $AL525, 0)","v":0},0,{"$f":"IF(AND(NOT(ISBLANK($U525)), $U525<'P&L'!$P$8), $AO525, 0)","v":0},{"$f":"IF(OR(ISBLANK($U525), $U525>'DebitCard Rec '!$E$8), $AO525, 0)","v":0},0,{"$f":"IF(AND($A525<'P&L'!$P$8, $X525='P&L'!$G$6), $AR525, 0)","v":0},0,{"$f":"IF(AND($A525<'P&L'!$P$8, $X525='P&L'!$G$6), $AT525, 0)","v":0}," "," "," "]
[null,null,null,null,null,null,null,null,null,null,null,null,null,null,null,null,null,null,null,null,null,null,{"$f":"TEXT($A532, \"mmm-yy\")","v":"Jan-00"},{"$f":"YEAR($A532)","v":1900},{"$f":"IF(AND($A532<'P&L'!$P$8, YEAR($A532)=Master!$C$6), $K532, 0)","v":0},0,{"$f":"IF(AND(NOT(ISBLANK($O532)), $O532<'P&L'!$P$8), Z532, 0)","v":0},{"$f":"IF(OR(ISBLANK($O532), $O532>'BankRec Main Acct'!$E$8), Z532, 0)","v":0},0,{"$f":"IF(AND(NOT(ISBLANK($O532)), $O532<'P&L'!$P$8), AC532, 0)","v":0},{"$f":"IF(OR(ISBLANK($O532), $O532>'BankRec Main Acct'!$E$8), AC532, 0)","v":0},0,{"$f":"IF(AND(NOT(ISBLANK($S532)), $S532<'P&L'!$P$8), AF532, 0)","v":0},{"$f":"IF(OR(ISBLANK($S532), $S532>'BankRec Main Acct'!$E$8), AF532, 0)","v":0},0,{"$f":"IF(AND(NOT(ISBLANK($S532)), $S532<'P&L'!$P$8), AI532, 0)","v":0},{"$f":"IF(OR(ISBLANK($S532), $S532>'BankRec Main Acct'!$E$8), AI532, 0)","v":0},{"$f":"IF(AND($C532=\"Receipt\",$B532=\"Debit card\"),$K532,0)","v":0},{"$f":"IF(AND(NOT(ISBLANK($U532)), $U532<'P&L'!$P$8), $AL532, 0)","v":0},{"$f":"IF(OR(ISBLANK($U532), $U532>'DebitCard Rec '!$E$8), $AL532, 0)","v":0},{"$f":"IF(AND($C532=\"Payment\",$B532=\"Debit card\"),$K532,0)","v":0},{"$f":"IF(AND(NOT(ISBLANK($U532)), $U532<'P&L'!$P$8), $AO532, 0)","v":0},{"$f":"IF(OR(ISBLANK($U532), $U532>'DebitCard Rec '!$E$8), $AO532, 0)","v":0},0,{"$f":"IF(AND($A532<'P&L'!$P$8, $X532='P&L'!$G$6), $AR532, 0)","v":0},0,{"$f":"IF(AND($A532<'P&L'!$P$8, $X532='P&L'!$G$6), $AT532, 0)","v":0}," "," "," "]
[null,null,null,null,null,null,null,null,null,null,null,null,null,null,null,null,null,null,null,null,null,null,"Jan-00",1900,{"$f":"IF(AND($A541<'P&L'!$P$8, YEAR($A541)=Master!$C$6), $K541, 0)","v":0},0,{"$f":"IF(AND(NOT(ISBLANK($O541)), $O541<'P&L'!$P$8), Z541, 0)","v":0},{"$f":"IF(OR(ISBLANK($O541), $O541>'BankRec Main Acct'!$E$8), Z541, 0)","v":0},0,{"$f":"IF(AND(NOT(ISBLANK($O541)), $O541<'P&L'!$P$8), AC541, 0)","v":0},{"$f":"IF(OR(ISBLANK($O541), $O541>'BankRec Main Acct'!$E$8), AC541, 0)","v":0},0,{"$f":"IF(AND(NOT(ISBLANK($S541)), $S541<'P&L'!$P$8), AF541, 0)","v":0},{"$f":"IF(OR(ISBLANK($S541), $S541>'BankRec Main Acct'!$E$8), AF541, 0)","v":0},0,{"$f":"IF(AND(NOT(ISBLANK($S541)), $S541<'P&L'!$P$8), AI541, 0)","v":0},{"$f":"IF(OR(ISBLANK($S541), $S541>'BankRec Main Acct'!$E$8), AI541, 0)","v":0},0,{"$f":"IF(AND(NOT(ISBLANK($U541)), $U541<'P&L'!$P$8), $AL541, 0)","v":0},{"$f":"IF(OR(ISBLANK($U541), $U541>'DebitCard Rec '!$E$8), $AL541, 0)","v":0},0,{"$f":"IF(AND(NOT(ISBLANK($U541)), $U541<'P&L'!$P$8), $AO541, 0)","v":0},{"$f":"IF(OR(ISBLANK($U541), $U541>'DebitCard Rec '!$E$8), $AO541, 0)","v":0},0,{"$f":"IF(AND($A541<'P&L'!$P$8, $X541='P&L'!$G$6), $AR541, 0)","v":0},0,{"$f":"IF(AND($A541<'P&L'!$P$8, $X541='P&L'!$G$6), $AT541, 0)","v":0}," "," "," "]
[null,null,null,null,null,null,null,null,null,null,null,null,null,null,null,null,null,null,null,null,null,null,"Jan-00",1900,{"$f":"IF(AND($A546<'P&L'!$P$8, YEAR($A546)=Master!$C$6), $K546, 0)","v":0},0,{"$f":"IF(AND(NOT(ISBLANK($O546)), $O546<'P&L'!$P$8), Z546, 0)","v":0},{"$f":"IF(OR(ISBLANK($O546), $O546>'BankRec Main Acct'!$E$8), Z546, 0)","v":0},0,{"$f":"IF(AND(NOT(ISBLANK($O546)), $O546<'P&L'!$P$8), AC546, 0)","v":0},{"$f":"IF(OR(ISBLANK($O546), $O546>'BankRec Main Acct'!$E$8), AC546, 0)","v":0},0,{"$f":"IF(AND(NOT(ISBLANK($S546)), $S546<'P&L'!$P$8), AF546, 0)","v":0},{"$f":"IF(OR(ISBLANK($S546), $S546>'BankRec Main Acct'!$E$8), AF546, 0)","v":0},0,{"$f":"IF(AND(NOT(ISBLANK($S546)), $S546<'P&L'!$P$8), AI546, 0)","v":0},{"$f":"IF(OR(ISBLANK($S546), $S546>'BankRec Main Acct'!$E$8), AI546, 0)","v":0},0,{"$f":"IF(AND(NOT(ISBLANK($U546)), $U546<'P&L'!$P$8), $AL546, 0)","v":0},{"$f":"IF(OR(ISBLANK($U546), $U546>'DebitCard Rec '!$E$8), $AL546, 0)","v":0},0,{"$f":"IF(AND(NOT(ISBLANK($U546)), $U546<'P&L'!$P$8), $AO546, 0)","v":0},{"$f":"IF(OR(ISBLANK($U546), $U546>'DebitCard Rec '!$E$8), $AO546, 0)","v":0},0,{"$f":"IF(AND($A546<'P&L'!$P$8, $X546='P&L'!$G$6), $AR546, 0)","v":0},0,{"$f":"IF(AND($A546<'P&L'!$P$8, $X546='P&L'!$G$6), $AT546, 0)","v":0}," "," "," "]
[null,null,null,null,null,null,null,null,null,null,null,null,null,null,null,null,null,null,null,null,null,null,"Jan-00",1900,{"$f":"IF(AND($A553<'P&L'!$P$8, YEAR($A553)=Master!$C$6), $K553, 0)","v":0},0,{"$f":"IF(AND(NOT(ISBLANK($O553)), $O553<'P&L'!$P$8), Z553, 0)","v":0},{"$f":"IF(OR(ISBLANK($O553), $O553>'BankRec Main Acct'!$E$8), Z553, 0)","v":0},0,{"$f":"IF(AND(NOT(ISBLANK($O553)), $O553<'P&L'!$P$8), AC553, 0)","v":0},{"$f":"IF(OR(ISBLANK($O553), $O553>'BankRec Main Acct'!$E$8), AC553, 0)","v":0},0,{"$f":"IF(AND(NOT(ISBLANK($S553)), $S553<'P&L'!$P$8), AF553, 0)","v":0},{"$f":"IF(OR(ISBLANK($S553), $S553>'BankRec Main Acct'!$E$8), AF553, 0)","v":0},0,{"$f":"IF(AND(NOT(ISBLANK($S553)), $S553<'P&L'!$P$8), AI553, 0)","v":0},{"$f":"IF(OR(ISBLANK($S553), $S553>'BankRec Main Acct'!$E$8), AI553, 0)","v":0},0,{"$f":"IF(AND(NOT(ISBLANK($U553)), $U553<'P&L'!$P$8), $AL553, 0)","v":0},{"$f":"IF(OR(ISBLANK($U553), $U553>'DebitCard Rec '!$E$8), $AL553, 0)","v":0},0,{"$f":"IF(AND(NOT(ISBLANK($U553)), $U553<'P&L'!$P$8), $AO553, 0)","v":0},{"$f":"IF(OR(ISBLANK($U553), $U553>'DebitCard Rec '!$E$8), $AO553, 0)","v":0},0,{"$f":"IF(AND($A553<'P&L'!$P$8, $X553='P&L'!$G$6), $AR553, 0)","v":0},0,{"$f":"IF(AND($A553<'P&L'!$P$8, $X553='P&L'!$G$6), $AT553, 0)","v":0}," "," "," "]
[null,null,null,null,null,null,null,null,null,null,null,null,null,null,null,null,null,null,null,null,null,null,"Jan-00",1900,{"$f":"IF(AND($A565<'P&L'!$P$8, YEAR($A565)=Master!$C$6), $K565, 0)","v":0},0,{"$f":"IF(AND(NOT(ISBLANK($O565)), $O565<'P&L'!$P$8), Z565, 0)","v":0},{"$f":"IF(OR(ISBLANK($O565), $O565>'BankRec Main Acct'!$E$8), Z565, 0)","v":0},0,{"$f":"IF(AND(NOT(ISBLANK($O565)), $O565<'P&L'!$P$8), AC565, 0)","v":0},{"$f":"IF(OR(ISBLANK($O565), $O565>'BankRec Main Acct'!$E$8), AC565, 0)","v":0},0,{"$f":"IF(AND(NOT(ISBLANK($S565)), $S565<'P&L'!$P$8), AF565, 0)","v":0},{"$f":"IF(OR(ISBLANK($S565), $S565>'BankRec Main Acct'!$E$8), AF565, 0)","v":0},0,{"$f":"IF(AND(NOT(ISBLANK($S565)), $S565<'P&L'!$P$8), AI565, 0)","v":0},{"$f":"IF(OR(ISBLANK($S565), $S565>'BankRec Main Acct'!$E$8), AI565, 0)","v":0},0,{"$f":"IF(AND(NOT(ISBLANK($U565)), $U565<'P&L'!$P$8), $AL565, 0)","v":0},{"$f":"IF(OR(ISBLANK($U565), $U565>'DebitCard Rec '!$E$8), $AL565, 0)","v":0},0,{"$f":"IF(AND(NOT(ISBLANK($U565)), $U565<'P&L'!$P$8), $AO565, 0)","v":0},{"$f":"IF(OR(ISBLANK($U565), $U565>'DebitCard Rec '!$E$8), $AO565, 0)","v":0},0,{"$f":"IF(AND($A565<'P&L'!$P$8, $X565='P&L'!$G$6), $AR565, 0)","v":0},0,{"$f":"IF(AND($A565<'P&L'!$P$8, $X565='P&L'!$G$6), $AT565, 0)","v":0}," "," "," "]
[null,null,null,null,null,null,null,null,null,null,null,null,null,null,null,null,null,null,null,null,null,null,"Jan-00",1900,{"$f":"IF(AND($A572<'P&L'!$P$8, YEAR($A572)=Master!$C$6), $K572, 0)","v":0},0,{"$f":"IF(AND(NOT(ISBLANK($O572)), $O572<'P&L'!$P$8), Z572, 0)","v":0},{"$f":"IF(OR(ISBLANK($O572), $O572>'BankRec Main Acct'!$E$8), Z572, 0)","v":0},0,{"$f":"IF(AND(NOT(ISBLANK($O572)), $O572<'P&L'!$P$8), AC572, 0)","v":0},{"$f":"IF(OR(ISBLANK($O572), $O572>'BankRec Main Acct'!$E$8), AC572, 0)","v":0},0,{"$f":"IF(AND(NOT(ISBLANK($S572)), $S572<'P&L'!$P$8), AF572, 0)","v":0},{"$f":"IF(OR(ISBLANK($S572), $S572>'BankRec Main Acct'!$E$8), AF572, 0)","v":0},0,{"$f":"IF(AND(NOT(ISBLANK($S572)), $S572<'P&L'!$P$8), AI572, 0)","v":0},{"$f":"IF(OR(ISBLANK($S572), $S572>'BankRec Main Acct'!$E$8), AI572, 0)","v":0},0,{"$f":"IF(AND(NOT(ISBLANK($U572)), $U572<'P&L'!$P$8), $AL572, 0)","v":0},{"$f":"IF(OR(ISBLANK($U572), $U572>'DebitCard Rec '!$E$8), $AL572, 0)","v":0},0,{"$f":"IF(AND(NOT(ISBLANK($U572)), $U572<'P&L'!$P$8), $AO572, 0)","v":0},{"$f":"IF(OR(ISBLANK($U572), $U572>'DebitCard Rec '!$E$8), $AO572, 0)","v":0},0,{"$f":"IF(AND($A572<'P&L'!$P$8, $X572='P&L'!$G$6), $AR572, 0)","v":0},0,{"$f":"IF(AND($A572<'P&L'!$P$8, $X572='P&L'!$G$6), $AT572, 0)","v":0}," "," "," "]
[null,null,null,null,null,null,null,null,null,null,null,null,null,null,null,null,null,null,null,null,null,null,"Jan-00",1900,{"$f":"IF(AND($A582<'P&L'!$P$8, YEAR($A582)=Master!$C$6), $K582, 0)","v":0},0,{"$f":"IF(AND(NOT(ISBLANK($O582)), $O582<'P&L'!$P$8), Z582, 0)","v":0},{"$f":"IF(OR(ISBLANK($O582), $O582>'BankRec Main Acct'!$E$8), Z582, 0)","v":0},0,{"$f":"IF(AND(NOT(ISBLANK($O582)), $O582<'P&L'!$P$8), AC582, 0)","v":0},{"$f":"IF(OR(ISBLANK($O582), $O582>'BankRec Main Acct'!$E$8), AC582, 0)","v":0},0,{"$f":"IF(AND(NOT(ISBLANK($S582)), $S582<'P&L'!$P$8), AF582, 0)","v":0},{"$f":"IF(OR(ISBLANK($S582), $S582>'BankRec Main Acct'!$E$8), AF582, 0)","v":0},0,{"$f":"IF(AND(NOT(ISBLANK($S582)), $S582<'P&L'!$P$8), AI582, 0)","v":0},{"$f":"IF(OR(ISBLANK($S582), $S582>'BankRec Main Acct'!$E$8), AI582, 0)","v":0},0,{"$f":"IF(AND(NOT(ISBLANK($U582)), $U582<'P&L'!$P$8), $AL582, 0)","v":0},{"$f":"IF(OR(ISBLANK($U582), $U582>'DebitCard Rec '!$E$8), $AL582, 0)","v":0},0,{"$f":"IF(AND(NOT(ISBLANK($U582)), $U582<'P&L'!$P$8), $AO582, 0)","v":0},{"$f":"IF(OR(ISBLANK($U582), $U582>'DebitCard Rec '!$E$8), $AO582, 0)","v":0},0,{"$f":"IF(AND($A582<'P&L'!$P$8, $X582='P&L'!$G$6), $AR582, 0)","v":0},0,{"$f":"IF(AND($A582<'P&L'!$P$8, $X582='P&L'!$G$6), $AT582, 0)","v":0}," "," "," "]
[null,null,null,null,null,null,null,null,null,null,null,null,null,null,null,null,null,null,null,null,null,null,"Jan-00",1900,{"$f":"IF(AND($A595<'P&L'!$P$8, YEAR($A595)=Master!$C$6), $K595, 0)","v":0},0,{"$f":"IF(AND(NOT(ISBLANK($O595)), $O595<'P&L'!$P$8), Z595, 0)","v":0},{"$f":"IF(OR(ISBLANK($O595), $O595>'BankRec Main Acct'!$E$8), Z595, 0)","v":0},0,{"$f":"IF(AND(NOT(ISBLANK($O595)), $O595<'P&L'!$P$8), AC595, 0)","v":0},{"$f":"IF(OR(ISBLANK($O595), $O595>'BankRec Main Acct'!$E$8), AC595, 0)","v":0},0,{"$f":"IF(AND(NOT(ISBLANK($S595)), $S595<'P&L'!$P$8), AF595, 0)","v":0},{"$f":"IF(OR(ISBLANK($S595), $S595>'BankRec Main Acct'!$E$8), AF595, 0)","v":0},0,{"$f":"IF(AND(NOT(ISBLANK($S595)), $S595<'P&L'!$P$8), AI595, 0)","v":0},{"$f":"IF(OR(ISBLANK($S595), $S595>'BankRec Main Acct'!$E$8), AI595, 0)","v":0},0,{"$f":"IF(AND(NOT(ISBLANK($U595)), $U595<'P&L'!$P$8), $AL595, 0)","v":0},{"$f":"IF(OR(ISBLANK($U595), $U595>'DebitCard Rec '!$E$8), $AL595, 0)","v":0},0,{"$f":"IF(AND(NOT(ISBLANK($U595)), $U595<'P&L'!$P$8), $AO595, 0)","v":0},{"$f":"IF(OR(ISBLANK($U595), $U595>'DebitCard Rec '!$E$8), $AO595, 0)","v":0},0,{"$f":"IF(AND($A595<'P&L'!$P$8, $X595='P&L'!$G$6), $AR595, 0)","v":0},0,{"$f":"IF(AND($A595<'P&L'!$P$8, $X595='P&L'!$G$6), $AT595, 0)","v":0}," "," "," "]
[null,null,null,null,null,null,null,null,null,null,null,null,null,null,null,null,null,null,null,null,null,null,"Jan-00",1900,{"$f":"IF(AND($A602<'P&L'!$P$8, YEAR($A602)=Master!$C$6), $K602, 0)","v":0},0,{"$f":"IF(AND(NOT(ISBLANK($O602)), $O602<'P&L'!$P$8), Z602, 0)","v":0},{"$f":"IF(OR(ISBLANK($O602), $O602>'BankRec Main Acct'!$E$8), Z602, 0)","v":0},0,{"$f":"IF(AND(NOT(ISBLANK($O602)), $O602<'P&L'!$P$8), AC602, 0)","v":0},{"$f":"IF(OR(ISBLANK($O602), $O602>'BankRec Main Acct'!$E$8), AC602, 0)","v":0},0,{"$f":"IF(AND(NOT(ISBLANK($S602)), $S602<'P&L'!$P$8), AF602, 0)","v":0},{"$f":"IF(OR(ISBLANK($S602), $S602>'BankRec Main Acct'!$E$8), AF602, 0)","v":0},0,{"$f":"IF(AND(NOT(ISBLANK($S602)), $S602<'P&L'!$P$8), AI602, 0)","v":0},{"$f":"IF(OR(ISBLANK($S602), $S602>'BankRec Main Acct'!$E$8), AI602, 0)","v":0},0,{"$f":"IF(AND(NOT(ISBLANK($U602)), $U602<'P&L'!$P$8), $AL602, 0)","v":0},{"$f":"IF(OR(ISBLANK($U602), $U602>'DebitCard Rec '!$E$8), $AL602, 0)","v":0},0,{"$f":"IF(AND(NOT(ISBLANK($U602)), $U602<'P&L'!$P$8), $AO602, 0)","v":0},{"$f":"IF(OR(ISBLANK($U602), $U602>'DebitCard Rec '!$E$8), $AO602, 0)","v":0},0,{"$f":"IF(AND($A602<'P&L'!$P$8, $X602='P&L'!$G$6), $AR602, 0)","v":0},0,{"$f":"IF(AND($A602<'P&L'!$P$8, $X602='P&L'!$G$6), $AT602, 0)","v":0}," "," "," "]
[null,null,null,null,null,null,null,null,null,null,null,null,null,null,null,null,null,null,null,null,null,null,"Jan-00",1900,{"$f":"IF(AND($A614<'P&L'!$P$8, YEAR($A614)=Master!$C$6), $K614, 0)","v":0},0,{"$f":"IF(AND(NOT(ISBLANK($O614)), $O614<'P&L'!$P$8), Z614, 0)","v":0},{"$f":"IF(OR(ISBLANK($O614), $O614>'BankRec Main Acct'!$E$8), Z614, 0)","v":0},0,{"$f":"IF(AND(NOT(ISBLANK($O614)), $O614<'P&L'!$P$8), AC614, 0)","v":0},{"$f":"IF(OR(ISBLANK($O614), $O614>'BankRec Main Acct'!$E$8), AC614, 0)","v":0},0,{"$f":"IF(AND(NOT(ISBLANK($S614)), $S614<'P&L'!$P$8), AF614, 0)","v":0},{"$f":"IF(OR(ISBLANK($S614), $S614>'BankRec Main Acct'!$E$8), AF614, 0)","v":0},0,{"$f":"IF(AND(NOT(ISBLANK($S614)), $S614<'P&L'!$P$8), AI614, 0)","v":0},{"$f":"IF(OR(ISBLANK($S614), $S614>'BankRec Main Acct'!$E$8), AI614, 0)","v":0},0,{"$f":"IF(AND(NOT(ISBLANK($U614)), $U614<'P&L'!$P$8), $AL614, 0)","v":0},{"$f":"IF(OR(ISBLANK($U614), $U614>'DebitCard Rec '!$E$8), $AL614, 0)","v":0},0,{"$f":"IF(AND(NOT(ISBLANK($U614)), $U614<'P&L'!$P$8), $AO614, 0)","v":0},{"$f":"IF(OR(ISBLANK($U614), $U614>'DebitCard Rec '!$E$8), $AO614, 0)","v":0},0,{"$f":"IF(AND($A614<'P&L'!$P$8, $X614='P&L'!$G$6), $AR614, 0)","v":0},0,{"$f":"IF(AND($A614<'P&L'!$P$8, $X614='P&L'!$G$6), $AT614, 0)","v":0}," "," "," "]
[null,null,null,null,null,null,null,null,null,null,null,null,null,null,null,null,null,null,null,null,null,null,"Jan-00",1900,{"$f":"IF(AND($A621<'P&L'!$P$8, YEAR($A621)=Master!$C$6), $K621, 0)","v":0},0,{"$f":"IF(AND(NOT(ISBLANK($O621)), $O621<'P&L'!$P$8), Z621, 0)","v":0},{"$f":"IF(OR(ISBLANK($O621), $O621>'BankRec Main Acct'!$E$8), Z621, 0)","v":0},0,{"$f":"IF(AND(NOT(ISBLANK($O621)), $O621<'P&L'!$P$8), AC621, 0)","v":0},{"$f":"IF(OR(ISBLANK($O621), $O621>'BankRec Main Acct'!$E$8), AC621, 0)","v":0},0,{"$f":"IF(AND(NOT(ISBLANK($S621)), $S621<'P&L'!$P$8), AF621, 0)","v":0},{"$f":"IF(OR(ISBLANK($S621), $S621>'BankRec Main Acct'!$E$8), AF621, 0)","v":0},0,{"$f":"IF(AND(NOT(ISBLANK($S621)), $S621<'P&L'!$P$8), AI621, 0)","v":0},{"$f":"IF(OR(ISBLANK($S621), $S621>'BankRec Main Acct'!$E$8), AI621, 0)","v":0},0,{"$f":"IF(AND(NOT(ISBLANK($U621)), $U621<'P&L'!$P$8), $AL621, 0)","v":0},{"$f":"IF(OR(ISBLANK($U621), $U621>'DebitCard Rec '!$E$8), $AL621, 0)","v":0},0,{"$f":"IF(AND(NOT(ISBLANK($U621)), $U621<'P&L'!$P$8), $AO621, 0)","v":0},{"$f":"IF(OR(ISBLANK($U621), $U621>'DebitCard Rec '!$E$8), $AO621, 0)","v":0},0,{"$f":"IF(AND($A621<'P&L'!$P$8, $X621='P&L'!$G$6), $AR621, 0)","v":0},0,{"$f":"IF(AND($A621<'P&L'!$P$8, $X621='P&L'!$G$6), $AT621, 0)","v":0}," "," "," "]
[null,null,null,null,null,null,null,null,null,null,null,null,null,null,null,null,null,null,null,null,null,null,"Jan-00",1900,{"$f":"IF(AND($A623<'P&L'!$P$8, YEAR($A623)=Master!$C$6), $K623, 0)","v":0},0,{"$f":"IF(AND(NOT(ISBLANK($O623)), $O623<'P&L'!$P$8), Z623, 0)","v":0},{"$f":"IF(OR(ISBLANK($O623), $O623>'BankRec Main Acct'!$E$8), Z623, 0)","v":0},0,{"$f":"IF(AND(NOT(ISBLANK($O623)), $O623<'P&L'!$P$8), AC623, 0)","v":0},{"$f":"IF(OR(ISBLANK($O623), $O623>'BankRec Main Acct'!$E$8), AC623, 0)","v":0},0,{"$f":"IF(AND(NOT(ISBLANK($S623)), $S623<'P&L'!$P$8), AF623, 0)","v":0},{"$f":"IF(OR(ISBLANK($S623), $S623>'BankRec Main Acct'!$E$8), AF623, 0)","v":0},0,{"$f":"IF(AND(NOT(ISBLANK($S623)), $S623<'P&L'!$P$8), AI623, 0)","v":0},{"$f":"IF(OR(ISBLANK($S623), $S623>'BankRec Main Acct'!$E$8), AI623, 0)","v":0},0,{"$f":"IF(AND(NOT(ISBLANK($U623)), $U623<'P&L'!$P$8), $AL623, 0)","v":0},{"$f":"IF(OR(ISBLANK($U623), $U623>'DebitCard Rec '!$E$8), $AL623, 0)","v":0},0,{"$f":"IF(AND(NOT(ISBLANK($U623)), $U623<'P&L'!$P$8), $AO623, 0)","v":0},{"$f":"IF(OR(ISBLANK($U623), $U623>'DebitCard Rec '!$E$8), $AO623, 0)","v":0},0,{"$f":"IF(AND($A623<'P&L'!$P$8, $X623='P&L'!$G$6), $AR623, 0)","v":0},0,{"$f":"IF(AND($A623<'P&L'!$P$8, $X623='P&L'!$G$6), $AT623, 0)","v":0}," "," "," "]
[null,null,null,null,null,null,null,null,null,null,null,null,null,null,null,null,null,null,null,null,null,null,"Jan-00",1900,{"$f":"IF(AND($A635<'P&L'!$P$8, YEAR($A635)=Master!$C$6), $K635, 0)","v":0},0,{"$f":"IF(AND(NOT(ISBLANK($O635)), $O635<'P&L'!$P$8), Z635, 0)","v":0},{"$f":"IF(OR(ISBLANK($O635), $O635>'BankRec Main Acct'!$E$8), Z635, 0)","v":0},0,{"$f":"IF(AND(NOT(ISBLANK($O635)), $O635<'P&L'!$P$8), AC635, 0)","v":0},{"$f":"IF(OR(ISBLANK($O635), $O635>'BankRec Main Acct'!$E$8), AC635, 0)","v":0},0,{"$f":"IF(AND(NOT(ISBLANK($S635)), $S635<'P&L'!$P$8), AF635, 0)","v":0},{"$f":"IF(OR(ISBLANK($S635), $S635>'BankRec Main Acct'!$E$8), AF635, 0)","v":0},0,{"$f":"IF(AND(NOT(ISBLANK($S635)), $S635<'P&L'!$P$8), AI635, 0)","v":0},{"$f":"IF(OR(ISBLANK($S635), $S635>'BankRec Main Acct'!$E$8), AI635, 0)","v":0},0,{"$f":"IF(AND(NOT(ISBLANK($U635)), $U635<'P&L'!$P$8), $AL635, 0)","v":0},{"$f":"IF(OR(ISBLANK($U635), $U635>'DebitCard Rec '!$E$8), $AL635, 0)","v":0},0,{"$f":"IF(AND(NOT(ISBLANK($U635)), $U635<'P&L'!$P$8), $AO635, 0)","v":0},{"$f":"IF(OR(ISBLANK($U635), $U635>'DebitCard Rec '!$E$8), $AO635, 0)","v":0},0,{"$f":"IF(AND($A635<'P&L'!$P$8, $X635='P&L'!$G$6), $AR635, 0)","v":0},0,{"$f":"IF(AND($A635<'P&L'!$P$8, $X635='P&L'!$G$6), $AT635, 0)","v":0}," "," "," "]
[null,null,null,null,null,null,null,null,null,null,null,null,null,null,null,null,null,null,null,null,null,null,"Jan-00",1900,{"$f":"IF(AND($A642<'P&L'!$P$8, YEAR($A642)=Master!$C$6), $K642, 0)","v":0},0,{"$f":"IF(AND(NOT(ISBLANK($O642)), $O642<'P&L'!$P$8), Z642, 0)","v":0},{"$f":"IF(OR(ISBLANK($O642), $O642>'BankRec Main Acct'!$E$8), Z642, 0)","v":0},0,{"$f":"IF(AND(NOT(ISBLANK($O642)), $O642<'P&L'!$P$8), AC642, 0)","v":0},{"$f":"IF(OR(ISBLANK($O642), $O642>'BankRec Main Acct'!$E$8), AC642, 0)","v":0},0,{"$f":"IF(AND(NOT(ISBLANK($S642)), $S642<'P&L'!$P$8), AF642, 0)","v":0},{"$f":"IF(OR(ISBLANK($S642), $S642>'BankRec Main Acct'!$E$8), AF642, 0)","v":0},0,{"$f":"IF(AND(NOT(ISBLANK($S642)), $S642<'P&L'!$P$8), AI642, 0)","v":0},{"$f":"IF(OR(ISBLANK($S642), $S642>'BankRec Main Acct'!$E$8), AI642, 0)","v":0},0,{"$f":"IF(AND(NOT(ISBLANK($U642)), $U642<'P&L'!$P$8), $AL642, 0)","v":0},{"$f":"IF(OR(ISBLANK($U642), $U642>'DebitCard Rec '!$E$8), $AL642, 0)","v":0},0,{"$f":"IF(AND(NOT(ISBLANK($U642)), $U642<'P&L'!$P$8), $AO642, 0)","v":0},{"$f":"IF(OR(ISBLANK($U642), $U642>'DebitCard Rec '!$E$8), $AO642, 0)","v":0},0,{"$f":"IF(AND($A642<'P&L'!$P$8, $X642='P&L'!$G$6), $AR642, 0)","v":0},0,{"$f":"IF(AND($A642<'P&L'!$P$8, $X642='P&L'!$G$6), $AT642, 0)","v":0}," "," "," "]
[null,null,null,null,null,null,null,null,null,null,null,null,null,null,null,null,null,null,null,null,null,null,"Jan-00",1900,{"$f":"IF(AND($A654<'P&L'!$P$8, YEAR($A654)=Master!$C$6), $K654, 0)","v":0},0,{"$f":"IF(AND(NOT(ISBLANK($O654)), $O654<'P&L'!$P$8), Z654, 0)","v":0},{"$f":"IF(OR(ISBLANK($O654), $O654>'BankRec Main Acct'!$E$8), Z654, 0)","v":0},0,{"$f":"IF(AND(NOT(ISBLANK($O654)), $O654<'P&L'!$P$8), AC654, 0)","v":0},{"$f":"IF(OR(ISBLANK($O654), $O654>'BankRec Main Acct'!$E$8), AC654, 0)","v":0},0,{"$f":"IF(AND(NOT(ISBLANK($S654)), $S654<'P&L'!$P$8), AF654, 0)","v":0},{"$f":"IF(OR(ISBLANK($S654), $S654>'BankRec Main Acct'!$E$8), AF654, 0)","v":0},0,{"$f":"IF(AND(NOT(ISBLANK($S654)), $S654<'P&L'!$P$8), AI654, 0)","v":0},{"$f":"IF(OR(ISBLANK($S654), $S654>'BankRec Main Acct'!$E$8), AI654, 0)","v":0},0,{"$f":"IF(AND(NOT(ISBLANK($U654)), $U654<'P&L'!$P$8), $AL654, 0)","v":0},{"$f":"IF(OR(ISBLANK($U654), $U654>'DebitCard Rec '!$E$8), $AL654, 0)","v":0},0,{"$f":"IF(AND(NOT(ISBLANK($U654)), $U654<'P&L'!$P$8), $AO654, 0)","v":0},{"$f":"IF(OR(ISBLANK($U654), $U654>'DebitCard Rec '!$E$8), $AO654, 0)","v":0},0,{"$f":"IF(AND($A654<'P&L'!$P$8, $X654='P&L'!$G$6), $AR654, 0)","v":0},0,{"$f":"IF(AND($A654<'P&L'!$P$8, $X654='P&L'!$G$6), $AT654, 0)","v":0}," "," "," "]
[null,null,null,null,null,null,null,null,null,null,null,null,null,null,null,null,null,null,null,null,null,null,"Jan-00",1900,{"$f":"IF(AND($A662<'P&L'!$P$8, YEAR($A662)=Master!$C$6), $K662, 0)","v":0},0,{"$f":"IF(AND(NOT(ISBLANK($O662)), $O662<'P&L'!$P$8), Z662, 0)","v":0},{"$f":"IF(OR(ISBLANK($O662), $O662>'BankRec Main Acct'!$E$8), Z662, 0)","v":0},0,{"$f":"IF(AND(NOT(ISBLANK($O662)), $O662<'P&L'!$P$8), AC662, 0)","v":0},{"$f":"IF(OR(ISBLANK($O662), $O662>'BankRec Main Acct'!$E$8), AC662, 0)","v":0},0,{"$f":"IF(AND(NOT(ISBLANK($S662)), $S662<'P&L'!$P$8), AF662, 0)","v":0},{"$f":"IF(OR(ISBLANK($S662), $S662>'BankRec Main Acct'!$E$8), AF662, 0)","v":0},0,{"$f":"IF(AND(NOT(ISBLANK($S662)), $S662<'P&L'!$P$8), AI662, 0)","v":0},{"$f":"IF(OR(ISBLANK($S662), $S662>'BankRec Main Acct'!$E$8), AI662, 0)","v":0},0,{"$f":"IF(AND(NOT(ISBLANK($U662)), $U662<'P&L'!$P$8), $AL662, 0)","v":0},{"$f":"IF(OR(ISBLANK($U662), $U662>'DebitCard Rec '!$E$8), $AL662, 0)","v":0},0,{"$f":"IF(AND(NOT(ISBLANK($U662)), $U662<'P&L'!$P$8), $AO662, 0)","v":0},{"$f":"IF(OR(ISBLANK($U662), $U662>'DebitCard Rec '!$E$8), $AO662, 0)","v":0},0,{"$f":"IF(AND($A662<'P&L'!$P$8, $X662='P&L'!$G$6), $AR662, 0)","v":0},0,{"$f":"IF(AND($A662<'P&L'!$P$8, $X662='P&L'!$G$6), $AT662, 0)","v":0}," "," "," "]
[null,null,null,null,null,null,null,null,null,null,null,null,null,null,null,null,null,null,null,null,null,null,"Jan-00",1900,{"$f":"IF(AND($A672<'P&L'!$P$8, YEAR($A672)=Master!$C$6), $K672, 0)","v":0},0,{"$f":"IF(AND(NOT(ISBLANK($O672)), $O672<'P&L'!$P$8), Z672, 0)","v":0},{"$f":"IF(OR(ISBLANK($O672), $O672>'BankRec Main Acct'!$E$8), Z672, 0)","v":0},0,{"$f":"IF(AND(NOT(ISBLANK($O672)), $O672<'P&L'!$P$8), AC672, 0)","v":0},{"$f":"IF(OR(ISBLANK($O672), $O672>'BankRec Main Acct'!$E$8), AC672, 0)","v":0},0,{"$f":"IF(AND(NOT(ISBLANK($S672)), $S672<'P&L'!$P$8), AF672, 0)","v":0},{"$f":"IF(OR(ISBLANK($S672), $S672>'BankRec Main Acct'!$E$8), AF672, 0)","v":0},0,{"$f":"IF(AND(NOT(ISBLANK($S672)), $S672<'P&L'!$P$8), AI672, 0)","v":0},{"$f":"IF(OR(ISBLANK($S672), $S672>'BankRec Main Acct'!$E$8), AI672, 0)","v":0},0,{"$f":"IF(AND(NOT(ISBLANK($U672)), $U672<'P&L'!$P$8), $AL672, 0)","v":0},{"$f":"IF(OR(ISBLANK($U672), $U672>'DebitCard Rec '!$E$8), $AL672, 0)","v":0},0,{"$f":"IF(AND(NOT(ISBLANK($U672)), $U672<'P&L'!$P$8), $AO672, 0)","v":0},{"$f":"IF(OR(ISBLANK($U672), $U672>'DebitCard Rec '!$E$8), $AO672, 0)","v":0},0,{"$f":"IF(AND($A672<'P&L'!$P$8, $X672='P&L'!$G$6), $AR672, 0)","v":0},0,{"$f":"IF(AND($A672<'P&L'!$P$8, $X672='P&L'!$G$6), $AT672, 0)","v":0}," "," "," "]
[null,null,null,null,null,null,null,null,null,null,null,null,null,null,null,null,null,null,null,null,null,null,"Jan-00",1900,{"$f":"IF(AND($A684<'P&L'!$P$8, YEAR($A684)=Master!$C$6), $K684, 0)","v":0},0,{"$f":"IF(AND(NOT(ISBLANK($O684)), $O684<'P&L'!$P$8), Z684, 0)","v":0},{"$f":"IF(OR(ISBLANK($O684), $O684>'BankRec Main Acct'!$E$8), Z684, 0)","v":0},0,{"$f":"IF(AND(NOT(ISBLANK($O684)), $O684<'P&L'!$P$8), AC684, 0)","v":0},{"$f":"IF(OR(ISBLANK($O684), $O684>'BankRec Main Acct'!$E$8), AC684, 0)","v":0},0,{"$f":"IF(AND(NOT(ISBLANK($S684)), $S684<'P&L'!$P$8), AF684, 0)","v":0},{"$f":"IF(OR(ISBLANK($S684), $S684>'BankRec Main Acct'!$E$8), AF684, 0)","v":0},0,{"$f":"IF(AND(NOT(ISBLANK($S684)), $S684<'P&L'!$P$8), AI684, 0)","v":0},{"$f":"IF(OR(ISBLANK($S684), $S684>'BankRec Main Acct'!$E$8), AI684, 0)","v":0},0,{"$f":"IF(AND(NOT(ISBLANK($U684)), $U684<'P&L'!$P$8), $AL684, 0)","v":0},{"$f":"IF(OR(ISBLANK($U684), $U684>'DebitCard Rec '!$E$8), $AL684, 0)","v":0},0,{"$f":"IF(AND(NOT(ISBLANK($U684)), $U684<'P&L'!$P$8), $AO684, 0)","v":0},{"$f":"IF(OR(ISBLANK($U684), $U684>'DebitCard Rec '!$E$8), $AO684, 0)","v":0},0,{"$f":"IF(AND($A684<'P&L'!$P$8, $X684='P&L'!$G$6), $AR684, 0)","v":0},0,{"$f":"IF(AND($A684<'P&L'!$P$8, $X684='P&L'!$G$6), $AT684, 0)","v":0}," "," "," "]
[null,null,null,null,null,null,null,null,null,null,null,null,null,null,null,null,null,null,null,null,null,null,"Jan-00",1900,{"$f":"IF(AND($A691<'P&L'!$P$8, YEAR($A691)=Master!$C$6), $K691, 0)","v":0},0,{"$f":"IF(AND(NOT(ISBLANK($O691)), $O691<'P&L'!$P$8), Z691, 0)","v":0},{"$f":"IF(OR(ISBLANK($O691), $O691>'BankRec Main Acct'!$E$8), Z691, 0)","v":0},0,{"$f":"IF(AND(NOT(ISBLANK($O691)), $O691<'P&L'!$P$8), AC691, 0)","v":0},{"$f":"IF(OR(ISBLANK($O691), $O691>'BankRec Main Acct'!$E$8), AC691, 0)","v":0},0,{"$f":"IF(AND(NOT(ISBLANK($S691)), $S691<'P&L'!$P$8), AF691, 0)","v":0},{"$f":"IF(OR(ISBLANK($S691), $S691>'BankRec Main Acct'!$E$8), AF691, 0)","v":0},0,{"$f":"IF(AND(NOT(ISBLANK($S691)), $S691<'P&L'!$P$8), AI691, 0)","v":0},{"$f":"IF(OR(ISBLANK($S691), $S691>'BankRec Main Acct'!$E$8), AI691, 0)","v":0},0,{"$f":"IF(AND(NOT(ISBLANK($U691)), $U691<'P&L'!$P$8), $AL691, 0)","v":0},{"$f":"IF(OR(ISBLANK($U691), $U691>'DebitCard Rec '!$E$8), $AL691, 0)","v":0},0,{"$f":"IF(AND(NOT(ISBLANK($U691)), $U691<'P&L'!$P$8), $AO691, 0)","v":0},{"$f":"IF(OR(ISBLANK($U691), $U691>'DebitCard Rec '!$E$8), $AO691, 0)","v":0},0,{"$f":"IF(AND($A691<'P&L'!$P$8, $X691='P&L'!$G$6), $AR691, 0)","v":0},0,{"$f":"IF(AND($A691<'P&L'!$P$8, $X691='P&L'!$G$6), $AT691, 0)","v":0}," "," "," "]
[null,null,null,null,null,null,null,null,null,null,null,null,null,null,null,null,null,null,null,null,null,null,"Jan-00",1900,{"$f":"IF(AND($A701<'P&L'!$P$8, YEAR($A701)=Master!$C$6), $K701, 0)","v":0},0,{"$f":"IF(AND(NOT(ISBLANK($O701)), $O701<'P&L'!$P$8), Z701, 0)","v":0},{"$f":"IF(OR(ISBLANK($O701), $O701>'BankRec Main Acct'!$E$8), Z701, 0)","v":0},0,{"$f":"IF(AND(NOT(ISBLANK($O701)), $O701<'P&L'!$P$8), AC701, 0)","v":0},{"$f":"IF(OR(ISBLANK($O701), $O701>'BankRec Main Acct'!$E$8), AC701, 0)","v":0},0,{"$f":"IF(AND(NOT(ISBLANK($S701)), $S701<'P&L'!$P$8), AF701, 0)","v":0},{"$f":"IF(OR(ISBLANK($S701), $S701>'BankRec Main Acct'!$E$8), AF701, 0)","v":0},0,{"$f":"IF(AND(NOT(ISBLANK($S701)), $S701<'P&L'!$P$8), AI701, 0)","v":0},{"$f":"IF(OR(ISBLANK($S701), $S701>'BankRec Main Acct'!$E$8), AI701, 0)","v":0},0,{"$f":"IF(AND(NOT(ISBLANK($U701)), $U701<'P&L'!$P$8), $AL701, 0)","v":0},{"$f":"IF(OR(ISBLANK($U701), $U701>'DebitCard Rec '!$E$8), $AL701, 0)","v":0},0,{"$f":"IF(AND(NOT(ISBLANK($U701)), $U701<'P&L'!$P$8), $AO701, 0)","v":0},{"$f":"IF(OR(ISBLANK($U701), $U701>'DebitCard Rec '!$E$8), $AO701, 0)","v":0},0,{"$f":"IF(AND($A701<'P&L'!$P$8, $X701='P&L'!$G$6), $AR701, 0)","v":0},0,{"$f":"IF(AND($A701<'P&L'!$P$8, $X701='P&L'!$G$6), $AT701, 0)","v":0}," "," "," "]
[null,null,null,null,null,null,null,null,null,null,null,null,null,null,null,null,null,null,null,null,null,null,"Jan-00",1900,{"$f":"IF(AND($A705<'P&L'!$P$8, YEAR($A705)=Master!$C$6), $K705, 0)","v":0},0,{"$f":"IF(AND(NOT(ISBLANK($O705)), $O705<'P&L'!$P$8), Z705, 0)","v":0},{"$f":"IF(OR(ISBLANK($O705), $O705>'BankRec Main Acct'!$E$8), Z705, 0)","v":0},0,{"$f":"IF(AND(NOT(ISBLANK($O705)), $O705<'P&L'!$P$8), AC705, 0)","v":0},{"$f":"IF(OR(ISBLANK($O705), $O705>'BankRec Main Acct'!$E$8), AC705, 0)","v":0},0,{"$f":"IF(AND(NOT(ISBLANK($S705)), $S705<'P&L'!$P$8), AF705, 0)","v":0},{"$f":"IF(OR(ISBLANK($S705), $S705>'BankRec Main Acct'!$E$8), AF705, 0)","v":0},0,{"$f":"IF(AND(NOT(ISBLANK($S705)), $S705<'P&L'!$P$8), AI705, 0)","v":0},{"$f":"IF(OR(ISBLANK($S705), $S705>'BankRec Main Acct'!$E$8), AI705, 0)","v":0},0,{"$f":"IF(AND(NOT(ISBLANK($U705)), $U705<'P&L'!$P$8), $AL705, 0)","v":0},{"$f":"IF(OR(ISBLANK($U705), $U705>'DebitCard Rec '!$E$8), $AL705, 0)","v":0},0,{"$f":"IF(AND(NOT(ISBLANK($U705)), $U705<'P&L'!$P$8), $AO705, 0)","v":0},{"$f":"IF(OR(ISBLANK($U705), $U705>'DebitCard Rec '!$E$8), $AO705, 0)","v":0},0,{"$f":"IF(AND($A705<'P&L'!$P$8, $X705='P&L'!$G$6), $AR705, 0)","v":0},0,{"$f":"IF(AND($A705<'P&L'!$P$8, $X705='P&L'!$G$6), $AT705, 0)","v":0}," "," "," "]
[null,null,null,null,null,null,null,null,null,null,null,null,null,null,null,null,null,null,null,null,null,null,"Jan-00",1900,{"$f":"IF(AND($A712<'P&L'!$P$8, YEAR($A712)=Master!$C$6), $K712, 0)","v":0},0,{"$f":"IF(AND(NOT(ISBLANK($O712)), $O712<'P&L'!$P$8), Z712, 0)","v":0},{"$f":"IF(OR(ISBLANK($O712), $O712>'BankRec Main Acct'!$E$8), Z712, 0)","v":0},0,{"$f":"IF(AND(NOT(ISBLANK($O712)), $O712<'P&L'!$P$8), AC712, 0)","v":0},{"$f":"IF(OR(ISBLANK($O712), $O712>'BankRec Main Acct'!$E$8), AC712, 0)","v":0},0,{"$f":"IF(AND(NOT(ISBLANK($S712)), $S712<'P&L'!$P$8), AF712, 0)","v":0},{"$f":"IF(OR(ISBLANK($S712), $S712>'BankRec Main Acct'!$E$8), AF712, 0)","v":0},0,{"$f":"IF(AND(NOT(ISBLANK($S712)), $S712<'P&L'!$P$8), AI712, 0)","v":0},{"$f":"IF(OR(ISBLANK($S712), $S712>'BankRec Main Acct'!$E$8), AI712, 0)","v":0},0,{"$f":"IF(AND(NOT(ISBLANK($U712)), $U712<'P&L'!$P$8), $AL712, 0)","v":0},{"$f":"IF(OR(ISBLANK($U712), $U712>'DebitCard Rec '!$E$8), $AL712, 0)","v":0},0,{"$f":"IF(AND(NOT(ISBLANK($U712)), $U712<'P&L'!$P$8), $AO712, 0)","v":0},{"$f":"IF(OR(ISBLANK($U712), $U712>'DebitCard Rec '!$E$8), $AO712, 0)","v":0},0,{"$f":"IF(AND($A712<'P&L'!$P$8, $X712='P&L'!$G$6), $AR712, 0)","v":0},0,{"$f":"IF(AND($A712<'P&L'!$P$8, $X712='P&L'!$G$6), $AT712, 0)","v":0}," "," "," "]
[null,null,null,null,null,null,null,null,null,null,null,null,null,null,null,null,null,null,null,null,null,null,{"$f":"TEXT($A724, \"mmm-yy\")","v":"Jan-00"},{"$f":"YEAR($A724)","v":1900},{"$f":"IF(AND($A724<'P&L'!$P$8, YEAR($A724)=Master!$C$6), $K724, 0)","v":0},0,{"$f":"IF(AND(NOT(ISBLANK($O724)), $O724<'P&L'!$P$8), Z724, 0)","v":0},{"$f":"IF(OR(ISBLANK($O724), $O724>'BankRec Main Acct'!$E$8), Z724, 0)","v":0},0,{"$f":"IF(AND(NOT(ISBLANK($O724)), $O724<'P&L'!$P$8), AC724, 0)","v":0},{"$f":"IF(OR(ISBLANK($O724), $O724>'BankRec Main Acct'!$E$8), AC724, 0)","v":0},0,{"$f":"IF(AND(NOT(ISBLANK($S724)), $S724<'P&L'!$P$8), AF724, 0)","v":0},{"$f":"IF(OR(ISBLANK($S724), $S724>'BankRec Main Acct'!$E$8), AF724, 0)","v":0},0,{"$f":"IF(AND(NOT(ISBLANK($S724)), $S724<'P&L'!$P$8), AI724, 0)","v":0},{"$f":"IF(OR(ISBLANK($S724), $S724>'BankRec Main Acct'!$E$8), AI724, 0)","v":0},{"$f":"IF(AND($C724=\"Receipt\",$B724=\"Debit card\"),$K724,0)","v":0},{"$f":"IF(AND(NOT(ISBLANK($U724)), $U724<'P&L'!$P$8), $AL724, 0)","v":0},{"$f":"IF(OR(ISBLANK($U724), $U724>'DebitCard Rec '!$E$8), $AL724, 0)","v":0},{"$f":"IF(AND($C724=\"Payment\",$B724=\"Debit card\"),$K724,0)","v":0},{"$f":"IF(AND(NOT(ISBLANK($U724)), $U724<'P&L'!$P$8), $AO724, 0)","v":0},{"$f":"IF(OR(ISBLANK($U724), $U724>'DebitCard Rec '!$E$8), $AO724, 0)","v":0},0,{"$f":"IF(AND($A724<'P&L'!$P$8, $X724='P&L'!$G$6), $AR724, 0)","v":0},0,{"$f":"IF(AND($A724<'P&L'!$P$8, $X724='P&L'!$G$6), $AT724, 0)","v":0}," "," "," "]
[null,null,null,null,null,null,null,null,null,null,null,null,null,null,null,null,null,null,null,null,null,null,"Jan-00",1900,{"$f":"IF(AND($A736<'P&L'!$P$8, YEAR($A736)=Master!$C$6), $K736, 0)","v":0},0,{"$f":"IF(AND(NOT(ISBLANK($O736)), $O736<'P&L'!$P$8), Z736, 0)","v":0},{"$f":"IF(OR(ISBLANK($O736), $O736>'BankRec Main Acct'!$E$8), Z736, 0)","v":0},0,{"$f":"IF(AND(NOT(ISBLANK($O736)), $O736<'P&L'!$P$8), AC736, 0)","v":0},{"$f":"IF(OR(ISBLANK($O736), $O736>'BankRec Main Acct'!$E$8), AC736, 0)","v":0},0,{"$f":"IF(AND(NOT(ISBLANK($S736)), $S736<'P&L'!$P$8), AF736, 0)","v":0},{"$f":"IF(OR(ISBLANK($S736), $S736>'BankRec Main Acct'!$E$8), AF736, 0)","v":0},0,{"$f":"IF(AND(NOT(ISBLANK($S736)), $S736<'P&L'!$P$8), AI736, 0)","v":0},{"$f":"IF(OR(ISBLANK($S736), $S736>'BankRec Main Acct'!$E$8), AI736, 0)","v":0},0,{"$f":"IF(AND(NOT(ISBLANK($U736)), $U736<'P&L'!$P$8), $AL736, 0)","v":0},{"$f":"IF(OR(ISBLANK($U736), $U736>'DebitCard Rec '!$E$8), $AL736, 0)","v":0},0,{"$f":"IF(AND(NOT(ISBLANK($U736)), $U736<'P&L'!$P$8), $AO736, 0)","v":0},{"$f":"IF(OR(ISBLANK($U736), $U736>'DebitCard Rec '!$E$8), $AO736, 0)","v":0},0,{"$f":"IF(AND($A736<'P&L'!$P$8, $X736='P&L'!$G$6), $AR736, 0)","v":0},0,{"$f":"IF(AND($A736<'P&L'!$P$8, $X736='P&L'!$G$6), $AT736, 0)","v":0}," "," "," "]
[null,null,null,null,null,null,null,null,null,null,null,null,null,null,null,null,null,null,null,null,null,null,"Jan-00",1900,{"$f":"IF(AND($A742<'P&L'!$P$8, YEAR($A742)=Master!$C$6), $K742, 0)","v":0},0,{"$f":"IF(AND(NOT(ISBLANK($O742)), $O742<'P&L'!$P$8), Z742, 0)","v":0},{"$f":"IF(OR(ISBLANK($O742), $O742>'BankRec Main Acct'!$E$8), Z742, 0)","v":0},0,{"$f":"IF(AND(NOT(ISBLANK($O742)), $O742<'P&L'!$P$8), AC742, 0)","v":0},{"$f":"IF(OR(ISBLANK($O742), $O742>'BankRec Main Acct'!$E$8), AC742, 0)","v":0},0,{"$f":"IF(AND(NOT(ISBLANK($S742)), $S742<'P&L'!$P$8), AF742, 0)","v":0},{"$f":"IF(OR(ISBLANK($S742), $S742>'BankRec Main Acct'!$E$8), AF742, 0)","v":0},0,{"$f":"IF(AND(NOT(ISBLANK($S742)), $S742<'P&L'!$P$8), AI742, 0)","v":0},{"$f":"IF(OR(ISBLANK($S742), $S742>'BankRec Main Acct'!$E$8), AI742, 0)","v":0},0,{"$f":"IF(AND(NOT(ISBLANK($U742)), $U742<'P&L'!$P$8), $AL742, 0)","v":0},{"$f":"IF(OR(ISBLANK($U742), $U742>'DebitCard Rec '!$E$8), $AL742, 0)","v":0},0,{"$f":"IF(AND(NOT(ISBLANK($U742)), $U742<'P&L'!$P$8), $AO742, 0)","v":0},{"$f":"IF(OR(ISBLANK($U742), $U742>'DebitCard Rec '!$E$8), $AO742, 0)","v":0},0,{"$f":"IF(AND($A742<'P&L'!$P$8, $X742='P&L'!$G$6), $AR742, 0)","v":0},0,{"$f":"IF(AND($A742<'P&L'!$P$8, $X742='P&L'!$G$6), $AT742, 0)","v":0}," "," "," "]
[null,null,null,null,null,null,null,null,null,null,null,null,null,null,null,null,null,null,null,null,null,null,"Jan-00",1900,{"$f":"IF(AND($A754<'P&L'!$P$8, YEAR($A754)=Master!$C$6), $K754, 0)","v":0},0,{"$f":"IF(AND(NOT(ISBLANK($O754)), $O754<'P&L'!$P$8), Z754, 0)","v":0},{"$f":"IF(OR(ISBLANK($O754), $O754>'BankRec Main Acct'!$E$8), Z754, 0)","v":0},0,{"$f":"IF(AND(NOT(ISBLANK($O754)), $O754<'P&L'!$P$8), AC754, 0)","v":0},{"$f":"IF(OR(ISBLANK($O754), $O754>'BankRec Main Acct'!$E$8), AC754, 0)","v":0},0,{"$f":"IF(AND(NOT(ISBLANK($S754)), $S754<'P&L'!$P$8), AF754, 0)","v":0},{"$f":"IF(OR(ISBLANK($S754), $S754>'BankRec Main Acct'!$E$8), AF754, 0)","v":0},0,{"$f":"IF(AND(NOT(ISBLANK($S754)), $S754<'P&L'!$P$8), AI754, 0)","v":0},{"$f":"IF(OR(ISBLANK($S754), $S754>'BankRec Main Acct'!$E$8), AI754, 0)","v":0},0,{"$f":"IF(AND(NOT(ISBLANK($U754)), $U754<'P&L'!$P$8), $AL754, 0)","v":0},{"$f":"IF(OR(ISBLANK($U754), $U754>'DebitCard Rec '!$E$8), $AL754, 0)","v":0},0,{"$f":"IF(AND(NOT(ISBLANK($U754)), $U754<'P&L'!$P$8), $AO754, 0)","v":0},{"$f":"IF(OR(ISBLANK($U754), $U754>'DebitCard Rec '!$E$8), $AO754, 0)","v":0},0,{"$f":"IF(AND($A754<'P&L'!$P$8, $X754='P&L'!$G$6), $AR754, 0)","v":0},0,{"$f":"IF(AND($A754<'P&L'!$P$8, $X754='P&L'!$G$6), $AT754, 0)","v":0}," "," "," "]
[null,null,null,null,null,null,null,null,null,null,null,null,null,null,null,null,null,null,null,null,null,null,"Jan-00",1900,{"$f":"IF(AND($A761<'P&L'!$P$8, YEAR($A761)=Master!$C$6), $K761, 0)","v":0},0,{"$f":"IF(AND(NOT(ISBLANK($O761)), $O761<'P&L'!$P$8), Z761, 0)","v":0},{"$f":"IF(OR(ISBLANK($O761), $O761>'BankRec Main Acct'!$E$8), Z761, 0)","v":0},0,{"$f":"IF(AND(NOT(ISBLANK($O761)), $O761<'P&L'!$P$8), AC761, 0)","v":0},{"$f":"IF(OR(ISBLANK($O761), $O761>'BankRec Main Acct'!$E$8), AC761, 0)","v":0},0,{"$f":"IF(AND(NOT(ISBLANK($S761)), $S761<'P&L'!$P$8), AF761, 0)","v":0},{"$f":"IF(OR(ISBLANK($S761), $S761>'BankRec Main Acct'!$E$8), AF761, 0)","v":0},0,{"$f":"IF(AND(NOT(ISBLANK($S761)), $S761<'P&L'!$P$8), AI761, 0)","v":0},{"$f":"IF(OR(ISBLANK($S761), $S761>'BankRec Main Acct'!$E$8), AI761, 0)","v":0},0,{"$f":"IF(AND(NOT(ISBLANK($U761)), $U761<'P&L'!$P$8), $AL761, 0)","v":0},{"$f":"IF(OR(ISBLANK($U761), $U761>'DebitCard Rec '!$E$8), $AL761, 0)","v":0},0,{"$f":"IF(AND(NOT(ISBLANK($U761)), $U761<'P&L'!$P$8), $AO761, 0)","v":0},{"$f":"IF(OR(ISBLANK($U761), $U761>'DebitCard Rec '!$E$8), $AO761, 0)","v":0},0,{"$f":"IF(AND($A761<'P&L'!$P$8, $X761='P&L'!$G$6), $AR761, 0)","v":0},0,{"$f":"IF(AND($A761<'P&L'!$P$8, $X761='P&L'!$G$6), $AT761, 0)","v":0}," "," "," "]
[null,null,null,null,null,null,null,null,null,null,null,null,null,null,null,null,null,null,null,null,null,null,"Jan-00",1900,{"$f":"IF(AND($A764<'P&L'!$P$8, YEAR($A764)=Master!$C$6), $K764, 0)","v":0},0,{"$f":"IF(AND(NOT(ISBLANK($O764)), $O764<'P&L'!$P$8), Z764, 0)","v":0},{"$f":"IF(OR(ISBLANK($O764), $O764>'BankRec Main Acct'!$E$8), Z764, 0)","v":0},0,{"$f":"IF(AND(NOT(ISBLANK($O764)), $O764<'P&L'!$P$8), AC764, 0)","v":0},{"$f":"IF(OR(ISBLANK($O764), $O764>'BankRec Main Acct'!$E$8), AC764, 0)","v":0},0,{"$f":"IF(AND(NOT(ISBLANK($S764)), $S764<'P&L'!$P$8), AF764, 0)","v":0},{"$f":"IF(OR(ISBLANK($S764), $S764>'BankRec Main Acct'!$E$8), AF764, 0)","v":0},0,{"$f":"IF(AND(NOT(ISBLANK($S764)), $S764<'P&L'!$P$8), AI764, 0)","v":0},{"$f":"IF(OR(ISBLANK($S764), $S764>'BankRec Main Acct'!$E$8), AI764, 0)","v":0},0,{"$f":"IF(AND(NOT(ISBLANK($U764)), $U764<'P&L'!$P$8), $AL764, 0)","v":0},{"$f":"IF(OR(ISBLANK($U764), $U764>'DebitCard Rec '!$E$8), $AL764, 0)","v":0},0,{"$f":"IF(AND(NOT(ISBLANK($U764)), $U764<'P&L'!$P$8), $AO764, 0)","v":0},{"$f":"IF(OR(ISBLANK($U764), $U764>'DebitCard Rec '!$E$8), $AO764, 0)","v":0},0,{"$f":"IF(AND($A764<'P&L'!$P$8, $X764='P&L'!$G$6), $AR764, 0)","v":0},0,{"$f":"IF(AND($A764<'P&L'!$P$8, $X764='P&L'!$G$6), $AT764, 0)","v":0}," "," "," "]
[null,null,null,null,null,null,null,null,null,null,null,null,null,null,null,null,null,null,null,null,null,null,"Jan-00",1900,{"$f":"IF(AND($A776<'P&L'!$P$8, YEAR($A776)=Master!$C$6), $K776, 0)","v":0},0,{"$f":"IF(AND(NOT(ISBLANK($O776)), $O776<'P&L'!$P$8), Z776, 0)","v":0},{"$f":"IF(OR(ISBLANK($O776), $O776>'BankRec Main Acct'!$E$8), Z776, 0)","v":0},0,{"$f":"IF(AND(NOT(ISBLANK($O776)), $O776<'P&L'!$P$8), AC776, 0)","v":0},{"$f":"IF(OR(ISBLANK($O776), $O776>'BankRec Main Acct'!$E$8), AC776, 0)","v":0},0,{"$f":"IF(AND(NOT(ISBLANK($S776)), $S776<'P&L'!$P$8), AF776, 0)","v":0},{"$f":"IF(OR(ISBLANK($S776), $S776>'BankRec Main Acct'!$E$8), AF776, 0)","v":0},0,{"$f":"IF(AND(NOT(ISBLANK($S776)), $S776<'P&L'!$P$8), AI776, 0)","v":0},{"$f":"IF(OR(ISBLANK($S776), $S776>'BankRec Main Acct'!$E$8), AI776, 0)","v":0},0,{"$f":"IF(AND(NOT(ISBLANK($U776)), $U776<'P&L'!$P$8), $AL776, 0)","v":0},{"$f":"IF(OR(ISBLANK($U776), $U776>'DebitCard Rec '!$E$8), $AL776, 0)","v":0},0,{"$f":"IF(AND(NOT(ISBLANK($U776)), $U776<'P&L'!$P$8), $AO776, 0)","v":0},{"$f":"IF(OR(ISBLANK($U776), $U776>'DebitCard Rec '!$E$8), $AO776, 0)","v":0},0,{"$f":"IF(AND($A776<'P&L'!$P$8, $X776='P&L'!$G$6), $AR776, 0)","v":0},0,{"$f":"IF(AND($A776<'P&L'!$P$8, $X776='P&L'!$G$6), $AT776, 0)","v":0}," "," "," "]
[null,null,null,null,null,null,null,null,null,null,null,null,null,null,null,null,null,null,null,null,null,null,"Jan-00",1900,{"$f":"IF(AND($A783<'P&L'!$P$8, YEAR($A783)=Master!$C$6), $K783, 0)","v":0},0,{"$f":"IF(AND(NOT(ISBLANK($O783)), $O783<'P&L'!$P$8), Z783, 0)","v":0},{"$f":"IF(OR(ISBLANK($O783), $O783>'BankRec Main Acct'!$E$8), Z783, 0)","v":0},0,{"$f":"IF(AND(NOT(ISBLANK($O783)), $O783<'P&L'!$P$8), AC783, 0)","v":0},{"$f":"IF(OR(ISBLANK($O783), $O783>'BankRec Main Acct'!$E$8), AC783, 0)","v":0},0,{"$f":"IF(AND(NOT(ISBLANK($S783)), $S783<'P&L'!$P$8), AF783, 0)","v":0},{"$f":"IF(OR(ISBLANK($S783), $S783>'BankRec Main Acct'!$E$8), AF783, 0)","v":0},0,{"$f":"IF(AND(NOT(ISBLANK($S783)), $S783<'P&L'!$P$8), AI783, 0)","v":0},{"$f":"IF(OR(ISBLANK($S783), $S783>'BankRec Main Acct'!$E$8), AI783, 0)","v":0},0,{"$f":"IF(AND(NOT(ISBLANK($U783)), $U783<'P&L'!$P$8), $AL783, 0)","v":0},{"$f":"IF(OR(ISBLANK($U783), $U783>'DebitCard Rec '!$E$8), $AL783, 0)","v":0},0,{"$f":"IF(AND(NOT(ISBLANK($U783)), $U783<'P&L'!$P$8), $AO783, 0)","v":0},{"$f":"IF(OR(ISBLANK($U783), $U783>'DebitCard Rec '!$E$8), $AO783, 0)","v":0},0,{"$f":"IF(AND($A783<'P&L'!$P$8, $X783='P&L'!$G$6), $AR783, 0)","v":0},0,{"$f":"IF(AND($A783<'P&L'!$P$8, $X783='P&L'!$G$6), $AT783, 0)","v":0}," "," "," "]
[null,null,null,null,null,null,null,null,null,null,null,null,null,null,null,null,null,null,null,null,null,null,"Jan-00",1900,{"$f":"IF(AND($A794<'P&L'!$P$8, YEAR($A794)=Master!$C$6), $K794, 0)","v":0},0,{"$f":"IF(AND(NOT(ISBLANK($O794)), $O794<'P&L'!$P$8), Z794, 0)","v":0},{"$f":"IF(OR(ISBLANK($O794), $O794>'BankRec Main Acct'!$E$8), Z794, 0)","v":0},0,{"$f":"IF(AND(NOT(ISBLANK($O794)), $O794<'P&L'!$P$8), AC794, 0)","v":0},{"$f":"IF(OR(ISBLANK($O794), $O794>'BankRec Main Acct'!$E$8), AC794, 0)","v":0},0,{"$f":"IF(AND(NOT(ISBLANK($S794)), $S794<'P&L'!$P$8), AF794, 0)","v":0},{"$f":"IF(OR(ISBLANK($S794), $S794>'BankRec Main Acct'!$E$8), AF794, 0)","v":0},0,{"$f":"IF(AND(NOT(ISBLANK($S794)), $S794<'P&L'!$P$8), AI794, 0)","v":0},{"$f":"IF(OR(ISBLANK($S794), $S794>'BankRec Main Acct'!$E$8), AI794, 0)","v":0},0,{"$f":"IF(AND(NOT(ISBLANK($U794)), $U794<'P&L'!$P$8), $AL794, 0)","v":0},{"$f":"IF(OR(ISBLANK($U794), $U794>'DebitCard Rec '!$E$8), $AL794, 0)","v":0},0,{"$f":"IF(AND(NOT(ISBLANK($U794)), $U794<'P&L'!$P$8), $AO794, 0)","v":0},{"$f":"IF(OR(ISBLANK($U794), $U794>'DebitCard Rec '!$E$8), $AO794, 0)","v":0},0,{"$f":"IF(AND($A794<'P&L'!$P$8, $X794='P&L'!$G$6), $AR794, 0)","v":0},0,{"$f":"IF(AND($A794<'P&L'!$P$8, $X794='P&L'!$G$6), $AT794, 0)","v":0}," "," "," "]
[null,null,null,null,null,null,null,null,null,null,null,null,null,null,null,null,null,null,null,null,null,null,"Jan-00",1900,{"$f":"IF(AND($A806<'P&L'!$P$8, YEAR($A806)=Master!$C$6), $K806, 0)","v":0},0,{"$f":"IF(AND(NOT(ISBLANK($O806)), $O806<'P&L'!$P$8), Z806, 0)","v":0},{"$f":"IF(OR(ISBLANK($O806), $O806>'BankRec Main Acct'!$E$8), Z806, 0)","v":0},0,{"$f":"IF(AND(NOT(ISBLANK($O806)), $O806<'P&L'!$P$8), AC806, 0)","v":0},{"$f":"IF(OR(ISBLANK($O806), $O806>'BankRec Main Acct'!$E$8), AC806, 0)","v":0},0,{"$f":"IF(AND(NOT(ISBLANK($S806)), $S806<'P&L'!$P$8), AF806, 0)","v":0},{"$f":"IF(OR(ISBLANK($S806), $S806>'BankRec Main Acct'!$E$8), AF806, 0)","v":0},0,{"$f":"IF(AND(NOT(ISBLANK($S806)), $S806<'P&L'!$P$8), AI806, 0)","v":0},{"$f":"IF(OR(ISBLANK($S806), $S806>'BankRec Main Acct'!$E$8), AI806, 0)","v":0},0,{"$f":"IF(AND(NOT(ISBLANK($U806)), $U806<'P&L'!$P$8), $AL806, 0)","v":0},{"$f":"IF(OR(ISBLANK($U806), $U806>'DebitCard Rec '!$E$8), $AL806, 0)","v":0},0,{"$f":"IF(AND(NOT(ISBLANK($U806)), $U806<'P&L'!$P$8), $AO806, 0)","v":0},{"$f":"IF(OR(ISBLANK($U806), $U806>'DebitCard Rec '!$E$8), $AO806, 0)","v":0},0,{"$f":"IF(AND($A806<'P&L'!$P$8, $X806='P&L'!$G$6), $AR806, 0)","v":0},0,{"$f":"IF(AND($A806<'P&L'!$P$8, $X806='P&L'!$G$6), $AT806, 0)","v":0}," "," "," "]
[null,null,null,null,null,null,null,null,null,null,null,null,null,null,null,null,null,null,null,null,null,null,"Jan-00",1900,{"$f":"IF(AND($A813<'P&L'!$P$8, YEAR($A813)=Master!$C$6), $K813, 0)","v":0},0,{"$f":"IF(AND(NOT(ISBLANK($O813)), $O813<'P&L'!$P$8), Z813, 0)","v":0},{"$f":"IF(OR(ISBLANK($O813), $O813>'BankRec Main Acct'!$E$8), Z813, 0)","v":0},0,{"$f":"IF(AND(NOT(ISBLANK($O813)), $O813<'P&L'!$P$8), AC813, 0)","v":0},{"$f":"IF(OR(ISBLANK($O813), $O813>'BankRec Main Acct'!$E$8), AC813, 0)","v":0},0,{"$f":"IF(AND(NOT(ISBLANK($S813)), $S813<'P&L'!$P$8), AF813, 0)","v":0},{"$f":"IF(OR(ISBLANK($S813), $S813>'BankRec Main Acct'!$E$8), AF813, 0)","v":0},0,{"$f":"IF(AND(NOT(ISBLANK($S813)), $S813<'P&L'!$P$8), AI813, 0)","v":0},{"$f":"IF(OR(ISBLANK($S813), $S813>'BankRec Main Acct'!$E$8), AI813, 0)","v":0},0,{"$f":"IF(AND(NOT(ISBLANK($U813)), $U813<'P&L'!$P$8), $AL813, 0)","v":0},{"$f":"IF(OR(ISBLANK($U813), $U813>'DebitCard Rec '!$E$8), $AL813, 0)","v":0},0,{"$f":"IF(AND(NOT(ISBLANK($U813)), $U813<'P&L'!$P$8), $AO813, 0)","v":0},{"$f":"IF(OR(ISBLANK($U813), $U813>'DebitCard Rec '!$E$8), $AO813, 0)","v":0},0,{"$f":"IF(AND($A813<'P&L'!$P$8, $X813='P&L'!$G$6), $AR813, 0)","v":0},0,{"$f":"IF(AND($A813<'P&L'!$P$8, $X813='P&L'!$G$6), $AT813, 0)","v":0}," "," "," "]
[null,null,null,null,null,null,null,null,null,null,null,null,null,null,null,null,null,null,null,null,null,null,"Jan-00",1900,{"$f":"IF(AND($A822<'P&L'!$P$8, YEAR($A822)=Master!$C$6), $K822, 0)","v":0},0,{"$f":"IF(AND(NOT(ISBLANK($O822)), $O822<'P&L'!$P$8), Z822, 0)","v":0},{"$f":"IF(OR(ISBLANK($O822), $O822>'BankRec Main Acct'!$E$8), Z822, 0)","v":0},0,{"$f":"IF(AND(NOT(ISBLANK($O822)), $O822<'P&L'!$P$8), AC822, 0)","v":0},{"$f":"IF(OR(ISBLANK($O822), $O822>'BankRec Main Acct'!$E$8), AC822, 0)","v":0},0,{"$f":"IF(AND(NOT(ISBLANK($S822)), $S822<'P&L'!$P$8), AF822, 0)","v":0},{"$f":"IF(OR(ISBLANK($S822), $S822>'BankRec Main Acct'!$E$8), AF822, 0)","v":0},0,{"$f":"IF(AND(NOT(ISBLANK($S822)), $S822<'P&L'!$P$8), AI822, 0)","v":0},{"$f":"IF(OR(ISBLANK($S822), $S822>'BankRec Main Acct'!$E$8), AI822, 0)","v":0},0,{"$f":"IF(AND(NOT(ISBLANK($U822)), $U822<'P&L'!$P$8), $AL822, 0)","v":0},{"$f":"IF(OR(ISBLANK($U822), $U822>'DebitCard Rec '!$E$8), $AL822, 0)","v":0},0,{"$f":"IF(AND(NOT(ISBLANK($U822)), $U822<'P&L'!$P$8), $AO822, 0)","v":0},{"$f":"IF(OR(ISBLANK($U822), $U822>'DebitCard Rec '!$E$8), $AO822, 0)","v":0},0,{"$f":"IF(AND($A822<'P&L'!$P$8, $X822='P&L'!$G$6), $AR822, 0)","v":0},0,{"$f":"IF(AND($A822<'P&L'!$P$8, $X822='P&L'!$G$6), $AT822, 0)","v":0}," "," "," "]
[null,null,null,null,null,null,null,null,null,null,null,null,null,null,null,null,null,null,null,null,null,null,"Jan-00",1900,{"$f":"IF(AND($A831<'P&L'!$P$8, YEAR($A831)=Master!$C$6), $K831, 0)","v":0},0,{"$f":"IF(AND(NOT(ISBLANK($O831)), $O831<'P&L'!$P$8), Z831, 0)","v":0},{"$f":"IF(OR(ISBLANK($O831), $O831>'BankRec Main Acct'!$E$8), Z831, 0)","v":0},0,{"$f":"IF(AND(NOT(ISBLANK($O831)), $O831<'P&L'!$P$8), AC831, 0)","v":0},{"$f":"IF(OR(ISBLANK($O831), $O831>'BankRec Main Acct'!$E$8), AC831, 0)","v":0},0,{"$f":"IF(AND(NOT(ISBLANK($S831)), $S831<'P&L'!$P$8), AF831, 0)","v":0},{"$f":"IF(OR(ISBLANK($S831), $S831>'BankRec Main Acct'!$E$8), AF831, 0)","v":0},0,{"$f":"IF(AND(NOT(ISBLANK($S831)), $S831<'P&L'!$P$8), AI831, 0)","v":0},{"$f":"IF(OR(ISBLANK($S831), $S831>'BankRec Main Acct'!$E$8), AI831, 0)","v":0},0,{"$f":"IF(AND(NOT(ISBLANK($U831)), $U831<'P&L'!$P$8), $AL831, 0)","v":0},{"$f":"IF(OR(ISBLANK($U831), $U831>'DebitCard Rec '!$E$8), $AL831, 0)","v":0},0,{"$f":"IF(AND(NOT(ISBLANK($U831)), $U831<'P&L'!$P$8), $AO831, 0)","v":0},{"$f":"IF(OR(ISBLANK($U831), $U831>'DebitCard Rec '!$E$8), $AO831, 0)","v":0},0,{"$f":"IF(AND($A831<'P&L'!$P$8, $X831='P&L'!$G$6), $AR831, 0)","v":0},0,{"$f":"IF(AND($A831<'P&L'!$P$8, $X831='P&L'!$G$6), $AT831, 0)","v":0}," "," "," "]
[null,null,null,null,null,null,null,null,null,null,null,null,null,null,null,null,null,null,null,null,null,null,"Jan-00",1900,{"$f":"IF(AND($A834<'P&L'!$P$8, YEAR($A834)=Master!$C$6), $K834, 0)","v":0},0,{"$f":"IF(AND(NOT(ISBLANK($O834)), $O834<'P&L'!$P$8), Z834, 0)","v":0},{"$f":"IF(OR(ISBLANK($O834), $O834>'BankRec Main Acct'!$E$8), Z834, 0)","v":0},0,{"$f":"IF(AND(NOT(ISBLANK($O834)), $O834<'P&L'!$P$8), AC834, 0)","v":0},{"$f":"IF(OR(ISBLANK($O834), $O834>'BankRec Main Acct'!$E$8), AC834, 0)","v":0},0,{"$f":"IF(AND(NOT(ISBLANK($S834)), $S834<'P&L'!$P$8), AF834, 0)","v":0},{"$f":"IF(OR(ISBLANK($S834), $S834>'BankRec Main Acct'!$E$8), AF834, 0)","v":0},0,{"$f":"IF(AND(NOT(ISBLANK($S834)), $S834<'P&L'!$P$8), AI834, 0)","v":0},{"$f":"IF(OR(ISBLANK($S834), $S834>'BankRec Main Acct'!$E$8), AI834, 0)","v":0},0,{"$f":"IF(AND(NOT(ISBLANK($U834)), $U834<'P&L'!$P$8), $AL834, 0)","v":0},{"$f":"IF(OR(ISBLANK($U834), $U834>'DebitCard Rec '!$E$8), $AL834, 0)","v":0},0,{"$f":"IF(AND(NOT(ISBLANK($U834)), $U834<'P&L'!$P$8), $AO834, 0)","v":0},{"$f":"IF(OR(ISBLANK($U834), $U834>'DebitCard Rec '!$E$8), $AO834, 0)","v":0},0,{"$f":"IF(AND($A834<'P&L'!$P$8, $X834='P&L'!$G$6), $AR834, 0)","v":0},0,{"$f":"IF(AND($A834<'P&L'!$P$8, $X834='P&L'!$G$6), $AT834, 0)","v":0}," "," "," "]
[null,null,null,null,null,null,null,null,null,null,null,null,null,null,null,null,null,null,null,null,null,null,"Jan-00",1900,{"$f":"IF(AND($A846<'P&L'!$P$8, YEAR($A846)=Master!$C$6), $K846, 0)","v":0},0,{"$f":"IF(AND(NOT(ISBLANK($O846)), $O846<'P&L'!$P$8), Z846, 0)","v":0},{"$f":"IF(OR(ISBLANK($O846), $O846>'BankRec Main Acct'!$E$8), Z846, 0)","v":0},0,{"$f":"IF(AND(NOT(ISBLANK($O846)), $O846<'P&L'!$P$8), AC846, 0)","v":0},{"$f":"IF(OR(ISBLANK($O846), $O846>'BankRec Main Acct'!$E$8), AC846, 0)","v":0},0,{"$f":"IF(AND(NOT(ISBLANK($S846)), $S846<'P&L'!$P$8), AF846, 0)","v":0},{"$f":"IF(OR(ISBLANK($S846), $S846>'BankRec Main Acct'!$E$8), AF846, 0)","v":0},0,{"$f":"IF(AND(NOT(ISBLANK($S846)), $S846<'P&L'!$P$8), AI846, 0)","v":0},{"$f":"IF(OR(ISBLANK($S846), $S846>'BankRec Main Acct'!$E$8), AI846, 0)","v":0},0,{"$f":"IF(AND(NOT(ISBLANK($U846)), $U846<'P&L'!$P$8), $AL846, 0)","v":0},{"$f":"IF(OR(ISBLANK($U846), $U846>'DebitCard Rec '!$E$8), $AL846, 0)","v":0},0,{"$f":"IF(AND(NOT(ISBLANK($U846)), $U846<'P&L'!$P$8), $AO846, 0)","v":0},{"$f":"IF(OR(ISBLANK($U846), $U846>'DebitCard Rec '!$E$8), $AO846, 0)","v":0},0,{"$f":"IF(AND($A846<'P&L'!$P$8, $X846='P&L'!$G$6), $AR846, 0)","v":0},0,{"$f":"IF(AND($A846<'P&L'!$P$8, $X846='P&L'!$G$6), $AT846, 0)","v":0}," "," "," "]
[null,null,null,null,null,null,null,null,null,null,null,null,null,null,null,null,null,null,null,null,null,null,"Jan-00",1900,{"$f":"IF(AND($A853<'P&L'!$P$8, YEAR($A853)=Master!$C$6), $K853, 0)","v":0},0,{"$f":"IF(AND(NOT(ISBLANK($O853)), $O853<'P&L'!$P$8), Z853, 0)","v":0},{"$f":"IF(OR(ISBLANK($O853), $O853>'BankRec Main Acct'!$E$8), Z853, 0)","v":0},0,{"$f":"IF(AND(NOT(ISBLANK($O853)), $O853<'P&L'!$P$8), AC853, 0)","v":0},{"$f":"IF(OR(ISBLANK($O853), $O853>'BankRec Main Acct'!$E$8), AC853, 0)","v":0},0,{"$f":"IF(AND(NOT(ISBLANK($S853)), $S853<'P&L'!$P$8), AF853, 0)","v":0},{"$f":"IF(OR(ISBLANK($S853), $S853>'BankRec Main Acct'!$E$8), AF853, 0)","v":0},0,{"$f":"IF(AND(NOT(ISBLANK($S853)), $S853<'P&L'!$P$8), AI853, 0)","v":0},{"$f":"IF(OR(ISBLANK($S853), $S853>'BankRec Main Acct'!$E$8), AI853, 0)","v":0},0,{"$f":"IF(AND(NOT(ISBLANK($U853)), $U853<'P&L'!$P$8), $AL853, 0)","v":0},{"$f":"IF(OR(ISBLANK($U853), $U853>'DebitCard Rec '!$E$8), $AL853, 0)","v":0},0,{"$f":"IF(AND(NOT(ISBLANK($U853)), $U853<'P&L'!$P$8), $AO853, 0)","v":0},{"$f":"IF(OR(ISBLANK($U853), $U853>'DebitCard Rec '!$E$8), $AO853, 0)","v":0},0,{"$f":"IF(AND($A853<'P&L'!$P$8, $X853='P&L'!$G$6), $AR853, 0)","v":0},0,{"$f":"IF(AND($A853<'P&L'!$P$8, $X853='P&L'!$G$6), $AT853, 0)","v":0}," "," "," "]
[null,null,null,null,null,null,null,null,null,null,null,null,null,null,null,null,null,null,null,null,null,null,"Jan-00",1900,{"$f":"IF(AND($A863<'P&L'!$P$8, YEAR($A863)=Master!$C$6), $K863, 0)","v":0},0,{"$f":"IF(AND(NOT(ISBLANK($O863)), $O863<'P&L'!$P$8), Z863, 0)","v":0},{"$f":"IF(OR(ISBLANK($O863), $O863>'BankRec Main Acct'!$E$8), Z863, 0)","v":0},0,{"$f":"IF(AND(NOT(ISBLANK($O863)), $O863<'P&L'!$P$8), AC863, 0)","v":0},{"$f":"IF(OR(ISBLANK($O863), $O863>'BankRec Main Acct'!$E$8), AC863, 0)","v":0},0,{"$f":"IF(AND(NOT(ISBLANK($S863)), $S863<'P&L'!$P$8), AF863, 0)","v":0},{"$f":"IF(OR(ISBLANK($S863), $S863>'BankRec Main Acct'!$E$8), AF863, 0)","v":0},0,{"$f":"IF(AND(NOT(ISBLANK($S863)), $S863<'P&L'!$P$8), AI863, 0)","v":0},{"$f":"IF(OR(ISBLANK($S863), $S863>'BankRec Main Acct'!$E$8), AI863, 0)","v":0},0,{"$f":"IF(AND(NOT(ISBLANK($U863)), $U863<'P&L'!$P$8), $AL863, 0)","v":0},{"$f":"IF(OR(ISBLANK($U863), $U863>'DebitCard Rec '!$E$8), $AL863, 0)","v":0},0,{"$f":"IF(AND(NOT(ISBLANK($U863)), $U863<'P&L'!$P$8), $AO863, 0)","v":0},{"$f":"IF(OR(ISBLANK($U863), $U863>'DebitCard Rec '!$E$8), $AO863, 0)","v":0},0,{"$f":"IF(AND($A863<'P&L'!$P$8, $X863='P&L'!$G$6), $AR863, 0)","v":0},0,{"$f":"IF(AND($A863<'P&L'!$P$8, $X863='P&L'!$G$6), $AT863, 0)","v":0}," "," "," "]
[null,null,null,null,null,null,null,null,null,null,null,null,null,null,null,null,null,null,null,null,null,null,"Jan-00",1900,{"$f":"IF(AND($A871<'P&L'!$P$8, YEAR($A871)=Master!$C$6), $K871, 0)","v":0},0,{"$f":"IF(AND(NOT(ISBLANK($O871)), $O871<'P&L'!$P$8), Z871, 0)","v":0},{"$f":"IF(OR(ISBLANK($O871), $O871>'BankRec Main Acct'!$E$8), Z871, 0)","v":0},0,{"$f":"IF(AND(NOT(ISBLANK($O871)), $O871<'P&L'!$P$8), AC871, 0)","v":0},{"$f":"IF(OR(ISBLANK($O871), $O871>'BankRec Main Acct'!$E$8), AC871, 0)","v":0},0,{"$f":"IF(AND(NOT(ISBLANK($S871)), $S871<'P&L'!$P$8), AF871, 0)","v":0},{"$f":"IF(OR(ISBLANK($S871), $S871>'BankRec Main Acct'!$E$8), AF871, 0)","v":0},0,{"$f":"IF(AND(NOT(ISBLANK($S871)), $S871<'P&L'!$P$8), AI871, 0)","v":0},{"$f":"IF(OR(ISBLANK($S871), $S871>'BankRec Main Acct'!$E$8), AI871, 0)","v":0},0,{"$f":"IF(AND(NOT(ISBLANK($U871)), $U871<'P&L'!$P$8), $AL871, 0)","v":0},{"$f":"IF(OR(ISBLANK($U871), $U871>'DebitCard Rec '!$E$8), $AL871, 0)","v":0},0,{"$f":"IF(AND(NOT(ISBLANK($U871)), $U871<'P&L'!$P$8), $AO871, 0)","v":0},{"$f":"IF(OR(ISBLANK($U871), $U871>'DebitCard Rec '!$E$8), $AO871, 0)","v":0},0,{"$f":"IF(AND($A871<'P&L'!$P$8, $X871='P&L'!$G$6), $AR871, 0)","v":0},0,{"$f":"IF(AND($A871<'P&L'!$P$8, $X871='P&L'!$G$6), $AT871, 0)","v":0}," "," "," "]
[null,null,null,null,null,null,null,null,null,null,null,null,null,null,null,null,null,null,null,null,null,null,"Jan-00",1900,{"$f":"IF(AND($A883<'P&L'!$P$8, YEAR($A883)=Master!$C$6), $K883, 0)","v":0},0,{"$f":"IF(AND(NOT(ISBLANK($O883)), $O883<'P&L'!$P$8), Z883, 0)","v":0},{"$f":"IF(OR(ISBLANK($O883), $O883>'BankRec Main Acct'!$E$8), Z883, 0)","v":0},0,{"$f":"IF(AND(NOT(ISBLANK($O883)), $O883<'P&L'!$P$8), AC883, 0)","v":0},{"$f":"IF(OR(ISBLANK($O883), $O883>'BankRec Main Acct'!$E$8), AC883, 0)","v":0},0,{"$f":"IF(AND(NOT(ISBLANK($S883)), $S883<'P&L'!$P$8), AF883, 0)","v":0},{"$f":"IF(OR(ISBLANK($S883), $S883>'BankRec Main Acct'!$E$8), AF883, 0)","v":0},0,{"$f":"IF(AND(NOT(ISBLANK($S883)), $S883<'P&L'!$P$8), AI883, 0)","v":0},{"$f":"IF(OR(ISBLANK($S883), $S883>'BankRec Main Acct'!$E$8), AI883, 0)","v":0},0,{"$f":"IF(AND(NOT(ISBLANK($U883)), $U883<'P&L'!$P$8), $AL883, 0)","v":0},{"$f":"IF(OR(ISBLANK($U883), $U883>'DebitCard Rec '!$E$8), $AL883, 0)","v":0},0,{"$f":"IF(AND(NOT(ISBLANK($U883)), $U883<'P&L'!$P$8), $AO883, 0)","v":0},{"$f":"IF(OR(ISBLANK($U883), $U883>'DebitCard Rec '!$E$8), $AO883, 0)","v":0},0,{"$f":"IF(AND($A883<'P&L'!$P$8, $X883='P&L'!$G$6), $AR883, 0)","v":0},0,{"$f":"IF(AND($A883<'P&L'!$P$8, $X883='P&L'!$G$6), $AT883, 0)","v":0}," "," "," "]
[null,null,null,null,null,null,null,null,null,null,null,null,null,null,null,null,null,null,null,null,null,null,"Jan-00",1900,{"$f":"IF(AND($A895<'P&L'!$P$8, YEAR($A895)=Master!$C$6), $K895, 0)","v":0},0,{"$f":"IF(AND(NOT(ISBLANK($O895)), $O895<'P&L'!$P$8), Z895, 0)","v":0},{"$f":"IF(OR(ISBLANK($O895), $O895>'BankRec Main Acct'!$E$8), Z895, 0)","v":0},0,{"$f":"IF(AND(NOT(ISBLANK($O895)), $O895<'P&L'!$P$8), AC895, 0)","v":0},{"$f":"IF(OR(ISBLANK($O895), $O895>'BankRec Main Acct'!$E$8), AC895, 0)","v":0},0,{"$f":"IF(AND(NOT(ISBLANK($S895)), $S895<'P&L'!$P$8), AF895, 0)","v":0},{"$f":"IF(OR(ISBLANK($S895), $S895>'BankRec Main Acct'!$E$8), AF895, 0)","v":0},0,{"$f":"IF(AND(NOT(ISBLANK($S895)), $S895<'P&L'!$P$8), AI895, 0)","v":0},{"$f":"IF(OR(ISBLANK($S895), $S895>'BankRec Main Acct'!$E$8), AI895, 0)","v":0},0,{"$f":"IF(AND(NOT(ISBLANK($U895)), $U895<'P&L'!$P$8), $AL895, 0)","v":0},{"$f":"IF(OR(ISBLANK($U895), $U895>'DebitCard Rec '!$E$8), $AL895, 0)","v":0},0,{"$f":"IF(AND(NOT(ISBLANK($U895)), $U895<'P&L'!$P$8), $AO895, 0)","v":0},{"$f":"IF(OR(ISBLANK($U895), $U895>'DebitCard Rec '!$E$8), $AO895, 0)","v":0},0,{"$f":"IF(AND($A895<'P&L'!$P$8, $X895='P&L'!$G$6), $AR895, 0)","v":0},0,{"$f":"IF(AND($A895<'P&L'!$P$8, $X895='P&L'!$G$6), $AT895, 0)","v":0}," "," "," "]
[null,null,null,null,null,null,null,null,null,null,null,null,null,null,null,null,null,null,null,null,null,null,"Jan-00",1900,{"$f":"IF(AND($A902<'P&L'!$P$8, YEAR($A902)=Master!$C$6), $K902, 0)","v":0},0,{"$f":"IF(AND(NOT(ISBLANK($O902)), $O902<'P&L'!$P$8), Z902, 0)","v":0},{"$f":"IF(OR(ISBLANK($O902), $O902>'BankRec Main Acct'!$E$8), Z902, 0)","v":0},0,{"$f":"IF(AND(NOT(ISBLANK($O902)), $O902<'P&L'!$P$8), AC902, 0)","v":0},{"$f":"IF(OR(ISBLANK($O902), $O902>'BankRec Main Acct'!$E$8), AC902, 0)","v":0},0,{"$f":"IF(AND(NOT(ISBLANK($S902)), $S902<'P&L'!$P$8), AF902, 0)","v":0},{"$f":"IF(OR(ISBLANK($S902), $S902>'BankRec Main Acct'!$E$8), AF902, 0)","v":0},0,{"$f":"IF(AND(NOT(ISBLANK($S902)), $S902<'P&L'!$P$8), AI902, 0)","v":0},{"$f":"IF(OR(ISBLANK($S902), $S902>'BankRec Main Acct'!$E$8), AI902, 0)","v":0},0,{"$f":"IF(AND(NOT(ISBLANK($U902)), $U902<'P&L'!$P$8), $AL902, 0)","v":0},{"$f":"IF(OR(ISBLANK($U902), $U902>'DebitCard Rec '!$E$8), $AL902, 0)","v":0},0,{"$f":"IF(AND(NOT(ISBLANK($U902)), $U902<'P&L'!$P$8), $AO902, 0)","v":0},{"$f":"IF(OR(ISBLANK($U902), $U902>'DebitCard Rec '!$E$8), $AO902, 0)","v":0},0,{"$f":"IF(AND($A902<'P&L'!$P$8, $X902='P&L'!$G$6), $AR902, 0)","v":0},0,{"$f":"IF(AND($A902<'P&L'!$P$8, $X902='P&L'!$G$6), $AT902, 0)","v":0}," "," "," "]
[null,null,null,null,null,null,null,null,null,null,null,null,null,null,null,null,null,null,null,null,null,null,"Jan-00",1900,{"$f":"IF(AND($A904<'P&L'!$P$8, YEAR($A904)=Master!$C$6), $K904, 0)","v":0},0,{"$f":"IF(AND(NOT(ISBLANK($O904)), $O904<'P&L'!$P$8), Z904, 0)","v":0},{"$f":"IF(OR(ISBLANK($O904), $O904>'BankRec Main Acct'!$E$8), Z904, 0)","v":0},0,{"$f":"IF(AND(NOT(ISBLANK($O904)), $O904<'P&L'!$P$8), AC904, 0)","v":0},{"$f":"IF(OR(ISBLANK($O904), $O904>'BankRec Main Acct'!$E$8), AC904, 0)","v":0},0,{"$f":"IF(AND(NOT(ISBLANK($S904)), $S904<'P&L'!$P$8), AF904, 0)","v":0},{"$f":"IF(OR(ISBLANK($S904), $S904>'BankRec Main Acct'!$E$8), AF904, 0)","v":0},0,{"$f":"IF(AND(NOT(ISBLANK($S904)), $S904<'P&L'!$P$8), AI904, 0)","v":0},{"$f":"IF(OR(ISBLANK($S904), $S904>'BankRec Main Acct'!$E$8), AI904, 0)","v":0},0,{"$f":"IF(AND(NOT(ISBLANK($U904)), $U904<'P&L'!$P$8), $AL904, 0)","v":0},{"$f":"IF(OR(ISBLANK($U904), $U904>'DebitCard Rec '!$E$8), $AL904, 0)","v":0},0,{"$f":"IF(AND(NOT(ISBLANK($U904)), $U904<'P&L'!$P$8), $AO904, 0)","v":0},{"$f":"IF(OR(ISBLANK($U904), $U904>'DebitCard Rec '!$E$8), $AO904, 0)","v":0},0,{"$f":"IF(AND($A904<'P&L'!$P$8, $X904='P&L'!$G$6), $AR904, 0)","v":0},0,{"$f":"IF(AND($A904<'P&L'!$P$8, $X904='P&L'!$G$6), $AT904, 0)","v":0}," "," "," "]
[null,null,null,null,null,null,null,null,null,null,null,null,null,null,null,null,null,null,null,null,null,null,{"$f":"TEXT($A916, \"mmm-yy\")","v":"Jan-00"},{"$f":"YEAR($A916)","v":1900},{"$f":"IF(AND($A916<'P&L'!$P$8, YEAR($A916)=Master!$C$6), $K916, 0)","v":0},0,{"$f":"IF(AND(NOT(ISBLANK($O916)), $O916<'P&L'!$P$8), Z916, 0)","v":0},{"$f":"IF(OR(ISBLANK($O916), $O916>'BankRec Main Acct'!$E$8), Z916, 0)","v":0},0,{"$f":"IF(AND(NOT(ISBLANK($O916)), $O916<'P&L'!$P$8), AC916, 0)","v":0},{"$f":"IF(OR(ISBLANK($O916), $O916>'BankRec Main Acct'!$E$8), AC916, 0)","v":0},0,{"$f":"IF(AND(NOT(ISBLANK($S916)), $S916<'P&L'!$P$8), AF916, 0)","v":0},{"$f":"IF(OR(ISBLANK($S916), $S916>'BankRec Main Acct'!$E$8), AF916, 0)","v":0},0,{"$f":"IF(AND(NOT(ISBLANK($S916)), $S916<'P&L'!$P$8), AI916, 0)","v":0},{"$f":"IF(OR(ISBLANK($S916), $S916>'BankRec Main Acct'!$E$8), AI916, 0)","v":0},{"$f":"IF(AND($C916=\"Receipt\",$B916=\"Debit card\"),$K916,0)","v":0},{"$f":"IF(AND(NOT(ISBLANK($U916)), $U916<'P&L'!$P$8), $AL916, 0)","v":0},{"$f":"IF(OR(ISBLANK($U916), $U916>'DebitCard Rec '!$E$8), $AL916, 0)","v":0},{"$f":"IF(AND($C916=\"Payment\",$B916=\"Debit card\"),$K916,0)","v":0},{"$f":"IF(AND(NOT(ISBLANK($U916)), $U916<'P&L'!$P$8), $AO916, 0)","v":0},{"$f":"IF(OR(ISBLANK($U916), $U916>'DebitCard Rec '!$E$8), $AO916, 0)","v":0},0,{"$f":"IF(AND($A916<'P&L'!$P$8, $X916='P&L'!$G$6), $AR916, 0)","v":0},0,{"$f":"IF(AND($A916<'P&L'!$P$8, $X916='P&L'!$G$6), $AT916, 0)","v":0}," "," "," "]
[null,null,null,null,null,null,null,null,null,null,null,null,null,null,null,null,null,null,null,null,null,null,"Jan-00",1900,{"$f":"IF(AND($A923<'P&L'!$P$8, YEAR($A923)=Master!$C$6), $K923, 0)","v":0},0,{"$f":"IF(AND(NOT(ISBLANK($O923)), $O923<'P&L'!$P$8), Z923, 0)","v":0},{"$f":"IF(OR(ISBLANK($O923), $O923>'BankRec Main Acct'!$E$8), Z923, 0)","v":0},0,{"$f":"IF(AND(NOT(ISBLANK($O923)), $O923<'P&L'!$P$8), AC923, 0)","v":0},{"$f":"IF(OR(ISBLANK($O923), $O923>'BankRec Main Acct'!$E$8), AC923, 0)","v":0},0,{"$f":"IF(AND(NOT(ISBLANK($S923)), $S923<'P&L'!$P$8), AF923, 0)","v":0},{"$f":"IF(OR(ISBLANK($S923), $S923>'BankRec Main Acct'!$E$8), AF923, 0)","v":0},0,{"$f":"IF(AND(NOT(ISBLANK($S923)), $S923<'P&L'!$P$8), AI923, 0)","v":0},{"$f":"IF(OR(ISBLANK($S923), $S923>'BankRec Main Acct'!$E$8), AI923, 0)","v":0},0,{"$f":"IF(AND(NOT(ISBLANK($U923)), $U923<'P&L'!$P$8), $AL923, 0)","v":0},{"$f":"IF(OR(ISBLANK($U923), $U923>'DebitCard Rec '!$E$8), $AL923, 0)","v":0},0,{"$f":"IF(AND(NOT(ISBLANK($U923)), $U923<'P&L'!$P$8), $AO923, 0)","v":0},{"$f":"IF(OR(ISBLANK($U923), $U923>'DebitCard Rec '!$E$8), $AO923, 0)","v":0},0,{"$f":"IF(AND($A923<'P&L'!$P$8, $X923='P&L'!$G$6), $AR923, 0)","v":0},0,{"$f":"IF(AND($A923<'P&L'!$P$8, $X923='P&L'!$G$6), $AT923, 0)","v":0}," "," "," "]
[null,null,null,null,null,null,null,null,null,null,null,null,null,null,null,null,null,null,null,null,null,null,"Jan-00",1900,{"$f":"IF(AND($A935<'P&L'!$P$8, YEAR($A935)=Master!$C$6), $K935, 0)","v":0},0,{"$f":"IF(AND(NOT(ISBLANK($O935)), $O935<'P&L'!$P$8), Z935, 0)","v":0},{"$f":"IF(OR(ISBLANK($O935), $O935>'BankRec Main Acct'!$E$8), Z935, 0)","v":0},0,{"$f":"IF(AND(NOT(ISBLANK($O935)), $O935<'P&L'!$P$8), AC935, 0)","v":0},{"$f":"IF(OR(ISBLANK($O935), $O935>'BankRec Main Acct'!$E$8), AC935, 0)","v":0},0,{"$f":"IF(AND(NOT(ISBLANK($S935)), $S935<'P&L'!$P$8), AF935, 0)","v":0},{"$f":"IF(OR(ISBLANK($S935), $S935>'BankRec Main Acct'!$E$8), AF935, 0)","v":0},0,{"$f":"IF(AND(NOT(ISBLANK($S935)), $S935<'P&L'!$P$8), AI935, 0)","v":0},{"$f":"IF(OR(ISBLANK($S935), $S935>'BankRec Main Acct'!$E$8), AI935, 0)","v":0},0,{"$f":"IF(AND(NOT(ISBLANK($U935)), $U935<'P&L'!$P$8), $AL935, 0)","v":0},{"$f":"IF(OR(ISBLANK($U935), $U935>'DebitCard Rec '!$E$8), $AL935, 0)","v":0},0,{"$f":"IF(AND(NOT(ISBLANK($U935)), $U935<'P&L'!$P$8), $AO935, 0)","v":0},{"$f":"IF(OR(ISBLANK($U935), $U935>'DebitCard Rec '!$E$8), $AO935, 0)","v":0},0,{"$f":"IF(AND($A935<'P&L'!$P$8, $X935='P&L'!$G$6), $AR935, 0)","v":0},0,{"$f":"IF(AND($A935<'P&L'!$P$8, $X935='P&L'!$G$6), $AT935, 0)","v":0}," "," "," "]
[null,null,null,null,null,null,null,null,null,null,null,null,null,null,null,null,null,null,null,null,null,null,"Jan-00",1900,{"$f":"IF(AND($A943<'P&L'!$P$8, YEAR($A943)=Master!$C$6), $K943, 0)","v":0},0,{"$f":"IF(AND(NOT(ISBLANK($O943)), $O943<'P&L'!$P$8), Z943, 0)","v":0},{"$f":"IF(OR(ISBLANK($O943), $O943>'BankRec Main Acct'!$E$8), Z943, 0)","v":0},0,{"$f":"IF(AND(NOT(ISBLANK($O943)), $O943<'P&L'!$P$8), AC943, 0)","v":0},{"$f":"IF(OR(ISBLANK($O943), $O943>'BankRec Main Acct'!$E$8), AC943, 0)","v":0},0,{"$f":"IF(AND(NOT(ISBLANK($S943)), $S943<'P&L'!$P$8), AF943, 0)","v":0},{"$f":"IF(OR(ISBLANK($S943), $S943>'BankRec Main Acct'!$E$8), AF943, 0)","v":0},0,{"$f":"IF(AND(NOT(ISBLANK($S943)), $S943<'P&L'!$P$8), AI943, 0)","v":0},{"$f":"IF(OR(ISBLANK($S943), $S943>'BankRec Main Acct'!$E$8), AI943, 0)","v":0},0,{"$f":"IF(AND(NOT(ISBLANK($U943)), $U943<'P&L'!$P$8), $AL943, 0)","v":0},{"$f":"IF(OR(ISBLANK($U943), $U943>'DebitCard Rec '!$E$8), $AL943, 0)","v":0},0,{"$f":"IF(AND(NOT(ISBLANK($U943)), $U943<'P&L'!$P$8), $AO943, 0)","v":0},{"$f":"IF(OR(ISBLANK($U943), $U943>'DebitCard Rec '!$E$8), $AO943, 0)","v":0},0,{"$f":"IF(AND($A943<'P&L'!$P$8, $X943='P&L'!$G$6), $AR943, 0)","v":0},0,{"$f":"IF(AND($A943<'P&L'!$P$8, $X943='P&L'!$G$6), $AT943, 0)","v":0}," "," "," "]
[null,null,null,null,null,null,null,null,null,null,null,null,null,null,null,null,null,null,null,null,null,null,"Jan-00",1900,{"$f":"IF(AND($A953<'P&L'!$P$8, YEAR($A953)=Master!$C$6), $K953, 0)","v":0},0,{"$f":"IF(AND(NOT(ISBLANK($O953)), $O953<'P&L'!$P$8), Z953, 0)","v":0},{"$f":"IF(OR(ISBLANK($O953), $O953>'BankRec Main Acct'!$E$8), Z953, 0)","v":0},0,{"$f":"IF(AND(NOT(ISBLANK($O953)), $O953<'P&L'!$P$8), AC953, 0)","v":0},{"$f":"IF(OR(ISBLANK($O953), $O953>'BankRec Main Acct'!$E$8), AC953, 0)","v":0},0,{"$f":"IF(AND(NOT(ISBLANK($S953)), $S953<'P&L'!$P$8), AF953, 0)","v":0},{"$f":"IF(OR(ISBLANK($S953), $S953>'BankRec Main Acct'!$E$8), AF953, 0)","v":0},0,{"$f":"IF(AND(NOT(ISBLANK($S953)), $S953<'P&L'!$P$8), AI953, 0)","v":0},{"$f":"IF(OR(ISBLANK($S953), $S953>'BankRec Main Acct'!$E$8), AI953, 0)","v":0},0,{"$f":"IF(AND(NOT(ISBLANK($U953)), $U953<'P&L'!$P$8), $AL953, 0)","v":0},{"$f":"IF(OR(ISBLANK($U953), $U953>'DebitCard Rec '!$E$8), $AL953, 0)","v":0},0,{"$f":"IF(AND(NOT(ISBLANK($U953)), $U953<'P&L'!$P$8), $AO953, 0)","v":0},{"$f":"IF(OR(ISBLANK($U953), $U953>'DebitCard Rec '!$E$8), $AO953, 0)","v":0},0,{"$f":"IF(AND($A953<'P&L'!$P$8, $X953='P&L'!$G$6), $AR953, 0)","v":0},0,{"$f":"IF(AND($A953<'P&L'!$P$8, $X953='P&L'!$G$6), $AT953, 0)","v":0}," "," "," "]
[null,null,null,null,null,null,null,null,null,null,null,null,null,null,null,null,null,null,null,null,null,null,"Jan-00",1900,{"$f":"IF(AND($A965<'P&L'!$P$8, YEAR($A965)=Master!$C$6), $K965, 0)","v":0},{"$f":"IF(AND($C965=\"Receipt\",$B965<>\"debit card\",$B965<>\"petty cash\",$B965<>\"Cash_Sub\",$B965<>\"Cheque_Sub\", $B965<>\"EFT_Sub\"),$K965,0)","v":0},{"$f":"IF(AND(NOT(ISBLANK($O965)), $O965<'P&L'!$P$8), Z965, 0)","v":0},{"$f":"IF(OR(ISBLANK($O965), $O965>'BankRec Main Acct'!$E$8), Z965, 0)","v":0},{"$f":"IF(AND($C965=\"Payment\", $B965<>\"debit card\", $B965<>\"petty cash\", $B965<>\"Cash_Sub\", $B965<>\"Cheque_Sub\", $B965<>\"EFT_Sub\"), $K965, 0)","v":0},{"$f":"IF(AND(NOT(ISBLANK($O965)), $O965<'P&L'!$P$8), AC965, 0)","v":0},{"$f":"IF(OR(ISBLANK($O965), $O965>'BankRec Main Acct'!$E$8), AC965, 0)","v":0},{"$f":"IF(AND($C965=\"Receipt\",$B965<>\"debit card\",$B965<>\"petty cash\",$B965<>\"Cash_Main\",$B965<>\"Cheque_Main\", $B965<>\"EFT_Main\"),$K965,0)","v":0},{"$f":"IF(AND(NOT(ISBLANK($S965)), $S965<'P&L'!$P$8), AF965, 0)","v":0},{"$f":"IF(OR(ISBLANK($S965), $S965>'BankRec Main Acct'!$E$8), AF965, 0)","v":0},{"$f":"IF(AND($C965=\"Payment\", $B965<>\"debit card\", $B965<>\"petty cash\", $B965<>\"Cash_Main\", $B965<>\"Cheque_Main\", $B965<>\"EFT_Main\"), $K965, 0)","v":0},{"$f":"IF(AND(NOT(ISBLANK($S965)), $S965<'P&L'!$P$8), AI965, 0)","v":0},{"$f":"IF(OR(ISBLANK($S965), $S965>'BankRec Main Acct'!$E$8), AI965, 0)","v":0},0,{"$f":"IF(AND(NOT(ISBLANK($U965)), $U965<'P&L'!$P$8), $AL965, 0)","v":0},{"$f":"IF(OR(ISBLANK($U965), $U965>'DebitCard Rec '!$E$8), $AL965, 0)","v":0},0,{"$f":"IF(AND(NOT(ISBLANK($U965)), $U965<'P&L'!$P$8), $AO965, 0)","v":0},{"$f":"IF(OR(ISBLANK($U965), $U965>'DebitCard Rec '!$E$8), $AO965, 0)","v":0},0,{"$f":"IF(AND($A965<'P&L'!$P$8, $X965='P&L'!$G$6), $AR965, 0)","v":0},0,{"$f":"IF(AND($A965<'P&L'!$P$8, $X965='P&L'!$G$6), $AT965, 0)","v":0}," "," "," "]
[null,null,null,null,null,null,null,null,null,null,null,null,null,null,null,null,null,null,null,null,null,null,"Jan-00",1900,{"$f":"IF(AND($A972<'P&L'!$P$8, YEAR($A972)=Master!$C$6), $K972, 0)","v":0},0,{"$f":"IF(AND(NOT(ISBLANK($O972)), $O972<'P&L'!$P$8), Z972, 0)","v":0},{"$f":"IF(OR(ISBLANK($O972), $O972>'BankRec Main Acct'!$E$8), Z972, 0)","v":0},0,{"$f":"IF(AND(NOT(ISBLANK($O972)), $O972<'P&L'!$P$8), AC972, 0)","v":0},{"$f":"IF(OR(ISBLANK($O972), $O972>'BankRec Main Acct'!$E$8), AC972, 0)","v":0},0,{"$f":"IF(AND(NOT(ISBLANK($S972)), $S972<'P&L'!$P$8), AF972, 0)","v":0},{"$f":"IF(OR(ISBLANK($S972), $S972>'BankRec Main Acct'!$E$8), AF972, 0)","v":0},0,{"$f":"IF(AND(NOT(ISBLANK($S972)), $S972<'P&L'!$P$8), AI972, 0)","v":0},{"$f":"IF(OR(ISBLANK($S972), $S972>'BankRec Main Acct'!$E$8), AI972, 0)","v":0},0,{"$f":"IF(AND(NOT(ISBLANK($U972)), $U972<'P&L'!$P$8), $AL972, 0)","v":0},{"$f":"IF(OR(ISBLANK($U972), $U972>'DebitCard Rec '!$E$8), $AL972, 0)","v":0},0,{"$f":"IF(AND(NOT(ISBLANK($U972)), $U972<'P&L'!$P$8), $AO972, 0)","v":0},{"$f":"IF(OR(ISBLANK($U972), $U972>'DebitCard Rec '!$E$8), $AO972, 0)","v":0},0,{"$f":"IF(AND($A972<'P&L'!$P$8, $X972='P&L'!$G$6), $AR972, 0)","v":0},0,{"$f":"IF(AND($A972<'P&L'!$P$8, $X972='P&L'!$G$6), $AT972, 0)","v":0}," "," "," "]
[null,null,null,null,null,null,null,null,null,null,null,null,null,null,null,null,null,null,null,null,null,null,"Jan-00",1900,{"$f":"IF(AND($A975<'P&L'!$P$8, YEAR($A975)=Master!$C$6), $K975, 0)","v":0},0,{"$f":"IF(AND(NOT(ISBLANK($O975)), $O975<'P&L'!$P$8), Z975, 0)","v":0},{"$f":"IF(OR(ISBLANK($O975), $O975>'BankRec Main Acct'!$E$8), Z975, 0)","v":0},0,{"$f":"IF(AND(NOT(ISBLANK($O975)), $O975<'P&L'!$P$8), AC975, 0)","v":0},{"$f":"IF(OR(ISBLANK($O975), $O975>'BankRec Main Acct'!$E$8), AC975, 0)","v":0},0,{"$f":"IF(AND(NOT(ISBLANK($S975)), $S975<'P&L'!$P$8), AF975, 0)","v":0},{"$f":"IF(OR(ISBLANK($S975), $S975>'BankRec Main Acct'!$E$8), AF975, 0)","v":0},0,{"$f":"IF(AND(NOT(ISBLANK($S975)), $S975<'P&L'!$P$8), AI975, 0)","v":0},{"$f":"IF(OR(ISBLANK($S975), $S975>'BankRec Main Acct'!$E$8), AI975, 0)","v":0},0,{"$f":"IF(AND(NOT(ISBLANK($U975)), $U975<'P&L'!$P$8), $AL975, 0)","v":0},{"$f":"IF(OR(ISBLANK($U975), $U975>'DebitCard Rec '!$E$8), $AL975, 0)","v":0},0,{"$f":"IF(AND(NOT(ISBLANK($U975)), $U975<'P&L'!$P$8), $AO975, 0)","v":0},{"$f":"IF(OR(ISBLANK($U975), $U975>'DebitCard Rec '!$E$8), $AO975, 0)","v":0},0,{"$f":"IF(AND($A975<'P&L'!$P$8, $X975='P&L'!$G$6), $AR975, 0)","v":0},0,{"$f":"IF(AND($A975<'P&L'!$P$8, $X975='P&L'!$G$6), $AT975, 0)","v":0}," "," "," "]
[null,null,null,null,null,null,null,null,null,null,null,null,null,null,null,null,null,null,null,null,null,null,"Jan-00",1900,{"$f":"IF(AND($A984<'P&L'!$P$8, YEAR($A984)=Master!$C$6), $K984, 0)","v":0},0,{"$f":"IF(AND(NOT(ISBLANK($O984)), $O984<'P&L'!$P$8), Z984, 0)","v":0},{"$f":"IF(OR(ISBLANK($O984), $O984>'BankRec Main Acct'!$E$8), Z984, 0)","v":0},0,{"$f":"IF(AND(NOT(ISBLANK($O984)), $O984<'P&L'!$P$8), AC984, 0)","v":0},{"$f":"IF(OR(ISBLANK($O984), $O984>'BankRec Main Acct'!$E$8), AC984, 0)","v":0},0,{"$f":"IF(AND(NOT(ISBLANK($S984)), $S984<'P&L'!$P$8), AF984, 0)","v":0},{"$f":"IF(OR(ISBLANK($S984), $S984>'BankRec Main Acct'!$E$8), AF984, 0)","v":0},0,{"$f":"IF(AND(NOT(ISBLANK($S984)), $S984<'P&L'!$P$8), AI984, 0)","v":0},{"$f":"IF(OR(ISBLANK($S984), $S984>'BankRec Main Acct'!$E$8), AI984, 0)","v":0},0,{"$f":"IF(AND(NOT(ISBLANK($U984)), $U984<'P&L'!$P$8), $AL984, 0)","v":0},{"$f":"IF(OR(ISBLANK($U984), $U984>'DebitCard Rec '!$E$8), $AL984, 0)","v":0},0,{"$f":"IF(AND(NOT(ISBLANK($U984)), $U984<'P&L'!$P$8), $AO984, 0)","v":0},{"$f":"IF(OR(ISBLANK($U984), $U984>'DebitCard Rec '!$E$8), $AO984, 0)","v":0},0,{"$f":"IF(AND($A984<'P&L'!$P$8, $X984='P&L'!$G$6), $AR984, 0)","v":0},0,{"$f":"IF(AND($A984<'P&L'!$P$8, $X984='P&L'!$G$6), $AT984, 0)","v":0}," "," "," "]
[null,null,null,null,null,null,null,null,null,null,null,null,null,null,null,null,null,null,null,null,null,null,"Jan-00",1900,{"$f":"IF(AND($A993<'P&L'!$P$8, YEAR($A993)=Master!$C$6), $K993, 0)","v":0},0,{"$f":"IF(AND(NOT(ISBLANK($O993)), $O993<'P&L'!$P$8), Z993, 0)","v":0},{"$f":"IF(OR(ISBLANK($O993), $O993>'BankRec Main Acct'!$E$8), Z993, 0)","v":0},0,{"$f":"IF(AND(NOT(ISBLANK($O993)), $O993<'P&L'!$P$8), AC993, 0)","v":0},{"$f":"IF(OR(ISBLANK($O993), $O993>'BankRec Main Acct'!$E$8), AC993, 0)","v":0},0,{"$f":"IF(AND(NOT(ISBLANK($S993)), $S993<'P&L'!$P$8), AF993, 0)","v":0},{"$f":"IF(OR(ISBLANK($S993), $S993>'BankRec Main Acct'!$E$8), AF993, 0)","v":0},0,{"$f":"IF(AND(NOT(ISBLANK($S993)), $S993<'P&L'!$P$8), AI993, 0)","v":0},{"$f":"IF(OR(ISBLANK($S993), $S993>'BankRec Main Acct'!$E$8), AI993, 0)","v":0},0,{"$f":"IF(AND(NOT(ISBLANK($U993)), $U993<'P&L'!$P$8), $AL993, 0)","v":0},{"$f":"IF(OR(ISBLANK($U993), $U993>'DebitCard Rec '!$E$8), $AL993, 0)","v":0},0,{"$f":"IF(AND(NOT(ISBLANK($U993)), $U993<'P&L'!$P$8), $AO993, 0)","v":0},{"$f":"IF(OR(ISBLANK($U993), $U993>'DebitCard Rec '!$E$8), $AO993, 0)","v":0},0,{"$f":"IF(AND($A993<'P&L'!$P$8, $X993='P&L'!$G$6), $AR993, 0)","v":0},0,{"$f":"IF(AND($A993<'P&L'!$P$8, $X993='P&L'!$G$6), $AT993, 0)","v":0}," "," "," "]
[null,null,null,null,null,null,null,null,null,null,null,null,null,null,null,null,null,null,null,null,null,null,"Jan-00",1900,{"$f":"IF(AND($A1005<'P&L'!$P$8, YEAR($A1005)=Master!$C$6), $K1005, 0)","v":0},0,{"$f":"IF(AND(NOT(ISBLANK($O1005)), $O1005<'P&L'!$P$8), Z1005, 0)","v":0},{"$f":"IF(OR(ISBLANK($O1005), $O1005>'BankRec Main Acct'!$E$8), Z1005, 0)","v":0},0,{"$f":"IF(AND(NOT(ISBLANK($O1005)), $O1005<'P&L'!$P$8), AC1005, 0)","v":0},{"$f":"IF(OR(ISBLANK($O1005), $O1005>'BankRec Main Acct'!$E$8), AC1005, 0)","v":0},0,{"$f":"IF(AND(NOT(ISBLANK($S1005)), $S1005<'P&L'!$P$8), AF1005, 0)","v":0},{"$f":"IF(OR(ISBLANK($S1005), $S1005>'BankRec Main Acct'!$E$8), AF1005, 0)","v":0},0,{"$f":"IF(AND(NOT(ISBLANK($S1005)), $S1005<'P&L'!$P$8), AI1005, 0)","v":0},{"$f":"IF(OR(ISBLANK($S1005), $S1005>'BankRec Main Acct'!$E$8), AI1005, 0)","v":0},0,{"$f":"IF(AND(NOT(ISBLANK($U1005)), $U1005<'P&L'!$P$8), $AL1005, 0)","v":0},{"$f":"IF(OR(ISBLANK($U1005), $U1005>'DebitCard Rec '!$E$8), $AL1005, 0)","v":0},0,{"$f":"IF(AND(NOT(ISBLANK($U1005)), $U1005<'P&L'!$P$8), $AO1005, 0)","v":0},{"$f":"IF(OR(ISBLANK($U1005), $U1005>'DebitCard Rec '!$E$8), $AO1005, 0)","v":0},0,{"$f":"IF(AND($A1005<'P&L'!$P$8, $X1005='P&L'!$G$6), $AR1005, 0)","v":0},0,{"$f":"IF(AND($A1005<'P&L'!$P$8, $X1005='P&L'!$G$6), $AT1005, 0)","v":0}," "," "," "]
[null,null,null,null,null,null,null,null,null,null,null,null,null,null,null,null,null,null,null,null,null,null,"Jan-00",1900,{"$f":"IF(AND($A1012<'P&L'!$P$8, YEAR($A1012)=Master!$C$6), $K1012, 0)","v":0},0,{"$f":"IF(AND(NOT(ISBLANK($O1012)), $O1012<'P&L'!$P$8), Z1012, 0)","v":0},{"$f":"IF(OR(ISBLANK($O1012), $O1012>'BankRec Main Acct'!$E$8), Z1012, 0)","v":0},0,{"$f":"IF(AND(NOT(ISBLANK($O1012)), $O1012<'P&L'!$P$8), AC1012, 0)","v":0},{"$f":"IF(OR(ISBLANK($O1012), $O1012>'BankRec Main Acct'!$E$8), AC1012, 0)","v":0},0,{"$f":"IF(AND(NOT(ISBLANK($S1012)), $S1012<'P&L'!$P$8), AF1012, 0)","v":0},{"$f":"IF(OR(ISBLANK($S1012), $S1012>'BankRec Main Acct'!$E$8), AF1012, 0)","v":0},0,{"$f":"IF(AND(NOT(ISBLANK($S1012)), $S1012<'P&L'!$P$8), AI1012, 0)","v":0},{"$f":"IF(OR(ISBLANK($S1012), $S1012>'BankRec Main Acct'!$E$8), AI1012, 0)","v":0},0,{"$f":"IF(AND(NOT(ISBLANK($U1012)), $U1012<'P&L'!$P$8), $AL1012, 0)","v":0},{"$f":"IF(OR(ISBLANK($U1012), $U1012>'DebitCard Rec '!$E$8), $AL1012, 0)","v":0},0,{"$f":"IF(AND(NOT(ISBLANK($U1012)), $U1012<'P&L'!$P$8), $AO1012, 0)","v":0},{"$f":"IF(OR(ISBLANK($U1012), $U1012>'DebitCard Rec '!$E$8), $AO1012, 0)","v":0},0,{"$f":"IF(AND($A1012<'P&L'!$P$8, $X1012='P&L'!$G$6), $AR1012, 0)","v":0},0,{"$f":"IF(AND($A1012<'P&L'!$P$8, $X1012='P&L'!$G$6), $AT1012, 0)","v":0}," "," "," "]
[null,null,null,null,null,null,null,null,null,null,null,null,null,null,null,null,null,null,null,null,null,null,"Jan-00",1900,{"$f":"IF(AND($A1023<'P&L'!$P$8, YEAR($A1023)=Master!$C$6), $K1023, 0)","v":0},0,{"$f":"IF(AND(NOT(ISBLANK($O1023)), $O1023<'P&L'!$P$8), Z1023, 0)","v":0},{"$f":"IF(OR(ISBLANK($O1023), $O1023>'BankRec Main Acct'!$E$8), Z1023, 0)","v":0},0,{"$f":"IF(AND(NOT(ISBLANK($O1023)), $O1023<'P&L'!$P$8), AC1023, 0)","v":0},{"$f":"IF(OR(ISBLANK($O1023), $O1023>'BankRec Main Acct'!$E$8), AC1023, 0)","v":0},0,{"$f":"IF(AND(NOT(ISBLANK($S1023)), $S1023<'P&L'!$P$8), AF1023, 0)","v":0},{"$f":"IF(OR(ISBLANK($S1023), $S1023>'BankRec Main Acct'!$E$8), AF1023, 0)","v":0},0,{"$f":"IF(AND(NOT(ISBLANK($S1023)), $S1023<'P&L'!$P$8), AI1023, 0)","v":0},{"$f":"IF(OR(ISBLANK($S1023), $S1023>'BankRec Main Acct'!$E$8), AI1023, 0)","v":0},0,{"$f":"IF(AND(NOT(ISBLANK($U1023)), $U1023<'P&L'!$P$8), $AL1023, 0)","v":0},{"$f":"IF(OR(ISBLANK($U1023), $U1023>'DebitCard Rec '!$E$8), $AL1023, 0)","v":0},0,{"$f":"IF(AND(NOT(ISBLANK($U1023)), $U1023<'P&L'!$P$8), $AO1023, 0)","v":0},{"$f":"IF(OR(ISBLANK($U1023), $U1023>'DebitCard Rec '!$E$8), $AO1023, 0)","v":0},0,{"$f":"IF(AND($A1023<'P&L'!$P$8, $X1023='P&L'!$G$6), $AR1023, 0)","v":0},0,{"$f":"IF(AND($A1023<'P&L'!$P$8, $X1023='P&L'!$G$6), $AT1023, 0)","v":0}," "," "," "]
[null,null,null,null,null,null,null,null,null,null,null,null,null,null,null,null,null,null,null,null,null,null,"Jan-00",1900,{"$f":"IF(AND($A1035<'P&L'!$P$8, YEAR($A1035)=Master!$C$6), $K1035, 0)","v":0},0,{"$f":"IF(AND(NOT(ISBLANK($O1035)), $O1035<'P&L'!$P$8), Z1035, 0)","v":0},{"$f":"IF(OR(ISBLANK($O1035), $O1035>'BankRec Main Acct'!$E$8), Z1035, 0)","v":0},0,{"$f":"IF(AND(NOT(ISBLANK($O1035)), $O1035<'P&L'!$P$8), AC1035, 0)","v":0},{"$f":"IF(OR(ISBLANK($O1035), $O1035>'BankRec Main Acct'!$E$8), AC1035, 0)","v":0},0,{"$f":"IF(AND(NOT(ISBLANK($S1035)), $S1035<'P&L'!$P$8), AF1035, 0)","v":0},{"$f":"IF(OR(ISBLANK($S1035), $S1035>'BankRec Main Acct'!$E$8), AF1035, 0)","v":0},0,{"$f":"IF(AND(NOT(ISBLANK($S1035)), $S1035<'P&L'!$P$8), AI1035, 0)","v":0},{"$f":"IF(OR(ISBLANK($S1035), $S1035>'BankRec Main Acct'!$E$8), AI1035, 0)","v":0},0,{"$f":"IF(AND(NOT(ISBLANK($U1035)), $U1035<'P&L'!$P$8), $AL1035, 0)","v":0},{"$f":"IF(OR(ISBLANK($U1035), $U1035>'DebitCard Rec '!$E$8), $AL1035, 0)","v":0},0,{"$f":"IF(AND(NOT(ISBLANK($U1035)), $U1035<'P&L'!$P$8), $AO1035, 0)","v":0},{"$f":"IF(OR(ISBLANK($U1035), $U1035>'DebitCard Rec '!$E$8), $AO1035, 0)","v":0},0,{"$f":"IF(AND($A1035<'P&L'!$P$8, $X1035='P&L'!$G$6), $AR1035, 0)","v":0},0,{"$f":"IF(AND($A1035<'P&L'!$P$8, $X1035='P&L'!$G$6), $AT1035, 0)","v":0},{"$f":"CONCATENATE(B1035,\" \",C1035)","v":" "}," "," "]
[null,null,null,null,null,null,null,null,null,null,null,null,null,null,null,null,null,null,null,null,null,null,"Jan-00",1900,{"$f":"IF(AND($A1042<'P&L'!$P$8, YEAR($A1042)=Master!$C$6), $K1042, 0)","v":0},0,{"$f":"IF(AND(NOT(ISBLANK($O1042)), $O1042<'P&L'!$P$8), Z1042, 0)","v":0},{"$f":"IF(OR(ISBLANK($O1042), $O1042>'BankRec Main Acct'!$E$8), Z1042, 0)","v":0},0,{"$f":"IF(AND(NOT(ISBLANK($O1042)), $O1042<'P&L'!$P$8), AC1042, 0)","v":0},{"$f":"IF(OR(ISBLANK($O1042), $O1042>'BankRec Main Acct'!$E$8), AC1042, 0)","v":0},0,{"$f":"IF(AND(NOT(ISBLANK($S1042)), $S1042<'P&L'!$P$8), AF1042, 0)","v":0},{"$f":"IF(OR(ISBLANK($S1042), $S1042>'BankRec Main Acct'!$E$8), AF1042, 0)","v":0},0,{"$f":"IF(AND(NOT(ISBLANK($S1042)), $S1042<'P&L'!$P$8), AI1042, 0)","v":0},{"$f":"IF(OR(ISBLANK($S1042), $S1042>'BankRec Main Acct'!$E$8), AI1042, 0)","v":0},0,{"$f":"IF(AND(NOT(ISBLANK($U1042)), $U1042<'P&L'!$P$8), $AL1042, 0)","v":0},{"$f":"IF(OR(ISBLANK($U1042), $U1042>'DebitCard Rec '!$E$8), $AL1042, 0)","v":0},0,{"$f":"IF(AND(NOT(ISBLANK($U1042)), $U1042<'P&L'!$P$8), $AO1042, 0)","v":0},{"$f":"IF(OR(ISBLANK($U1042), $U1042>'DebitCard Rec '!$E$8), $AO1042, 0)","v":0},0,{"$f":"IF(AND($A1042<'P&L'!$P$8, $X1042='P&L'!$G$6), $AR1042, 0)","v":0},0,{"$f":"IF(AND($A1042<'P&L'!$P$8, $X1042='P&L'!$G$6), $AT1042, 0)","v":0}," "," "," "]
[null,null,null,null,null,null,null,null,null,null,null,null,null,null,null,null,null,null,null,null,null,null,"Jan-00",1900,{"$f":"IF(AND($A1045<'P&L'!$P$8, YEAR($A1045)=Master!$C$6), $K1045, 0)","v":0},0,{"$f":"IF(AND(NOT(ISBLANK($O1045)), $O1045<'P&L'!$P$8), Z1045, 0)","v":0},{"$f":"IF(OR(ISBLANK($O1045), $O1045>'BankRec Main Acct'!$E$8), Z1045, 0)","v":0},0,{"$f":"IF(AND(NOT(ISBLANK($O1045)), $O1045<'P&L'!$P$8), AC1045, 0)","v":0},{"$f":"IF(OR(ISBLANK($O1045), $O1045>'BankRec Main Acct'!$E$8), AC1045, 0)","v":0},0,{"$f":"IF(AND(NOT(ISBLANK($S1045)), $S1045<'P&L'!$P$8), AF1045, 0)","v":0},{"$f":"IF(OR(ISBLANK($S1045), $S1045>'BankRec Main Acct'!$E$8), AF1045, 0)","v":0},0,{"$f":"IF(AND(NOT(ISBLANK($S1045)), $S1045<'P&L'!$P$8), AI1045, 0)","v":0},{"$f":"IF(OR(ISBLANK($S1045), $S1045>'BankRec Main Acct'!$E$8), AI1045, 0)","v":0},0,{"$f":"IF(AND(NOT(ISBLANK($U1045)), $U1045<'P&L'!$P$8), $AL1045, 0)","v":0},{"$f":"IF(OR(ISBLANK($U1045), $U1045>'DebitCard Rec '!$E$8), $AL1045, 0)","v":0},0,{"$f":"IF(AND(NOT(ISBLANK($U1045)), $U1045<'P&L'!$P$8), $AO1045, 0)","v":0},{"$f":"IF(OR(ISBLANK($U1045), $U1045>'DebitCard Rec '!$E$8), $AO1045, 0)","v":0},0,{"$f":"IF(AND($A1045<'P&L'!$P$8, $X1045='P&L'!$G$6), $AR1045, 0)","v":0},0,{"$f":"IF(AND($A1045<'P&L'!$P$8, $X1045='P&L'!$G$6), $AT1045, 0)","v":0}," "," "," "]
[null,null,null,null,null,null,null,null,null,null,null,null,null,null,null,null,null,null,null,null,null,null,"Jan-00",1900,{"$f":"IF(AND($A1061<'P&L'!$P$8, YEAR($A1061)=Master!$C$6), $K1061, 0)","v":0},0,{"$f":"IF(AND(NOT(ISBLANK($O1061)), $O1061<'P&L'!$P$8), Z1061, 0)","v":0},{"$f":"IF(OR(ISBLANK($O1061), $O1061>'BankRec Main Acct'!$E$8), Z1061, 0)","v":0},0,{"$f":"IF(AND(NOT(ISBLANK($O1061)), $O1061<'P&L'!$P$8), AC1061, 0)","v":0},{"$f":"IF(OR(ISBLANK($O1061), $O1061>'BankRec Main Acct'!$E$8), AC1061, 0)","v":0},0,{"$f":"IF(AND(NOT(ISBLANK($S1061)), $S1061<'P&L'!$P$8), AF1061, 0)","v":0},{"$f":"IF(OR(ISBLANK($S1061), $S1061>'BankRec Main Acct'!$E$8), AF1061, 0)","v":0},0,{"$f":"IF(AND(NOT(ISBLANK($S1061)), $S1061<'P&L'!$P$8), AI1061, 0)","v":0},{"$f":"IF(OR(ISBLANK($S1061), $S1061>'BankRec Main Acct'!$E$8), AI1061, 0)","v":0},0,{"$f":"IF(AND(NOT(ISBLANK($U1061)), $U1061<'P&L'!$P$8), $AL1061, 0)","v":0},{"$f":"IF(OR(ISBLANK($U1061), $U1061>'DebitCard Rec '!$E$8), $AL1061, 0)","v":0},0,{"$f":"IF(AND(NOT(ISBLANK($U1061)), $U1061<'P&L'!$P$8), $AO1061, 0)","v":0},{"$f":"IF(OR(ISBLANK($U1061), $U1061>'DebitCard Rec '!$E$8), $AO1061, 0)","v":0},0,{"$f":"IF(AND($A1061<'P&L'!$P$8, $X1061='P&L'!$G$6), $AR1061, 0)","v":0},0,{"$f":"IF(AND($A1061<'P&L'!$P$8, $X1061='P&L'!$G$6), $AT1061, 0)","v":0}," "," "," "]
[null,null,null,null,null,null,null,null,null,null,null,null,null,null,null,null,null,null,null,null,null,null,"Jan-00",1900,{"$f":"IF(AND($A1064<'P&L'!$P$8, YEAR($A1064)=Master!$C$6), $K1064, 0)","v":0},0,{"$f":"IF(AND(NOT(ISBLANK($O1064)), $O1064<'P&L'!$P$8), Z1064, 0)","v":0},{"$f":"IF(OR(ISBLANK($O1064), $O1064>'BankRec Main Acct'!$E$8), Z1064, 0)","v":0},0,{"$f":"IF(AND(NOT(ISBLANK($O1064)), $O1064<'P&L'!$P$8), AC1064, 0)","v":0},{"$f":"IF(OR(ISBLANK($O1064), $O1064>'BankRec Main Acct'!$E$8), AC1064, 0)","v":0},0,{"$f":"IF(AND(NOT(ISBLANK($S1064)), $S1064<'P&L'!$P$8), AF1064, 0)","v":0},{"$f":"IF(OR(ISBLANK($S1064), $S1064>'BankRec Main Acct'!$E$8), AF1064, 0)","v":0},0,{"$f":"IF(AND(NOT(ISBLANK($S1064)), $S1064<'P&L'!$P$8), AI1064, 0)","v":0},{"$f":"IF(OR(ISBLANK($S1064), $S1064>'BankRec Main Acct'!$E$8), AI1064, 0)","v":0},0,{"$f":"IF(AND(NOT(ISBLANK($U1064)), $U1064<'P&L'!$P$8), $AL1064, 0)","v":0},{"$f":"IF(OR(ISBLANK($U1064), $U1064>'DebitCard Rec '!$E$8), $AL1064, 0)","v":0},0,{"$f":"IF(AND(NOT(ISBLANK($U1064)), $U1064<'P&L'!$P$8), $AO1064, 0)","v":0},{"$f":"IF(OR(ISBLANK($U1064), $U1064>'DebitCard Rec '!$E$8), $AO1064, 0)","v":0},0,{"$f":"IF(AND($A1064<'P&L'!$P$8, $X1064='P&L'!$G$6), $AR1064, 0)","v":0},0,{"$f":"IF(AND($A1064<'P&L'!$P$8, $X1064='P&L'!$G$6), $AT1064, 0)","v":0}," "," "," "]
[null,null,null,null,null,null,null,null,null,null,null,null,null,null,null,null,null,null,null,null,null,null,"Jan-00",1900,{"$f":"IF(AND($A1075<'P&L'!$P$8, YEAR($A1075)=Master!$C$6), $K1075, 0)","v":0},0,{"$f":"IF(AND(NOT(ISBLANK($O1075)), $O1075<'P&L'!$P$8), Z1075, 0)","v":0},{"$f":"IF(OR(ISBLANK($O1075), $O1075>'BankRec Main Acct'!$E$8), Z1075, 0)","v":0},0,{"$f":"IF(AND(NOT(ISBLANK($O1075)), $O1075<'P&L'!$P$8), AC1075, 0)","v":0},{"$f":"IF(OR(ISBLANK($O1075), $O1075>'BankRec Main Acct'!$E$8), AC1075, 0)","v":0},0,{"$f":"IF(AND(NOT(ISBLANK($S1075)), $S1075<'P&L'!$P$8), AF1075, 0)","v":0},{"$f":"IF(OR(ISBLANK($S1075), $S1075>'BankRec Main Acct'!$E$8), AF1075, 0)","v":0},0,{"$f":"IF(AND(NOT(ISBLANK($S1075)), $S1075<'P&L'!$P$8), AI1075, 0)","v":0},{"$f":"IF(OR(ISBLANK($S1075), $S1075>'BankRec Main Acct'!$E$8), AI1075, 0)","v":0},0,{"$f":"IF(AND(NOT(ISBLANK($U1075)), $U1075<'P&L'!$P$8), $AL1075, 0)","v":0},{"$f":"IF(OR(ISBLANK($U1075), $U1075>'DebitCard Rec '!$E$8), $AL1075, 0)","v":0},0,{"$f":"IF(AND(NOT(ISBLANK($U1075)), $U1075<'P&L'!$P$8), $AO1075, 0)","v":0},{"$f":"IF(OR(ISBLANK($U1075), $U1075>'DebitCard Rec '!$E$8), $AO1075, 0)","v":0},0,{"$f":"IF(AND($A1075<'P&L'!$P$8, $X1075='P&L'!$G$6), $AR1075, 0)","v":0},0,{"$f":"IF(AND($A1075<'P&L'!$P$8, $X1075='P&L'!$G$6), $AT1075, 0)","v":0}," "," "," "]
[null,null,null,null,null,null,null,null,null,null,null,null,null,null,null,null,null,null,null,null,null,null,"Jan-00",1900,{"$f":"IF(AND($A1082<'P&L'!$P$8, YEAR($A1082)=Master!$C$6), $K1082, 0)","v":0},0,{"$f":"IF(AND(NOT(ISBLANK($O1082)), $O1082<'P&L'!$P$8), Z1082, 0)","v":0},{"$f":"IF(OR(ISBLANK($O1082), $O1082>'BankRec Main Acct'!$E$8), Z1082, 0)","v":0},0,{"$f":"IF(AND(NOT(ISBLANK($O1082)), $O1082<'P&L'!$P$8), AC1082, 0)","v":0},{"$f":"IF(OR(ISBLANK($O1082), $O1082>'BankRec Main Acct'!$E$8), AC1082, 0)","v":0},0,{"$f":"IF(AND(NOT(ISBLANK($S1082)), $S1082<'P&L'!$P$8), AF1082, 0)","v":0},{"$f":"IF(OR(ISBLANK($S1082), $S1082>'BankRec Main Acct'!$E$8), AF1082, 0)","v":0},0,{"$f":"IF(AND(NOT(ISBLANK($S1082)), $S1082<'P&L'!$P$8), AI1082, 0)","v":0},{"$f":"IF(OR(ISBLANK($S1082), $S1082>'BankRec Main Acct'!$E$8), AI1082, 0)","v":0},0,{"$f":"IF(AND(NOT(ISBLANK($U1082)), $U1082<'P&L'!$P$8), $AL1082, 0)","v":0},{"$f":"IF(OR(ISBLANK($U1082), $U1082>'DebitCard Rec '!$E$8), $AL1082, 0)","v":0},0,{"$f":"IF(AND(NOT(ISBLANK($U1082)), $U1082<'P&L'!$P$8), $AO1082, 0)","v":0},{"$f":"IF(OR(ISBLANK($U1082), $U1082>'DebitCard Rec '!$E$8), $AO1082, 0)","v":0},0,{"$f":"IF(AND($A1082<'P&L'!$P$8, $X1082='P&L'!$G$6), $AR1082, 0)","v":0},0,{"$f":"IF(AND($A1082<'P&L'!$P$8, $X1082='P&L'!$G$6), $AT1082, 0)","v":0}," "," "," "]
[null,null,null,null,null,null,null,null,null,null,null,null,null,null,null,null,null,null,null,null,null,null,"Jan-00",1900,{"$f":"IF(AND($A1094<'P&L'!$P$8, YEAR($A1094)=Master!$C$6), $K1094, 0)","v":0},0,{"$f":"IF(AND(NOT(ISBLANK($O1094)), $O1094<'P&L'!$P$8), Z1094, 0)","v":0},{"$f":"IF(OR(ISBLANK($O1094), $O1094>'BankRec Main Acct'!$E$8), Z1094, 0)","v":0},0,{"$f":"IF(AND(NOT(ISBLANK($O1094)), $O1094<'P&L'!$P$8), AC1094, 0)","v":0},{"$f":"IF(OR(ISBLANK($O1094), $O1094>'BankRec Main Acct'!$E$8), AC1094, 0)","v":0},0,{"$f":"IF(AND(NOT(ISBLANK($S1094)), $S1094<'P&L'!$P$8), AF1094, 0)","v":0},{"$f":"IF(OR(ISBLANK($S1094), $S1094>'BankRec Main Acct'!$E$8), AF1094, 0)","v":0},0,{"$f":"IF(AND(NOT(ISBLANK($S1094)), $S1094<'P&L'!$P$8), AI1094, 0)","v":0},{"$f":"IF(OR(ISBLANK($S1094), $S1094>'BankRec Main Acct'!$E$8), AI1094, 0)","v":0},0,{"$f":"IF(AND(NOT(ISBLANK($U1094)), $U1094<'P&L'!$P$8), $AL1094, 0)","v":0},{"$f":"IF(OR(ISBLANK($U1094), $U1094>'DebitCard Rec '!$E$8), $AL1094, 0)","v":0},0,{"$f":"IF(AND(NOT(ISBLANK($U1094)), $U1094<'P&L'!$P$8), $AO1094, 0)","v":0},{"$f":"IF(OR(ISBLANK($U1094), $U1094>'DebitCard Rec '!$E$8), $AO1094, 0)","v":0},0,{"$f":"IF(AND($A1094<'P&L'!$P$8, $X1094='P&L'!$G$6), $AR1094, 0)","v":0},0,{"$f":"IF(AND($A1094<'P&L'!$P$8, $X1094='P&L'!$G$6), $AT1094, 0)","v":0}," "," "," "]
[null,null,null,null,null,null,null,null,null,null,null,null,null,null,null,null,null,null,null,null,null,null,"Jan-00",1900,{"$f":"IF(AND($A1103<'P&L'!$P$8, YEAR($A1103)=Master!$C$6), $K1103, 0)","v":0},0,{"$f":"IF(AND(NOT(ISBLANK($O1103)), $O1103<'P&L'!$P$8), Z1103, 0)","v":0},{"$f":"IF(OR(ISBLANK($O1103), $O1103>'BankRec Main Acct'!$E$8), Z1103, 0)","v":0},0,{"$f":"IF(AND(NOT(ISBLANK($O1103)), $O1103<'P&L'!$P$8), AC1103, 0)","v":0},{"$f":"IF(OR(ISBLANK($O1103), $O1103>'BankRec Main Acct'!$E$8), AC1103, 0)","v":0},0,{"$f":"IF(AND(NOT(ISBLANK($S1103)), $S1103<'P&L'!$P$8), AF1103, 0)","v":0},{"$f":"IF(OR(ISBLANK($S1103), $S1103>'BankRec Main Acct'!$E$8), AF1103, 0)","v":0},0,{"$f":"IF(AND(NOT(ISBLANK($S1103)), $S1103<'P&L'!$P$8), AI1103, 0)","v":0},{"$f":"IF(OR(ISBLANK($S1103), $S1103>'BankRec Main Acct'!$E$8), AI1103, 0)","v":0},0,{"$f":"IF(AND(NOT(ISBLANK($U1103)), $U1103<'P&L'!$P$8), $AL1103, 0)","v":0},{"$f":"IF(OR(ISBLANK($U1103), $U1103>'DebitCard Rec '!$E$8), $AL1103, 0)","v":0},0,{"$f":"IF(AND(NOT(ISBLANK($U1103)), $U1103<'P&L'!$P$8), $AO1103, 0)","v":0},{"$f":"IF(OR(ISBLANK($U1103), $U1103>'DebitCard Rec '!$E$8), $AO1103, 0)","v":0},0,{"$f":"IF(AND($A1103<'P&L'!$P$8, $X1103='P&L'!$G$6), $AR1103, 0)","v":0},0,{"$f":"IF(AND($A1103<'P&L'!$P$8, $X1103='P&L'!$G$6), $AT1103, 0)","v":0}," "," "," "]
[null,null,null,null,null,null,null,null,null,null,null,null,null,null,null,null,null,null,null,null,null,null,"Jan-00",1900,{"$f":"IF(AND($A1112<'P&L'!$P$8, YEAR($A1112)=Master!$C$6), $K1112, 0)","v":0},0,{"$f":"IF(AND(NOT(ISBLANK($O1112)), $O1112<'P&L'!$P$8), Z1112, 0)","v":0},{"$f":"IF(OR(ISBLANK($O1112), $O1112>'BankRec Main Acct'!$E$8), Z1112, 0)","v":0},0,{"$f":"IF(AND(NOT(ISBLANK($O1112)), $O1112<'P&L'!$P$8), AC1112, 0)","v":0},{"$f":"IF(OR(ISBLANK($O1112), $O1112>'BankRec Main Acct'!$E$8), AC1112, 0)","v":0},0,{"$f":"IF(AND(NOT(ISBLANK($S1112)), $S1112<'P&L'!$P$8), AF1112, 0)","v":0},{"$f":"IF(OR(ISBLANK($S1112), $S1112>'BankRec Main Acct'!$E$8), AF1112, 0)","v":0},0,{"$f":"IF(AND(NOT(ISBLANK($S1112)), $S1112<'P&L'!$P$8), AI1112, 0)","v":0},{"$f":"IF(OR(ISBLANK($S1112), $S1112>'BankRec Main Acct'!$E$8), AI1112, 0)","v":0},0,{"$f":"IF(AND(NOT(ISBLANK($U1112)), $U1112<'P&L'!$P$8), $AL1112, 0)","v":0},{"$f":"IF(OR(ISBLANK($U1112), $U1112>'DebitCard Rec '!$E$8), $AL1112, 0)","v":0},0,{"$f":"IF(AND(NOT(ISBLANK($U1112)), $U1112<'P&L'!$P$8), $AO1112, 0)","v":0},{"$f":"IF(OR(ISBLANK($U1112), $U1112>'DebitCard Rec '!$E$8), $AO1112, 0)","v":0},0,{"$f":"IF(AND($A1112<'P&L'!$P$8, $X1112='P&L'!$G$6), $AR1112, 0)","v":0},0,{"$f":"IF(AND($A1112<'P&L'!$P$8, $X1112='P&L'!$G$6), $AT1112, 0)","v":0}," "," "," "]
[null,null,null,null,null,null,null,null,null,null,null,null,null,null,null,null,null,null,null,null,null,null,"Jan-00",1900,{"$f":"IF(AND($A1115<'P&L'!$P$8, YEAR($A1115)=Master!$C$6), $K1115, 0)","v":0},0,{"$f":"IF(AND(NOT(ISBLANK($O1115)), $O1115<'P&L'!$P$8), Z1115, 0)","v":0},{"$f":"IF(OR(ISBLANK($O1115), $O1115>'BankRec Main Acct'!$E$8), Z1115, 0)","v":0},0,{"$f":"IF(AND(NOT(ISBLANK($O1115)), $O1115<'P&L'!$P$8), AC1115, 0)","v":0},{"$f":"IF(OR(ISBLANK($O1115), $O1115>'BankRec Main Acct'!$E$8), AC1115, 0)","v":0},0,{"$f":"IF(AND(NOT(ISBLANK($S1115)), $S1115<'P&L'!$P$8), AF1115, 0)","v":0},{"$f":"IF(OR(ISBLANK($S1115), $S1115>'BankRec Main Acct'!$E$8), AF1115, 0)","v":0},0,{"$f":"IF(AND(NOT(ISBLANK($S1115)), $S1115<'P&L'!$P$8), AI1115, 0)","v":0},{"$f":"IF(OR(ISBLANK($S1115), $S1115>'BankRec Main Acct'!$E$8), AI1115, 0)","v":0},0,{"$f":"IF(AND(NOT(ISBLANK($U1115)), $U1115<'P&L'!$P$8), $AL1115, 0)","v":0},{"$f":"IF(OR(ISBLANK($U1115), $U1115>'DebitCard Rec '!$E$8), $AL1115, 0)","v":0},0,{"$f":"IF(AND(NOT(ISBLANK($U1115)), $U1115<'P&L'!$P$8), $AO1115, 0)","v":0},{"$f":"IF(OR(ISBLANK($U1115), $U1115>'DebitCard Rec '!$E$8), $AO1115, 0)","v":0},0,{"$f":"IF(AND($A1115<'P&L'!$P$8, $X1115='P&L'!$G$6), $AR1115, 0)","v":0},0,{"$f":"IF(AND($A1115<'P&L'!$P$8, $X1115='P&L'!$G$6), $AT1115, 0)","v":0}," "," "," "]
[null,null,null,null,null,null,null,null,null,null,null,null,null,null,null,null,null,null,null,null,null,null,"Jan-00",1900,{"$f":"IF(AND($A1131<'P&L'!$P$8, YEAR($A1131)=Master!$C$6), $K1131, 0)","v":0},0,{"$f":"IF(AND(NOT(ISBLANK($O1131)), $O1131<'P&L'!$P$8), Z1131, 0)","v":0},{"$f":"IF(OR(ISBLANK($O1131), $O1131>'BankRec Main Acct'!$E$8), Z1131, 0)","v":0},0,{"$f":"IF(AND(NOT(ISBLANK($O1131)), $O1131<'P&L'!$P$8), AC1131, 0)","v":0},{"$f":"IF(OR(ISBLANK($O1131), $O1131>'BankRec Main Acct'!$E$8), AC1131, 0)","v":0},0,{"$f":"IF(AND(NOT(ISBLANK($S1131)), $S1131<'P&L'!$P$8), AF1131, 0)","v":0},{"$f":"IF(OR(ISBLANK($S1131), $S1131>'BankRec Main Acct'!$E$8), AF1131, 0)","v":0},0,{"$f":"IF(AND(NOT(ISBLANK($S1131)), $S1131<'P&L'!$P$8), AI1131, 0)","v":0},{"$f":"IF(OR(ISBLANK($S1131), $S1131>'BankRec Main Acct'!$E$8), AI1131, 0)","v":0},0,{"$f":"IF(AND(NOT(ISBLANK($U1131)), $U1131<'P&L'!$P$8), $AL1131, 0)","v":0},{"$f":"IF(OR(ISBLANK($U1131), $U1131>'DebitCard Rec '!$E$8), $AL1131, 0)","v":0},0,{"$f":"IF(AND(NOT(ISBLANK($U1131)), $U1131<'P&L'!$P$8), $AO1131, 0)","v":0},{"$f":"IF(OR(ISBLANK($U1131), $U1131>'DebitCard Rec '!$E$8), $AO1131, 0)","v":0},0,{"$f":"IF(AND($A1131<'P&L'!$P$8, $X1131='P&L'!$G$6), $AR1131, 0)","v":0},0,{"$f":"IF(AND($A1131<'P&L'!$P$8, $X1131='P&L'!$G$6), $AT1131, 0)","v":0}," "," "," "]
[null,null,null,null,null,null,null,null,null,null,null,null,null,null,null,null,null,null,null,null,null,null,"Jan-00",1900,{"$f":"IF(AND($A1134<'P&L'!$P$8, YEAR($A1134)=Master!$C$6), $K1134, 0)","v":0},0,{"$f":"IF(AND(NOT(ISBLANK($O1134)), $O1134<'P&L'!$P$8), Z1134, 0)","v":0},{"$f":"IF(OR(ISBLANK($O1134), $O1134>'BankRec Main Acct'!$E$8), Z1134, 0)","v":0},0,{"$f":"IF(AND(NOT(ISBLANK($O1134)), $O1134<'P&L'!$P$8), AC1134, 0)","v":0},{"$f":"IF(OR(ISBLANK($O1134), $O1134>'BankRec Main Acct'!$E$8), AC1134, 0)","v":0},0,{"$f":"IF(AND(NOT(ISBLANK($S1134)), $S1134<'P&L'!$P$8), AF1134, 0)","v":0},{"$f":"IF(OR(ISBLANK($S1134), $S1134>'BankRec Main Acct'!$E$8), AF1134, 0)","v":0},0,{"$f":"IF(AND(NOT(ISBLANK($S1134)), $S1134<'P&L'!$P$8), AI1134, 0)","v":0},{"$f":"IF(OR(ISBLANK($S1134), $S1134>'BankRec Main Acct'!$E$8), AI1134, 0)","v":0},0,{"$f":"IF(AND(NOT(ISBLANK($U1134)), $U1134<'P&L'!$P$8), $AL1134, 0)","v":0},{"$f":"IF(OR(ISBLANK($U1134), $U1134>'DebitCard Rec '!$E$8), $AL1134, 0)","v":0},0,{"$f":"IF(AND(NOT(ISBLANK($U1134)), $U1134<'P&L'!$P$8), $AO1134, 0)","v":0},{"$f":"IF(OR(ISBLANK($U1134), $U1134>'DebitCard Rec '!$E$8), $AO1134, 0)","v":0},0,{"$f":"IF(AND($A1134<'P&L'!$P$8, $X1134='P&L'!$G$6), $AR1134, 0)","v":0},0,{"$f":"IF(AND($A1134<'P&L'!$P$8, $X1134='P&L'!$G$6), $AT1134, 0)","v":0}," "," "," "]
[null,null,null,null,null,null,null,null,null,null,null,null,null,null,null,null,null,null,null,null,null,null,"Jan-00",1900,{"$f":"IF(AND($A1144<'P&L'!$P$8, YEAR($A1144)=Master!$C$6), $K1144, 0)","v":0},0,{"$f":"IF(AND(NOT(ISBLANK($O1144)), $O1144<'P&L'!$P$8), Z1144, 0)","v":0},{"$f":"IF(OR(ISBLANK($O1144), $O1144>'BankRec Main Acct'!$E$8), Z1144, 0)","v":0},0,{"$f":"IF(AND(NOT(ISBLANK($O1144)), $O1144<'P&L'!$P$8), AC1144, 0)","v":0},{"$f":"IF(OR(ISBLANK($O1144), $O1144>'BankRec Main Acct'!$E$8), AC1144, 0)","v":0},0,{"$f":"IF(AND(NOT(ISBLANK($S1144)), $S1144<'P&L'!$P$8), AF1144, 0)","v":0},{"$f":"IF(OR(ISBLANK($S1144), $S1144>'BankRec Main Acct'!$E$8), AF1144, 0)","v":0},0,{"$f":"IF(AND(NOT(ISBLANK($S1144)), $S1144<'P&L'!$P$8), AI1144, 0)","v":0},{"$f":"IF(OR(ISBLANK($S1144), $S1144>'BankRec Main Acct'!$E$8), AI1144, 0)","v":0},0,{"$f":"IF(AND(NOT(ISBLANK($U1144)), $U1144<'P&L'!$P$8), $AL1144, 0)","v":0},{"$f":"IF(OR(ISBLANK($U1144), $U1144>'DebitCard Rec '!$E$8), $AL1144, 0)","v":0},0,{"$f":"IF(AND(NOT(ISBLANK($U1144)), $U1144<'P&L'!$P$8), $AO1144, 0)","v":0},{"$f":"IF(OR(ISBLANK($U1144), $U1144>'DebitCard Rec '!$E$8), $AO1144, 0)","v":0},0,{"$f":"IF(AND($A1144<'P&L'!$P$8, $X1144='P&L'!$G$6), $AR1144, 0)","v":0},0,{"$f":"IF(AND($A1144<'P&L'!$P$8, $X1144='P&L'!$G$6), $AT1144, 0)","v":0}," "," "," "]
[null,null,null,null,null,null,null,null,null,null,null,null,null,null,null,null,null,null,null,null,null,null,"Jan-00",1900,{"$f":"IF(AND($A1152<'P&L'!$P$8, YEAR($A1152)=Master!$C$6), $K1152, 0)","v":0},0,{"$f":"IF(AND(NOT(ISBLANK($O1152)), $O1152<'P&L'!$P$8), Z1152, 0)","v":0},{"$f":"IF(OR(ISBLANK($O1152), $O1152>'BankRec Main Acct'!$E$8), Z1152, 0)","v":0},0,{"$f":"IF(AND(NOT(ISBLANK($O1152)), $O1152<'P&L'!$P$8), AC1152, 0)","v":0},{"$f":"IF(OR(ISBLANK($O1152), $O1152>'BankRec Main Acct'!$E$8), AC1152, 0)","v":0},0,{"$f":"IF(AND(NOT(ISBLANK($S1152)), $S1152<'P&L'!$P$8), AF1152, 0)","v":0},{"$f":"IF(OR(ISBLANK($S1152), $S1152>'BankRec Main Acct'!$E$8), AF1152, 0)","v":0},0,{"$f":"IF(AND(NOT(ISBLANK($S1152)), $S1152<'P&L'!$P$8), AI1152, 0)","v":0},{"$f":"IF(OR(ISBLANK($S1152), $S1152>'BankRec Main Acct'!$E$8), AI1152, 0)","v":0},0,{"$f":"IF(AND(NOT(ISBLANK($U1152)), $U1152<'P&L'!$P$8), $AL1152, 0)","v":0},{"$f":"IF(OR(ISBLANK($U1152), $U1152>'DebitCard Rec '!$E$8), $AL1152, 0)","v":0},0,{"$f":"IF(AND(NOT(ISBLANK($U1152)), $U1152<'P&L'!$P$8), $AO1152, 0)","v":0},{"$f":"IF(OR(ISBLANK($U1152), $U1152>'DebitCard Rec '!$E$8), $AO1152, 0)","v":0},0,{"$f":"IF(AND($A1152<'P&L'!$P$8, $X1152='P&L'!$G$6), $AR1152, 0)","v":0},0,{"$f":"IF(AND($A1152<'P&L'!$P$8, $X1152='P&L'!$G$6), $AT1152, 0)","v":0}," "," "," "]
[null,null,null,null,null,null,null,null,null,null,null,null,null,null,null,null,null,null,null,null,null,null,"Jan-00",1900,{"$f":"IF(AND($A1164<'P&L'!$P$8, YEAR($A1164)=Master!$C$6), $K1164, 0)","v":0},0,{"$f":"IF(AND(NOT(ISBLANK($O1164)), $O1164<'P&L'!$P$8), Z1164, 0)","v":0},{"$f":"IF(OR(ISBLANK($O1164), $O1164>'BankRec Main Acct'!$E$8), Z1164, 0)","v":0},0,{"$f":"IF(AND(NOT(ISBLANK($O1164)), $O1164<'P&L'!$P$8), AC1164, 0)","v":0},{"$f":"IF(OR(ISBLANK($O1164), $O1164>'BankRec Main Acct'!$E$8), AC1164, 0)","v":0},0,{"$f":"IF(AND(NOT(ISBLANK($S1164)), $S1164<'P&L'!$P$8), AF1164, 0)","v":0},{"$f":"IF(OR(ISBLANK($S1164), $S1164>'BankRec Main Acct'!$E$8), AF1164, 0)","v":0},0,{"$f":"IF(AND(NOT(ISBLANK($S1164)), $S1164<'P&L'!$P$8), AI1164, 0)","v":0},{"$f":"IF(OR(ISBLANK($S1164), $S1164>'BankRec Main Acct'!$E$8), AI1164, 0)","v":0},0,{"$f":"IF(AND(NOT(ISBLANK($U1164)), $U1164<'P&L'!$P$8), $AL1164, 0)","v":0},{"$f":"IF(OR(ISBLANK($U1164), $U1164>'DebitCard Rec '!$E$8), $AL1164, 0)","v":0},0,{"$f":"IF(AND(NOT(ISBLANK($U1164)), $U1164<'P&L'!$P$8), $AO1164, 0)","v":0},{"$f":"IF(OR(ISBLANK($U1164), $U1164>'DebitCard Rec '!$E$8), $AO1164, 0)","v":0},0,{"$f":"IF(AND($A1164<'P&L'!$P$8, $X1164='P&L'!$G$6), $AR1164, 0)","v":0},0,{"$f":"IF(AND($A1164<'P&L'!$P$8, $X1164='P&L'!$G$6), $AT1164, 0)","v":0}," "," "," "]
[null,null,null,null,null,null,null,null,null,null,null,null,null,null,null,null,null,null,null,null,null,null,"Jan-00",1900,{"$f":"IF(AND($A1171<'P&L'!$P$8, YEAR($A1171)=Master!$C$6), $K1171, 0)","v":0},0,{"$f":"IF(AND(NOT(ISBLANK($O1171)), $O1171<'P&L'!$P$8), Z1171, 0)","v":0},{"$f":"IF(OR(ISBLANK($O1171), $O1171>'BankRec Main Acct'!$E$8), Z1171, 0)","v":0},0,{"$f":"IF(AND(NOT(ISBLANK($O1171)), $O1171<'P&L'!$P$8), AC1171, 0)","v":0},{"$f":"IF(OR(ISBLANK($O1171), $O1171>'BankRec Main Acct'!$E$8), AC1171, 0)","v":0},0,{"$f":"IF(AND(NOT(ISBLANK($S1171)), $S1171<'P&L'!$P$8), AF1171, 0)","v":0},{"$f":"IF(OR(ISBLANK($S1171), $S1171>'BankRec Main Acct'!$E$8), AF1171, 0)","v":0},0,{"$f":"IF(AND(NOT(ISBLANK($S1171)), $S1171<'P&L'!$P$8), AI1171, 0)","v":0},{"$f":"IF(OR(ISBLANK($S1171), $S1171>'BankRec Main Acct'!$E$8), AI1171, 0)","v":0},0,{"$f":"IF(AND(NOT(ISBLANK($U1171)), $U1171<'P&L'!$P$8), $AL1171, 0)","v":0},{"$f":"IF(OR(ISBLANK($U1171), $U1171>'DebitCard Rec '!$E$8), $AL1171, 0)","v":0},0,{"$f":"IF(AND(NOT(ISBLANK($U1171)), $U1171<'P&L'!$P$8), $AO1171, 0)","v":0},{"$f":"IF(OR(ISBLANK($U1171), $U1171>'DebitCard Rec '!$E$8), $AO1171, 0)","v":0},0,{"$f":"IF(AND($A1171<'P&L'!$P$8, $X1171='P&L'!$G$6), $AR1171, 0)","v":0},0,{"$f":"IF(AND($A1171<'P&L'!$P$8, $X1171='P&L'!$G$6), $AT1171, 0)","v":0}," "," "," "]
[null,null,null,null,null,null,null,null,null,null,null,null,null,null,null,null,null,null,null,null,null,null,"Jan-00",1900,{"$f":"IF(AND($A1183<'P&L'!$P$8, YEAR($A1183)=Master!$C$6), $K1183, 0)","v":0},0,{"$f":"IF(AND(NOT(ISBLANK($O1183)), $O1183<'P&L'!$P$8), Z1183, 0)","v":0},{"$f":"IF(OR(ISBLANK($O1183), $O1183>'BankRec Main Acct'!$E$8), Z1183, 0)","v":0},0,{"$f":"IF(AND(NOT(ISBLANK($O1183)), $O1183<'P&L'!$P$8), AC1183, 0)","v":0},{"$f":"IF(OR(ISBLANK($O1183), $O1183>'BankRec Main Acct'!$E$8), AC1183, 0)","v":0},0,{"$f":"IF(AND(NOT(ISBLANK($S1183)), $S1183<'P&L'!$P$8), AF1183, 0)","v":0},{"$f":"IF(OR(ISBLANK($S1183), $S1183>'BankRec Main Acct'!$E$8), AF1183, 0)","v":0},0,{"$f":"IF(AND(NOT(ISBLANK($S1183)), $S1183<'P&L'!$P$8), AI1183, 0)","v":0},{"$f":"IF(OR(ISBLANK($S1183), $S1183>'BankRec Main Acct'!$E$8), AI1183, 0)","v":0},0,{"$f":"IF(AND(NOT(ISBLANK($U1183)), $U1183<'P&L'!$P$8), $AL1183, 0)","v":0},{"$f":"IF(OR(ISBLANK($U1183), $U1183>'DebitCard Rec '!$E$8), $AL1183, 0)","v":0},0,{"$f":"IF(AND(NOT(ISBLANK($U1183)), $U1183<'P&L'!$P$8), $AO1183, 0)","v":0},{"$f":"IF(OR(ISBLANK($U1183), $U1183>'DebitCard Rec '!$E$8), $AO1183, 0)","v":0},0,{"$f":"IF(AND($A1183<'P&L'!$P$8, $X1183='P&L'!$G$6), $AR1183, 0)","v":0},0,{"$f":"IF(AND($A1183<'P&L'!$P$8, $X1183='P&L'!$G$6), $AT1183, 0)","v":0}," "," "," "]
[null,null,null,null,null,null,null,null,null,null,null,null,null,null,null,null,null,null,null,null,null,null,"Jan-00",1900,{"$f":"IF(AND($A1185<'P&L'!$P$8, YEAR($A1185)=Master!$C$6), $K1185, 0)","v":0},0,{"$f":"IF(AND(NOT(ISBLANK($O1185)), $O1185<'P&L'!$P$8), Z1185, 0)","v":0},{"$f":"IF(OR(ISBLANK($O1185), $O1185>'BankRec Main Acct'!$E$8), Z1185, 0)","v":0},0,{"$f":"IF(AND(NOT(ISBLANK($O1185)), $O1185<'P&L'!$P$8), AC1185, 0)","v":0},{"$f":"IF(OR(ISBLANK($O1185), $O1185>'BankRec Main Acct'!$E$8), AC1185, 0)","v":0},0,{"$f":"IF(AND(NOT(ISBLANK($S1185)), $S1185<'P&L'!$P$8), AF1185, 0)","v":0},{"$f":"IF(OR(ISBLANK($S1185), $S1185>'BankRec Main Acct'!$E$8), AF1185, 0)","v":0},0,{"$f":"IF(AND(NOT(ISBLANK($S1185)), $S1185<'P&L'!$P$8), AI1185, 0)","v":0},{"$f":"IF(OR(ISBLANK($S1185), $S1185>'BankRec Main Acct'!$E$8), AI1185, 0)","v":0},0,{"$f":"IF(AND(NOT(ISBLANK($U1185)), $U1185<'P&L'!$P$8), $AL1185, 0)","v":0},{"$f":"IF(OR(ISBLANK($U1185), $U1185>'DebitCard Rec '!$E$8), $AL1185, 0)","v":0},0,{"$f":"IF(AND(NOT(ISBLANK($U1185)), $U1185<'P&L'!$P$8), $AO1185, 0)","v":0},{"$f":"IF(OR(ISBLANK($U1185), $U1185>'DebitCard Rec '!$E$8), $AO1185, 0)","v":0},0,{"$f":"IF(AND($A1185<'P&L'!$P$8, $X1185='P&L'!$G$6), $AR1185, 0)","v":0},0,{"$f":"IF(AND($A1185<'P&L'!$P$8, $X1185='P&L'!$G$6), $AT1185, 0)","v":0}," "," "," "]
[null,null,null,null,null,null,null,null,null,null,null,null,null,null,null,null,null,null,null,null,null,null,"Jan-00",1900,{"$f":"IF(AND($A1201<'P&L'!$P$8, YEAR($A1201)=Master!$C$6), $K1201, 0)","v":0},0,{"$f":"IF(AND(NOT(ISBLANK($O1201)), $O1201<'P&L'!$P$8), Z1201, 0)","v":0},{"$f":"IF(OR(ISBLANK($O1201), $O1201>'BankRec Main Acct'!$E$8), Z1201, 0)","v":0},0,{"$f":"IF(AND(NOT(ISBLANK($O1201)), $O1201<'P&L'!$P$8), AC1201, 0)","v":0},{"$f":"IF(OR(ISBLANK($O1201), $O1201>'BankRec Main Acct'!$E$8), AC1201, 0)","v":0},0,{"$f":"IF(AND(NOT(ISBLANK($S1201)), $S1201<'P&L'!$P$8), AF1201, 0)","v":0},{"$f":"IF(OR(ISBLANK($S1201), $S1201>'BankRec Main Acct'!$E$8), AF1201, 0)","v":0},0,{"$f":"IF(AND(NOT(ISBLANK($S1201)), $S1201<'P&L'!$P$8), AI1201, 0)","v":0},{"$f":"IF(OR(ISBLANK($S1201), $S1201>'BankRec Main Acct'!$E$8), AI1201, 0)","v":0},0,{"$f":"IF(AND(NOT(ISBLANK($U1201)), $U1201<'P&L'!$P$8), $AL1201, 0)","v":0},{"$f":"IF(OR(ISBLANK($U1201), $U1201>'DebitCard Rec '!$E$8), $AL1201, 0)","v":0},0,{"$f":"IF(AND(NOT(ISBLANK($U1201)), $U1201<'P&L'!$P$8), $AO1201, 0)","v":0},{"$f":"IF(OR(ISBLANK($U1201), $U1201>'DebitCard Rec '!$E$8), $AO1201, 0)","v":0},0,{"$f":"IF(AND($A1201<'P&L'!$P$8, $X1201='P&L'!$G$6), $AR1201, 0)","v":0},0,{"$f":"IF(AND($A1201<'P&L'!$P$8, $X1201='P&L'!$G$6), $AT1201, 0)","v":0}," "," "," "]
[null,null,null,null,null,null,null,null,null,null,null,null,null,null,null,null,null,null,null,null,null,null,"Jan-00",1900,{"$f":"IF(AND($A1204<'P&L'!$P$8, YEAR($A1204)=Master!$C$6), $K1204, 0)","v":0},0,{"$f":"IF(AND(NOT(ISBLANK($O1204)), $O1204<'P&L'!$P$8), Z1204, 0)","v":0},{"$f":"IF(OR(ISBLANK($O1204), $O1204>'BankRec Main Acct'!$E$8), Z1204, 0)","v":0},0,{"$f":"IF(AND(NOT(ISBLANK($O1204)), $O1204<'P&L'!$P$8), AC1204, 0)","v":0},{"$f":"IF(OR(ISBLANK($O1204), $O1204>'BankRec Main Acct'!$E$8), AC1204, 0)","v":0},0,{"$f":"IF(AND(NOT(ISBLANK($S1204)), $S1204<'P&L'!$P$8), AF1204, 0)","v":0},{"$f":"IF(OR(ISBLANK($S1204), $S1204>'BankRec Main Acct'!$E$8), AF1204, 0)","v":0},0,{"$f":"IF(AND(NOT(ISBLANK($S1204)), $S1204<'P&L'!$P$8), AI1204, 0)","v":0},{"$f":"IF(OR(ISBLANK($S1204), $S1204>'BankRec Main Acct'!$E$8), AI1204, 0)","v":0},0,{"$f":"IF(AND(NOT(ISBLANK($U1204)), $U1204<'P&L'!$P$8), $AL1204, 0)","v":0},{"$f":"IF(OR(ISBLANK($U1204), $U1204>'DebitCard Rec '!$E$8), $AL1204, 0)","v":0},0,{"$f":"IF(AND(NOT(ISBLANK($U1204)), $U1204<'P&L'!$P$8), $AO1204, 0)","v":0},{"$f":"IF(OR(ISBLANK($U1204), $U1204>'DebitCard Rec '!$E$8), $AO1204, 0)","v":0},0,{"$f":"IF(AND($A1204<'P&L'!$P$8, $X1204='P&L'!$G$6), $AR1204, 0)","v":0},0,{"$f":"IF(AND($A1204<'P&L'!$P$8, $X1204='P&L'!$G$6), $AT1204, 0)","v":0}," "," "," "]
[null,null,null,null,null,null,null,null,null,null,null,null,null,null,null,null,null,null,null,null,null,null,"Jan-00",1900,{"$f":"IF(AND($A1216<'P&L'!$P$8, YEAR($A1216)=Master!$C$6), $K1216, 0)","v":0},0,{"$f":"IF(AND(NOT(ISBLANK($O1216)), $O1216<'P&L'!$P$8), Z1216, 0)","v":0},{"$f":"IF(OR(ISBLANK($O1216), $O1216>'BankRec Main Acct'!$E$8), Z1216, 0)","v":0},0,{"$f":"IF(AND(NOT(ISBLANK($O1216)), $O1216<'P&L'!$P$8), AC1216, 0)","v":0},{"$f":"IF(OR(ISBLANK($O1216), $O1216>'BankRec Main Acct'!$E$8), AC1216, 0)","v":0},0,{"$f":"IF(AND(NOT(ISBLANK($S1216)), $S1216<'P&L'!$P$8), AF1216, 0)","v":0},{"$f":"IF(OR(ISBLANK($S1216), $S1216>'BankRec Main Acct'!$E$8), AF1216, 0)","v":0},0,{"$f":"IF(AND(NOT(ISBLANK($S1216)), $S1216<'P&L'!$P$8), AI1216, 0)","v":0},{"$f":"IF(OR(ISBLANK($S1216), $S1216>'BankRec Main Acct'!$E$8), AI1216, 0)","v":0},0,{"$f":"IF(AND(NOT(ISBLANK($U1216)), $U1216<'P&L'!$P$8), $AL1216, 0)","v":0},{"$f":"IF(OR(ISBLANK($U1216), $U1216>'DebitCard Rec '!$E$8), $AL1216, 0)","v":0},0,{"$f":"IF(AND(NOT(ISBLANK($U1216)), $U1216<'P&L'!$P$8), $AO1216, 0)","v":0},{"$f":"IF(OR(ISBLANK($U1216), $U1216>'DebitCard Rec '!$E$8), $AO1216, 0)","v":0},0,{"$f":"IF(AND($A1216<'P&L'!$P$8, $X1216='P&L'!$G$6), $AR1216, 0)","v":0},0,{"$f":"IF(AND($A1216<'P&L'!$P$8, $X1216='P&L'!$G$6), $AT1216, 0)","v":0}," "," "," "]
[null,null,null,null,null,null,null,null,null,null,null,null,null,null,null,null,null,null,null,null,null,null,"Jan-00",1900,{"$f":"IF(AND($A1224<'P&L'!$P$8, YEAR($A1224)=Master!$C$6), $K1224, 0)","v":0},0,{"$f":"IF(AND(NOT(ISBLANK($O1224)), $O1224<'P&L'!$P$8), Z1224, 0)","v":0},{"$f":"IF(OR(ISBLANK($O1224), $O1224>'BankRec Main Acct'!$E$8), Z1224, 0)","v":0},0,{"$f":"IF(AND(NOT(ISBLANK($O1224)), $O1224<'P&L'!$P$8), AC1224, 0)","v":0},{"$f":"IF(OR(ISBLANK($O1224), $O1224>'BankRec Main Acct'!$E$8), AC1224, 0)","v":0},0,{"$f":"IF(AND(NOT(ISBLANK($S1224)), $S1224<'P&L'!$P$8), AF1224, 0)","v":0},{"$f":"IF(OR(ISBLANK($S1224), $S1224>'BankRec Main Acct'!$E$8), AF1224, 0)","v":0},0,{"$f":"IF(AND(NOT(ISBLANK($S1224)), $S1224<'P&L'!$P$8), AI1224, 0)","v":0},{"$f":"IF(OR(ISBLANK($S1224), $S1224>'BankRec Main Acct'!$E$8), AI1224, 0)","v":0},0,{"$f":"IF(AND(NOT(ISBLANK($U1224)), $U1224<'P&L'!$P$8), $AL1224, 0)","v":0},{"$f":"IF(OR(ISBLANK($U1224), $U1224>'DebitCard Rec '!$E$8), $AL1224, 0)","v":0},0,{"$f":"IF(AND(NOT(ISBLANK($U1224)), $U1224<'P&L'!$P$8), $AO1224, 0)","v":0},{"$f":"IF(OR(ISBLANK($U1224), $U1224>'DebitCard Rec '!$E$8), $AO1224, 0)","v":0},0,{"$f":"IF(AND($A1224<'P&L'!$P$8, $X1224='P&L'!$G$6), $AR1224, 0)","v":0},0,{"$f":"IF(AND($A1224<'P&L'!$P$8, $X1224='P&L'!$G$6), $AT1224, 0)","v":0}," "," "," "]
[null,null,null,null,null,null,null,null,null,null,null,null,null,null,null,null,null,null,null,null,null,null,"Jan-00",1900,{"$f":"IF(AND($A1234<'P&L'!$P$8, YEAR($A1234)=Master!$C$6), $K1234, 0)","v":0},0,{"$f":"IF(AND(NOT(ISBLANK($O1234)), $O1234<'P&L'!$P$8), Z1234, 0)","v":0},{"$f":"IF(OR(ISBLANK($O1234), $O1234>'BankRec Main Acct'!$E$8), Z1234, 0)","v":0},0,{"$f":"IF(AND(NOT(ISBLANK($O1234)), $O1234<'P&L'!$P$8), AC1234, 0)","v":0},{"$f":"IF(OR(ISBLANK($O1234), $O1234>'BankRec Main Acct'!$E$8), AC1234, 0)","v":0},0,{"$f":"IF(AND(NOT(ISBLANK($S1234)), $S1234<'P&L'!$P$8), AF1234, 0)","v":0},{"$f":"IF(OR(ISBLANK($S1234), $S1234>'BankRec Main Acct'!$E$8), AF1234, 0)","v":0},0,{"$f":"IF(AND(NOT(ISBLANK($S1234)), $S1234<'P&L'!$P$8), AI1234, 0)","v":0},{"$f":"IF(OR(ISBLANK($S1234), $S1234>'BankRec Main Acct'!$E$8), AI1234, 0)","v":0},0,{"$f":"IF(AND(NOT(ISBLANK($U1234)), $U1234<'P&L'!$P$8), $AL1234, 0)","v":0},{"$f":"IF(OR(ISBLANK($U1234), $U1234>'DebitCard Rec '!$E$8), $AL1234, 0)","v":0},0,{"$f":"IF(AND(NOT(ISBLANK($U1234)), $U1234<'P&L'!$P$8), $AO1234, 0)","v":0},{"$f":"IF(OR(ISBLANK($U1234), $U1234>'DebitCard Rec '!$E$8), $AO1234, 0)","v":0},0,{"$f":"IF(AND($A1234<'P&L'!$P$8, $X1234='P&L'!$G$6), $AR1234, 0)","v":0},0,{"$f":"IF(AND($A1234<'P&L'!$P$8, $X1234='P&L'!$G$6), $AT1234, 0)","v":0}," "," "," "]
[null,null,null,null,null,null,null,null,null,null,null,null,null,null,null,null,null,null,null,null,null,null,"Jan-00",1900,{"$f":"IF(AND($A1241<'P&L'!$P$8, YEAR($A1241)=Master!$C$6), $K1241, 0)","v":0},0,{"$f":"IF(AND(NOT(ISBLANK($O1241)), $O1241<'P&L'!$P$8), Z1241, 0)","v":0},{"$f":"IF(OR(ISBLANK($O1241), $O1241>'BankRec Main Acct'!$E$8), Z1241, 0)","v":0},0,{"$f":"IF(AND(NOT(ISBLANK($O1241)), $O1241<'P&L'!$P$8), AC1241, 0)","v":0},{"$f":"IF(OR(ISBLANK($O1241), $O1241>'BankRec Main Acct'!$E$8), AC1241, 0)","v":0},0,{"$f":"IF(AND(NOT(ISBLANK($S1241)), $S1241<'P&L'!$P$8), AF1241, 0)","v":0},{"$f":"IF(OR(ISBLANK($S1241), $S1241>'BankRec Main Acct'!$E$8), AF1241, 0)","v":0},0,{"$f":"IF(AND(NOT(ISBLANK($S1241)), $S1241<'P&L'!$P$8), AI1241, 0)","v":0},{"$f":"IF(OR(ISBLANK($S1241), $S1241>'BankRec Main Acct'!$E$8), AI1241, 0)","v":0},0,{"$f":"IF(AND(NOT(ISBLANK($U1241)), $U1241<'P&L'!$P$8), $AL1241, 0)","v":0},{"$f":"IF(OR(ISBLANK($U1241), $U1241>'DebitCard Rec '!$E$8), $AL1241, 0)","v":0},0,{"$f":"IF(AND(NOT(ISBLANK($U1241)), $U1241<'P&L'!$P$8), $AO1241, 0)","v":0},{"$f":"IF(OR(ISBLANK($U1241), $U1241>'DebitCard Rec '!$E$8), $AO1241, 0)","v":0},0,{"$f":"IF(AND($A1241<'P&L'!$P$8, $X1241='P&L'!$G$6), $AR1241, 0)","v":0},0,{"$f":"IF(AND($A1241<'P&L'!$P$8, $X1241='P&L'!$G$6), $AT1241, 0)","v":0}," "," "," "]
[null,null,null,null,null,null,null,null,null,null,null,null,null,null,null,null,null,null,null,null,null,null,"Jan-00",1900,{"$f":"IF(AND($A1253<'P&L'!$P$8, YEAR($A1253)=Master!$C$6), $K1253, 0)","v":0},0,{"$f":"IF(AND(NOT(ISBLANK($O1253)), $O1253<'P&L'!$P$8), Z1253, 0)","v":0},{"$f":"IF(OR(ISBLANK($O1253), $O1253>'BankRec Main Acct'!$E$8), Z1253, 0)","v":0},0,{"$f":"IF(AND(NOT(ISBLANK($O1253)), $O1253<'P&L'!$P$8), AC1253, 0)","v":0},{"$f":"IF(OR(ISBLANK($O1253), $O1253>'BankRec Main Acct'!$E$8), AC1253, 0)","v":0},0,{"$f":"IF(AND(NOT(ISBLANK($S1253)), $S1253<'P&L'!$P$8), AF1253, 0)","v":0},{"$f":"IF(OR(ISBLANK($S1253), $S1253>'BankRec Main Acct'!$E$8), AF1253, 0)","v":0},0,{"$f":"IF(AND(NOT(ISBLANK($S1253)), $S1253<'P&L'!$P$8), AI1253, 0)","v":0},{"$f":"IF(OR(ISBLANK($S1253), $S1253>'BankRec Main Acct'!$E$8), AI1253, 0)","v":0},0,{"$f":"IF(AND(NOT(ISBLANK($U1253)), $U1253<'P&L'!$P$8), $AL1253, 0)","v":0},{"$f":"IF(OR(ISBLANK($U1253), $U1253>'DebitCard Rec '!$E$8), $AL1253, 0)","v":0},0,{"$f":"IF(AND(NOT(ISBLANK($U1253)), $U1253<'P&L'!$P$8), $AO1253, 0)","v":0},{"$f":"IF(OR(ISBLANK($U1253), $U1253>'DebitCard Rec '!$E$8), $AO1253, 0)","v":0},0,{"$f":"IF(AND($A1253<'P&L'!$P$8, $X1253='P&L'!$G$6), $AR1253, 0)","v":0},0,{"$f":"IF(AND($A1253<'P&L'!$P$8, $X1253='P&L'!$G$6), $AT1253, 0)","v":0}," "," "," "]
[null,null,null,null,null,null,null,null,null,null,null,null,null,null,null,null,null,null,null,null,null,null,"Jan-00",1900,{"$f":"IF(AND($A1256<'P&L'!$P$8, YEAR($A1256)=Master!$C$6), $K1256, 0)","v":0},0,{"$f":"IF(AND(NOT(ISBLANK($O1256)), $O1256<'P&L'!$P$8), Z1256, 0)","v":0},{"$f":"IF(OR(ISBLANK($O1256), $O1256>'BankRec Main Acct'!$E$8), Z1256, 0)","v":0},0,{"$f":"IF(AND(NOT(ISBLANK($O1256)), $O1256<'P&L'!$P$8), AC1256, 0)","v":0},{"$f":"IF(OR(ISBLANK($O1256), $O1256>'BankRec Main Acct'!$E$8), AC1256, 0)","v":0},0,{"$f":"IF(AND(NOT(ISBLANK($S1256)), $S1256<'P&L'!$P$8), AF1256, 0)","v":0},{"$f":"IF(OR(ISBLANK($S1256), $S1256>'BankRec Main Acct'!$E$8), AF1256, 0)","v":0},0,{"$f":"IF(AND(NOT(ISBLANK($S1256)), $S1256<'P&L'!$P$8), AI1256, 0)","v":0},{"$f":"IF(OR(ISBLANK($S1256), $S1256>'BankRec Main Acct'!$E$8), AI1256, 0)","v":0},0,{"$f":"IF(AND(NOT(ISBLANK($U1256)), $U1256<'P&L'!$P$8), $AL1256, 0)","v":0},{"$f":"IF(OR(ISBLANK($U1256), $U1256>'DebitCard Rec '!$E$8), $AL1256, 0)","v":0},0,{"$f":"IF(AND(NOT(ISBLANK($U1256)), $U1256<'P&L'!$P$8), $AO1256, 0)","v":0},{"$f":"IF(OR(ISBLANK($U1256), $U1256>'DebitCard Rec '!$E$8), $AO1256, 0)","v":0},0,{"$f":"IF(AND($A1256<'P&L'!$P$8, $X1256='P&L'!$G$6), $AR1256, 0)","v":0},0,{"$f":"IF(AND($A1256<'P&L'!$P$8, $X1256='P&L'!$G$6), $AT1256, 0)","v":0}," "," "," "]
[null,null,null,null,null,null,null,null,null,null,null,null,null,null,null,null,null,null,null,null,null,null,"Jan-00",1900,{"$f":"IF(AND($A1265<'P&L'!$P$8, YEAR($A1265)=Master!$C$6), $K1265, 0)","v":0},0,{"$f":"IF(AND(NOT(ISBLANK($O1265)), $O1265<'P&L'!$P$8), Z1265, 0)","v":0},{"$f":"IF(OR(ISBLANK($O1265), $O1265>'BankRec Main Acct'!$E$8), Z1265, 0)","v":0},0,{"$f":"IF(AND(NOT(ISBLANK($O1265)), $O1265<'P&L'!$P$8), AC1265, 0)","v":0},{"$f":"IF(OR(ISBLANK($O1265), $O1265>'BankRec Main Acct'!$E$8), AC1265, 0)","v":0},0,{"$f":"IF(AND(NOT(ISBLANK($S1265)), $S1265<'P&L'!$P$8), AF1265, 0)","v":0},{"$f":"IF(OR(ISBLANK($S1265), $S1265>'BankRec Main Acct'!$E$8), AF1265, 0)","v":0},0,{"$f":"IF(AND(NOT(ISBLANK($S1265)), $S1265<'P&L'!$P$8), AI1265, 0)","v":0},{"$f":"IF(OR(ISBLANK($S1265), $S1265>'BankRec Main Acct'!$E$8), AI1265, 0)","v":0},0,{"$f":"IF(AND(NOT(ISBLANK($U1265)), $U1265<'P&L'!$P$8), $AL1265, 0)","v":0},{"$f":"IF(OR(ISBLANK($U1265), $U1265>'DebitCard Rec '!$E$8), $AL1265, 0)","v":0},0,{"$f":"IF(AND(NOT(ISBLANK($U1265)), $U1265<'P&L'!$P$8), $AO1265, 0)","v":0},{"$f":"IF(OR(ISBLANK($U1265), $U1265>'DebitCard Rec '!$E$8), $AO1265, 0)","v":0},0,{"$f":"IF(AND($A1265<'P&L'!$P$8, $X1265='P&L'!$G$6), $AR1265, 0)","v":0},0,{"$f":"IF(AND($A1265<'P&L'!$P$8, $X1265='P&L'!$G$6), $AT1265, 0)","v":0}," "," "," "]
[null,null,null,null,null,null,null,null,null,null,null,null,null,null,null,null,null,null,null,null,null,null,"Jan-00",1900,{"$f":"IF(AND($A1274<'P&L'!$P$8, YEAR($A1274)=Master!$C$6), $K1274, 0)","v":0},0,{"$f":"IF(AND(NOT(ISBLANK($O1274)), $O1274<'P&L'!$P$8), Z1274, 0)","v":0},{"$f":"IF(OR(ISBLANK($O1274), $O1274>'BankRec Main Acct'!$E$8), Z1274, 0)","v":0},0,{"$f":"IF(AND(NOT(ISBLANK($O1274)), $O1274<'P&L'!$P$8), AC1274, 0)","v":0},{"$f":"IF(OR(ISBLANK($O1274), $O1274>'BankRec Main Acct'!$E$8), AC1274, 0)","v":0},0,{"$f":"IF(AND(NOT(ISBLANK($S1274)), $S1274<'P&L'!$P$8), AF1274, 0)","v":0},{"$f":"IF(OR(ISBLANK($S1274), $S1274>'BankRec Main Acct'!$E$8), AF1274, 0)","v":0},0,{"$f":"IF(AND(NOT(ISBLANK($S1274)), $S1274<'P&L'!$P$8), AI1274, 0)","v":0},{"$f":"IF(OR(ISBLANK($S1274), $S1274>'BankRec Main Acct'!$E$8), AI1274, 0)","v":0},0,{"$f":"IF(AND(NOT(ISBLANK($U1274)), $U1274<'P&L'!$P$8), $AL1274, 0)","v":0},{"$f":"IF(OR(ISBLANK($U1274), $U1274>'DebitCard Rec '!$E$8), $AL1274, 0)","v":0},0,{"$f":"IF(AND(NOT(ISBLANK($U1274)), $U1274<'P&L'!$P$8), $AO1274, 0)","v":0},{"$f":"IF(OR(ISBLANK($U1274), $U1274>'DebitCard Rec '!$E$8), $AO1274, 0)","v":0},0,{"$f":"IF(AND($A1274<'P&L'!$P$8, $X1274='P&L'!$G$6), $AR1274, 0)","v":0},0,{"$f":"IF(AND($A1274<'P&L'!$P$8, $X1274='P&L'!$G$6), $AT1274, 0)","v":0}," "," "," "]
[null,null,null,null,null,null,null,null,null,null,null,null,null,null,null,null,null,null,null,null,null,null,"Jan-00",1900,{"$f":"IF(AND($A1286<'P&L'!$P$8, YEAR($A1286)=Master!$C$6), $K1286, 0)","v":0},0,{"$f":"IF(AND(NOT(ISBLANK($O1286)), $O1286<'P&L'!$P$8), Z1286, 0)","v":0},{"$f":"IF(OR(ISBLANK($O1286), $O1286>'BankRec Main Acct'!$E$8), Z1286, 0)","v":0},0,{"$f":"IF(AND(NOT(ISBLANK($O1286)), $O1286<'P&L'!$P$8), AC1286, 0)","v":0},{"$f":"IF(OR(ISBLANK($O1286), $O1286>'BankRec Main Acct'!$E$8), AC1286, 0)","v":0},0,{"$f":"IF(AND(NOT(ISBLANK($S1286)), $S1286<'P&L'!$P$8), AF1286, 0)","v":0},{"$f":"IF(OR(ISBLANK($S1286), $S1286>'BankRec Main Acct'!$E$8), AF1286, 0)","v":0},0,{"$f":"IF(AND(NOT(ISBLANK($S1286)), $S1286<'P&L'!$P$8), AI1286, 0)","v":0},{"$f":"IF(OR(ISBLANK($S1286), $S1286>'BankRec Main Acct'!$E$8), AI1286, 0)","v":0},0,{"$f":"IF(AND(NOT(ISBLANK($U1286)), $U1286<'P&L'!$P$8), $AL1286, 0)","v":0},{"$f":"IF(OR(ISBLANK($U1286), $U1286>'DebitCard Rec '!$E$8), $AL1286, 0)","v":0},0,{"$f":"IF(AND(NOT(ISBLANK($U1286)), $U1286<'P&L'!$P$8), $AO1286, 0)","v":0},{"$f":"IF(OR(ISBLANK($U1286), $U1286>'DebitCard Rec '!$E$8), $AO1286, 0)","v":0},0,{"$f":"IF(AND($A1286<'P&L'!$P$8, $X1286='P&L'!$G$6), $AR1286, 0)","v":0},0,{"$f":"IF(AND($A1286<'P&L'!$P$8, $X1286='P&L'!$G$6), $AT1286, 0)","v":0}," "," "," "]
[null,null,null,null,null,null,null,null,null,null,null,null,null,null,null,null,null,null,null,null,null,null,"Jan-00",1900,{"$f":"IF(AND($A1293<'P&L'!$P$8, YEAR($A1293)=Master!$C$6), $K1293, 0)","v":0},0,{"$f":"IF(AND(NOT(ISBLANK($O1293)), $O1293<'P&L'!$P$8), Z1293, 0)","v":0},{"$f":"IF(OR(ISBLANK($O1293), $O1293>'BankRec Main Acct'!$E$8), Z1293, 0)","v":0},0,{"$f":"IF(AND(NOT(ISBLANK($O1293)), $O1293<'P&L'!$P$8), AC1293, 0)","v":0},{"$f":"IF(OR(ISBLANK($O1293), $O1293>'BankRec Main Acct'!$E$8), AC1293, 0)","v":0},0,{"$f":"IF(AND(NOT(ISBLANK($S1293)), $S1293<'P&L'!$P$8), AF1293, 0)","v":0},{"$f":"IF(OR(ISBLANK($S1293), $S1293>'BankRec Main Acct'!$E$8), AF1293, 0)","v":0},0,{"$f":"IF(AND(NOT(ISBLANK($S1293)), $S1293<'P&L'!$P$8), AI1293, 0)","v":0},{"$f":"IF(OR(ISBLANK($S1293), $S1293>'BankRec Main Acct'!$E$8), AI1293, 0)","v":0},0,{"$f":"IF(AND(NOT(ISBLANK($U1293)), $U1293<'P&L'!$P$8), $AL1293, 0)","v":0},{"$f":"IF(OR(ISBLANK($U1293), $U1293>'DebitCard Rec '!$E$8), $AL1293, 0)","v":0},0,{"$f":"IF(AND(NOT(ISBLANK($U1293)), $U1293<'P&L'!$P$8), $AO1293, 0)","v":0},{"$f":"IF(OR(ISBLANK($U1293), $U1293>'DebitCard Rec '!$E$8), $AO1293, 0)","v":0},0,{"$f":"IF(AND($A1293<'P&L'!$P$8, $X1293='P&L'!$G$6), $AR1293, 0)","v":0},0,{"$f":"IF(AND($A1293<'P&L'!$P$8, $X1293='P&L'!$G$6), $AT1293, 0)","v":0}," "," "," "]
[null,null,null,null,null,null,null,null,null,null,null,null,null,null,null,null,null,null,null,null,null,null,"Jan-00",1900,{"$f":"IF(AND($A1304<'P&L'!$P$8, YEAR($A1304)=Master!$C$6), $K1304, 0)","v":0},0,{"$f":"IF(AND(NOT(ISBLANK($O1304)), $O1304<'P&L'!$P$8), Z1304, 0)","v":0},{"$f":"IF(OR(ISBLANK($O1304), $O1304>'BankRec Main Acct'!$E$8), Z1304, 0)","v":0},0,{"$f":"IF(AND(NOT(ISBLANK($O1304)), $O1304<'P&L'!$P$8), AC1304, 0)","v":0},{"$f":"IF(OR(ISBLANK($O1304), $O1304>'BankRec Main Acct'!$E$8), AC1304, 0)","v":0},0,{"$f":"IF(AND(NOT(ISBLANK($S1304)), $S1304<'P&L'!$P$8), AF1304, 0)","v":0},{"$f":"IF(OR(ISBLANK($S1304), $S1304>'BankRec Main Acct'!$E$8), AF1304, 0)","v":0},0,{"$f":"IF(AND(NOT(ISBLANK($S1304)), $S1304<'P&L'!$P$8), AI1304, 0)","v":0},{"$f":"IF(OR(ISBLANK($S1304), $S1304>'BankRec Main Acct'!$E$8), AI1304, 0)","v":0},0,{"$f":"IF(AND(NOT(ISBLANK($U1304)), $U1304<'P&L'!$P$8), $AL1304, 0)","v":0},{"$f":"IF(OR(ISBLANK($U1304), $U1304>'DebitCard Rec '!$E$8), $AL1304, 0)","v":0},0,{"$f":"IF(AND(NOT(ISBLANK($U1304)), $U1304<'P&L'!$P$8), $AO1304, 0)","v":0},{"$f":"IF(OR(ISBLANK($U1304), $U1304>'DebitCard Rec '!$E$8), $AO1304, 0)","v":0},0,{"$f":"IF(AND($A1304<'P&L'!$P$8, $X1304='P&L'!$G$6), $AR1304, 0)","v":0},0,{"$f":"IF(AND($A1304<'P&L'!$P$8, $X1304='P&L'!$G$6), $AT1304, 0)","v":0}," "," "," "]
[null,null,null,null,null,null,null,null,null,null,null,null,null,null,null,null,null,null,null,null,null,null,"Jan-00",1900,{"$f":"IF(AND($A1311<'P&L'!$P$8, YEAR($A1311)=Master!$C$6), $K1311, 0)","v":0},0,{"$f":"IF(AND(NOT(ISBLANK($O1311)), $O1311<'P&L'!$P$8), Z1311, 0)","v":0},{"$f":"IF(OR(ISBLANK($O1311), $O1311>'BankRec Main Acct'!$E$8), Z1311, 0)","v":0},0,{"$f":"IF(AND(NOT(ISBLANK($O1311)), $O1311<'P&L'!$P$8), AC1311, 0)","v":0},{"$f":"IF(OR(ISBLANK($O1311), $O1311>'BankRec Main Acct'!$E$8), AC1311, 0)","v":0},0,{"$f":"IF(AND(NOT(ISBLANK($S1311)), $S1311<'P&L'!$P$8), AF1311, 0)","v":0},{"$f":"IF(OR(ISBLANK($S1311), $S1311>'BankRec Main Acct'!$E$8), AF1311, 0)","v":0},0,{"$f":"IF(AND(NOT(ISBLANK($S1311)), $S1311<'P&L'!$P$8), AI1311, 0)","v":0},{"$f":"IF(OR(ISBLANK($S1311), $S1311>'BankRec Main Acct'!$E$8), AI1311, 0)","v":0},0,{"$f":"IF(AND(NOT(ISBLANK($U1311)), $U1311<'P&L'!$P$8), $AL1311, 0)","v":0},{"$f":"IF(OR(ISBLANK($U1311), $U1311>'DebitCard Rec '!$E$8), $AL1311, 0)","v":0},0,{"$f":"IF(AND(NOT(ISBLANK($U1311)), $U1311<'P&L'!$P$8), $AO1311, 0)","v":0},{"$f":"IF(OR(ISBLANK($U1311), $U1311>'DebitCard Rec '!$E$8), $AO1311, 0)","v":0},0,{"$f":"IF(AND($A1311<'P&L'!$P$8, $X1311='P&L'!$G$6), $AR1311, 0)","v":0},0,{"$f":"IF(AND($A1311<'P&L'!$P$8, $X1311='P&L'!$G$6), $AT1311, 0)","v":0}," "," "," "]
[null,null,null,null,null,null,null,null,null,null,null,null,null,null,null,null,null,null,null,null,null,null,"Jan-00",1900,{"$f":"IF(AND($A1323<'P&L'!$P$8, YEAR($A1323)=Master!$C$6), $K1323, 0)","v":0},0,{"$f":"IF(AND(NOT(ISBLANK($O1323)), $O1323<'P&L'!$P$8), Z1323, 0)","v":0},{"$f":"IF(OR(ISBLANK($O1323), $O1323>'BankRec Main Acct'!$E$8), Z1323, 0)","v":0},0,{"$f":"IF(AND(NOT(ISBLANK($O1323)), $O1323<'P&L'!$P$8), AC1323, 0)","v":0},{"$f":"IF(OR(ISBLANK($O1323), $O1323>'BankRec Main Acct'!$E$8), AC1323, 0)","v":0},0,{"$f":"IF(AND(NOT(ISBLANK($S1323)), $S1323<'P&L'!$P$8), AF1323, 0)","v":0},{"$f":"IF(OR(ISBLANK($S1323), $S1323>'BankRec Main Acct'!$E$8), AF1323, 0)","v":0},0,{"$f":"IF(AND(NOT(ISBLANK($S1323)), $S1323<'P&L'!$P$8), AI1323, 0)","v":0},{"$f":"IF(OR(ISBLANK($S1323), $S1323>'BankRec Main Acct'!$E$8), AI1323, 0)","v":0},0,{"$f":"IF(AND(NOT(ISBLANK($U1323)), $U1323<'P&L'!$P$8), $AL1323, 0)","v":0},{"$f":"IF(OR(ISBLANK($U1323), $U1323>'DebitCard Rec '!$E$8), $AL1323, 0)","v":0},0,{"$f":"IF(AND(NOT(ISBLANK($U1323)), $U1323<'P&L'!$P$8), $AO1323, 0)","v":0},{"$f":"IF(OR(ISBLANK($U1323), $U1323>'DebitCard Rec '!$E$8), $AO1323, 0)","v":0},0,{"$f":"IF(AND($A1323<'P&L'!$P$8, $X1323='P&L'!$G$6), $AR1323, 0)","v":0},0,{"$f":"IF(AND($A1323<'P&L'!$P$8, $X1323='P&L'!$G$6), $AT1323, 0)","v":0}," "," "," "]
[null,null,null,null,null,null,null,null,null,null,null,null,null,null,null,null,null,null,null,null,null,null,"Jan-00",1900,{"$f":"IF(AND($A1326<'P&L'!$P$8, YEAR($A1326)=Master!$C$6), $K1326, 0)","v":0},0,{"$f":"IF(AND(NOT(ISBLANK($O1326)), $O1326<'P&L'!$P$8), Z1326, 0)","v":0},{"$f":"IF(OR(ISBLANK($O1326), $O1326>'BankRec Main Acct'!$E$8), Z1326, 0)","v":0},0,{"$f":"IF(AND(NOT(ISBLANK($O1326)), $O1326<'P&L'!$P$8), AC1326, 0)","v":0},{"$f":"IF(OR(ISBLANK($O1326), $O1326>'BankRec Main Acct'!$E$8), AC1326, 0)","v":0},0,{"$f":"IF(AND(NOT(ISBLANK($S1326)), $S1326<'P&L'!$P$8), AF1326, 0)","v":0},{"$f":"IF(OR(ISBLANK($S1326), $S1326>'BankRec Main Acct'!$E$8), AF1326, 0)","v":0},0,{"$f":"IF(AND(NOT(ISBLANK($S1326)), $S1326<'P&L'!$P$8), AI1326, 0)","v":0},{"$f":"IF(OR(ISBLANK($S1326), $S1326>'BankRec Main Acct'!$E$8), AI1326, 0)","v":0},0,{"$f":"IF(AND(NOT(ISBLANK($U1326)), $U1326<'P&L'!$P$8), $AL1326, 0)","v":0},{"$f":"IF(OR(ISBLANK($U1326), $U1326>'DebitCard Rec '!$E$8), $AL1326, 0)","v":0},0,{"$f":"IF(AND(NOT(ISBLANK($U1326)), $U1326<'P&L'!$P$8), $AO1326, 0)","v":0},{"$f":"IF(OR(ISBLANK($U1326), $U1326>'DebitCard Rec '!$E$8), $AO1326, 0)","v":0},0,{"$f":"IF(AND($A1326<'P&L'!$P$8, $X1326='P&L'!$G$6), $AR1326, 0)","v":0},0,{"$f":"IF(AND($A1326<'P&L'!$P$8, $X1326='P&L'!$G$6), $AT1326, 0)","v":0}," "," "," "]
[null,null,null,null,null,null,null,null,null,null,null,null,null,null,null,null,null,null,null,null,null,null,"Jan-00",1900,{"$f":"IF(AND($A1342<'P&L'!$P$8, YEAR($A1342)=Master!$C$6), $K1342, 0)","v":0},0,{"$f":"IF(AND(NOT(ISBLANK($O1342)), $O1342<'P&L'!$P$8), Z1342, 0)","v":0},{"$f":"IF(OR(ISBLANK($O1342), $O1342>'BankRec Main Acct'!$E$8), Z1342, 0)","v":0},0,{"$f":"IF(AND(NOT(ISBLANK($O1342)), $O1342<'P&L'!$P$8), AC1342, 0)","v":0},{"$f":"IF(OR(ISBLANK($O1342), $O1342>'BankRec Main Acct'!$E$8), AC1342, 0)","v":0},0,{"$f":"IF(AND(NOT(ISBLANK($S1342)), $S1342<'P&L'!$P$8), AF1342, 0)","v":0},{"$f":"IF(OR(ISBLANK($S1342), $S1342>'BankRec Main Acct'!$E$8), AF1342, 0)","v":0},0,{"$f":"IF(AND(NOT(ISBLANK($S1342)), $S1342<'P&L'!$P$8), AI1342, 0)","v":0},{"$f":"IF(OR(ISBLANK($S1342), $S1342>'BankRec Main Acct'!$E$8), AI1342, 0)","v":0},0,{"$f":"IF(AND(NOT(ISBLANK($U1342)), $U1342<'P&L'!$P$8), $AL1342, 0)","v":0},{"$f":"IF(OR(ISBLANK($U1342), $U1342>'DebitCard Rec '!$E$8), $AL1342, 0)","v":0},0,{"$f":"IF(AND(NOT(ISBLANK($U1342)), $U1342<'P&L'!$P$8), $AO1342, 0)","v":0},{"$f":"IF(OR(ISBLANK($U1342), $U1342>'DebitCard Rec '!$E$8), $AO1342, 0)","v":0},0,{"$f":"IF(AND($A1342<'P&L'!$P$8, $X1342='P&L'!$G$6), $AR1342, 0)","v":0},0,{"$f":"IF(AND($A1342<'P&L'!$P$8, $X1342='P&L'!$G$6), $AT1342, 0)","v":0}," "," "," "]
[null,null,null,null,null,null,null,null,null,null,null,null,null,null,null,null,null,null,null,null,null,null,"Jan-00",1900,{"$f":"IF(AND($A1345<'P&L'!$P$8, YEAR($A1345)=Master!$C$6), $K1345, 0)","v":0},0,{"$f":"IF(AND(NOT(ISBLANK($O1345)), $O1345<'P&L'!$P$8), Z1345, 0)","v":0},{"$f":"IF(OR(ISBLANK($O1345), $O1345>'BankRec Main Acct'!$E$8), Z1345, 0)","v":0},0,{"$f":"IF(AND(NOT(ISBLANK($O1345)), $O1345<'P&L'!$P$8), AC1345, 0)","v":0},{"$f":"IF(OR(ISBLANK($O1345), $O1345>'BankRec Main Acct'!$E$8), AC1345, 0)","v":0},0,{"$f":"IF(AND(NOT(ISBLANK($S1345)), $S1345<'P&L'!$P$8), AF1345, 0)","v":0},{"$f":"IF(OR(ISBLANK($S1345), $S1345>'BankRec Main Acct'!$E$8), AF1345, 0)","v":0},0,{"$f":"IF(AND(NOT(ISBLANK($S1345)), $S1345<'P&L'!$P$8), AI1345, 0)","v":0},{"$f":"IF(OR(ISBLANK($S1345), $S1345>'BankRec Main Acct'!$E$8), AI1345, 0)","v":0},0,{"$f":"IF(AND(NOT(ISBLANK($U1345)), $U1345<'P&L'!$P$8), $AL1345, 0)","v":0},{"$f":"IF(OR(ISBLANK($U1345), $U1345>'DebitCard Rec '!$E$8), $AL1345, 0)","v":0},0,{"$f":"IF(AND(NOT(ISBLANK($U1345)), $U1345<'P&L'!$P$8), $AO1345, 0)","v":0},{"$f":"IF(OR(ISBLANK($U1345), $U1345>'DebitCard Rec '!$E$8), $AO1345, 0)","v":0},0,{"$f":"IF(AND($A1345<'P&L'!$P$8, $X1345='P&L'!$G$6), $AR1345, 0)","v":0},0,{"$f":"IF(AND($A1345<'P&L'!$P$8, $X1345='P&L'!$G$6), $AT1345, 0)","v":0}," "," "," "]
[null,null,null,null,null,null,null,null,null,null,null,null,null,null,null,null,null,null,null,null,null,null,"Jan-00",1900,{"$f":"IF(AND($A1360<'P&L'!$P$8, YEAR($A1360)=Master!$C$6), $K1360, 0)","v":0},0,{"$f":"IF(AND(NOT(ISBLANK($O1360)), $O1360<'P&L'!$P$8), Z1360, 0)","v":0},{"$f":"IF(OR(ISBLANK($O1360), $O1360>'BankRec Main Acct'!$E$8), Z1360, 0)","v":0},0,{"$f":"IF(AND(NOT(ISBLANK($O1360)), $O1360<'P&L'!$P$8), AC1360, 0)","v":0},{"$f":"IF(OR(ISBLANK($O1360), $O1360>'BankRec Main Acct'!$E$8), AC1360, 0)","v":0},0,{"$f":"IF(AND(NOT(ISBLANK($S1360)), $S1360<'P&L'!$P$8), AF1360, 0)","v":0},{"$f":"IF(OR(ISBLANK($S1360), $S1360>'BankRec Main Acct'!$E$8), AF1360, 0)","v":0},0,{"$f":"IF(AND(NOT(ISBLANK($S1360)), $S1360<'P&L'!$P$8), AI1360, 0)","v":0},{"$f":"IF(OR(ISBLANK($S1360), $S1360>'BankRec Main Acct'!$E$8), AI1360, 0)","v":0},0,{"$f":"IF(AND(NOT(ISBLANK($U1360)), $U1360<'P&L'!$P$8), $AL1360, 0)","v":0},{"$f":"IF(OR(ISBLANK($U1360), $U1360>'DebitCard Rec '!$E$8), $AL1360, 0)","v":0},0,{"$f":"IF(AND(NOT(ISBLANK($U1360)), $U1360<'P&L'!$P$8), $AO1360, 0)","v":0},{"$f":"IF(OR(ISBLANK($U1360), $U1360>'DebitCard Rec '!$E$8), $AO1360, 0)","v":0},0,{"$f":"IF(AND($A1360<'P&L'!$P$8, $X1360='P&L'!$G$6), $AR1360, 0)","v":0},0,{"$f":"IF(AND($A1360<'P&L'!$P$8, $X1360='P&L'!$G$6), $AT1360, 0)","v":0}," "," "," "]
[null,null,null,null,null,null,null,null,null,null,null,null,null,null,null,null,null,null,null,null,null,null,"Jan-00",1900,{"$f":"IF(AND($A1363<'P&L'!$P$8, YEAR($A1363)=Master!$C$6), $K1363, 0)","v":0},0,{"$f":"IF(AND(NOT(ISBLANK($O1363)), $O1363<'P&L'!$P$8), Z1363, 0)","v":0},{"$f":"IF(OR(ISBLANK($O1363), $O1363>'BankRec Main Acct'!$E$8), Z1363, 0)","v":0},0,{"$f":"IF(AND(NOT(ISBLANK($O1363)), $O1363<'P&L'!$P$8), AC1363, 0)","v":0},{"$f":"IF(OR(ISBLANK($O1363), $O1363>'BankRec Main Acct'!$E$8), AC1363, 0)","v":0},0,{"$f":"IF(AND(NOT(ISBLANK($S1363)), $S1363<'P&L'!$P$8), AF1363, 0)","v":0},{"$f":"IF(OR(ISBLANK($S1363), $S1363>'BankRec Main Acct'!$E$8), AF1363, 0)","v":0},0,{"$f":"IF(AND(NOT(ISBLANK($S1363)), $S1363<'P&L'!$P$8), AI1363, 0)","v":0},{"$f":"IF(OR(ISBLANK($S1363), $S1363>'BankRec Main Acct'!$E$8), AI1363, 0)","v":0},0,{"$f":"IF(AND(NOT(ISBLANK($U1363)), $U1363<'P&L'!$P$8), $AL1363, 0)","v":0},{"$f":"IF(OR(ISBLANK($U1363), $U1363>'DebitCard Rec '!$E$8), $AL1363, 0)","v":0},0,{"$f":"IF(AND(NOT(ISBLANK($U1363)), $U1363<'P&L'!$P$8), $AO1363, 0)","v":0},{"$f":"IF(OR(ISBLANK($U1363), $U1363>'DebitCard Rec '!$E$8), $AO1363, 0)","v":0},0,{"$f":"IF(AND($A1363<'P&L'!$P$8, $X1363='P&L'!$G$6), $AR1363, 0)","v":0},0,{"$f":"IF(AND($A1363<'P&L'!$P$8, $X1363='P&L'!$G$6), $AT1363, 0)","v":0}," "," "," "]
[null,null,null,null,null,null,null,null,null,null,null,null,null,null,null,null,null,null,null,null,null,null,"Jan-00",1900,{"$f":"IF(AND($A1375<'P&L'!$P$8, YEAR($A1375)=Master!$C$6), $K1375, 0)","v":0},0,{"$f":"IF(AND(NOT(ISBLANK($O1375)), $O1375<'P&L'!$P$8), Z1375, 0)","v":0},{"$f":"IF(OR(ISBLANK($O1375), $O1375>'BankRec Main Acct'!$E$8), Z1375, 0)","v":0},0,{"$f":"IF(AND(NOT(ISBLANK($O1375)), $O1375<'P&L'!$P$8), AC1375, 0)","v":0},{"$f":"IF(OR(ISBLANK($O1375), $O1375>'BankRec Main Acct'!$E$8), AC1375, 0)","v":0},0,{"$f":"IF(AND(NOT(ISBLANK($S1375)), $S1375<'P&L'!$P$8), AF1375, 0)","v":0},{"$f":"IF(OR(ISBLANK($S1375), $S1375>'BankRec Main Acct'!$E$8), AF1375, 0)","v":0},0,{"$f":"IF(AND(NOT(ISBLANK($S1375)), $S1375<'P&L'!$P$8), AI1375, 0)","v":0},{"$f":"IF(OR(ISBLANK($S1375), $S1375>'BankRec Main Acct'!$E$8), AI1375, 0)","v":0},0,{"$f":"IF(AND(NOT(ISBLANK($U1375)), $U1375<'P&L'!$P$8), $AL1375, 0)","v":0},{"$f":"IF(OR(ISBLANK($U1375), $U1375>'DebitCard Rec '!$E$8), $AL1375, 0)","v":0},0,{"$f":"IF(AND(NOT(ISBLANK($U1375)), $U1375<'P&L'!$P$8), $AO1375, 0)","v":0},{"$f":"IF(OR(ISBLANK($U1375), $U1375>'DebitCard Rec '!$E$8), $AO1375, 0)","v":0},0,{"$f":"IF(AND($A1375<'P&L'!$P$8, $X1375='P&L'!$G$6), $AR1375, 0)","v":0},0,{"$f":"IF(AND($A1375<'P&L'!$P$8, $X1375='P&L'!$G$6), $AT1375, 0)","v":0}," "," "," "]
[null,null,null,null,null,null,null,null,null,null,null,null,null,null,null,null,null,null,null,null,null,null,"Jan-00",1900,{"$f":"IF(AND($A1384<'P&L'!$P$8, YEAR($A1384)=Master!$C$6), $K1384, 0)","v":0},0,{"$f":"IF(AND(NOT(ISBLANK($O1384)), $O1384<'P&L'!$P$8), Z1384, 0)","v":0},{"$f":"IF(OR(ISBLANK($O1384), $O1384>'BankRec Main Acct'!$E$8), Z1384, 0)","v":0},0,{"$f":"IF(AND(NOT(ISBLANK($O1384)), $O1384<'P&L'!$P$8), AC1384, 0)","v":0},{"$f":"IF(OR(ISBLANK($O1384), $O1384>'BankRec Main Acct'!$E$8), AC1384, 0)","v":0},0,{"$f":"IF(AND(NOT(ISBLANK($S1384)), $S1384<'P&L'!$P$8), AF1384, 0)","v":0},{"$f":"IF(OR(ISBLANK($S1384), $S1384>'BankRec Main Acct'!$E$8), AF1384, 0)","v":0},0,{"$f":"IF(AND(NOT(ISBLANK($S1384)), $S1384<'P&L'!$P$8), AI1384, 0)","v":0},{"$f":"IF(OR(ISBLANK($S1384), $S1384>'BankRec Main Acct'!$E$8), AI1384, 0)","v":0},0,{"$f":"IF(AND(NOT(ISBLANK($U1384)), $U1384<'P&L'!$P$8), $AL1384, 0)","v":0},{"$f":"IF(OR(ISBLANK($U1384), $U1384>'DebitCard Rec '!$E$8), $AL1384, 0)","v":0},0,{"$f":"IF(AND(NOT(ISBLANK($U1384)), $U1384<'P&L'!$P$8), $AO1384, 0)","v":0},{"$f":"IF(OR(ISBLANK($U1384), $U1384>'DebitCard Rec '!$E$8), $AO1384, 0)","v":0},0,{"$f":"IF(AND($A1384<'P&L'!$P$8, $X1384='P&L'!$G$6), $AR1384, 0)","v":0},0,{"$f":"IF(AND($A1384<'P&L'!$P$8, $X1384='P&L'!$G$6), $AT1384, 0)","v":0}," "," "," "]
[null,null,null,null,null,null,null,null,null,null,null,null,null,null,null,null,null,null,null,null,null,null,"Jan-00",1900,{"$f":"IF(AND($A1393<'P&L'!$P$8, YEAR($A1393)=Master!$C$6), $K1393, 0)","v":0},0,{"$f":"IF(AND(NOT(ISBLANK($O1393)), $O1393<'P&L'!$P$8), Z1393, 0)","v":0},{"$f":"IF(OR(ISBLANK($O1393), $O1393>'BankRec Main Acct'!$E$8), Z1393, 0)","v":0},0,{"$f":"IF(AND(NOT(ISBLANK($O1393)), $O1393<'P&L'!$P$8), AC1393, 0)","v":0},{"$f":"IF(OR(ISBLANK($O1393), $O1393>'BankRec Main Acct'!$E$8), AC1393, 0)","v":0},0,{"$f":"IF(AND(NOT(ISBLANK($S1393)), $S1393<'P&L'!$P$8), AF1393, 0)","v":0},{"$f":"IF(OR(ISBLANK($S1393), $S1393>'BankRec Main Acct'!$E$8), AF1393, 0)","v":0},0,{"$f":"IF(AND(NOT(ISBLANK($S1393)), $S1393<'P&L'!$P$8), AI1393, 0)","v":0},{"$f":"IF(OR(ISBLANK($S1393), $S1393>'BankRec Main Acct'!$E$8), AI1393, 0)","v":0},0,{"$f":"IF(AND(NOT(ISBLANK($U1393)), $U1393<'P&L'!$P$8), $AL1393, 0)","v":0},{"$f":"IF(OR(ISBLANK($U1393), $U1393>'DebitCard Rec '!$E$8), $AL1393, 0)","v":0},0,{"$f":"IF(AND(NOT(ISBLANK($U1393)), $U1393<'P&L'!$P$8), $AO1393, 0)","v":0},{"$f":"IF(OR(ISBLANK($U1393), $U1393>'DebitCard Rec '!$E$8), $AO1393, 0)","v":0},0,{"$f":"IF(AND($A1393<'P&L'!$P$8, $X1393='P&L'!$G$6), $AR1393, 0)","v":0},0,{"$f":"IF(AND($A1393<'P&L'!$P$8, $X1393='P&L'!$G$6), $AT1393, 0)","v":0}," "," "," "]
[null,null,null,null,null,null,null,null,null,null,null,null,null,null,null,null,null,null,null,null,null,null,"Jan-00",1900,{"$f":"IF(AND($A1396<'P&L'!$P$8, YEAR($A1396)=Master!$C$6), $K1396, 0)","v":0},0,{"$f":"IF(AND(NOT(ISBLANK($O1396)), $O1396<'P&L'!$P$8), Z1396, 0)","v":0},{"$f":"IF(OR(ISBLANK($O1396), $O1396>'BankRec Main Acct'!$E$8), Z1396, 0)","v":0},0,{"$f":"IF(AND(NOT(ISBLANK($O1396)), $O1396<'P&L'!$P$8), AC1396, 0)","v":0},{"$f":"IF(OR(ISBLANK($O1396), $O1396>'BankRec Main Acct'!$E$8), AC1396, 0)","v":0},0,{"$f":"IF(AND(NOT(ISBLANK($S1396)), $S1396<'P&L'!$P$8), AF1396, 0)","v":0},{"$f":"IF(OR(ISBLANK($S1396), $S1396>'BankRec Main Acct'!$E$8), AF1396, 0)","v":0},0,{"$f":"IF(AND(NOT(ISBLANK($S1396)), $S1396<'P&L'!$P$8), AI1396, 0)","v":0},{"$f":"IF(OR(ISBLANK($S1396), $S1396>'BankRec Main Acct'!$E$8), AI1396, 0)","v":0},0,{"$f":"IF(AND(NOT(ISBLANK($U1396)), $U1396<'P&L'!$P$8), $AL1396, 0)","v":0},{"$f":"IF(OR(ISBLANK($U1396), $U1396>'DebitCard Rec '!$E$8), $AL1396, 0)","v":0},0,{"$f":"IF(AND(NOT(ISBLANK($U1396)), $U1396<'P&L'!$P$8), $AO1396, 0)","v":0},{"$f":"IF(OR(ISBLANK($U1396), $U1396>'DebitCard Rec '!$E$8), $AO1396, 0)","v":0},0,{"$f":"IF(AND($A1396<'P&L'!$P$8, $X1396='P&L'!$G$6), $AR1396, 0)","v":0},0,{"$f":"IF(AND($A1396<'P&L'!$P$8, $X1396='P&L'!$G$6), $AT1396, 0)","v":0}," "," "," "]
[null,null,null,null,null,null,null,null,null,null,null,null,null,null,null,null,null,null,null,null,null,null,"Jan-00",1900,{"$f":"IF(AND($A1412<'P&L'!$P$8, YEAR($A1412)=Master!$C$6), $K1412, 0)","v":0},0,{"$f":"IF(AND(NOT(ISBLANK($O1412)), $O1412<'P&L'!$P$8), Z1412, 0)","v":0},{"$f":"IF(OR(ISBLANK($O1412), $O1412>'BankRec Main Acct'!$E$8), Z1412, 0)","v":0},0,{"$f":"IF(AND(NOT(ISBLANK($O1412)), $O1412<'P&L'!$P$8), AC1412, 0)","v":0},{"$f":"IF(OR(ISBLANK($O1412), $O1412>'BankRec Main Acct'!$E$8), AC1412, 0)","v":0},0,{"$f":"IF(AND(NOT(ISBLANK($S1412)), $S1412<'P&L'!$P$8), AF1412, 0)","v":0},{"$f":"IF(OR(ISBLANK($S1412), $S1412>'BankRec Main Acct'!$E$8), AF1412, 0)","v":0},0,{"$f":"IF(AND(NOT(ISBLANK($S1412)), $S1412<'P&L'!$P$8), AI1412, 0)","v":0},{"$f":"IF(OR(ISBLANK($S1412), $S1412>'BankRec Main Acct'!$E$8), AI1412, 0)","v":0},0,{"$f":"IF(AND(NOT(ISBLANK($U1412)), $U1412<'P&L'!$P$8), $AL1412, 0)","v":0},{"$f":"IF(OR(ISBLANK($U1412), $U1412>'DebitCard Rec '!$E$8), $AL1412, 0)","v":0},0,{"$f":"IF(AND(NOT(ISBLANK($U1412)), $U1412<'P&L'!$P$8), $AO1412, 0)","v":0},{"$f":"IF(OR(ISBLANK($U1412), $U1412>'DebitCard Rec '!$E$8), $AO1412, 0)","v":0},{"$f":"IF($AV1412=\"Petty cash Receipt\", $K1412, 0)","v":0},{"$f":"IF(AND($A1412<'P&L'!$P$8, $X1412='P&L'!$G$6), $AR1412, 0)","v":0},{"$f":"IF($AV1412=\"Petty cash Payment\", $K1412, 0)","v":0},{"$f":"IF(AND($A1412<'P&L'!$P$8, $X1412='P&L'!$G$6), $AT1412, 0)","v":0}," ",{"$f":"IF(C1412=\"Receipt\",CONCATENATE(D1412,\" \", F1412), \" \")","v":" "},{"$f":"IF(C1412= \"Payment\", CONCATENATE(F1412,\" \",E1412), \" \")","v":" "}]
[null,null,null,null,null,null,null,null,null,null,null,null,null,null,null,null,null,null,null,null,null,null,"Jan-00",1900,{"$f":"IF(AND($A1415<'P&L'!$P$8, YEAR($A1415)=Master!$C$6), $K1415, 0)","v":0},0,{"$f":"IF(AND(NOT(ISBLANK($O1415)), $O1415<'P&L'!$P$8), Z1415, 0)","v":0},{"$f":"IF(OR(ISBLANK($O1415), $O1415>'BankRec Main Acct'!$E$8), Z1415, 0)","v":0},0,{"$f":"IF(AND(NOT(ISBLANK($O1415)), $O1415<'P&L'!$P$8), AC1415, 0)","v":0},{"$f":"IF(OR(ISBLANK($O1415), $O1415>'BankRec Main Acct'!$E$8), AC1415, 0)","v":0},0,{"$f":"IF(AND(NOT(ISBLANK($S1415)), $S1415<'P&L'!$P$8), AF1415, 0)","v":0},{"$f":"IF(OR(ISBLANK($S1415), $S1415>'BankRec Main Acct'!$E$8), AF1415, 0)","v":0},0,{"$f":"IF(AND(NOT(ISBLANK($S1415)), $S1415<'P&L'!$P$8), AI1415, 0)","v":0},{"$f":"IF(OR(ISBLANK($S1415), $S1415>'BankRec Main Acct'!$E$8), AI1415, 0)","v":0},0,{"$f":"IF(AND(NOT(ISBLANK($U1415)), $U1415<'P&L'!$P$8), $AL1415, 0)","v":0},{"$f":"IF(OR(ISBLANK($U1415), $U1415>'DebitCard Rec '!$E$8), $AL1415, 0)","v":0},0,{"$f":"IF(AND(NOT(ISBLANK($U1415)), $U1415<'P&L'!$P$8), $AO1415, 0)","v":0},{"$f":"IF(OR(ISBLANK($U1415), $U1415>'DebitCard Rec '!$E$8), $AO1415, 0)","v":0},0,{"$f":"IF(AND($A1415<'P&L'!$P$8, $X1415='P&L'!$G$6), $AR1415, 0)","v":0},0,{"$f":"IF(AND($A1415<'P&L'!$P$8, $X1415='P&L'!$G$6), $AT1415, 0)","v":0}," "," "," "]
[null,null,null,null,null,null,null,null,null,null,null,null,null,null,null,null,null,null,null,null,null,null,"Jan-00",1900,{"$f":"IF(AND($A1425<'P&L'!$P$8, YEAR($A1425)=Master!$C$6), $K1425, 0)","v":0},0,{"$f":"IF(AND(NOT(ISBLANK($O1425)), $O1425<'P&L'!$P$8), Z1425, 0)","v":0},{"$f":"IF(OR(ISBLANK($O1425), $O1425>'BankRec Main Acct'!$E$8), Z1425, 0)","v":0},0,{"$f":"IF(AND(NOT(ISBLANK($O1425)), $O1425<'P&L'!$P$8), AC1425, 0)","v":0},{"$f":"IF(OR(ISBLANK($O1425), $O1425>'BankRec Main Acct'!$E$8), AC1425, 0)","v":0},0,{"$f":"IF(AND(NOT(ISBLANK($S1425)), $S1425<'P&L'!$P$8), AF1425, 0)","v":0},{"$f":"IF(OR(ISBLANK($S1425), $S1425>'BankRec Main Acct'!$E$8), AF1425, 0)","v":0},0,{"$f":"IF(AND(NOT(ISBLANK($S1425)), $S1425<'P&L'!$P$8), AI1425, 0)","v":0},{"$f":"IF(OR(ISBLANK($S1425), $S1425>'BankRec Main Acct'!$E$8), AI1425, 0)","v":0},0,{"$f":"IF(AND(NOT(ISBLANK($U1425)), $U1425<'P&L'!$P$8), $AL1425, 0)","v":0},{"$f":"IF(OR(ISBLANK($U1425), $U1425>'DebitCard Rec '!$E$8), $AL1425, 0)","v":0},0,{"$f":"IF(AND(NOT(ISBLANK($U1425)), $U1425<'P&L'!$P$8), $AO1425, 0)","v":0},{"$f":"IF(OR(ISBLANK($U1425), $U1425>'DebitCard Rec '!$E$8), $AO1425, 0)","v":0},0,{"$f":"IF(AND($A1425<'P&L'!$P$8, $X1425='P&L'!$G$6), $AR1425, 0)","v":0},0,{"$f":"IF(AND($A1425<'P&L'!$P$8, $X1425='P&L'!$G$6), $AT1425, 0)","v":0}," "," "," "]
[null,null,null,null,null,null,null,null,null,null,null,null,null,null,null,null,null,null,null,null,null,null,"Jan-00",1900,{"$f":"IF(AND($A1433<'P&L'!$P$8, YEAR($A1433)=Master!$C$6), $K1433, 0)","v":0},0,{"$f":"IF(AND(NOT(ISBLANK($O1433)), $O1433<'P&L'!$P$8), Z1433, 0)","v":0},{"$f":"IF(OR(ISBLANK($O1433), $O1433>'BankRec Main Acct'!$E$8), Z1433, 0)","v":0},0,{"$f":"IF(AND(NOT(ISBLANK($O1433)), $O1433<'P&L'!$P$8), AC1433, 0)","v":0},{"$f":"IF(OR(ISBLANK($O1433), $O1433>'BankRec Main Acct'!$E$8), AC1433, 0)","v":0},0,{"$f":"IF(AND(NOT(ISBLANK($S1433)), $S1433<'P&L'!$P$8), AF1433, 0)","v":0},{"$f":"IF(OR(ISBLANK($S1433), $S1433>'BankRec Main Acct'!$E$8), AF1433, 0)","v":0},0,{"$f":"IF(AND(NOT(ISBLANK($S1433)), $S1433<'P&L'!$P$8), AI1433, 0)","v":0},{"$f":"IF(OR(ISBLANK($S1433), $S1433>'BankRec Main Acct'!$E$8), AI1433, 0)","v":0},0,{"$f":"IF(AND(NOT(ISBLANK($U1433)), $U1433<'P&L'!$P$8), $AL1433, 0)","v":0},{"$f":"IF(OR(ISBLANK($U1433), $U1433>'DebitCard Rec '!$E$8), $AL1433, 0)","v":0},0,{"$f":"IF(AND(NOT(ISBLANK($U1433)), $U1433<'P&L'!$P$8), $AO1433, 0)","v":0},{"$f":"IF(OR(ISBLANK($U1433), $U1433>'DebitCard Rec '!$E$8), $AO1433, 0)","v":0},0,{"$f":"IF(AND($A1433<'P&L'!$P$8, $X1433='P&L'!$G$6), $AR1433, 0)","v":0},0,{"$f":"IF(AND($A1433<'P&L'!$P$8, $X1433='P&L'!$G$6), $AT1433, 0)","v":0}," "," "," "]
[null,null,null,null,null,null,null,null,null,null,null,null,null,null,null,null,null,null,null,null,null,null,"Jan-00",1900,{"$f":"IF(AND($A1445<'P&L'!$P$8, YEAR($A1445)=Master!$C$6), $K1445, 0)","v":0},0,{"$f":"IF(AND(NOT(ISBLANK($O1445)), $O1445<'P&L'!$P$8), Z1445, 0)","v":0},{"$f":"IF(OR(ISBLANK($O1445), $O1445>'BankRec Main Acct'!$E$8), Z1445, 0)","v":0},0,{"$f":"IF(AND(NOT(ISBLANK($O1445)), $O1445<'P&L'!$P$8), AC1445, 0)","v":0},{"$f":"IF(OR(ISBLANK($O1445), $O1445>'BankRec Main Acct'!$E$8), AC1445, 0)","v":0},0,{"$f":"IF(AND(NOT(ISBLANK($S1445)), $S1445<'P&L'!$P$8), AF1445, 0)","v":0},{"$f":"IF(OR(ISBLANK($S1445), $S1445>'BankRec Main Acct'!$E$8), AF1445, 0)","v":0},0,{"$f":"IF(AND(NOT(ISBLANK($S1445)), $S1445<'P&L'!$P$8), AI1445, 0)","v":0},{"$f":"IF(OR(ISBLANK($S1445), $S1445>'BankRec Main Acct'!$E$8), AI1445, 0)","v":0},0,{"$f":"IF(AND(NOT(ISBLANK($U1445)), $U1445<'P&L'!$P$8), $AL1445, 0)","v":0},{"$f":"IF(OR(ISBLANK($U1445), $U1445>'DebitCard Rec '!$E$8), $AL1445, 0)","v":0},0,{"$f":"IF(AND(NOT(ISBLANK($U1445)), $U1445<'P&L'!$P$8), $AO1445, 0)","v":0},{"$f":"IF(OR(ISBLANK($U1445), $U1445>'DebitCard Rec '!$E$8), $AO1445, 0)","v":0},0,{"$f":"IF(AND($A1445<'P&L'!$P$8, $X1445='P&L'!$G$6), $AR1445, 0)","v":0},0,{"$f":"IF(AND($A1445<'P&L'!$P$8, $X1445='P&L'!$G$6), $AT1445, 0)","v":0}," "," "," "]
[null,null,null,null,null,null,null,null,null,null,null,null,null,null,null,null,null,null,null,null,null,null,"Jan-00",1900,{"$f":"IF(AND($A1452<'P&L'!$P$8, YEAR($A1452)=Master!$C$6), $K1452, 0)","v":0},0,{"$f":"IF(AND(NOT(ISBLANK($O1452)), $O1452<'P&L'!$P$8), Z1452, 0)","v":0},{"$f":"IF(OR(ISBLANK($O1452), $O1452>'BankRec Main Acct'!$E$8), Z1452, 0)","v":0},0,{"$f":"IF(AND(NOT(ISBLANK($O1452)), $O1452<'P&L'!$P$8), AC1452, 0)","v":0},{"$f":"IF(OR(ISBLANK($O1452), $O1452>'BankRec Main Acct'!$E$8), AC1452, 0)","v":0},0,{"$f":"IF(AND(NOT(ISBLANK($S1452)), $S1452<'P&L'!$P$8), AF1452, 0)","v":0},{"$f":"IF(OR(ISBLANK($S1452), $S1452>'BankRec Main Acct'!$E$8), AF1452, 0)","v":0},0,{"$f":"IF(AND(NOT(ISBLANK($S1452)), $S1452<'P&L'!$P$8), AI1452, 0)","v":0},{"$f":"IF(OR(ISBLANK($S1452), $S1452>'BankRec Main Acct'!$E$8), AI1452, 0)","v":0},0,{"$f":"IF(AND(NOT(ISBLANK($U1452)), $U1452<'P&L'!$P$8), $AL1452, 0)","v":0},{"$f":"IF(OR(ISBLANK($U1452), $U1452>'DebitCard Rec '!$E$8), $AL1452, 0)","v":0},0,{"$f":"IF(AND(NOT(ISBLANK($U1452)), $U1452<'P&L'!$P$8), $AO1452, 0)","v":0},{"$f":"IF(OR(ISBLANK($U1452), $U1452>'DebitCard Rec '!$E$8), $AO1452, 0)","v":0},0,{"$f":"IF(AND($A1452<'P&L'!$P$8, $X1452='P&L'!$G$6), $AR1452, 0)","v":0},0,{"$f":"IF(AND($A1452<'P&L'!$P$8, $X1452='P&L'!$G$6), $AT1452, 0)","v":0}," "," "," "]
[null,null,null,null,null,null,null,null,null,null,null,null,null,null,null,null,null,null,null,null,null,null,"Jan-00",1900,{"$f":"IF(AND($A1464<'P&L'!$P$8, YEAR($A1464)=Master!$C$6), $K1464, 0)","v":0},0,{"$f":"IF(AND(NOT(ISBLANK($O1464)), $O1464<'P&L'!$P$8), Z1464, 0)","v":0},{"$f":"IF(OR(ISBLANK($O1464), $O1464>'BankRec Main Acct'!$E$8), Z1464, 0)","v":0},0,{"$f":"IF(AND(NOT(ISBLANK($O1464)), $O1464<'P&L'!$P$8), AC1464, 0)","v":0},{"$f":"IF(OR(ISBLANK($O1464), $O1464>'BankRec Main Acct'!$E$8), AC1464, 0)","v":0},0,{"$f":"IF(AND(NOT(ISBLANK($S1464)), $S1464<'P&L'!$P$8), AF1464, 0)","v":0},{"$f":"IF(OR(ISBLANK($S1464), $S1464>'BankRec Main Acct'!$E$8), AF1464, 0)","v":0},0,{"$f":"IF(AND(NOT(ISBLANK($S1464)), $S1464<'P&L'!$P$8), AI1464, 0)","v":0},{"$f":"IF(OR(ISBLANK($S1464), $S1464>'BankRec Main Acct'!$E$8), AI1464, 0)","v":0},0,{"$f":"IF(AND(NOT(ISBLANK($U1464)), $U1464<'P&L'!$P$8), $AL1464, 0)","v":0},{"$f":"IF(OR(ISBLANK($U1464), $U1464>'DebitCard Rec '!$E$8), $AL1464, 0)","v":0},0,{"$f":"IF(AND(NOT(ISBLANK($U1464)), $U1464<'P&L'!$P$8), $AO1464, 0)","v":0},{"$f":"IF(OR(ISBLANK($U1464), $U1464>'DebitCard Rec '!$E$8), $AO1464, 0)","v":0},0,{"$f":"IF(AND($A1464<'P&L'!$P$8, $X1464='P&L'!$G$6), $AR1464, 0)","v":0},0,{"$f":"IF(AND($A1464<'P&L'!$P$8, $X1464='P&L'!$G$6), $AT1464, 0)","v":0}," "," "," "]
[null,null,null,null,null,null,null,null,null,null,null,null,null,null,null,null,null,null,null,null,null,null,"Jan-00",1900,{"$f":"IF(AND($A1474<'P&L'!$P$8, YEAR($A1474)=Master!$C$6), $K1474, 0)","v":0},0,{"$f":"IF(AND(NOT(ISBLANK($O1474)), $O1474<'P&L'!$P$8), Z1474, 0)","v":0},{"$f":"IF(OR(ISBLANK($O1474), $O1474>'BankRec Main Acct'!$E$8), Z1474, 0)","v":0},0,{"$f":"IF(AND(NOT(ISBLANK($O1474)), $O1474<'P&L'!$P$8), AC1474, 0)","v":0},{"$f":"IF(OR(ISBLANK($O1474), $O1474>'BankRec Main Acct'!$E$8), AC1474, 0)","v":0},0,{"$f":"IF(AND(NOT(ISBLANK($S1474)), $S1474<'P&L'!$P$8), AF1474, 0)","v":0},{"$f":"IF(OR(ISBLANK($S1474), $S1474>'BankRec Main Acct'!$E$8), AF1474, 0)","v":0},0,{"$f":"IF(AND(NOT(ISBLANK($S1474)), $S1474<'P&L'!$P$8), AI1474, 0)","v":0},{"$f":"IF(OR(ISBLANK($S1474), $S1474>'BankRec Main Acct'!$E$8), AI1474, 0)","v":0},0,{"$f":"IF(AND(NOT(ISBLANK($U1474)), $U1474<'P&L'!$P$8), $AL1474, 0)","v":0},{"$f":"IF(OR(ISBLANK($U1474), $U1474>'DebitCard Rec '!$E$8), $AL1474, 0)","v":0},0,{"$f":"IF(AND(NOT(ISBLANK($U1474)), $U1474<'P&L'!$P$8), $AO1474, 0)","v":0},{"$f":"IF(OR(ISBLANK($U1474), $U1474>'DebitCard Rec '!$E$8), $AO1474, 0)","v":0},0,{"$f":"IF(AND($A1474<'P&L'!$P$8, $X1474='P&L'!$G$6), $AR1474, 0)","v":0},0,{"$f":"IF(AND($A1474<'P&L'!$P$8, $X1474='P&L'!$G$6), $AT1474, 0)","v":0}," "," "," "]
[null,null,null,null,null,null,null,null,null,null,null,null,null,null,null,null,null,null,null,null,null,null,"Jan-00",1900,{"$f":"IF(AND($A1482<'P&L'!$P$8, YEAR($A1482)=Master!$C$6), $K1482, 0)","v":0},0,{"$f":"IF(AND(NOT(ISBLANK($O1482)), $O1482<'P&L'!$P$8), Z1482, 0)","v":0},{"$f":"IF(OR(ISBLANK($O1482), $O1482>'BankRec Main Acct'!$E$8), Z1482, 0)","v":0},0,{"$f":"IF(AND(NOT(ISBLANK($O1482)), $O1482<'P&L'!$P$8), AC1482, 0)","v":0},{"$f":"IF(OR(ISBLANK($O1482), $O1482>'BankRec Main Acct'!$E$8), AC1482, 0)","v":0},0,{"$f":"IF(AND(NOT(ISBLANK($S1482)), $S1482<'P&L'!$P$8), AF1482, 0)","v":0},{"$f":"IF(OR(ISBLANK($S1482), $S1482>'BankRec Main Acct'!$E$8), AF1482, 0)","v":0},0,{"$f":"IF(AND(NOT(ISBLANK($S1482)), $S1482<'P&L'!$P$8), AI1482, 0)","v":0},{"$f":"IF(OR(ISBLANK($S1482), $S1482>'BankRec Main Acct'!$E$8), AI1482, 0)","v":0},0,{"$f":"IF(AND(NOT(ISBLANK($U1482)), $U1482<'P&L'!$P$8), $AL1482, 0)","v":0},{"$f":"IF(OR(ISBLANK($U1482), $U1482>'DebitCard Rec '!$E$8), $AL1482, 0)","v":0},0,{"$f":"IF(AND(NOT(ISBLANK($U1482)), $U1482<'P&L'!$P$8), $AO1482, 0)","v":0},{"$f":"IF(OR(ISBLANK($U1482), $U1482>'DebitCard Rec '!$E$8), $AO1482, 0)","v":0},0,{"$f":"IF(AND($A1482<'P&L'!$P$8, $X1482='P&L'!$G$6), $AR1482, 0)","v":0},0,{"$f":"IF(AND($A1482<'P&L'!$P$8, $X1482='P&L'!$G$6), $AT1482, 0)","v":0}," "," "," "]
[null,null,null,null,null,null,null,null,null,null,null,null,null,null,null,null,null,null,null,null,null,null,"Jan-00",1900,{"$f":"IF(AND($A1485<'P&L'!$P$8, YEAR($A1485)=Master!$C$6), $K1485, 0)","v":0},0,{"$f":"IF(AND(NOT(ISBLANK($O1485)), $O1485<'P&L'!$P$8), Z1485, 0)","v":0},{"$f":"IF(OR(ISBLANK($O1485), $O1485>'BankRec Main Acct'!$E$8), Z1485, 0)","v":0},0,{"$f":"IF(AND(NOT(ISBLANK($O1485)), $O1485<'P&L'!$P$8), AC1485, 0)","v":0},{"$f":"IF(OR(ISBLANK($O1485), $O1485>'BankRec Main Acct'!$E$8), AC1485, 0)","v":0},0,{"$f":"IF(AND(NOT(ISBLANK($S1485)), $S1485<'P&L'!$P$8), AF1485, 0)","v":0},{"$f":"IF(OR(ISBLANK($S1485), $S1485>'BankRec Main Acct'!$E$8), AF1485, 0)","v":0},0,{"$f":"IF(AND(NOT(ISBLANK($S1485)), $S1485<'P&L'!$P$8), AI1485, 0)","v":0},{"$f":"IF(OR(ISBLANK($S1485), $S1485>'BankRec Main Acct'!$E$8), AI1485, 0)","v":0},0,{"$f":"IF(AND(NOT(ISBLANK($U1485)), $U1485<'P&L'!$P$8), $AL1485, 0)","v":0},{"$f":"IF(OR(ISBLANK($U1485), $U1485>'DebitCard Rec '!$E$8), $AL1485, 0)","v":0},0,{"$f":"IF(AND(NOT(ISBLANK($U1485)), $U1485<'P&L'!$P$8), $AO1485, 0)","v":0},{"$f":"IF(OR(ISBLANK($U1485), $U1485>'DebitCard Rec '!$E$8), $AO1485, 0)","v":0},0,{"$f":"IF(AND($A1485<'P&L'!$P$8, $X1485='P&L'!$G$6), $AR1485, 0)","v":0},0,{"$f":"IF(AND($A1485<'P&L'!$P$8, $X1485='P&L'!$G$6), $AT1485, 0)","v":0}," "," "," "]
[null,null,null,null,null,null,null,null,null,null,null,null,null,null,null,null,null,null,null,null,null,null,"Jan-00",1900,{"$f":"IF(AND($A1501<'P&L'!$P$8, YEAR($A1501)=Master!$C$6), $K1501, 0)","v":0},0,{"$f":"IF(AND(NOT(ISBLANK($O1501)), $O1501<'P&L'!$P$8), Z1501, 0)","v":0},{"$f":"IF(OR(ISBLANK($O1501), $O1501>'BankRec Main Acct'!$E$8), Z1501, 0)","v":0},0,{"$f":"IF(AND(NOT(ISBLANK($O1501)), $O1501<'P&L'!$P$8), AC1501, 0)","v":0},{"$f":"IF(OR(ISBLANK($O1501), $O1501>'BankRec Main Acct'!$E$8), AC1501, 0)","v":0},0,{"$f":"IF(AND(NOT(ISBLANK($S1501)), $S1501<'P&L'!$P$8), AF1501, 0)","v":0},{"$f":"IF(OR(ISBLANK($S1501), $S1501>'BankRec Main Acct'!$E$8), AF1501, 0)","v":0},0,{"$f":"IF(AND(NOT(ISBLANK($S1501)), $S1501<'P&L'!$P$8), AI1501, 0)","v":0},{"$f":"IF(OR(ISBLANK($S1501), $S1501>'BankRec Main Acct'!$E$8), AI1501, 0)","v":0},0,{"$f":"IF(AND(NOT(ISBLANK($U1501)), $U1501<'P&L'!$P$8), $AL1501, 0)","v":0},{"$f":"IF(OR(ISBLANK($U1501), $U1501>'DebitCard Rec '!$E$8), $AL1501, 0)","v":0},0,{"$f":"IF(AND(NOT(ISBLANK($U1501)), $U1501<'P&L'!$P$8), $AO1501, 0)","v":0},{"$f":"IF(OR(ISBLANK($U1501), $U1501>'DebitCard Rec '!$E$8), $AO1501, 0)","v":0},0,{"$f":"IF(AND($A1501<'P&L'!$P$8, $X1501='P&L'!$G$6), $AR1501, 0)","v":0},0,{"$f":"IF(AND($A1501<'P&L'!$P$8, $X1501='P&L'!$G$6), $AT1501, 0)","v":0}," "," "," "]
[null,null,null,null,null,null,null,null,null,null,null,null,null,null,null,null,null,null,null,null,null,null,"Jan-00",1900,{"$f":"IF(AND($A1505<'P&L'!$P$8, YEAR($A1505)=Master!$C$6), $K1505, 0)","v":0},0,{"$f":"IF(AND(NOT(ISBLANK($O1505)), $O1505<'P&L'!$P$8), Z1505, 0)","v":0},{"$f":"IF(OR(ISBLANK($O1505), $O1505>'BankRec Main Acct'!$E$8), Z1505, 0)","v":0},0,{"$f":"IF(AND(NOT(ISBLANK($O1505)), $O1505<'P&L'!$P$8), AC1505, 0)","v":0},{"$f":"IF(OR(ISBLANK($O1505), $O1505>'BankRec Main Acct'!$E$8), AC1505, 0)","v":0},0,{"$f":"IF(AND(NOT(ISBLANK($S1505)), $S1505<'P&L'!$P$8), AF1505, 0)","v":0},{"$f":"IF(OR(ISBLANK($S1505), $S1505>'BankRec Main Acct'!$E$8), AF1505, 0)","v":0},0,{"$f":"IF(AND(NOT(ISBLANK($S1505)), $S1505<'P&L'!$P$8), AI1505, 0)","v":0},{"$f":"IF(OR(ISBLANK($S1505), $S1505>'BankRec Main Acct'!$E$8), AI1505, 0)","v":0},0,{"$f":"IF(AND(NOT(ISBLANK($U1505)), $U1505<'P&L'!$P$8), $AL1505, 0)","v":0},{"$f":"IF(OR(ISBLANK($U1505), $U1505>'DebitCard Rec '!$E$8), $AL1505, 0)","v":0},0,{"$f":"IF(AND(NOT(ISBLANK($U1505)), $U1505<'P&L'!$P$8), $AO1505, 0)","v":0},{"$f":"IF(OR(ISBLANK($U1505), $U1505>'DebitCard Rec '!$E$8), $AO1505, 0)","v":0},0,{"$f":"IF(AND($A1505<'P&L'!$P$8, $X1505='P&L'!$G$6), $AR1505, 0)","v":0},0,{"$f":"IF(AND($A1505<'P&L'!$P$8, $X1505='P&L'!$G$6), $AT1505, 0)","v":0}," "," "," "]
[null,null,null,null,null,null,null,null,null,null,null,null,null,null,null,null,null,null,null,null,null,null,"Jan-00",1900,{"$f":"IF(AND($A1515<'P&L'!$P$8, YEAR($A1515)=Master!$C$6), $K1515, 0)","v":0},0,{"$f":"IF(AND(NOT(ISBLANK($O1515)), $O1515<'P&L'!$P$8), Z1515, 0)","v":0},{"$f":"IF(OR(ISBLANK($O1515), $O1515>'BankRec Main Acct'!$E$8), Z1515, 0)","v":0},0,{"$f":"IF(AND(NOT(ISBLANK($O1515)), $O1515<'P&L'!$P$8), AC1515, 0)","v":0},{"$f":"IF(OR(ISBLANK($O1515), $O1515>'BankRec Main Acct'!$E$8), AC1515, 0)","v":0},0,{"$f":"IF(AND(NOT(ISBLANK($S1515)), $S1515<'P&L'!$P$8), AF1515, 0)","v":0},{"$f":"IF(OR(ISBLANK($S1515), $S1515>'BankRec Main Acct'!$E$8), AF1515, 0)","v":0},0,{"$f":"IF(AND(NOT(ISBLANK($S1515)), $S1515<'P&L'!$P$8), AI1515, 0)","v":0},{"$f":"IF(OR(ISBLANK($S1515), $S1515>'BankRec Main Acct'!$E$8), AI1515, 0)","v":0},0,{"$f":"IF(AND(NOT(ISBLANK($U1515)), $U1515<'P&L'!$P$8), $AL1515, 0)","v":0},{"$f":"IF(OR(ISBLANK($U1515), $U1515>'DebitCard Rec '!$E$8), $AL1515, 0)","v":0},0,{"$f":"IF(AND(NOT(ISBLANK($U1515)), $U1515<'P&L'!$P$8), $AO1515, 0)","v":0},{"$f":"IF(OR(ISBLANK($U1515), $U1515>'DebitCard Rec '!$E$8), $AO1515, 0)","v":0},0,{"$f":"IF(AND($A1515<'P&L'!$P$8, $X1515='P&L'!$G$6), $AR1515, 0)","v":0},0,{"$f":"IF(AND($A1515<'P&L'!$P$8, $X1515='P&L'!$G$6), $AT1515, 0)","v":0}," "," "," "]
[null,null,null,null,null,null,null,null,null,null,null,null,null,null,null,null,null,null,null,null,null,null,"Jan-00",1900,{"$f":"IF(AND($A1522<'P&L'!$P$8, YEAR($A1522)=Master!$C$6), $K1522, 0)","v":0},0,{"$f":"IF(AND(NOT(ISBLANK($O1522)), $O1522<'P&L'!$P$8), Z1522, 0)","v":0},{"$f":"IF(OR(ISBLANK($O1522), $O1522>'BankRec Main Acct'!$E$8), Z1522, 0)","v":0},0,{"$f":"IF(AND(NOT(ISBLANK($O1522)), $O1522<'P&L'!$P$8), AC1522, 0)","v":0},{"$f":"IF(OR(ISBLANK($O1522), $O1522>'BankRec Main Acct'!$E$8), AC1522, 0)","v":0},0,{"$f":"IF(AND(NOT(ISBLANK($S1522)), $S1522<'P&L'!$P$8), AF1522, 0)","v":0},{"$f":"IF(OR(ISBLANK($S1522), $S1522>'BankRec Main Acct'!$E$8), AF1522, 0)","v":0},0,{"$f":"IF(AND(NOT(ISBLANK($S1522)), $S1522<'P&L'!$P$8), AI1522, 0)","v":0},{"$f":"IF(OR(ISBLANK($S1522), $S1522>'BankRec Main Acct'!$E$8), AI1522, 0)","v":0},0,{"$f":"IF(AND(NOT(ISBLANK($U1522)), $U1522<'P&L'!$P$8), $AL1522, 0)","v":0},{"$f":"IF(OR(ISBLANK($U1522), $U1522>'DebitCard Rec '!$E$8), $AL1522, 0)","v":0},0,{"$f":"IF(AND(NOT(ISBLANK($U1522)), $U1522<'P&L'!$P$8), $AO1522, 0)","v":0},{"$f":"IF(OR(ISBLANK($U1522), $U1522>'DebitCard Rec '!$E$8), $AO1522, 0)","v":0},0,{"$f":"IF(AND($A1522<'P&L'!$P$8, $X1522='P&L'!$G$6), $AR1522, 0)","v":0},0,{"$f":"IF(AND($A1522<'P&L'!$P$8, $X1522='P&L'!$G$6), $AT1522, 0)","v":0}," "," "," "]
[null,null,null,null,null,null,null,null,null,null,null,null,null,null,null,null,null,null,null,null,null,null,"Jan-00",1900,{"$f":"IF(AND($A1534<'P&L'!$P$8, YEAR($A1534)=Master!$C$6), $K1534, 0)","v":0},0,{"$f":"IF(AND(NOT(ISBLANK($O1534)), $O1534<'P&L'!$P$8), Z1534, 0)","v":0},{"$f":"IF(OR(ISBLANK($O1534), $O1534>'BankRec Main Acct'!$E$8), Z1534, 0)","v":0},0,{"$f":"IF(AND(NOT(ISBLANK($O1534)), $O1534<'P&L'!$P$8), AC1534, 0)","v":0},{"$f":"IF(OR(ISBLANK($O1534), $O1534>'BankRec Main Acct'!$E$8), AC1534, 0)","v":0},0,{"$f":"IF(AND(NOT(ISBLANK($S1534)), $S1534<'P&L'!$P$8), AF1534, 0)","v":0},{"$f":"IF(OR(ISBLANK($S1534), $S1534>'BankRec Main Acct'!$E$8), AF1534, 0)","v":0},0,{"$f":"IF(AND(NOT(ISBLANK($S1534)), $S1534<'P&L'!$P$8), AI1534, 0)","v":0},{"$f":"IF(OR(ISBLANK($S1534), $S1534>'BankRec Main Acct'!$E$8), AI1534, 0)","v":0},0,{"$f":"IF(AND(NOT(ISBLANK($U1534)), $U1534<'P&L'!$P$8), $AL1534, 0)","v":0},{"$f":"IF(OR(ISBLANK($U1534), $U1534>'DebitCard Rec '!$E$8), $AL1534, 0)","v":0},0,{"$f":"IF(AND(NOT(ISBLANK($U1534)), $U1534<'P&L'!$P$8), $AO1534, 0)","v":0},{"$f":"IF(OR(ISBLANK($U1534), $U1534>'DebitCard Rec '!$E$8), $AO1534, 0)","v":0},0,{"$f":"IF(AND($A1534<'P&L'!$P$8, $X1534='P&L'!$G$6), $AR1534, 0)","v":0},0,{"$f":"IF(AND($A1534<'P&L'!$P$8, $X1534='P&L'!$G$6), $AT1534, 0)","v":0}," "," "," "]
[null,null,null,null,null,null,null,null,null,null,null,null,null,null,null,null,null,null,null,null,null,null,"Jan-00",1900,{"$f":"IF(AND($A1541<'P&L'!$P$8, YEAR($A1541)=Master!$C$6), $K1541, 0)","v":0},{"$f":"IF(AND($C1541=\"Receipt\",$B1541<>\"debit card\",$B1541<>\"petty cash\",$B1541<>\"Cash_Sub\",$B1541<>\"Cheque_Sub\", $B1541<>\"EFT_Sub\"),$K1541,0)","v":0},{"$f":"IF(AND(NOT(ISBLANK($O1541)), $O1541<'P&L'!$P$8), Z1541, 0)","v":0},{"$f":"IF(OR(ISBLANK($O1541), $O1541>'BankRec Main Acct'!$E$8), Z1541, 0)","v":0},{"$f":"IF(AND($C1541=\"Payment\", $B1541<>\"debit card\", $B1541<>\"petty cash\", $B1541<>\"Cash_Sub\", $B1541<>\"Cheque_Sub\", $B1541<>\"EFT_Sub\"), $K1541, 0)","v":0},{"$f":"IF(AND(NOT(ISBLANK($O1541)), $O1541<'P&L'!$P$8), AC1541, 0)","v":0},{"$f":"IF(OR(ISBLANK($O1541), $O1541>'BankRec Main Acct'!$E$8), AC1541, 0)","v":0},{"$f":"IF(AND($C1541=\"Receipt\",$B1541<>\"debit card\",$B1541<>\"petty cash\",$B1541<>\"Cash_Main\",$B1541<>\"Cheque_Main\", $B1541<>\"EFT_Main\"),$K1541,0)","v":0},{"$f":"IF(AND(NOT(ISBLANK($S1541)), $S1541<'P&L'!$P$8), AF1541, 0)","v":0},{"$f":"IF(OR(ISBLANK($S1541), $S1541>'BankRec Main Acct'!$E$8), AF1541, 0)","v":0},{"$f":"IF(AND($C1541=\"Payment\", $B1541<>\"debit card\", $B1541<>\"petty cash\", $B1541<>\"Cash_Main\", $B1541<>\"Cheque_Main\", $B1541<>\"EFT_Main\"), $K1541, 0)","v":0},{"$f":"IF(AND(NOT(ISBLANK($S1541)), $S1541<'P&L'!$P$8), AI1541, 0)","v":0},{"$f":"IF(OR(ISBLANK($S1541), $S1541>'BankRec Main Acct'!$E$8), AI1541, 0)","v":0},0,{"$f":"IF(AND(NOT(ISBLANK($U1541)), $U1541<'P&L'!$P$8), $AL1541, 0)","v":0},{"$f":"IF(OR(ISBLANK($U1541), $U1541>'DebitCard Rec '!$E$8), $AL1541, 0)","v":0},0,{"$f":"IF(AND(NOT(ISBLANK($U1541)), $U1541<'P&L'!$P$8), $AO1541, 0)","v":0},{"$f":"IF(OR(ISBLANK($U1541), $U1541>'DebitCard Rec '!$E$8), $AO1541, 0)","v":0},0,{"$f":"IF(AND($A1541<'P&L'!$P$8, $X1541='P&L'!$G$6), $AR1541, 0)","v":0},0,{"$f":"IF(AND($A1541<'P&L'!$P$8, $X1541='P&L'!$G$6), $AT1541, 0)","v":0}," "," "," "]
[null,null,null,null,null,null,null,null,null,null,null,null,null,null,null,null,null,null,null,null,null,null,"Jan-00",1900,{"$f":"IF(AND($A1546<'P&L'!$P$8, YEAR($A1546)=Master!$C$6), $K1546, 0)","v":0},0,{"$f":"IF(AND(NOT(ISBLANK($O1546)), $O1546<'P&L'!$P$8), Z1546, 0)","v":0},{"$f":"IF(OR(ISBLANK($O1546), $O1546>'BankRec Main Acct'!$E$8), Z1546, 0)","v":0},0,{"$f":"IF(AND(NOT(ISBLANK($O1546)), $O1546<'P&L'!$P$8), AC1546, 0)","v":0},{"$f":"IF(OR(ISBLANK($O1546), $O1546>'BankRec Main Acct'!$E$8), AC1546, 0)","v":0},0,{"$f":"IF(AND(NOT(ISBLANK($S1546)), $S1546<'P&L'!$P$8), AF1546, 0)","v":0},{"$f":"IF(OR(ISBLANK($S1546), $S1546>'BankRec Main Acct'!$E$8), AF1546, 0)","v":0},0,{"$f":"IF(AND(NOT(ISBLANK($S1546)), $S1546<'P&L'!$P$8), AI1546, 0)","v":0},{"$f":"IF(OR(ISBLANK($S1546), $S1546>'BankRec Main Acct'!$E$8), AI1546, 0)","v":0},0,{"$f":"IF(AND(NOT(ISBLANK($U1546)), $U1546<'P&L'!$P$8), $AL1546, 0)","v":0},{"$f":"IF(OR(ISBLANK($U1546), $U1546>'DebitCard Rec '!$E$8), $AL1546, 0)","v":0},0,{"$f":"IF(AND(NOT(ISBLANK($U1546)), $U1546<'P&L'!$P$8), $AO1546, 0)","v":0},{"$f":"IF(OR(ISBLANK($U1546), $U1546>'DebitCard Rec '!$E$8), $AO1546, 0)","v":0},0,{"$f":"IF(AND($A1546<'P&L'!$P$8, $X1546='P&L'!$G$6), $AR1546, 0)","v":0},0,{"$f":"IF(AND($A1546<'P&L'!$P$8, $X1546='P&L'!$G$6), $AT1546, 0)","v":0}," "," "," "]
[null,null,null,null,null,null,null,null,null,null,null,null,null,null,null,null,null,null,null,null,null,null,"Jan-00",1900,{"$f":"IF(AND($A1555<'P&L'!$P$8, YEAR($A1555)=Master!$C$6), $K1555, 0)","v":0},0,{"$f":"IF(AND(NOT(ISBLANK($O1555)), $O1555<'P&L'!$P$8), Z1555, 0)","v":0},{"$f":"IF(OR(ISBLANK($O1555), $O1555>'BankRec Main Acct'!$E$8), Z1555, 0)","v":0},0,{"$f":"IF(AND(NOT(ISBLANK($O1555)), $O1555<'P&L'!$P$8), AC1555, 0)","v":0},{"$f":"IF(OR(ISBLANK($O1555), $O1555>'BankRec Main Acct'!$E$8), AC1555, 0)","v":0},0,{"$f":"IF(AND(NOT(ISBLANK($S1555)), $S1555<'P&L'!$P$8), AF1555, 0)","v":0},{"$f":"IF(OR(ISBLANK($S1555), $S1555>'BankRec Main Acct'!$E$8), AF1555, 0)","v":0},0,{"$f":"IF(AND(NOT(ISBLANK($S1555)), $S1555<'P&L'!$P$8), AI1555, 0)","v":0},{"$f":"IF(OR(ISBLANK($S1555), $S1555>'BankRec Main Acct'!$E$8), AI1555, 0)","v":0},0,{"$f":"IF(AND(NOT(ISBLANK($U1555)), $U1555<'P&L'!$P$8), $AL1555, 0)","v":0},{"$f":"IF(OR(ISBLANK($U1555), $U1555>'DebitCard Rec '!$E$8), $AL1555, 0)","v":0},0,{"$f":"IF(AND(NOT(ISBLANK($U1555)), $U1555<'P&L'!$P$8), $AO1555, 0)","v":0},{"$f":"IF(OR(ISBLANK($U1555), $U1555>'DebitCard Rec '!$E$8), $AO1555, 0)","v":0},0,{"$f":"IF(AND($A1555<'P&L'!$P$8, $X1555='P&L'!$G$6), $AR1555, 0)","v":0},0,{"$f":"IF(AND($A1555<'P&L'!$P$8, $X1555='P&L'!$G$6), $AT1555, 0)","v":0}," "," "," "]
[null,null,null,null,null,null,null,null,null,null,null,null,null,null,null,null,null,null,null,null,null,null,"Jan-00",1900,{"$f":"IF(AND($A1571<'P&L'!$P$8, YEAR($A1571)=Master!$C$6), $K1571, 0)","v":0},0,{"$f":"IF(AND(NOT(ISBLANK($O1571)), $O1571<'P&L'!$P$8), Z1571, 0)","v":0},{"$f":"IF(OR(ISBLANK($O1571), $O1571>'BankRec Main Acct'!$E$8), Z1571, 0)","v":0},0,{"$f":"IF(AND(NOT(ISBLANK($O1571)), $O1571<'P&L'!$P$8), AC1571, 0)","v":0},{"$f":"IF(OR(ISBLANK($O1571), $O1571>'BankRec Main Acct'!$E$8), AC1571, 0)","v":0},0,{"$f":"IF(AND(NOT(ISBLANK($S1571)), $S1571<'P&L'!$P$8), AF1571, 0)","v":0},{"$f":"IF(OR(ISBLANK($S1571), $S1571>'BankRec Main Acct'!$E$8), AF1571, 0)","v":0},0,{"$f":"IF(AND(NOT(ISBLANK($S1571)), $S1571<'P&L'!$P$8), AI1571, 0)","v":0},{"$f":"IF(OR(ISBLANK($S1571), $S1571>'BankRec Main Acct'!$E$8), AI1571, 0)","v":0},0,{"$f":"IF(AND(NOT(ISBLANK($U1571)), $U1571<'P&L'!$P$8), $AL1571, 0)","v":0},{"$f":"IF(OR(ISBLANK($U1571), $U1571>'DebitCard Rec '!$E$8), $AL1571, 0)","v":0},0,{"$f":"IF(AND(NOT(ISBLANK($U1571)), $U1571<'P&L'!$P$8), $AO1571, 0)","v":0},{"$f":"IF(OR(ISBLANK($U1571), $U1571>'DebitCard Rec '!$E$8), $AO1571, 0)","v":0},0,{"$f":"IF(AND($A1571<'P&L'!$P$8, $X1571='P&L'!$G$6), $AR1571, 0)","v":0},0,{"$f":"IF(AND($A1571<'P&L'!$P$8, $X1571='P&L'!$G$6), $AT1571, 0)","v":0}," "," "," "]
[null,null,null,null,null,null,null,null,null,null,null,null,null,null,null,null,null,null,null,null,null,null,"Jan-00",1900,{"$f":"IF(AND($A1574<'P&L'!$P$8, YEAR($A1574)=Master!$C$6), $K1574, 0)","v":0},0,{"$f":"IF(AND(NOT(ISBLANK($O1574)), $O1574<'P&L'!$P$8), Z1574, 0)","v":0},{"$f":"IF(OR(ISBLANK($O1574), $O1574>'BankRec Main Acct'!$E$8), Z1574, 0)","v":0},0,{"$f":"IF(AND(NOT(ISBLANK($O1574)), $O1574<'P&L'!$P$8), AC1574, 0)","v":0},{"$f":"IF(OR(ISBLANK($O1574), $O1574>'BankRec Main Acct'!$E$8), AC1574, 0)","v":0},0,{"$f":"IF(AND(NOT(ISBLANK($S1574)), $S1574<'P&L'!$P$8), AF1574, 0)","v":0},{"$f":"IF(OR(ISBLANK($S1574), $S1574>'BankRec Main Acct'!$E$8), AF1574, 0)","v":0},0,{"$f":"IF(AND(NOT(ISBLANK($S1574)), $S1574<'P&L'!$P$8), AI1574, 0)","v":0},{"$f":"IF(OR(ISBLANK($S1574), $S1574>'BankRec Main Acct'!$E$8), AI1574, 0)","v":0},0,{"$f":"IF(AND(NOT(ISBLANK($U1574)), $U1574<'P&L'!$P$8), $AL1574, 0)","v":0},{"$f":"IF(OR(ISBLANK($U1574), $U1574>'DebitCard Rec '!$E$8), $AL1574, 0)","v":0},0,{"$f":"IF(AND(NOT(ISBLANK($U1574)), $U1574<'P&L'!$P$8), $AO1574, 0)","v":0},{"$f":"IF(OR(ISBLANK($U1574), $U1574>'DebitCard Rec '!$E$8), $AO1574, 0)","v":0},0,{"$f":"IF(AND($A1574<'P&L'!$P$8, $X1574='P&L'!$G$6), $AR1574, 0)","v":0},0,{"$f":"IF(AND($A1574<'P&L'!$P$8, $X1574='P&L'!$G$6), $AT1574, 0)","v":0}," "," "," "]
[null,null,null,null,null,null,null,null,null,null,null,null,null,null,null,null,null,null,null,null,null,null,"Jan-00",1900,{"$f":"IF(AND($A1585<'P&L'!$P$8, YEAR($A1585)=Master!$C$6), $K1585, 0)","v":0},0,{"$f":"IF(AND(NOT(ISBLANK($O1585)), $O1585<'P&L'!$P$8), Z1585, 0)","v":0},{"$f":"IF(OR(ISBLANK($O1585), $O1585>'BankRec Main Acct'!$E$8), Z1585, 0)","v":0},0,{"$f":"IF(AND(NOT(ISBLANK($O1585)), $O1585<'P&L'!$P$8), AC1585, 0)","v":0},{"$f":"IF(OR(ISBLANK($O1585), $O1585>'BankRec Main Acct'!$E$8), AC1585, 0)","v":0},0,{"$f":"IF(AND(NOT(ISBLANK($S1585)), $S1585<'P&L'!$P$8), AF1585, 0)","v":0},{"$f":"IF(OR(ISBLANK($S1585), $S1585>'BankRec Main Acct'!$E$8), AF1585, 0)","v":0},0,{"$f":"IF(AND(NOT(ISBLANK($S1585)), $S1585<'P&L'!$P$8), AI1585, 0)","v":0},{"$f":"IF(OR(ISBLANK($S1585), $S1585>'BankRec Main Acct'!$E$8), AI1585, 0)","v":0},0,{"$f":"IF(AND(NOT(ISBLANK($U1585)), $U1585<'P&L'!$P$8), $AL1585, 0)","v":0},{"$f":"IF(OR(ISBLANK($U1585), $U1585>'DebitCard Rec '!$E$8), $AL1585, 0)","v":0},0,{"$f":"IF(AND(NOT(ISBLANK($U1585)), $U1585<'P&L'!$P$8), $AO1585, 0)","v":0},{"$f":"IF(OR(ISBLANK($U1585), $U1585>'DebitCard Rec '!$E$8), $AO1585, 0)","v":0},0,{"$f":"IF(AND($A1585<'P&L'!$P$8, $X1585='P&L'!$G$6), $AR1585, 0)","v":0},0,{"$f":"IF(AND($A1585<'P&L'!$P$8, $X1585='P&L'!$G$6), $AT1585, 0)","v":0}," "," "," "]
[null,null,null,null,null,null,null,null,null,null,null,null,null,null,null,null,null,null,null,null,null,null,"Jan-00",1900,{"$f":"IF(AND($A1592<'P&L'!$P$8, YEAR($A1592)=Master!$C$6), $K1592, 0)","v":0},0,{"$f":"IF(AND(NOT(ISBLANK($O1592)), $O1592<'P&L'!$P$8), Z1592, 0)","v":0},{"$f":"IF(OR(ISBLANK($O1592), $O1592>'BankRec Main Acct'!$E$8), Z1592, 0)","v":0},0,{"$f":"IF(AND(NOT(ISBLANK($O1592)), $O1592<'P&L'!$P$8), AC1592, 0)","v":0},{"$f":"IF(OR(ISBLANK($O1592), $O1592>'BankRec Main Acct'!$E$8), AC1592, 0)","v":0},0,{"$f":"IF(AND(NOT(ISBLANK($S1592)), $S1592<'P&L'!$P$8), AF1592, 0)","v":0},{"$f":"IF(OR(ISBLANK($S1592), $S1592>'BankRec Main Acct'!$E$8), AF1592, 0)","v":0},0,{"$f":"IF(AND(NOT(ISBLANK($S1592)), $S1592<'P&L'!$P$8), AI1592, 0)","v":0},{"$f":"IF(OR(ISBLANK($S1592), $S1592>'BankRec Main Acct'!$E$8), AI1592, 0)","v":0},0,{"$f":"IF(AND(NOT(ISBLANK($U1592)), $U1592<'P&L'!$P$8), $AL1592, 0)","v":0},{"$f":"IF(OR(ISBLANK($U1592), $U1592>'DebitCard Rec '!$E$8), $AL1592, 0)","v":0},0,{"$f":"IF(AND(NOT(ISBLANK($U1592)), $U1592<'P&L'!$P$8), $AO1592, 0)","v":0},{"$f":"IF(OR(ISBLANK($U1592), $U1592>'DebitCard Rec '!$E$8), $AO1592, 0)","v":0},0,{"$f":"IF(AND($A1592<'P&L'!$P$8, $X1592='P&L'!$G$6), $AR1592, 0)","v":0},0,{"$f":"IF(AND($A1592<'P&L'!$P$8, $X1592='P&L'!$G$6), $AT1592, 0)","v":0}," "," "," "]
[null,null,null,null,null,null,null,null,null,null,null,null,null,null,null,null,null,null,null,null,null,null,"Jan-00",1900,{"$f":"IF(AND($A1604<'P&L'!$P$8, YEAR($A1604)=Master!$C$6), $K1604, 0)","v":0},0,{"$f":"IF(AND(NOT(ISBLANK($O1604)), $O1604<'P&L'!$P$8), Z1604, 0)","v":0},{"$f":"IF(OR(ISBLANK($O1604), $O1604>'BankRec Main Acct'!$E$8), Z1604, 0)","v":0},0,{"$f":"IF(AND(NOT(ISBLANK($O1604)), $O1604<'P&L'!$P$8), AC1604, 0)","v":0},{"$f":"IF(OR(ISBLANK($O1604), $O1604>'BankRec Main Acct'!$E$8), AC1604, 0)","v":0},0,{"$f":"IF(AND(NOT(ISBLANK($S1604)), $S1604<'P&L'!$P$8), AF1604, 0)","v":0},{"$f":"IF(OR(ISBLANK($S1604), $S1604>'BankRec Main Acct'!$E$8), AF1604, 0)","v":0},0,{"$f":"IF(AND(NOT(ISBLANK($S1604)), $S1604<'P&L'!$P$8), AI1604, 0)","v":0},{"$f":"IF(OR(ISBLANK($S1604), $S1604>'BankRec Main Acct'!$E$8), AI1604, 0)","v":0},0,{"$f":"IF(AND(NOT(ISBLANK($U1604)), $U1604<'P&L'!$P$8), $AL1604, 0)","v":0},{"$f":"IF(OR(ISBLANK($U1604), $U1604>'DebitCard Rec '!$E$8), $AL1604, 0)","v":0},0,{"$f":"IF(AND(NOT(ISBLANK($U1604)), $U1604<'P&L'!$P$8), $AO1604, 0)","v":0},{"$f":"IF(OR(ISBLANK($U1604), $U1604>'DebitCard Rec '!$E$8), $AO1604, 0)","v":0},{"$f":"IF($AV1604=\"Petty cash Receipt\", $K1604, 0)","v":0},{"$f":"IF(AND($A1604<'P&L'!$P$8, $X1604='P&L'!$G$6), $AR1604, 0)","v":0},{"$f":"IF($AV1604=\"Petty cash Payment\", $K1604, 0)","v":0},{"$f":"IF(AND($A1604<'P&L'!$P$8, $X1604='P&L'!$G$6), $AT1604, 0)","v":0}," ",{"$f":"IF(C1604=\"Receipt\",CONCATENATE(D1604,\" \", F1604), \" \")","v":" "},{"$f":"IF(C1604= \"Payment\", CONCATENATE(F1604,\" \",E1604), \" \")","v":" "}]
[null,null,null,null,null,null,null,null,null,null,null,null,null,null,null,null,null,null,null,null,null,null,"Jan-00",1900,{"$f":"IF(AND($A1611<'P&L'!$P$8, YEAR($A1611)=Master!$C$6), $K1611, 0)","v":0},0,{"$f":"IF(AND(NOT(ISBLANK($O1611)), $O1611<'P&L'!$P$8), Z1611, 0)","v":0},{"$f":"IF(OR(ISBLANK($O1611), $O1611>'BankRec Main Acct'!$E$8), Z1611, 0)","v":0},0,{"$f":"IF(AND(NOT(ISBLANK($O1611)), $O1611<'P&L'!$P$8), AC1611, 0)","v":0},{"$f":"IF(OR(ISBLANK($O1611), $O1611>'BankRec Main Acct'!$E$8), AC1611, 0)","v":0},0,{"$f":"IF(AND(NOT(ISBLANK($S1611)), $S1611<'P&L'!$P$8), AF1611, 0)","v":0},{"$f":"IF(OR(ISBLANK($S1611), $S1611>'BankRec Main Acct'!$E$8), AF1611, 0)","v":0},0,{"$f":"IF(AND(NOT(ISBLANK($S1611)), $S1611<'P&L'!$P$8), AI1611, 0)","v":0},{"$f":"IF(OR(ISBLANK($S1611), $S1611>'BankRec Main Acct'!$E$8), AI1611, 0)","v":0},0,{"$f":"IF(AND(NOT(ISBLANK($U1611)), $U1611<'P&L'!$P$8), $AL1611, 0)","v":0},{"$f":"IF(OR(ISBLANK($U1611), $U1611>'DebitCard Rec '!$E$8), $AL1611, 0)","v":0},0,{"$f":"IF(AND(NOT(ISBLANK($U1611)), $U1611<'P&L'!$P$8), $AO1611, 0)","v":0},{"$f":"IF(OR(ISBLANK($U1611), $U1611>'DebitCard Rec '!$E$8), $AO1611, 0)","v":0},0,{"$f":"IF(AND($A1611<'P&L'!$P$8, $X1611='P&L'!$G$6), $AR1611, 0)","v":0},0,{"$f":"IF(AND($A1611<'P&L'!$P$8, $X1611='P&L'!$G$6), $AT1611, 0)","v":0},{"$f":"CONCATENATE(B1611,\" \",C1611)","v":" "}," "," "]
[null,null,null,null,null,null,null,null,null,null,null,null,null,null,null,null,null,null,null,null,null,null,"Jan-00",1900,{"$f":"IF(AND($A1623<'P&L'!$P$8, YEAR($A1623)=Master!$C$6), $K1623, 0)","v":0},0,{"$f":"IF(AND(NOT(ISBLANK($O1623)), $O1623<'P&L'!$P$8), Z1623, 0)","v":0},{"$f":"IF(OR(ISBLANK($O1623), $O1623>'BankRec Main Acct'!$E$8), Z1623, 0)","v":0},0,{"$f":"IF(AND(NOT(ISBLANK($O1623)), $O1623<'P&L'!$P$8), AC1623, 0)","v":0},{"$f":"IF(OR(ISBLANK($O1623), $O1623>'BankRec Main Acct'!$E$8), AC1623, 0)","v":0},0,{"$f":"IF(AND(NOT(ISBLANK($S1623)), $S1623<'P&L'!$P$8), AF1623, 0)","v":0},{"$f":"IF(OR(ISBLANK($S1623), $S1623>'BankRec Main Acct'!$E$8), AF1623, 0)","v":0},0,{"$f":"IF(AND(NOT(ISBLANK($S1623)), $S1623<'P&L'!$P$8), AI1623, 0)","v":0},{"$f":"IF(OR(ISBLANK($S1623), $S1623>'BankRec Main Acct'!$E$8), AI1623, 0)","v":0},0,{"$f":"IF(AND(NOT(ISBLANK($U1623)), $U1623<'P&L'!$P$8), $AL1623, 0)","v":0},{"$f":"IF(OR(ISBLANK($U1623), $U1623>'DebitCard Rec '!$E$8), $AL1623, 0)","v":0},0,{"$f":"IF(AND(NOT(ISBLANK($U1623)), $U1623<'P&L'!$P$8), $AO1623, 0)","v":0},{"$f":"IF(OR(ISBLANK($U1623), $U1623>'DebitCard Rec '!$E$8), $AO1623, 0)","v":0},0,{"$f":"IF(AND($A1623<'P&L'!$P$8, $X1623='P&L'!$G$6), $AR1623, 0)","v":0},0,{"$f":"IF(AND($A1623<'P&L'!$P$8, $X1623='P&L'!$G$6), $AT1623, 0)","v":0}," "," "," "]
[null,null,null,null,null,null,null,null,null,null,null,null,null,null,null,null,null,null,null,null,null,null,"Jan-00",1900,{"$f":"IF(AND($A1626<'P&L'!$P$8, YEAR($A1626)=Master!$C$6), $K1626, 0)","v":0},0,{"$f":"IF(AND(NOT(ISBLANK($O1626)), $O1626<'P&L'!$P$8), Z1626, 0)","v":0},{"$f":"IF(OR(ISBLANK($O1626), $O1626>'BankRec Main Acct'!$E$8), Z1626, 0)","v":0},0,{"$f":"IF(AND(NOT(ISBLANK($O1626)), $O1626<'P&L'!$P$8), AC1626, 0)","v":0},{"$f":"IF(OR(ISBLANK($O1626), $O1626>'BankRec Main Acct'!$E$8), AC1626, 0)","v":0},0,{"$f":"IF(AND(NOT(ISBLANK($S1626)), $S1626<'P&L'!$P$8), AF1626, 0)","v":0},{"$f":"IF(OR(ISBLANK($S1626), $S1626>'BankRec Main Acct'!$E$8), AF1626, 0)","v":0},0,{"$f":"IF(AND(NOT(ISBLANK($S1626)), $S1626<'P&L'!$P$8), AI1626, 0)","v":0},{"$f":"IF(OR(ISBLANK($S1626), $S1626>'BankRec Main Acct'!$E$8), AI1626, 0)","v":0},0,{"$f":"IF(AND(NOT(ISBLANK($U1626)), $U1626<'P&L'!$P$8), $AL1626, 0)","v":0},{"$f":"IF(OR(ISBLANK($U1626), $U1626>'DebitCard Rec '!$E$8), $AL1626, 0)","v":0},0,{"$f":"IF(AND(NOT(ISBLANK($U1626)), $U1626<'P&L'!$P$8), $AO1626, 0)","v":0},{"$f":"IF(OR(ISBLANK($U1626), $U1626>'DebitCard Rec '!$E$8), $AO1626, 0)","v":0},0,{"$f":"IF(AND($A1626<'P&L'!$P$8, $X1626='P&L'!$G$6), $AR1626, 0)","v":0},0,{"$f":"IF(AND($A1626<'P&L'!$P$8, $X1626='P&L'!$G$6), $AT1626, 0)","v":0}," "," "," "]
[null,null,null,null,null,null,null,null,null,null,null,null,null,null,null,null,null,null,null,null,null,null,"Jan-00",1900,{"$f":"IF(AND($A1641<'P&L'!$P$8, YEAR($A1641)=Master!$C$6), $K1641, 0)","v":0},0,{"$f":"IF(AND(NOT(ISBLANK($O1641)), $O1641<'P&L'!$P$8), Z1641, 0)","v":0},{"$f":"IF(OR(ISBLANK($O1641), $O1641>'BankRec Main Acct'!$E$8), Z1641, 0)","v":0},0,{"$f":"IF(AND(NOT(ISBLANK($O1641)), $O1641<'P&L'!$P$8), AC1641, 0)","v":0},{"$f":"IF(OR(ISBLANK($O1641), $O1641>'BankRec Main Acct'!$E$8), AC1641, 0)","v":0},0,{"$f":"IF(AND(NOT(ISBLANK($S1641)), $S1641<'P&L'!$P$8), AF1641, 0)","v":0},{"$f":"IF(OR(ISBLANK($S1641), $S1641>'BankRec Main Acct'!$E$8), AF1641, 0)","v":0},0,{"$f":"IF(AND(NOT(ISBLANK($S1641)), $S1641<'P&L'!$P$8), AI1641, 0)","v":0},{"$f":"IF(OR(ISBLANK($S1641), $S1641>'BankRec Main Acct'!$E$8), AI1641, 0)","v":0},0,{"$f":"IF(AND(NOT(ISBLANK($U1641)), $U1641<'P&L'!$P$8), $AL1641, 0)","v":0},{"$f":"IF(OR(ISBLANK($U1641), $U1641>'DebitCard Rec '!$E$8), $AL1641, 0)","v":0},0,{"$f":"IF(AND(NOT(ISBLANK($U1641)), $U1641<'P&L'!$P$8), $AO1641, 0)","v":0},{"$f":"IF(OR(ISBLANK($U1641), $U1641>'DebitCard Rec '!$E$8), $AO1641, 0)","v":0},0,{"$f":"IF(AND($A1641<'P&L'!$P$8, $X1641='P&L'!$G$6), $AR1641, 0)","v":0},0,{"$f":"IF(AND($A1641<'P&L'!$P$8, $X1641='P&L'!$G$6), $AT1641, 0)","v":0}," "," "," "]
[null,null,null,null,null,null,null,null,null,null,null,null,null,null,null,null,null,null,null,null,null,null,"Jan-00",1900,{"$f":"IF(AND($A1644<'P&L'!$P$8, YEAR($A1644)=Master!$C$6), $K1644, 0)","v":0},0,{"$f":"IF(AND(NOT(ISBLANK($O1644)), $O1644<'P&L'!$P$8), Z1644, 0)","v":0},{"$f":"IF(OR(ISBLANK($O1644), $O1644>'BankRec Main Acct'!$E$8), Z1644, 0)","v":0},0,{"$f":"IF(AND(NOT(ISBLANK($O1644)), $O1644<'P&L'!$P$8), AC1644, 0)","v":0},{"$f":"IF(OR(ISBLANK($O1644), $O1644>'BankRec Main Acct'!$E$8), AC1644, 0)","v":0},0,{"$f":"IF(AND(NOT(ISBLANK($S1644)), $S1644<'P&L'!$P$8), AF1644, 0)","v":0},{"$f":"IF(OR(ISBLANK($S1644), $S1644>'BankRec Main Acct'!$E$8), AF1644, 0)","v":0},0,{"$f":"IF(AND(NOT(ISBLANK($S1644)), $S1644<'P&L'!$P$8), AI1644, 0)","v":0},{"$f":"IF(OR(ISBLANK($S1644), $S1644>'BankRec Main Acct'!$E$8), AI1644, 0)","v":0},0,{"$f":"IF(AND(NOT(ISBLANK($U1644)), $U1644<'P&L'!$P$8), $AL1644, 0)","v":0},{"$f":"IF(OR(ISBLANK($U1644), $U1644>'DebitCard Rec '!$E$8), $AL1644, 0)","v":0},0,{"$f":"IF(AND(NOT(ISBLANK($U1644)), $U1644<'P&L'!$P$8), $AO1644, 0)","v":0},{"$f":"IF(OR(ISBLANK($U1644), $U1644>'DebitCard Rec '!$E$8), $AO1644, 0)","v":0},0,{"$f":"IF(AND($A1644<'P&L'!$P$8, $X1644='P&L'!$G$6), $AR1644, 0)","v":0},0,{"$f":"IF(AND($A1644<'P&L'!$P$8, $X1644='P&L'!$G$6), $AT1644, 0)","v":0}," "," "," "]
[null,null,null,null,null,null,null,null,null,null,null,null,null,null,null,null,null,null,null,null,null,null,"Jan-00",1900,{"$f":"IF(AND($A1651<'P&L'!$P$8, YEAR($A1651)=Master!$C$6), $K1651, 0)","v":0},0,{"$f":"IF(AND(NOT(ISBLANK($O1651)), $O1651<'P&L'!$P$8), Z1651, 0)","v":0},{"$f":"IF(OR(ISBLANK($O1651), $O1651>'BankRec Main Acct'!$E$8), Z1651, 0)","v":0},0,{"$f":"IF(AND(NOT(ISBLANK($O1651)), $O1651<'P&L'!$P$8), AC1651, 0)","v":0},{"$f":"IF(OR(ISBLANK($O1651), $O1651>'BankRec Main Acct'!$E$8), AC1651, 0)","v":0},0,{"$f":"IF(AND(NOT(ISBLANK($S1651)), $S1651<'P&L'!$P$8), AF1651, 0)","v":0},{"$f":"IF(OR(ISBLANK($S1651), $S1651>'BankRec Main Acct'!$E$8), AF1651, 0)","v":0},0,{"$f":"IF(AND(NOT(ISBLANK($S1651)), $S1651<'P&L'!$P$8), AI1651, 0)","v":0},{"$f":"IF(OR(ISBLANK($S1651), $S1651>'BankRec Main Acct'!$E$8), AI1651, 0)","v":0},0,{"$f":"IF(AND(NOT(ISBLANK($U1651)), $U1651<'P&L'!$P$8), $AL1651, 0)","v":0},{"$f":"IF(OR(ISBLANK($U1651), $U1651>'DebitCard Rec '!$E$8), $AL1651, 0)","v":0},0,{"$f":"IF(AND(NOT(ISBLANK($U1651)), $U1651<'P&L'!$P$8), $AO1651, 0)","v":0},{"$f":"IF(OR(ISBLANK($U1651), $U1651>'DebitCard Rec '!$E$8), $AO1651, 0)","v":0},0,{"$f":"IF(AND($A1651<'P&L'!$P$8, $X1651='P&L'!$G$6), $AR1651, 0)","v":0},0,{"$f":"IF(AND($A1651<'P&L'!$P$8, $X1651='P&L'!$G$6), $AT1651, 0)","v":0}," "," "," "]
[null,null,null,null,null,null,null,null,null,null,null,null,null,null,null,null,null,null,null,null,null,null,"Jan-00",1900,{"$f":"IF(AND($A1663<'P&L'!$P$8, YEAR($A1663)=Master!$C$6), $K1663, 0)","v":0},0,{"$f":"IF(AND(NOT(ISBLANK($O1663)), $O1663<'P&L'!$P$8), Z1663, 0)","v":0},{"$f":"IF(OR(ISBLANK($O1663), $O1663>'BankRec Main Acct'!$E$8), Z1663, 0)","v":0},0,{"$f":"IF(AND(NOT(ISBLANK($O1663)), $O1663<'P&L'!$P$8), AC1663, 0)","v":0},{"$f":"IF(OR(ISBLANK($O1663), $O1663>'BankRec Main Acct'!$E$8), AC1663, 0)","v":0},0,{"$f":"IF(AND(NOT(ISBLANK($S1663)), $S1663<'P&L'!$P$8), AF1663, 0)","v":0},{"$f":"IF(OR(ISBLANK($S1663), $S1663>'BankRec Main Acct'!$E$8), AF1663, 0)","v":0},0,{"$f":"IF(AND(NOT(ISBLANK($S1663)), $S1663<'P&L'!$P$8), AI1663, 0)","v":0},{"$f":"IF(OR(ISBLANK($S1663), $S1663>'BankRec Main Acct'!$E$8), AI1663, 0)","v":0},0,{"$f":"IF(AND(NOT(ISBLANK($U1663)), $U1663<'P&L'!$P$8), $AL1663, 0)","v":0},{"$f":"IF(OR(ISBLANK($U1663), $U1663>'DebitCard Rec '!$E$8), $AL1663, 0)","v":0},0,{"$f":"IF(AND(NOT(ISBLANK($U1663)), $U1663<'P&L'!$P$8), $AO1663, 0)","v":0},{"$f":"IF(OR(ISBLANK($U1663), $U1663>'DebitCard Rec '!$E$8), $AO1663, 0)","v":0},0,{"$f":"IF(AND($A1663<'P&L'!$P$8, $X1663='P&L'!$G$6), $AR1663, 0)","v":0},0,{"$f":"IF(AND($A1663<'P&L'!$P$8, $X1663='P&L'!$G$6), $AT1663, 0)","v":0}," "," "," "]
[null,null,null,null,null,null,null,null,null,null,null,null,null,null,null,null,null,null,null,null,null,null,"Jan-00",1900,{"$f":"IF(AND($A1675<'P&L'!$P$8, YEAR($A1675)=Master!$C$6), $K1675, 0)","v":0},0,{"$f":"IF(AND(NOT(ISBLANK($O1675)), $O1675<'P&L'!$P$8), Z1675, 0)","v":0},{"$f":"IF(OR(ISBLANK($O1675), $O1675>'BankRec Main Acct'!$E$8), Z1675, 0)","v":0},0,{"$f":"IF(AND(NOT(ISBLANK($O1675)), $O1675<'P&L'!$P$8), AC1675, 0)","v":0},{"$f":"IF(OR(ISBLANK($O1675), $O1675>'BankRec Main Acct'!$E$8), AC1675, 0)","v":0},0,{"$f":"IF(AND(NOT(ISBLANK($S1675)), $S1675<'P&L'!$P$8), AF1675, 0)","v":0},{"$f":"IF(OR(ISBLANK($S1675), $S1675>'BankRec Main Acct'!$E$8), AF1675, 0)","v":0},0,{"$f":"IF(AND(NOT(ISBLANK($S1675)), $S1675<'P&L'!$P$8), AI1675, 0)","v":0},{"$f":"IF(OR(ISBLANK($S1675), $S1675>'BankRec Main Acct'!$E$8), AI1675, 0)","v":0},0,{"$f":"IF(AND(NOT(ISBLANK($U1675)), $U1675<'P&L'!$P$8), $AL1675, 0)","v":0},{"$f":"IF(OR(ISBLANK($U1675), $U1675>'DebitCard Rec '!$E$8), $AL1675, 0)","v":0},0,{"$f":"IF(AND(NOT(ISBLANK($U1675)), $U1675<'P&L'!$P$8), $AO1675, 0)","v":0},{"$f":"IF(OR(ISBLANK($U1675), $U1675>'DebitCard Rec '!$E$8), $AO1675, 0)","v":0},0,{"$f":"IF(AND($A1675<'P&L'!$P$8, $X1675='P&L'!$G$6), $AR1675, 0)","v":0},0,{"$f":"IF(AND($A1675<'P&L'!$P$8, $X1675='P&L'!$G$6), $AT1675, 0)","v":0},{"$f":"CONCATENATE(B1675,\" \",C1675)","v":" "}," "," "]
[null,null,null,null,null,null,null,null,null,null,null,null,null,null,null,null,null,null,null,null,null,null,"Jan-00",1900,{"$f":"IF(AND($A1681<'P&L'!$P$8, YEAR($A1681)=Master!$C$6), $K1681, 0)","v":0},0,{"$f":"IF(AND(NOT(ISBLANK($O1681)), $O1681<'P&L'!$P$8), Z1681, 0)","v":0},{"$f":"IF(OR(ISBLANK($O1681), $O1681>'BankRec Main Acct'!$E$8), Z1681, 0)","v":0},0,{"$f":"IF(AND(NOT(ISBLANK($O1681)), $O1681<'P&L'!$P$8), AC1681, 0)","v":0},{"$f":"IF(OR(ISBLANK($O1681), $O1681>'BankRec Main Acct'!$E$8), AC1681, 0)","v":0},0,{"$f":"IF(AND(NOT(ISBLANK($S1681)), $S1681<'P&L'!$P$8), AF1681, 0)","v":0},{"$f":"IF(OR(ISBLANK($S1681), $S1681>'BankRec Main Acct'!$E$8), AF1681, 0)","v":0},0,{"$f":"IF(AND(NOT(ISBLANK($S1681)), $S1681<'P&L'!$P$8), AI1681, 0)","v":0},{"$f":"IF(OR(ISBLANK($S1681), $S1681>'BankRec Main Acct'!$E$8), AI1681, 0)","v":0},0,{"$f":"IF(AND(NOT(ISBLANK($U1681)), $U1681<'P&L'!$P$8), $AL1681, 0)","v":0},{"$f":"IF(OR(ISBLANK($U1681), $U1681>'DebitCard Rec '!$E$8), $AL1681, 0)","v":0},0,{"$f":"IF(AND(NOT(ISBLANK($U1681)), $U1681<'P&L'!$P$8), $AO1681, 0)","v":0},{"$f":"IF(OR(ISBLANK($U1681), $U1681>'DebitCard Rec '!$E$8), $AO1681, 0)","v":0},0,{"$f":"IF(AND($A1681<'P&L'!$P$8, $X1681='P&L'!$G$6), $AR1681, 0)","v":0},0,{"$f":"IF(AND($A1681<'P&L'!$P$8, $X1681='P&L'!$G$6), $AT1681, 0)","v":0}," "," "," "]
[null,null,null,null,null,null,null,null,null,null,null,null,null,null,null,null,null,null,null,null,null,null,"Jan-00",1900,{"$f":"IF(AND($A1693<'P&L'!$P$8, YEAR($A1693)=Master!$C$6), $K1693, 0)","v":0},0,{"$f":"IF(AND(NOT(ISBLANK($O1693)), $O1693<'P&L'!$P$8), Z1693, 0)","v":0},{"$f":"IF(OR(ISBLANK($O1693), $O1693>'BankRec Main Acct'!$E$8), Z1693, 0)","v":0},0,{"$f":"IF(AND(NOT(ISBLANK($O1693)), $O1693<'P&L'!$P$8), AC1693, 0)","v":0},{"$f":"IF(OR(ISBLANK($O1693), $O1693>'BankRec Main Acct'!$E$8), AC1693, 0)","v":0},0,{"$f":"IF(AND(NOT(ISBLANK($S1693)), $S1693<'P&L'!$P$8), AF1693, 0)","v":0},{"$f":"IF(OR(ISBLANK($S1693), $S1693>'BankRec Main Acct'!$E$8), AF1693, 0)","v":0},0,{"$f":"IF(AND(NOT(ISBLANK($S1693)), $S1693<'P&L'!$P$8), AI1693, 0)","v":0},{"$f":"IF(OR(ISBLANK($S1693), $S1693>'BankRec Main Acct'!$E$8), AI1693, 0)","v":0},0,{"$f":"IF(AND(NOT(ISBLANK($U1693)), $U1693<'P&L'!$P$8), $AL1693, 0)","v":0},{"$f":"IF(OR(ISBLANK($U1693), $U1693>'DebitCard Rec '!$E$8), $AL1693, 0)","v":0},0,{"$f":"IF(AND(NOT(ISBLANK($U1693)), $U1693<'P&L'!$P$8), $AO1693, 0)","v":0},{"$f":"IF(OR(ISBLANK($U1693), $U1693>'DebitCard Rec '!$E$8), $AO1693, 0)","v":0},0,{"$f":"IF(AND($A1693<'P&L'!$P$8, $X1693='P&L'!$G$6), $AR1693, 0)","v":0},0,{"$f":"IF(AND($A1693<'P&L'!$P$8, $X1693='P&L'!$G$6), $AT1693, 0)","v":0}," "," "," "]
[null,null,null,null,null,null,null,null,null,null,null,null,null,null,null,null,null,null,null,null,null,null,"Jan-00",1900,{"$f":"IF(AND($A1696<'P&L'!$P$8, YEAR($A1696)=Master!$C$6), $K1696, 0)","v":0},0,{"$f":"IF(AND(NOT(ISBLANK($O1696)), $O1696<'P&L'!$P$8), Z1696, 0)","v":0},{"$f":"IF(OR(ISBLANK($O1696), $O1696>'BankRec Main Acct'!$E$8), Z1696, 0)","v":0},0,{"$f":"IF(AND(NOT(ISBLANK($O1696)), $O1696<'P&L'!$P$8), AC1696, 0)","v":0},{"$f":"IF(OR(ISBLANK($O1696), $O1696>'BankRec Main Acct'!$E$8), AC1696, 0)","v":0},0,{"$f":"IF(AND(NOT(ISBLANK($S1696)), $S1696<'P&L'!$P$8), AF1696, 0)","v":0},{"$f":"IF(OR(ISBLANK($S1696), $S1696>'BankRec Main Acct'!$E$8), AF1696, 0)","v":0},0,{"$f":"IF(AND(NOT(ISBLANK($S1696)), $S1696<'P&L'!$P$8), AI1696, 0)","v":0},{"$f":"IF(OR(ISBLANK($S1696), $S1696>'BankRec Main Acct'!$E$8), AI1696, 0)","v":0},0,{"$f":"IF(AND(NOT(ISBLANK($U1696)), $U1696<'P&L'!$P$8), $AL1696, 0)","v":0},{"$f":"IF(OR(ISBLANK($U1696), $U1696>'DebitCard Rec '!$E$8), $AL1696, 0)","v":0},0,{"$f":"IF(AND(NOT(ISBLANK($U1696)), $U1696<'P&L'!$P$8), $AO1696, 0)","v":0},{"$f":"IF(OR(ISBLANK($U1696), $U1696>'DebitCard Rec '!$E$8), $AO1696, 0)","v":0},0,{"$f":"IF(AND($A1696<'P&L'!$P$8, $X1696='P&L'!$G$6), $AR1696, 0)","v":0},0,{"$f":"IF(AND($A1696<'P&L'!$P$8, $X1696='P&L'!$G$6), $AT1696, 0)","v":0}," "," "," "]
[null,null,null,null,null,null,null,null,null,null,null,null,null,null,null,null,null,null,null,null,null,null,"Jan-00",1900,{"$f":"IF(AND($A1706<'P&L'!$P$8, YEAR($A1706)=Master!$C$6), $K1706, 0)","v":0},0,{"$f":"IF(AND(NOT(ISBLANK($O1706)), $O1706<'P&L'!$P$8), Z1706, 0)","v":0},{"$f":"IF(OR(ISBLANK($O1706), $O1706>'BankRec Main Acct'!$E$8), Z1706, 0)","v":0},0,{"$f":"IF(AND(NOT(ISBLANK($O1706)), $O1706<'P&L'!$P$8), AC1706, 0)","v":0},{"$f":"IF(OR(ISBLANK($O1706), $O1706>'BankRec Main Acct'!$E$8), AC1706, 0)","v":0},0,{"$f":"IF(AND(NOT(ISBLANK($S1706)), $S1706<'P&L'!$P$8), AF1706, 0)","v":0},{"$f":"IF(OR(ISBLANK($S1706), $S1706>'BankRec Main Acct'!$E$8), AF1706, 0)","v":0},0,{"$f":"IF(AND(NOT(ISBLANK($S1706)), $S1706<'P&L'!$P$8), AI1706, 0)","v":0},{"$f":"IF(OR(ISBLANK($S1706), $S1706>'BankRec Main Acct'!$E$8), AI1706, 0)","v":0},0,{"$f":"IF(AND(NOT(ISBLANK($U1706)), $U1706<'P&L'!$P$8), $AL1706, 0)","v":0},{"$f":"IF(OR(ISBLANK($U1706), $U1706>'DebitCard Rec '!$E$8), $AL1706, 0)","v":0},0,{"$f":"IF(AND(NOT(ISBLANK($U1706)), $U1706<'P&L'!$P$8), $AO1706, 0)","v":0},{"$f":"IF(OR(ISBLANK($U1706), $U1706>'DebitCard Rec '!$E$8), $AO1706, 0)","v":0},0,{"$f":"IF(AND($A1706<'P&L'!$P$8, $X1706='P&L'!$G$6), $AR1706, 0)","v":0},0,{"$f":"IF(AND($A1706<'P&L'!$P$8, $X1706='P&L'!$G$6), $AT1706, 0)","v":0}," "," "," "]
[null,null,null,null,null,null,null,null,null,null,null,null,null,null,null,null,null,null,null,null,null,null,"Jan-00",1900,{"$f":"IF(AND($A1714<'P&L'!$P$8, YEAR($A1714)=Master!$C$6), $K1714, 0)","v":0},0,{"$f":"IF(AND(NOT(ISBLANK($O1714)), $O1714<'P&L'!$P$8), Z1714, 0)","v":0},{"$f":"IF(OR(ISBLANK($O1714), $O1714>'BankRec Main Acct'!$E$8), Z1714, 0)","v":0},0,{"$f":"IF(AND(NOT(ISBLANK($O1714)), $O1714<'P&L'!$P$8), AC1714, 0)","v":0},{"$f":"IF(OR(ISBLANK($O1714), $O1714>'BankRec Main Acct'!$E$8), AC1714, 0)","v":0},0,{"$f":"IF(AND(NOT(ISBLANK($S1714)), $S1714<'P&L'!$P$8), AF1714, 0)","v":0},{"$f":"IF(OR(ISBLANK($S1714), $S1714>'BankRec Main Acct'!$E$8), AF1714, 0)","v":0},0,{"$f":"IF(AND(NOT(ISBLANK($S1714)), $S1714<'P&L'!$P$8), AI1714, 0)","v":0},{"$f":"IF(OR(ISBLANK($S1714), $S1714>'BankRec Main Acct'!$E$8), AI1714, 0)","v":0},0,{"$f":"IF(AND(NOT(ISBLANK($U1714)), $U1714<'P&L'!$P$8), $AL1714, 0)","v":0},{"$f":"IF(OR(ISBLANK($U1714), $U1714>'DebitCard Rec '!$E$8), $AL1714, 0)","v":0},0,{"$f":"IF(AND(NOT(ISBLANK($U1714)), $U1714<'P&L'!$P$8), $AO1714, 0)","v":0},{"$f":"IF(OR(ISBLANK($U1714), $U1714>'DebitCard Rec '!$E$8), $AO1714, 0)","v":0},0,{"$f":"IF(AND($A1714<'P&L'!$P$8, $X1714='P&L'!$G$6), $AR1714, 0)","v":0},0,{"$f":"IF(AND($A1714<'P&L'!$P$8, $X1714='P&L'!$G$6), $AT1714, 0)","v":0}," "," "," "]
[null,null,null,null,null,null,null,null,null,null,null,null,null,null,null,null,null,null,null,null,null,null,"Jan-00",1900,{"$f":"IF(AND($A1721<'P&L'!$P$8, YEAR($A1721)=Master!$C$6), $K1721, 0)","v":0},0,{"$f":"IF(AND(NOT(ISBLANK($O1721)), $O1721<'P&L'!$P$8), Z1721, 0)","v":0},{"$f":"IF(OR(ISBLANK($O1721), $O1721>'BankRec Main Acct'!$E$8), Z1721, 0)","v":0},0,{"$f":"IF(AND(NOT(ISBLANK($O1721)), $O1721<'P&L'!$P$8), AC1721, 0)","v":0},{"$f":"IF(OR(ISBLANK($O1721), $O1721>'BankRec Main Acct'!$E$8), AC1721, 0)","v":0},0,{"$f":"IF(AND(NOT(ISBLANK($S1721)), $S1721<'P&L'!$P$8), AF1721, 0)","v":0},{"$f":"IF(OR(ISBLANK($S1721), $S1721>'BankRec Main Acct'!$E$8), AF1721, 0)","v":0},0,{"$f":"IF(AND(NOT(ISBLANK($S1721)), $S1721<'P&L'!$P$8), AI1721, 0)","v":0},{"$f":"IF(OR(ISBLANK($S1721), $S1721>'BankRec Main Acct'!$E$8), AI1721, 0)","v":0},0,{"$f":"IF(AND(NOT(ISBLANK($U1721)), $U1721<'P&L'!$P$8), $AL1721, 0)","v":0},{"$f":"IF(OR(ISBLANK($U1721), $U1721>'DebitCard Rec '!$E$8), $AL1721, 0)","v":0},0,{"$f":"IF(AND(NOT(ISBLANK($U1721)), $U1721<'P&L'!$P$8), $AO1721, 0)","v":0},{"$f":"IF(OR(ISBLANK($U1721), $U1721>'DebitCard Rec '!$E$8), $AO1721, 0)","v":0},0,{"$f":"IF(AND($A1721<'P&L'!$P$8, $X1721='P&L'!$G$6), $AR1721, 0)","v":0},0,{"$f":"IF(AND($A1721<'P&L'!$P$8, $X1721='P&L'!$G$6), $AT1721, 0)","v":0}," "," "," "]
[null,null,null,null,null,null,null,null,null,null,null,null,null,null,null,null,null,null,null,null,null,null,"Jan-00",1900,{"$f":"IF(AND($A1733<'P&L'!$P$8, YEAR($A1733)=Master!$C$6), $K1733, 0)","v":0},{"$f":"IF(AND($C1733=\"Receipt\",$B1733<>\"debit card\",$B1733<>\"petty cash\",$B1733<>\"Cash_Sub\",$B1733<>\"Cheque_Sub\", $B1733<>\"EFT_Sub\"),$K1733,0)","v":0},{"$f":"IF(AND(NOT(ISBLANK($O1733)), $O1733<'P&L'!$P$8), Z1733, 0)","v":0},{"$f":"IF(OR(ISBLANK($O1733), $O1733>'BankRec Main Acct'!$E$8), Z1733, 0)","v":0},{"$f":"IF(AND($C1733=\"Payment\", $B1733<>\"debit card\", $B1733<>\"petty cash\", $B1733<>\"Cash_Sub\", $B1733<>\"Cheque_Sub\", $B1733<>\"EFT_Sub\"), $K1733, 0)","v":0},{"$f":"IF(AND(NOT(ISBLANK($O1733)), $O1733<'P&L'!$P$8), AC1733, 0)","v":0},{"$f":"IF(OR(ISBLANK($O1733), $O1733>'BankRec Main Acct'!$E$8), AC1733, 0)","v":0},{"$f":"IF(AND($C1733=\"Receipt\",$B1733<>\"debit card\",$B1733<>\"petty cash\",$B1733<>\"Cash_Main\",$B1733<>\"Cheque_Main\", $B1733<>\"EFT_Main\"),$K1733,0)","v":0},{"$f":"IF(AND(NOT(ISBLANK($S1733)), $S1733<'P&L'!$P$8), AF1733, 0)","v":0},{"$f":"IF(OR(ISBLANK($S1733), $S1733>'BankRec Main Acct'!$E$8), AF1733, 0)","v":0},{"$f":"IF(AND($C1733=\"Payment\", $B1733<>\"debit card\", $B1733<>\"petty cash\", $B1733<>\"Cash_Main\", $B1733<>\"Cheque_Main\", $B1733<>\"EFT_Main\"), $K1733, 0)","v":0},{"$f":"IF(AND(NOT(ISBLANK($S1733)), $S1733<'P&L'!$P$8), AI1733, 0)","v":0},{"$f":"IF(OR(ISBLANK($S1733), $S1733>'BankRec Main Acct'!$E$8), AI1733, 0)","v":0},0,{"$f":"IF(AND(NOT(ISBLANK($U1733)), $U1733<'P&L'!$P$8), $AL1733, 0)","v":0},{"$f":"IF(OR(ISBLANK($U1733), $U1733>'DebitCard Rec '!$E$8), $AL1733, 0)","v":0},0,{"$f":"IF(AND(NOT(ISBLANK($U1733)), $U1733<'P&L'!$P$8), $AO1733, 0)","v":0},{"$f":"IF(OR(ISBLANK($U1733), $U1733>'DebitCard Rec '!$E$8), $AO1733, 0)","v":0},0,{"$f":"IF(AND($A1733<'P&L'!$P$8, $X1733='P&L'!$G$6), $AR1733, 0)","v":0},0,{"$f":"IF(AND($A1733<'P&L'!$P$8, $X1733='P&L'!$G$6), $AT1733, 0)","v":0}," "," "," "]
[null,null,null,null,null,null,null,null,null,null,null,null,null,null,null,null,null,null,null,null,null,null,"Jan-00",1900,{"$f":"IF(AND($A1745<'P&L'!$P$8, YEAR($A1745)=Master!$C$6), $K1745, 0)","v":0},0,{"$f":"IF(AND(NOT(ISBLANK($O1745)), $O1745<'P&L'!$P$8), Z1745, 0)","v":0},{"$f":"IF(OR(ISBLANK($O1745), $O1745>'BankRec Main Acct'!$E$8), Z1745, 0)","v":0},0,{"$f":"IF(AND(NOT(ISBLANK($O1745)), $O1745<'P&L'!$P$8), AC1745, 0)","v":0},{"$f":"IF(OR(ISBLANK($O1745), $O1745>'BankRec Main Acct'!$E$8), AC1745, 0)","v":0},0,{"$f":"IF(AND(NOT(ISBLANK($S1745)), $S1745<'P&L'!$P$8), AF1745, 0)","v":0},{"$f":"IF(OR(ISBLANK($S1745), $S1745>'BankRec Main Acct'!$E$8), AF1745, 0)","v":0},0,{"$f":"IF(AND(NOT(ISBLANK($S1745)), $S1745<'P&L'!$P$8), AI1745, 0)","v":0},{"$f":"IF(OR(ISBLANK($S1745), $S1745>'BankRec Main Acct'!$E$8), AI1745, 0)","v":0},0,{"$f":"IF(AND(NOT(ISBLANK($U1745)), $U1745<'P&L'!$P$8), $AL1745, 0)","v":0},{"$f":"IF(OR(ISBLANK($U1745), $U1745>'DebitCard Rec '!$E$8), $AL1745, 0)","v":0},0,{"$f":"IF(AND(NOT(ISBLANK($U1745)), $U1745<'P&L'!$P$8), $AO1745, 0)","v":0},{"$f":"IF(OR(ISBLANK($U1745), $U1745>'DebitCard Rec '!$E$8), $AO1745, 0)","v":0},0,{"$f":"IF(AND($A1745<'P&L'!$P$8, $X1745='P&L'!$G$6), $AR1745, 0)","v":0},0,{"$f":"IF(AND($A1745<'P&L'!$P$8, $X1745='P&L'!$G$6), $AT1745, 0)","v":0}," "," "," "]
[null,null,null,null,null,null,null,null,null,null,null,null,null,null,null,null,null,null,null,null,null,null,"Jan-00",1900,{"$f":"IF(AND($A1755<'P&L'!$P$8, YEAR($A1755)=Master!$C$6), $K1755, 0)","v":0},0,{"$f":"IF(AND(NOT(ISBLANK($O1755)), $O1755<'P&L'!$P$8), Z1755, 0)","v":0},{"$f":"IF(OR(ISBLANK($O1755), $O1755>'BankRec Main Acct'!$E$8), Z1755, 0)","v":0},0,{"$f":"IF(AND(NOT(ISBLANK($O1755)), $O1755<'P&L'!$P$8), AC1755, 0)","v":0},{"$f":"IF(OR(ISBLANK($O1755), $O1755>'BankRec Main Acct'!$E$8), AC1755, 0)","v":0},0,{"$f":"IF(AND(NOT(ISBLANK($S1755)), $S1755<'P&L'!$P$8), AF1755, 0)","v":0},{"$f":"IF(OR(ISBLANK($S1755), $S1755>'BankRec Main Acct'!$E$8), AF1755, 0)","v":0},0,{"$f":"IF(AND(NOT(ISBLANK($S1755)), $S1755<'P&L'!$P$8), AI1755, 0)","v":0},{"$f":"IF(OR(ISBLANK($S1755), $S1755>'BankRec Main Acct'!$E$8), AI1755, 0)","v":0},0,{"$f":"IF(AND(NOT(ISBLANK($U1755)), $U1755<'P&L'!$P$8), $AL1755, 0)","v":0},{"$f":"IF(OR(ISBLANK($U1755), $U1755>'DebitCard Rec '!$E$8), $AL1755, 0)","v":0},0,{"$f":"IF(AND(NOT(ISBLANK($U1755)), $U1755<'P&L'!$P$8), $AO1755, 0)","v":0},{"$f":"IF(OR(ISBLANK($U1755), $U1755>'DebitCard Rec '!$E$8), $AO1755, 0)","v":0},0,{"$f":"IF(AND($A1755<'P&L'!$P$8, $X1755='P&L'!$G$6), $AR1755, 0)","v":0},0,{"$f":"IF(AND($A1755<'P&L'!$P$8, $X1755='P&L'!$G$6), $AT1755, 0)","v":0}," "," "," "]
[null,null,null,null,null,null,null,null,null,null,null,null,null,null,null,null,null,null,null,null,null,null,"Jan-00",1900,{"$f":"IF(AND($A1763<'P&L'!$P$8, YEAR($A1763)=Master!$C$6), $K1763, 0)","v":0},0,{"$f":"IF(AND(NOT(ISBLANK($O1763)), $O1763<'P&L'!$P$8), Z1763, 0)","v":0},{"$f":"IF(OR(ISBLANK($O1763), $O1763>'BankRec Main Acct'!$E$8), Z1763, 0)","v":0},0,{"$f":"IF(AND(NOT(ISBLANK($O1763)), $O1763<'P&L'!$P$8), AC1763, 0)","v":0},{"$f":"IF(OR(ISBLANK($O1763), $O1763>'BankRec Main Acct'!$E$8), AC1763, 0)","v":0},0,{"$f":"IF(AND(NOT(ISBLANK($S1763)), $S1763<'P&L'!$P$8), AF1763, 0)","v":0},{"$f":"IF(OR(ISBLANK($S1763), $S1763>'BankRec Main Acct'!$E$8), AF1763, 0)","v":0},0,{"$f":"IF(AND(NOT(ISBLANK($S1763)), $S1763<'P&L'!$P$8), AI1763, 0)","v":0},{"$f":"IF(OR(ISBLANK($S1763), $S1763>'BankRec Main Acct'!$E$8), AI1763, 0)","v":0},0,{"$f":"IF(AND(NOT(ISBLANK($U1763)), $U1763<'P&L'!$P$8), $AL1763, 0)","v":0},{"$f":"IF(OR(ISBLANK($U1763), $U1763>'DebitCard Rec '!$E$8), $AL1763, 0)","v":0},0,{"$f":"IF(AND(NOT(ISBLANK($U1763)), $U1763<'P&L'!$P$8), $AO1763, 0)","v":0},{"$f":"IF(OR(ISBLANK($U1763), $U1763>'DebitCard Rec '!$E$8), $AO1763, 0)","v":0},0,{"$f":"IF(AND($A1763<'P&L'!$P$8, $X1763='P&L'!$G$6), $AR1763, 0)","v":0},0,{"$f":"IF(AND($A1763<'P&L'!$P$8, $X1763='P&L'!$G$6), $AT1763, 0)","v":0}," "," "," "]
[null,null,null,null,null,null,null,null,null,null,null,null,null,null,null,null,null,null,null,null,null,null,"Jan-00",1900,{"$f":"IF(AND($A1770<'P&L'!$P$8, YEAR($A1770)=Master!$C$6), $K1770, 0)","v":0},0,{"$f":"IF(AND(NOT(ISBLANK($O1770)), $O1770<'P&L'!$P$8), Z1770, 0)","v":0},{"$f":"IF(OR(ISBLANK($O1770), $O1770>'BankRec Main Acct'!$E$8), Z1770, 0)","v":0},0,{"$f":"IF(AND(NOT(ISBLANK($O1770)), $O1770<'P&L'!$P$8), AC1770, 0)","v":0},{"$f":"IF(OR(ISBLANK($O1770), $O1770>'BankRec Main Acct'!$E$8), AC1770, 0)","v":0},0,{"$f":"IF(AND(NOT(ISBLANK($S1770)), $S1770<'P&L'!$P$8), AF1770, 0)","v":0},{"$f":"IF(OR(ISBLANK($S1770), $S1770>'BankRec Main Acct'!$E$8), AF1770, 0)","v":0},0,{"$f":"IF(AND(NOT(ISBLANK($S1770)), $S1770<'P&L'!$P$8), AI1770, 0)","v":0},{"$f":"IF(OR(ISBLANK($S1770), $S1770>'BankRec Main Acct'!$E$8), AI1770, 0)","v":0},0,{"$f":"IF(AND(NOT(ISBLANK($U1770)), $U1770<'P&L'!$P$8), $AL1770, 0)","v":0},{"$f":"IF(OR(ISBLANK($U1770), $U1770>'DebitCard Rec '!$E$8), $AL1770, 0)","v":0},0,{"$f":"IF(AND(NOT(ISBLANK($U1770)), $U1770<'P&L'!$P$8), $AO1770, 0)","v":0},{"$f":"IF(OR(ISBLANK($U1770), $U1770>'DebitCard Rec '!$E$8), $AO1770, 0)","v":0},0,{"$f":"IF(AND($A1770<'P&L'!$P$8, $X1770='P&L'!$G$6), $AR1770, 0)","v":0},0,{"$f":"IF(AND($A1770<'P&L'!$P$8, $X1770='P&L'!$G$6), $AT1770, 0)","v":0}," "," "," "]
[null,null,null,null,null,null,null,null,null,null,null,null,null,null,null,null,null,null,null,null,null,null,"Jan-00",1900,{"$f":"IF(AND($A1782<'P&L'!$P$8, YEAR($A1782)=Master!$C$6), $K1782, 0)","v":0},0,{"$f":"IF(AND(NOT(ISBLANK($O1782)), $O1782<'P&L'!$P$8), Z1782, 0)","v":0},{"$f":"IF(OR(ISBLANK($O1782), $O1782>'BankRec Main Acct'!$E$8), Z1782, 0)","v":0},0,{"$f":"IF(AND(NOT(ISBLANK($O1782)), $O1782<'P&L'!$P$8), AC1782, 0)","v":0},{"$f":"IF(OR(ISBLANK($O1782), $O1782>'BankRec Main Acct'!$E$8), AC1782, 0)","v":0},0,{"$f":"IF(AND(NOT(ISBLANK($S1782)), $S1782<'P&L'!$P$8), AF1782, 0)","v":0},{"$f":"IF(OR(ISBLANK($S1782), $S1782>'BankRec Main Acct'!$E$8), AF1782, 0)","v":0},0,{"$f":"IF(AND(NOT(ISBLANK($S1782)), $S1782<'P&L'!$P$8), AI1782, 0)","v":0},{"$f":"IF(OR(ISBLANK($S1782), $S1782>'BankRec Main Acct'!$E$8), AI1782, 0)","v":0},0,{"$f":"IF(AND(NOT(ISBLANK($U1782)), $U1782<'P&L'!$P$8), $AL1782, 0)","v":0},{"$f":"IF(OR(ISBLANK($U1782), $U1782>'DebitCard Rec '!$E$8), $AL1782, 0)","v":0},0,{"$f":"IF(AND(NOT(ISBLANK($U1782)), $U1782<'P&L'!$P$8), $AO1782, 0)","v":0},{"$f":"IF(OR(ISBLANK($U1782), $U1782>'DebitCard Rec '!$E$8), $AO1782, 0)","v":0},0,{"$f":"IF(AND($A1782<'P&L'!$P$8, $X1782='P&L'!$G$6), $AR1782, 0)","v":0},0,{"$f":"IF(AND($A1782<'P&L'!$P$8, $X1782='P&L'!$G$6), $AT1782, 0)","v":0}," "," "," "]
[null,null,null,null,null,null,null,null,null,null,null,null,null,null,null,null,null,null,null,null,null,null,"Jan-00",1900,{"$f":"IF(AND($A1786<'P&L'!$P$8, YEAR($A1786)=Master!$C$6), $K1786, 0)","v":0},0,{"$f":"IF(AND(NOT(ISBLANK($O1786)), $O1786<'P&L'!$P$8), Z1786, 0)","v":0},{"$f":"IF(OR(ISBLANK($O1786), $O1786>'BankRec Main Acct'!$E$8), Z1786, 0)","v":0},0,{"$f":"IF(AND(NOT(ISBLANK($O1786)), $O1786<'P&L'!$P$8), AC1786, 0)","v":0},{"$f":"IF(OR(ISBLANK($O1786), $O1786>'BankRec Main Acct'!$E$8), AC1786, 0)","v":0},0,{"$f":"IF(AND(NOT(ISBLANK($S1786)), $S1786<'P&L'!$P$8), AF1786, 0)","v":0},{"$f":"IF(OR(ISBLANK($S1786), $S1786>'BankRec Main Acct'!$E$8), AF1786, 0)","v":0},0,{"$f":"IF(AND(NOT(ISBLANK($S1786)), $S1786<'P&L'!$P$8), AI1786, 0)","v":0},{"$f":"IF(OR(ISBLANK($S1786), $S1786>'BankRec Main Acct'!$E$8), AI1786, 0)","v":0},0,{"$f":"IF(AND(NOT(ISBLANK($U1786)), $U1786<'P&L'!$P$8), $AL1786, 0)","v":0},{"$f":"IF(OR(ISBLANK($U1786), $U1786>'DebitCard Rec '!$E$8), $AL1786, 0)","v":0},0,{"$f":"IF(AND(NOT(ISBLANK($U1786)), $U1786<'P&L'!$P$8), $AO1786, 0)","v":0},{"$f":"IF(OR(ISBLANK($U1786), $U1786>'DebitCard Rec '!$E$8), $AO1786, 0)","v":0},0,{"$f":"IF(AND($A1786<'P&L'!$P$8, $X1786='P&L'!$G$6), $AR1786, 0)","v":0},0,{"$f":"IF(AND($A1786<'P&L'!$P$8, $X1786='P&L'!$G$6), $AT1786, 0)","v":0}," "," "," "]
[null,null,null,null,null,null,null,null,null,null,null,null,null,null,null,null,null,null,null,null,null,null,"Jan-00",1900,{"$f":"IF(AND($A1791<'P&L'!$P$8, YEAR($A1791)=Master!$C$6), $K1791, 0)","v":0},0,{"$f":"IF(AND(NOT(ISBLANK($O1791)), $O1791<'P&L'!$P$8), Z1791, 0)","v":0},{"$f":"IF(OR(ISBLANK($O1791), $O1791>'BankRec Main Acct'!$E$8), Z1791, 0)","v":0},0,{"$f":"IF(AND(NOT(ISBLANK($O1791)), $O1791<'P&L'!$P$8), AC1791, 0)","v":0},{"$f":"IF(OR(ISBLANK($O1791), $O1791>'BankRec Main Acct'!$E$8), AC1791, 0)","v":0},0,{"$f":"IF(AND(NOT(ISBLANK($S1791)), $S1791<'P&L'!$P$8), AF1791, 0)","v":0},{"$f":"IF(OR(ISBLANK($S1791), $S1791>'BankRec Main Acct'!$E$8), AF1791, 0)","v":0},0,{"$f":"IF(AND(NOT(ISBLANK($S1791)), $S1791<'P&L'!$P$8), AI1791, 0)","v":0},{"$f":"IF(OR(ISBLANK($S1791), $S1791>'BankRec Main Acct'!$E$8), AI1791, 0)","v":0},0,{"$f":"IF(AND(NOT(ISBLANK($U1791)), $U1791<'P&L'!$P$8), $AL1791, 0)","v":0},{"$f":"IF(OR(ISBLANK($U1791), $U1791>'DebitCard Rec '!$E$8), $AL1791, 0)","v":0},0,{"$f":"IF(AND(NOT(ISBLANK($U1791)), $U1791<'P&L'!$P$8), $AO1791, 0)","v":0},{"$f":"IF(OR(ISBLANK($U1791), $U1791>'DebitCard Rec '!$E$8), $AO1791, 0)","v":0},0,{"$f":"IF(AND($A1791<'P&L'!$P$8, $X1791='P&L'!$G$6), $AR1791, 0)","v":0},0,{"$f":"IF(AND($A1791<'P&L'!$P$8, $X1791='P&L'!$G$6), $AT1791, 0)","v":0}," "," "," "]
[null,null,null,null,null,null,null,null,null,null,null,null,null,null,null,null,null,null,null,null,null,null,"Jan-00",1900,{"$f":"IF(AND($A1803<'P&L'!$P$8, YEAR($A1803)=Master!$C$6), $K1803, 0)","v":0},0,{"$f":"IF(AND(NOT(ISBLANK($O1803)), $O1803<'P&L'!$P$8), Z1803, 0)","v":0},{"$f":"IF(OR(ISBLANK($O1803), $O1803>'BankRec Main Acct'!$E$8), Z1803, 0)","v":0},0,{"$f":"IF(AND(NOT(ISBLANK($O1803)), $O1803<'P&L'!$P$8), AC1803, 0)","v":0},{"$f":"IF(OR(ISBLANK($O1803), $O1803>'BankRec Main Acct'!$E$8), AC1803, 0)","v":0},0,{"$f":"IF(AND(NOT(ISBLANK($S1803)), $S1803<'P&L'!$P$8), AF1803, 0)","v":0},{"$f":"IF(OR(ISBLANK($S1803), $S1803>'BankRec Main Acct'!$E$8), AF1803, 0)","v":0},0,{"$f":"IF(AND(NOT(ISBLANK($S1803)), $S1803<'P&L'!$P$8), AI1803, 0)","v":0},{"$f":"IF(OR(ISBLANK($S1803), $S1803>'BankRec Main Acct'!$E$8), AI1803, 0)","v":0},0,{"$f":"IF(AND(NOT(ISBLANK($U1803)), $U1803<'P&L'!$P$8), $AL1803, 0)","v":0},{"$f":"IF(OR(ISBLANK($U1803), $U1803>'DebitCard Rec '!$E$8), $AL1803, 0)","v":0},0,{"$f":"IF(AND(NOT(ISBLANK($U1803)), $U1803<'P&L'!$P$8), $AO1803, 0)","v":0},{"$f":"IF(OR(ISBLANK($U1803), $U1803>'DebitCard Rec '!$E$8), $AO1803, 0)","v":0},0,{"$f":"IF(AND($A1803<'P&L'!$P$8, $X1803='P&L'!$G$6), $AR1803, 0)","v":0},0,{"$f":"IF(AND($A1803<'P&L'!$P$8, $X1803='P&L'!$G$6), $AT1803, 0)","v":0},{"$f":"CONCATENATE(B1803,\" \",C1803)","v":" "}," "," "]
[null,null,null,null,null,null,null,null,null,null,null,null,null,null,null,null,null,null,null,null,null,null,"Jan-00",1900,{"$f":"IF(AND($A1815<'P&L'!$P$8, YEAR($A1815)=Master!$C$6), $K1815, 0)","v":0},0,{"$f":"IF(AND(NOT(ISBLANK($O1815)), $O1815<'P&L'!$P$8), Z1815, 0)","v":0},{"$f":"IF(OR(ISBLANK($O1815), $O1815>'BankRec Main Acct'!$E$8), Z1815, 0)","v":0},0,{"$f":"IF(AND(NOT(ISBLANK($O1815)), $O1815<'P&L'!$P$8), AC1815, 0)","v":0},{"$f":"IF(OR(ISBLANK($O1815), $O1815>'BankRec Main Acct'!$E$8), AC1815, 0)","v":0},0,{"$f":"IF(AND(NOT(ISBLANK($S1815)), $S1815<'P&L'!$P$8), AF1815, 0)","v":0},{"$f":"IF(OR(ISBLANK($S1815), $S1815>'BankRec Main Acct'!$E$8), AF1815, 0)","v":0},0,{"$f":"IF(AND(NOT(ISBLANK($S1815)), $S1815<'P&L'!$P$8), AI1815, 0)","v":0},{"$f":"IF(OR(ISBLANK($S1815), $S1815>'BankRec Main Acct'!$E$8), AI1815, 0)","v":0},0,{"$f":"IF(AND(NOT(ISBLANK($U1815)), $U1815<'P&L'!$P$8), $AL1815, 0)","v":0},{"$f":"IF(OR(ISBLANK($U1815), $U1815>'DebitCard Rec '!$E$8), $AL1815, 0)","v":0},0,{"$f":"IF(AND(NOT(ISBLANK($U1815)), $U1815<'P&L'!$P$8), $AO1815, 0)","v":0},{"$f":"IF(OR(ISBLANK($U1815), $U1815>'DebitCard Rec '!$E$8), $AO1815, 0)","v":0},0,{"$f":"IF(AND($A1815<'P&L'!$P$8, $X1815='P&L'!$G$6), $AR1815, 0)","v":0},0,{"$f":"IF(AND($A1815<'P&L'!$P$8, $X1815='P&L'!$G$6), $AT1815, 0)","v":0}," "," "," "]
[null,null,null,null,null,null,null,null,null,null,null,null,null,null,null,null,null,null,null,null,null,null,"Jan-00",1900,{"$f":"IF(AND($A1822<'P&L'!$P$8, YEAR($A1822)=Master!$C$6), $K1822, 0)","v":0},0,{"$f":"IF(AND(NOT(ISBLANK($O1822)), $O1822<'P&L'!$P$8), Z1822, 0)","v":0},{"$f":"IF(OR(ISBLANK($O1822), $O1822>'BankRec Main Acct'!$E$8), Z1822, 0)","v":0},0,{"$f":"IF(AND(NOT(ISBLANK($O1822)), $O1822<'P&L'!$P$8), AC1822, 0)","v":0},{"$f":"IF(OR(ISBLANK($O1822), $O1822>'BankRec Main Acct'!$E$8), AC1822, 0)","v":0},0,{"$f":"IF(AND(NOT(ISBLANK($S1822)), $S1822<'P&L'!$P$8), AF1822, 0)","v":0},{"$f":"IF(OR(ISBLANK($S1822), $S1822>'BankRec Main Acct'!$E$8), AF1822, 0)","v":0},0,{"$f":"IF(AND(NOT(ISBLANK($S1822)), $S1822<'P&L'!$P$8), AI1822, 0)","v":0},{"$f":"IF(OR(ISBLANK($S1822), $S1822>'BankRec Main Acct'!$E$8), AI1822, 0)","v":0},0,{"$f":"IF(AND(NOT(ISBLANK($U1822)), $U1822<'P&L'!$P$8), $AL1822, 0)","v":0},{"$f":"IF(OR(ISBLANK($U1822), $U1822>'DebitCard Rec '!$E$8), $AL1822, 0)","v":0},0,{"$f":"IF(AND(NOT(ISBLANK($U1822)), $U1822<'P&L'!$P$8), $AO1822, 0)","v":0},{"$f":"IF(OR(ISBLANK($U1822), $U1822>'DebitCard Rec '!$E$8), $AO1822, 0)","v":0},0,{"$f":"IF(AND($A1822<'P&L'!$P$8, $X1822='P&L'!$G$6), $AR1822, 0)","v":0},0,{"$f":"IF(AND($A1822<'P&L'!$P$8, $X1822='P&L'!$G$6), $AT1822, 0)","v":0}," "," "," "]
[null,null,null,null,null,null,null,null,null,null,null,null,null,null,null,null,null,null,null,null,null,null,"Jan-00",1900,{"$f":"IF(AND($A1827<'P&L'!$P$8, YEAR($A1827)=Master!$C$6), $K1827, 0)","v":0},0,{"$f":"IF(AND(NOT(ISBLANK($O1827)), $O1827<'P&L'!$P$8), Z1827, 0)","v":0},{"$f":"IF(OR(ISBLANK($O1827), $O1827>'BankRec Main Acct'!$E$8), Z1827, 0)","v":0},0,{"$f":"IF(AND(NOT(ISBLANK($O1827)), $O1827<'P&L'!$P$8), AC1827, 0)","v":0},{"$f":"IF(OR(ISBLANK($O1827), $O1827>'BankRec Main Acct'!$E$8), AC1827, 0)","v":0},0,{"$f":"IF(AND(NOT(ISBLANK($S1827)), $S1827<'P&L'!$P$8), AF1827, 0)","v":0},{"$f":"IF(OR(ISBLANK($S1827), $S1827>'BankRec Main Acct'!$E$8), AF1827, 0)","v":0},0,{"$f":"IF(AND(NOT(ISBLANK($S1827)), $S1827<'P&L'!$P$8), AI1827, 0)","v":0},{"$f":"IF(OR(ISBLANK($S1827), $S1827>'BankRec Main Acct'!$E$8), AI1827, 0)","v":0},0,{"$f":"IF(AND(NOT(ISBLANK($U1827)), $U1827<'P&L'!$P$8), $AL1827, 0)","v":0},{"$f":"IF(OR(ISBLANK($U1827), $U1827>'DebitCard Rec '!$E$8), $AL1827, 0)","v":0},0,{"$f":"IF(AND(NOT(ISBLANK($U1827)), $U1827<'P&L'!$P$8), $AO1827, 0)","v":0},{"$f":"IF(OR(ISBLANK($U1827), $U1827>'DebitCard Rec '!$E$8), $AO1827, 0)","v":0},0,{"$f":"IF(AND($A1827<'P&L'!$P$8, $X1827='P&L'!$G$6), $AR1827, 0)","v":0},0,{"$f":"IF(AND($A1827<'P&L'!$P$8, $X1827='P&L'!$G$6), $AT1827, 0)","v":0}," "," "," "]
[null,null,null,null,null,null,null,null,null,null,null,null,null,null,null,null,null,null,null,null,null,null,"Jan-00",1900,{"$f":"IF(AND($A1840<'P&L'!$P$8, YEAR($A1840)=Master!$C$6), $K1840, 0)","v":0},0,{"$f":"IF(AND(NOT(ISBLANK($O1840)), $O1840<'P&L'!$P$8), Z1840, 0)","v":0},{"$f":"IF(OR(ISBLANK($O1840), $O1840>'BankRec Main Acct'!$E$8), Z1840, 0)","v":0},0,{"$f":"IF(AND(NOT(ISBLANK($O1840)), $O1840<'P&L'!$P$8), AC1840, 0)","v":0},{"$f":"IF(OR(ISBLANK($O1840), $O1840>'BankRec Main Acct'!$E$8), AC1840, 0)","v":0},0,{"$f":"IF(AND(NOT(ISBLANK($S1840)), $S1840<'P&L'!$P$8), AF1840, 0)","v":0},{"$f":"IF(OR(ISBLANK($S1840), $S1840>'BankRec Main Acct'!$E$8), AF1840, 0)","v":0},0,{"$f":"IF(AND(NOT(ISBLANK($S1840)), $S1840<'P&L'!$P$8), AI1840, 0)","v":0},{"$f":"IF(OR(ISBLANK($S1840), $S1840>'BankRec Main Acct'!$E$8), AI1840, 0)","v":0},0,{"$f":"IF(AND(NOT(ISBLANK($U1840)), $U1840<'P&L'!$P$8), $AL1840, 0)","v":0},{"$f":"IF(OR(ISBLANK($U1840), $U1840>'DebitCard Rec '!$E$8), $AL1840, 0)","v":0},0,{"$f":"IF(AND(NOT(ISBLANK($U1840)), $U1840<'P&L'!$P$8), $AO1840, 0)","v":0},{"$f":"IF(OR(ISBLANK($U1840), $U1840>'DebitCard Rec '!$E$8), $AO1840, 0)","v":0},0,{"$f":"IF(AND($A1840<'P&L'!$P$8, $X1840='P&L'!$G$6), $AR1840, 0)","v":0},0,{"$f":"IF(AND($A1840<'P&L'!$P$8, $X1840='P&L'!$G$6), $AT1840, 0)","v":0}," "," "," "]
[null,null,null,null,null,null,null,null,null,null,null,null,null,null,null,null,null,null,null,null,null,null,"Jan-00",1900,{"$f":"IF(AND($A1852<'P&L'!$P$8, YEAR($A1852)=Master!$C$6), $K1852, 0)","v":0},0,{"$f":"IF(AND(NOT(ISBLANK($O1852)), $O1852<'P&L'!$P$8), Z1852, 0)","v":0},{"$f":"IF(OR(ISBLANK($O1852), $O1852>'BankRec Main Acct'!$E$8), Z1852, 0)","v":0},0,{"$f":"IF(AND(NOT(ISBLANK($O1852)), $O1852<'P&L'!$P$8), AC1852, 0)","v":0},{"$f":"IF(OR(ISBLANK($O1852), $O1852>'BankRec Main Acct'!$E$8), AC1852, 0)","v":0},0,{"$f":"IF(AND(NOT(ISBLANK($S1852)), $S1852<'P&L'!$P$8), AF1852, 0)","v":0},{"$f":"IF(OR(ISBLANK($S1852), $S1852>'BankRec Main Acct'!$E$8), AF1852, 0)","v":0},0,{"$f":"IF(AND(NOT(ISBLANK($S1852)), $S1852<'P&L'!$P$8), AI1852, 0)","v":0},{"$f":"IF(OR(ISBLANK($S1852), $S1852>'BankRec Main Acct'!$E$8), AI1852, 0)","v":0},0,{"$f":"IF(AND(NOT(ISBLANK($U1852)), $U1852<'P&L'!$P$8), $AL1852, 0)","v":0},{"$f":"IF(OR(ISBLANK($U1852), $U1852>'DebitCard Rec '!$E$8), $AL1852, 0)","v":0},0,{"$f":"IF(AND(NOT(ISBLANK($U1852)), $U1852<'P&L'!$P$8), $AO1852, 0)","v":0},{"$f":"IF(OR(ISBLANK($U1852), $U1852>'DebitCard Rec '!$E$8), $AO1852, 0)","v":0},0,{"$f":"IF(AND($A1852<'P&L'!$P$8, $X1852='P&L'!$G$6), $AR1852, 0)","v":0},0,{"$f":"IF(AND($A1852<'P&L'!$P$8, $X1852='P&L'!$G$6), $AT1852, 0)","v":0}," "," "," "]
[null,null,null,null,null,null,null,null,null,null,null,null,null,null,null,null,null,null,null,null,null,null,"Jan-00",1900,{"$f":"IF(AND($A1855<'P&L'!$P$8, YEAR($A1855)=Master!$C$6), $K1855, 0)","v":0},0,{"$f":"IF(AND(NOT(ISBLANK($O1855)), $O1855<'P&L'!$P$8), Z1855, 0)","v":0},{"$f":"IF(OR(ISBLANK($O1855), $O1855>'BankRec Main Acct'!$E$8), Z1855, 0)","v":0},0,{"$f":"IF(AND(NOT(ISBLANK($O1855)), $O1855<'P&L'!$P$8), AC1855, 0)","v":0},{"$f":"IF(OR(ISBLANK($O1855), $O1855>'BankRec Main Acct'!$E$8), AC1855, 0)","v":0},0,{"$f":"IF(AND(NOT(ISBLANK($S1855)), $S1855<'P&L'!$P$8), AF1855, 0)","v":0},{"$f":"IF(OR(ISBLANK($S1855), $S1855>'BankRec Main Acct'!$E$8), AF1855, 0)","v":0},0,{"$f":"IF(AND(NOT(ISBLANK($S1855)), $S1855<'P&L'!$P$8), AI1855, 0)","v":0},{"$f":"IF(OR(ISBLANK($S1855), $S1855>'BankRec Main Acct'!$E$8), AI1855, 0)","v":0},0,{"$f":"IF(AND(NOT(ISBLANK($U1855)), $U1855<'P&L'!$P$8), $AL1855, 0)","v":0},{"$f":"IF(OR(ISBLANK($U1855), $U1855>'DebitCard Rec '!$E$8), $AL1855, 0)","v":0},0,{"$f":"IF(AND(NOT(ISBLANK($U1855)), $U1855<'P&L'!$P$8), $AO1855, 0)","v":0},{"$f":"IF(OR(ISBLANK($U1855), $U1855>'DebitCard Rec '!$E$8), $AO1855, 0)","v":0},0,{"$f":"IF(AND($A1855<'P&L'!$P$8, $X1855='P&L'!$G$6), $AR1855, 0)","v":0},0,{"$f":"IF(AND($A1855<'P&L'!$P$8, $X1855='P&L'!$G$6), $AT1855, 0)","v":0}," "," "," "]
[null,null,null,null,null,null,null,null,null,null,null,null,null,null,null,null,null,null,null,null,null,null,"Jan-00",1900,{"$f":"IF(AND($A1866<'P&L'!$P$8, YEAR($A1866)=Master!$C$6), $K1866, 0)","v":0},0,{"$f":"IF(AND(NOT(ISBLANK($O1866)), $O1866<'P&L'!$P$8), Z1866, 0)","v":0},{"$f":"IF(OR(ISBLANK($O1866), $O1866>'BankRec Main Acct'!$E$8), Z1866, 0)","v":0},0,{"$f":"IF(AND(NOT(ISBLANK($O1866)), $O1866<'P&L'!$P$8), AC1866, 0)","v":0},{"$f":"IF(OR(ISBLANK($O1866), $O1866>'BankRec Main Acct'!$E$8), AC1866, 0)","v":0},0,{"$f":"IF(AND(NOT(ISBLANK($S1866)), $S1866<'P&L'!$P$8), AF1866, 0)","v":0},{"$f":"IF(OR(ISBLANK($S1866), $S1866>'BankRec Main Acct'!$E$8), AF1866, 0)","v":0},0,{"$f":"IF(AND(NOT(ISBLANK($S1866)), $S1866<'P&L'!$P$8), AI1866, 0)","v":0},{"$f":"IF(OR(ISBLANK($S1866), $S1866>'BankRec Main Acct'!$E$8), AI1866, 0)","v":0},0,{"$f":"IF(AND(NOT(ISBLANK($U1866)), $U1866<'P&L'!$P$8), $AL1866, 0)","v":0},{"$f":"IF(OR(ISBLANK($U1866), $U1866>'DebitCard Rec '!$E$8), $AL1866, 0)","v":0},0,{"$f":"IF(AND(NOT(ISBLANK($U1866)), $U1866<'P&L'!$P$8), $AO1866, 0)","v":0},{"$f":"IF(OR(ISBLANK($U1866), $U1866>'DebitCard Rec '!$E$8), $AO1866, 0)","v":0},0,{"$f":"IF(AND($A1866<'P&L'!$P$8, $X1866='P&L'!$G$6), $AR1866, 0)","v":0},0,{"$f":"IF(AND($A1866<'P&L'!$P$8, $X1866='P&L'!$G$6), $AT1866, 0)","v":0}," "," "," "]
[null,null,null,null,null,null,null,null,null,null,null,null,null,null,null,null,null,null,null,null,null,null,"Jan-00",1900,{"$f":"IF(AND($A1873<'P&L'!$P$8, YEAR($A1873)=Master!$C$6), $K1873, 0)","v":0},0,{"$f":"IF(AND(NOT(ISBLANK($O1873)), $O1873<'P&L'!$P$8), Z1873, 0)","v":0},{"$f":"IF(OR(ISBLANK($O1873), $O1873>'BankRec Main Acct'!$E$8), Z1873, 0)","v":0},0,{"$f":"IF(AND(NOT(ISBLANK($O1873)), $O1873<'P&L'!$P$8), AC1873, 0)","v":0},{"$f":"IF(OR(ISBLANK($O1873), $O1873>'BankRec Main Acct'!$E$8), AC1873, 0)","v":0},0,{"$f":"IF(AND(NOT(ISBLANK($S1873)), $S1873<'P&L'!$P$8), AF1873, 0)","v":0},{"$f":"IF(OR(ISBLANK($S1873), $S1873>'BankRec Main Acct'!$E$8), AF1873, 0)","v":0},0,{"$f":"IF(AND(NOT(ISBLANK($S1873)), $S1873<'P&L'!$P$8), AI1873, 0)","v":0},{"$f":"IF(OR(ISBLANK($S1873), $S1873>'BankRec Main Acct'!$E$8), AI1873, 0)","v":0},0,{"$f":"IF(AND(NOT(ISBLANK($U1873)), $U1873<'P&L'!$P$8), $AL1873, 0)","v":0},{"$f":"IF(OR(ISBLANK($U1873), $U1873>'DebitCard Rec '!$E$8), $AL1873, 0)","v":0},0,{"$f":"IF(AND(NOT(ISBLANK($U1873)), $U1873<'P&L'!$P$8), $AO1873, 0)","v":0},{"$f":"IF(OR(ISBLANK($U1873), $U1873>'DebitCard Rec '!$E$8), $AO1873, 0)","v":0},0,{"$f":"IF(AND($A1873<'P&L'!$P$8, $X1873='P&L'!$G$6), $AR1873, 0)","v":0},0,{"$f":"IF(AND($A1873<'P&L'!$P$8, $X1873='P&L'!$G$6), $AT1873, 0)","v":0}," "," "," "]
[null,null,null,null,null,null,null,null,null,null,null,null,null,null,null,null,null,null,null,null,null,null,"Jan-00",1900,{"$f":"IF(AND($A1885<'P&L'!$P$8, YEAR($A1885)=Master!$C$6), $K1885, 0)","v":0},0,{"$f":"IF(AND(NOT(ISBLANK($O1885)), $O1885<'P&L'!$P$8), Z1885, 0)","v":0},{"$f":"IF(OR(ISBLANK($O1885), $O1885>'BankRec Main Acct'!$E$8), Z1885, 0)","v":0},0,{"$f":"IF(AND(NOT(ISBLANK($O1885)), $O1885<'P&L'!$P$8), AC1885, 0)","v":0},{"$f":"IF(OR(ISBLANK($O1885), $O1885>'BankRec Main Acct'!$E$8), AC1885, 0)","v":0},0,{"$f":"IF(AND(NOT(ISBLANK($S1885)), $S1885<'P&L'!$P$8), AF1885, 0)","v":0},{"$f":"IF(OR(ISBLANK($S1885), $S1885>'BankRec Main Acct'!$E$8), AF1885, 0)","v":0},0,{"$f":"IF(AND(NOT(ISBLANK($S1885)), $S1885<'P&L'!$P$8), AI1885, 0)","v":0},{"$f":"IF(OR(ISBLANK($S1885), $S1885>'BankRec Main Acct'!$E$8), AI1885, 0)","v":0},0,{"$f":"IF(AND(NOT(ISBLANK($U1885)), $U1885<'P&L'!$P$8), $AL1885, 0)","v":0},{"$f":"IF(OR(ISBLANK($U1885), $U1885>'DebitCard Rec '!$E$8), $AL1885, 0)","v":0},0,{"$f":"IF(AND(NOT(ISBLANK($U1885)), $U1885<'P&L'!$P$8), $AO1885, 0)","v":0},{"$f":"IF(OR(ISBLANK($U1885), $U1885>'DebitCard Rec '!$E$8), $AO1885, 0)","v":0},0,{"$f":"IF(AND($A1885<'P&L'!$P$8, $X1885='P&L'!$G$6), $AR1885, 0)","v":0},0,{"$f":"IF(AND($A1885<'P&L'!$P$8, $X1885='P&L'!$G$6), $AT1885, 0)","v":0}," "," "," "]
[null,null,null,null,null,null,null,null,null,null,null,null,null,null,null,null,null,null,null,null,null,null,"Jan-00",1900,{"$f":"IF(AND($A1892<'P&L'!$P$8, YEAR($A1892)=Master!$C$6), $K1892, 0)","v":0},0,{"$f":"IF(AND(NOT(ISBLANK($O1892)), $O1892<'P&L'!$P$8), Z1892, 0)","v":0},{"$f":"IF(OR(ISBLANK($O1892), $O1892>'BankRec Main Acct'!$E$8), Z1892, 0)","v":0},0,{"$f":"IF(AND(NOT(ISBLANK($O1892)), $O1892<'P&L'!$P$8), AC1892, 0)","v":0},{"$f":"IF(OR(ISBLANK($O1892), $O1892>'BankRec Main Acct'!$E$8), AC1892, 0)","v":0},0,{"$f":"IF(AND(NOT(ISBLANK($S1892)), $S1892<'P&L'!$P$8), AF1892, 0)","v":0},{"$f":"IF(OR(ISBLANK($S1892), $S1892>'BankRec Main Acct'!$E$8), AF1892, 0)","v":0},0,{"$f":"IF(AND(NOT(ISBLANK($S1892)), $S1892<'P&L'!$P$8), AI1892, 0)","v":0},{"$f":"IF(OR(ISBLANK($S1892), $S1892>'BankRec Main Acct'!$E$8), AI1892, 0)","v":0},0,{"$f":"IF(AND(NOT(ISBLANK($U1892)), $U1892<'P&L'!$P$8), $AL1892, 0)","v":0},{"$f":"IF(OR(ISBLANK($U1892), $U1892>'DebitCard Rec '!$E$8), $AL1892, 0)","v":0},0,{"$f":"IF(AND(NOT(ISBLANK($U1892)), $U1892<'P&L'!$P$8), $AO1892, 0)","v":0},{"$f":"IF(OR(ISBLANK($U1892), $U1892>'DebitCard Rec '!$E$8), $AO1892, 0)","v":0},0,{"$f":"IF(AND($A1892<'P&L'!$P$8, $X1892='P&L'!$G$6), $AR1892, 0)","v":0},0,{"$f":"IF(AND($A1892<'P&L'!$P$8, $X1892='P&L'!$G$6), $AT1892, 0)","v":0}," "," "," "]
[null,null,null,null,null,null,null,null,null,null,null,null,null,null,null,null,null,null,null,null,null,null,"Jan-00",1900,{"$f":"IF(AND($A1904<'P&L'!$P$8, YEAR($A1904)=Master!$C$6), $K1904, 0)","v":0},0,{"$f":"IF(AND(NOT(ISBLANK($O1904)), $O1904<'P&L'!$P$8), Z1904, 0)","v":0},{"$f":"IF(OR(ISBLANK($O1904), $O1904>'BankRec Main Acct'!$E$8), Z1904, 0)","v":0},0,{"$f":"IF(AND(NOT(ISBLANK($O1904)), $O1904<'P&L'!$P$8), AC1904, 0)","v":0},{"$f":"IF(OR(ISBLANK($O1904), $O1904>'BankRec Main Acct'!$E$8), AC1904, 0)","v":0},0,{"$f":"IF(AND(NOT(ISBLANK($S1904)), $S1904<'P&L'!$P$8), AF1904, 0)","v":0},{"$f":"IF(OR(ISBLANK($S1904), $S1904>'BankRec Main Acct'!$E$8), AF1904, 0)","v":0},0,{"$f":"IF(AND(NOT(ISBLANK($S1904)), $S1904<'P&L'!$P$8), AI1904, 0)","v":0},{"$f":"IF(OR(ISBLANK($S1904), $S1904>'BankRec Main Acct'!$E$8), AI1904, 0)","v":0},0,{"$f":"IF(AND(NOT(ISBLANK($U1904)), $U1904<'P&L'!$P$8), $AL1904, 0)","v":0},{"$f":"IF(OR(ISBLANK($U1904), $U1904>'DebitCard Rec '!$E$8), $AL1904, 0)","v":0},0,{"$f":"IF(AND(NOT(ISBLANK($U1904)), $U1904<'P&L'!$P$8), $AO1904, 0)","v":0},{"$f":"IF(OR(ISBLANK($U1904), $U1904>'DebitCard Rec '!$E$8), $AO1904, 0)","v":0},0,{"$f":"IF(AND($A1904<'P&L'!$P$8, $X1904='P&L'!$G$6), $AR1904, 0)","v":0},0,{"$f":"IF(AND($A1904<'P&L'!$P$8, $X1904='P&L'!$G$6), $AT1904, 0)","v":0}," "," "," "]
[null,null,null,null,null,null,null,null,null,null,null,null,null,null,null,null,null,null,null,null,null,null,"Jan-00",1900,{"$f":"IF(AND($A1907<'P&L'!$P$8, YEAR($A1907)=Master!$C$6), $K1907, 0)","v":0},0,{"$f":"IF(AND(NOT(ISBLANK($O1907)), $O1907<'P&L'!$P$8), Z1907, 0)","v":0},{"$f":"IF(OR(ISBLANK($O1907), $O1907>'BankRec Main Acct'!$E$8), Z1907, 0)","v":0},0,{"$f":"IF(AND(NOT(ISBLANK($O1907)), $O1907<'P&L'!$P$8), AC1907, 0)","v":0},{"$f":"IF(OR(ISBLANK($O1907), $O1907>'BankRec Main Acct'!$E$8), AC1907, 0)","v":0},0,{"$f":"IF(AND(NOT(ISBLANK($S1907)), $S1907<'P&L'!$P$8), AF1907, 0)","v":0},{"$f":"IF(OR(ISBLANK($S1907), $S1907>'BankRec Main Acct'!$E$8), AF1907, 0)","v":0},0,{"$f":"IF(AND(NOT(ISBLANK($S1907)), $S1907<'P&L'!$P$8), AI1907, 0)","v":0},{"$f":"IF(OR(ISBLANK($S1907), $S1907>'BankRec Main Acct'!$E$8), AI1907, 0)","v":0},0,{"$f":"IF(AND(NOT(ISBLANK($U1907)), $U1907<'P&L'!$P$8), $AL1907, 0)","v":0},{"$f":"IF(OR(ISBLANK($U1907), $U1907>'DebitCard Rec '!$E$8), $AL1907, 0)","v":0},0,{"$f":"IF(AND(NOT(ISBLANK($U1907)), $U1907<'P&L'!$P$8), $AO1907, 0)","v":0},{"$f":"IF(OR(ISBLANK($U1907), $U1907>'DebitCard Rec '!$E$8), $AO1907, 0)","v":0},0,{"$f":"IF(AND($A1907<'P&L'!$P$8, $X1907='P&L'!$G$6), $AR1907, 0)","v":0},0,{"$f":"IF(AND($A1907<'P&L'!$P$8, $X1907='P&L'!$G$6), $AT1907, 0)","v":0}," "," "," "]
[null,null,null,null,null,null,null,null,null,null,null,null,null,null,null,null,null,null,null,null,null,null,"Jan-00",1900,{"$f":"IF(AND($A1922<'P&L'!$P$8, YEAR($A1922)=Master!$C$6), $K1922, 0)","v":0},0,{"$f":"IF(AND(NOT(ISBLANK($O1922)), $O1922<'P&L'!$P$8), Z1922, 0)","v":0},{"$f":"IF(OR(ISBLANK($O1922), $O1922>'BankRec Main Acct'!$E$8), Z1922, 0)","v":0},0,{"$f":"IF(AND(NOT(ISBLANK($O1922)), $O1922<'P&L'!$P$8), AC1922, 0)","v":0},{"$f":"IF(OR(ISBLANK($O1922), $O1922>'BankRec Main Acct'!$E$8), AC1922, 0)","v":0},0,{"$f":"IF(AND(NOT(ISBLANK($S1922)), $S1922<'P&L'!$P$8), AF1922, 0)","v":0},{"$f":"IF(OR(ISBLANK($S1922), $S1922>'BankRec Main Acct'!$E$8), AF1922, 0)","v":0},0,{"$f":"IF(AND(NOT(ISBLANK($S1922)), $S1922<'P&L'!$P$8), AI1922, 0)","v":0},{"$f":"IF(OR(ISBLANK($S1922), $S1922>'BankRec Main Acct'!$E$8), AI1922, 0)","v":0},0,{"$f":"IF(AND(NOT(ISBLANK($U1922)), $U1922<'P&L'!$P$8), $AL1922, 0)","v":0},{"$f":"IF(OR(ISBLANK($U1922), $U1922>'DebitCard Rec '!$E$8), $AL1922, 0)","v":0},0,{"$f":"IF(AND(NOT(ISBLANK($U1922)), $U1922<'P&L'!$P$8), $AO1922, 0)","v":0},{"$f":"IF(OR(ISBLANK($U1922), $U1922>'DebitCard Rec '!$E$8), $AO1922, 0)","v":0},0,{"$f":"IF(AND($A1922<'P&L'!$P$8, $X1922='P&L'!$G$6), $AR1922, 0)","v":0},0,{"$f":"IF(AND($A1922<'P&L'!$P$8, $X1922='P&L'!$G$6), $AT1922, 0)","v":0}," "," "," "]
[null,null,null,null,null,null,null,null,null,null,null,null,null,null,null,null,null,null,null,null,null,null,"Jan-00",1900,{"$f":"IF(AND($A1925<'P&L'!$P$8, YEAR($A1925)=Master!$C$6), $K1925, 0)","v":0},{"$f":"IF(AND($C1925=\"Receipt\",$B1925<>\"debit card\",$B1925<>\"petty cash\",$B1925<>\"Cash_Sub\",$B1925<>\"Cheque_Sub\", $B1925<>\"EFT_Sub\"),$K1925,0)","v":0},{"$f":"IF(AND(NOT(ISBLANK($O1925)), $O1925<'P&L'!$P$8), Z1925, 0)","v":0},{"$f":"IF(OR(ISBLANK($O1925), $O1925>'BankRec Main Acct'!$E$8), Z1925, 0)","v":0},{"$f":"IF(AND($C1925=\"Payment\", $B1925<>\"debit card\", $B1925<>\"petty cash\", $B1925<>\"Cash_Sub\", $B1925<>\"Cheque_Sub\", $B1925<>\"EFT_Sub\"), $K1925, 0)","v":0},{"$f":"IF(AND(NOT(ISBLANK($O1925)), $O1925<'P&L'!$P$8), AC1925, 0)","v":0},{"$f":"IF(OR(ISBLANK($O1925), $O1925>'BankRec Main Acct'!$E$8), AC1925, 0)","v":0},{"$f":"IF(AND($C1925=\"Receipt\",$B1925<>\"debit card\",$B1925<>\"petty cash\",$B1925<>\"Cash_Main\",$B1925<>\"Cheque_Main\", $B1925<>\"EFT_Main\"),$K1925,0)","v":0},{"$f":"IF(AND(NOT(ISBLANK($S1925)), $S1925<'P&L'!$P$8), AF1925, 0)","v":0},{"$f":"IF(OR(ISBLANK($S1925), $S1925>'BankRec Main Acct'!$E$8), AF1925, 0)","v":0},{"$f":"IF(AND($C1925=\"Payment\", $B1925<>\"debit card\", $B1925<>\"petty cash\", $B1925<>\"Cash_Main\", $B1925<>\"Cheque_Main\", $B1925<>\"EFT_Main\"), $K1925, 0)","v":0},{"$f":"IF(AND(NOT(ISBLANK($S1925)), $S1925<'P&L'!$P$8), AI1925, 0)","v":0},{"$f":"IF(OR(ISBLANK($S1925), $S1925>'BankRec Main Acct'!$E$8), AI1925, 0)","v":0},0,{"$f":"IF(AND(NOT(ISBLANK($U1925)), $U1925<'P&L'!$P$8), $AL1925, 0)","v":0},{"$f":"IF(OR(ISBLANK($U1925), $U1925>'DebitCard Rec '!$E$8), $AL1925, 0)","v":0},0,{"$f":"IF(AND(NOT(ISBLANK($U1925)), $U1925<'P&L'!$P$8), $AO1925, 0)","v":0},{"$f":"IF(OR(ISBLANK($U1925), $U1925>'DebitCard Rec '!$E$8), $AO1925, 0)","v":0},0,{"$f":"IF(AND($A1925<'P&L'!$P$8, $X1925='P&L'!$G$6), $AR1925, 0)","v":0},0,{"$f":"IF(AND($A1925<'P&L'!$P$8, $X1925='P&L'!$G$6), $AT1925, 0)","v":0}," "," "," "]
[null,null,null,null,null,null,null,null,null,null,null,null,null,null,null,null,null,null,null,null,null,null,"Jan-00",1900,{"$f":"IF(AND($A1932<'P&L'!$P$8, YEAR($A1932)=Master!$C$6), $K1932, 0)","v":0},0,{"$f":"IF(AND(NOT(ISBLANK($O1932)), $O1932<'P&L'!$P$8), Z1932, 0)","v":0},{"$f":"IF(OR(ISBLANK($O1932), $O1932>'BankRec Main Acct'!$E$8), Z1932, 0)","v":0},0,{"$f":"IF(AND(NOT(ISBLANK($O1932)), $O1932<'P&L'!$P$8), AC1932, 0)","v":0},{"$f":"IF(OR(ISBLANK($O1932), $O1932>'BankRec Main Acct'!$E$8), AC1932, 0)","v":0},0,{"$f":"IF(AND(NOT(ISBLANK($S1932)), $S1932<'P&L'!$P$8), AF1932, 0)","v":0},{"$f":"IF(OR(ISBLANK($S1932), $S1932>'BankRec Main Acct'!$E$8), AF1932, 0)","v":0},0,{"$f":"IF(AND(NOT(ISBLANK($S1932)), $S1932<'P&L'!$P$8), AI1932, 0)","v":0},{"$f":"IF(OR(ISBLANK($S1932), $S1932>'BankRec Main Acct'!$E$8), AI1932, 0)","v":0},0,{"$f":"IF(AND(NOT(ISBLANK($U1932)), $U1932<'P&L'!$P$8), $AL1932, 0)","v":0},{"$f":"IF(OR(ISBLANK($U1932), $U1932>'DebitCard Rec '!$E$8), $AL1932, 0)","v":0},0,{"$f":"IF(AND(NOT(ISBLANK($U1932)), $U1932<'P&L'!$P$8), $AO1932, 0)","v":0},{"$f":"IF(OR(ISBLANK($U1932), $U1932>'DebitCard Rec '!$E$8), $AO1932, 0)","v":0},0,{"$f":"IF(AND($A1932<'P&L'!$P$8, $X1932='P&L'!$G$6), $AR1932, 0)","v":0},0,{"$f":"IF(AND($A1932<'P&L'!$P$8, $X1932='P&L'!$G$6), $AT1932, 0)","v":0}," "," "," "]
[null,null,null,null,null,null,null,null,null,null,null,null,null,null,null,null,null,null,null,null,null,null,"Jan-00",1900,{"$f":"IF(AND($A1944<'P&L'!$P$8, YEAR($A1944)=Master!$C$6), $K1944, 0)","v":0},0,{"$f":"IF(AND(NOT(ISBLANK($O1944)), $O1944<'P&L'!$P$8), Z1944, 0)","v":0},{"$f":"IF(OR(ISBLANK($O1944), $O1944>'BankRec Main Acct'!$E$8), Z1944, 0)","v":0},0,{"$f":"IF(AND(NOT(ISBLANK($O1944)), $O1944<'P&L'!$P$8), AC1944, 0)","v":0},{"$f":"IF(OR(ISBLANK($O1944), $O1944>'BankRec Main Acct'!$E$8), AC1944, 0)","v":0},0,{"$f":"IF(AND(NOT(ISBLANK($S1944)), $S1944<'P&L'!$P$8), AF1944, 0)","v":0},{"$f":"IF(OR(ISBLANK($S1944), $S1944>'BankRec Main Acct'!$E$8), AF1944, 0)","v":0},0,{"$f":"IF(AND(NOT(ISBLANK($S1944)), $S1944<'P&L'!$P$8), AI1944, 0)","v":0},{"$f":"IF(OR(ISBLANK($S1944), $S1944>'BankRec Main Acct'!$E$8), AI1944, 0)","v":0},0,{"$f":"IF(AND(NOT(ISBLANK($U1944)), $U1944<'P&L'!$P$8), $AL1944, 0)","v":0},{"$f":"IF(OR(ISBLANK($U1944), $U1944>'DebitCard Rec '!$E$8), $AL1944, 0)","v":0},0,{"$f":"IF(AND(NOT(ISBLANK($U1944)), $U1944<'P&L'!$P$8), $AO1944, 0)","v":0},{"$f":"IF(OR(ISBLANK($U1944), $U1944>'DebitCard Rec '!$E$8), $AO1944, 0)","v":0},0,{"$f":"IF(AND($A1944<'P&L'!$P$8, $X1944='P&L'!$G$6), $AR1944, 0)","v":0},0,{"$f":"IF(AND($A1944<'P&L'!$P$8, $X1944='P&L'!$G$6), $AT1944, 0)","v":0}," "," "," "]
[null,null,null,null,null,null,null,null,null,null,null,null,null,null,null,null,null,null,null,null,null,null,"Jan-00",1900,{"$f":"IF(AND($A1956<'P&L'!$P$8, YEAR($A1956)=Master!$C$6), $K1956, 0)","v":0},0,{"$f":"IF(AND(NOT(ISBLANK($O1956)), $O1956<'P&L'!$P$8), Z1956, 0)","v":0},{"$f":"IF(OR(ISBLANK($O1956), $O1956>'BankRec Main Acct'!$E$8), Z1956, 0)","v":0},0,{"$f":"IF(AND(NOT(ISBLANK($O1956)), $O1956<'P&L'!$P$8), AC1956, 0)","v":0},{"$f":"IF(OR(ISBLANK($O1956), $O1956>'BankRec Main Acct'!$E$8), AC1956, 0)","v":0},0,{"$f":"IF(AND(NOT(ISBLANK($S1956)), $S1956<'P&L'!$P$8), AF1956, 0)","v":0},{"$f":"IF(OR(ISBLANK($S1956), $S1956>'BankRec Main Acct'!$E$8), AF1956, 0)","v":0},0,{"$f":"IF(AND(NOT(ISBLANK($S1956)), $S1956<'P&L'!$P$8), AI1956, 0)","v":0},{"$f":"IF(OR(ISBLANK($S1956), $S1956>'BankRec Main Acct'!$E$8), AI1956, 0)","v":0},0,{"$f":"IF(AND(NOT(ISBLANK($U1956)), $U1956<'P&L'!$P$8), $AL1956, 0)","v":0},{"$f":"IF(OR(ISBLANK($U1956), $U1956>'DebitCard Rec '!$E$8), $AL1956, 0)","v":0},0,{"$f":"IF(AND(NOT(ISBLANK($U1956)), $U1956<'P&L'!$P$8), $AO1956, 0)","v":0},{"$f":"IF(OR(ISBLANK($U1956), $U1956>'DebitCard Rec '!$E$8), $AO1956, 0)","v":0},0,{"$f":"IF(AND($A1956<'P&L'!$P$8, $X1956='P&L'!$G$6), $AR1956, 0)","v":0},0,{"$f":"IF(AND($A1956<'P&L'!$P$8, $X1956='P&L'!$G$6), $AT1956, 0)","v":0}," "," "," "]
[null,null,null,null,null,null,null,null,null,null,null,null,null,null,null,null,null,null,null,null,null,null,"Jan-00",1900,{"$f":"IF(AND($A1962<'P&L'!$P$8, YEAR($A1962)=Master!$C$6), $K1962, 0)","v":0},0,{"$f":"IF(AND(NOT(ISBLANK($O1962)), $O1962<'P&L'!$P$8), Z1962, 0)","v":0},{"$f":"IF(OR(ISBLANK($O1962), $O1962>'BankRec Main Acct'!$E$8), Z1962, 0)","v":0},0,{"$f":"IF(AND(NOT(ISBLANK($O1962)), $O1962<'P&L'!$P$8), AC1962, 0)","v":0},{"$f":"IF(OR(ISBLANK($O1962), $O1962>'BankRec Main Acct'!$E$8), AC1962, 0)","v":0},0,{"$f":"IF(AND(NOT(ISBLANK($S1962)), $S1962<'P&L'!$P$8), AF1962, 0)","v":0},{"$f":"IF(OR(ISBLANK($S1962), $S1962>'BankRec Main Acct'!$E$8), AF1962, 0)","v":0},0,{"$f":"IF(AND(NOT(ISBLANK($S1962)), $S1962<'P&L'!$P$8), AI1962, 0)","v":0},{"$f":"IF(OR(ISBLANK($S1962), $S1962>'BankRec Main Acct'!$E$8), AI1962, 0)","v":0},0,{"$f":"IF(AND(NOT(ISBLANK($U1962)), $U1962<'P&L'!$P$8), $AL1962, 0)","v":0},{"$f":"IF(OR(ISBLANK($U1962), $U1962>'DebitCard Rec '!$E$8), $AL1962, 0)","v":0},0,{"$f":"IF(AND(NOT(ISBLANK($U1962)), $U1962<'P&L'!$P$8), $AO1962, 0)","v":0},{"$f":"IF(OR(ISBLANK($U1962), $U1962>'DebitCard Rec '!$E$8), $AO1962, 0)","v":0},0,{"$f":"IF(AND($A1962<'P&L'!$P$8, $X1962='P&L'!$G$6), $AR1962, 0)","v":0},0,{"$f":"IF(AND($A1962<'P&L'!$P$8, $X1962='P&L'!$G$6), $AT1962, 0)","v":0}," "," "," "]
[null,null,null,null,null,null,null,null,null,null,null,null,null,null,null,null,null,null,null,null,null,null,"Jan-00",1900,{"$f":"IF(AND($A1974<'P&L'!$P$8, YEAR($A1974)=Master!$C$6), $K1974, 0)","v":0},0,{"$f":"IF(AND(NOT(ISBLANK($O1974)), $O1974<'P&L'!$P$8), Z1974, 0)","v":0},{"$f":"IF(OR(ISBLANK($O1974), $O1974>'BankRec Main Acct'!$E$8), Z1974, 0)","v":0},0,{"$f":"IF(AND(NOT(ISBLANK($O1974)), $O1974<'P&L'!$P$8), AC1974, 0)","v":0},{"$f":"IF(OR(ISBLANK($O1974), $O1974>'BankRec Main Acct'!$E$8), AC1974, 0)","v":0},0,{"$f":"IF(AND(NOT(ISBLANK($S1974)), $S1974<'P&L'!$P$8), AF1974, 0)","v":0},{"$f":"IF(OR(ISBLANK($S1974), $S1974>'BankRec Main Acct'!$E$8), AF1974, 0)","v":0},0,{"$f":"IF(AND(NOT(ISBLANK($S1974)), $S1974<'P&L'!$P$8), AI1974, 0)","v":0},{"$f":"IF(OR(ISBLANK($S1974), $S1974>'BankRec Main Acct'!$E$8), AI1974, 0)","v":0},0,{"$f":"IF(AND(NOT(ISBLANK($U1974)), $U1974<'P&L'!$P$8), $AL1974, 0)","v":0},{"$f":"IF(OR(ISBLANK($U1974), $U1974>'DebitCard Rec '!$E$8), $AL1974, 0)","v":0},0,{"$f":"IF(AND(NOT(ISBLANK($U1974)), $U1974<'P&L'!$P$8), $AO1974, 0)","v":0},{"$f":"IF(OR(ISBLANK($U1974), $U1974>'DebitCard Rec '!$E$8), $AO1974, 0)","v":0},0,{"$f":"IF(AND($A1974<'P&L'!$P$8, $X1974='P&L'!$G$6), $AR1974, 0)","v":0},0,{"$f":"IF(AND($A1974<'P&L'!$P$8, $X1974='P&L'!$G$6), $AT1974, 0)","v":0}," "," "," "]
[null,null,null,null,null,null,null,null,null,null,null,null,null,null,null,null,null,null,null,null,null,null,"Jan-00",1900,{"$f":"IF(AND($A1981<'P&L'!$P$8, YEAR($A1981)=Master!$C$6), $K1981, 0)","v":0},0,{"$f":"IF(AND(NOT(ISBLANK($O1981)), $O1981<'P&L'!$P$8), Z1981, 0)","v":0},{"$f":"IF(OR(ISBLANK($O1981), $O1981>'BankRec Main Acct'!$E$8), Z1981, 0)","v":0},0,{"$f":"IF(AND(NOT(ISBLANK($O1981)), $O1981<'P&L'!$P$8), AC1981, 0)","v":0},{"$f":"IF(OR(ISBLANK($O1981), $O1981>'BankRec Main Acct'!$E$8), AC1981, 0)","v":0},0,{"$f":"IF(AND(NOT(ISBLANK($S1981)), $S1981<'P&L'!$P$8), AF1981, 0)","v":0},{"$f":"IF(OR(ISBLANK($S1981), $S1981>'BankRec Main Acct'!$E$8), AF1981, 0)","v":0},0,{"$f":"IF(AND(NOT(ISBLANK($S1981)), $S1981<'P&L'!$P$8), AI1981, 0)","v":0},{"$f":"IF(OR(ISBLANK($S1981), $S1981>'BankRec Main Acct'!$E$8), AI1981, 0)","v":0},0,{"$f":"IF(AND(NOT(ISBLANK($U1981)), $U1981<'P&L'!$P$8), $AL1981, 0)","v":0},{"$f":"IF(OR(ISBLANK($U1981), $U1981>'DebitCard Rec '!$E$8), $AL1981, 0)","v":0},0,{"$f":"IF(AND(NOT(ISBLANK($U1981)), $U1981<'P&L'!$P$8), $AO1981, 0)","v":0},{"$f":"IF(OR(ISBLANK($U1981), $U1981>'DebitCard Rec '!$E$8), $AO1981, 0)","v":0},0,{"$f":"IF(AND($A1981<'P&L'!$P$8, $X1981='P&L'!$G$6), $AR1981, 0)","v":0},0,{"$f":"IF(AND($A1981<'P&L'!$P$8, $X1981='P&L'!$G$6), $AT1981, 0)","v":0}," "," "," "]
[null,null,null,null,null,null,null,null,null,null,null,null,null,null,null,null,null,null,null,null,null,null,"Jan-00",1900,{"$f":"IF(AND($A1987<'P&L'!$P$8, YEAR($A1987)=Master!$C$6), $K1987, 0)","v":0},0,{"$f":"IF(AND(NOT(ISBLANK($O1987)), $O1987<'P&L'!$P$8), Z1987, 0)","v":0},{"$f":"IF(OR(ISBLANK($O1987), $O1987>'BankRec Main Acct'!$E$8), Z1987, 0)","v":0},0,{"$f":"IF(AND(NOT(ISBLANK($O1987)), $O1987<'P&L'!$P$8), AC1987, 0)","v":0},{"$f":"IF(OR(ISBLANK($O1987), $O1987>'BankRec Main Acct'!$E$8), AC1987, 0)","v":0},0,{"$f":"IF(AND(NOT(ISBLANK($S1987)), $S1987<'P&L'!$P$8), AF1987, 0)","v":0},{"$f":"IF(OR(ISBLANK($S1987), $S1987>'BankRec Main Acct'!$E$8), AF1987, 0)","v":0},0,{"$f":"IF(AND(NOT(ISBLANK($S1987)), $S1987<'P&L'!$P$8), AI1987, 0)","v":0},{"$f":"IF(OR(ISBLANK($S1987), $S1987>'BankRec Main Acct'!$E$8), AI1987, 0)","v":0},0,{"$f":"IF(AND(NOT(ISBLANK($U1987)), $U1987<'P&L'!$P$8), $AL1987, 0)","v":0},{"$f":"IF(OR(ISBLANK($U1987), $U1987>'DebitCard Rec '!$E$8), $AL1987, 0)","v":0},0,{"$f":"IF(AND(NOT(ISBLANK($U1987)), $U1987<'P&L'!$P$8), $AO1987, 0)","v":0},{"$f":"IF(OR(ISBLANK($U1987), $U1987>'DebitCard Rec '!$E$8), $AO1987, 0)","v":0},0,{"$f":"IF(AND($A1987<'P&L'!$P$8, $X1987='P&L'!$G$6), $AR1987, 0)","v":0},0,{"$f":"IF(AND($A1987<'P&L'!$P$8, $X1987='P&L'!$G$6), $AT1987, 0)","v":0}," "," "," "]
[null,null,null,null,null,null,null,null,null,null,null,null,null,null,null,null,null,null,null,null,null,null,"Jan-00",1900,{"$f":"IF(AND($A1995<'P&L'!$P$8, YEAR($A1995)=Master!$C$6), $K1995, 0)","v":0},0,{"$f":"IF(AND(NOT(ISBLANK($O1995)), $O1995<'P&L'!$P$8), Z1995, 0)","v":0},{"$f":"IF(OR(ISBLANK($O1995), $O1995>'BankRec Main Acct'!$E$8), Z1995, 0)","v":0},0,{"$f":"IF(AND(NOT(ISBLANK($O1995)), $O1995<'P&L'!$P$8), AC1995, 0)","v":0},{"$f":"IF(OR(ISBLANK($O1995), $O1995>'BankRec Main Acct'!$E$8), AC1995, 0)","v":0},0,{"$f":"IF(AND(NOT(ISBLANK($S1995)), $S1995<'P&L'!$P$8), AF1995, 0)","v":0},{"$f":"IF(OR(ISBLANK($S1995), $S1995>'BankRec Main Acct'!$E$8), AF1995, 0)","v":0},0,{"$f":"IF(AND(NOT(ISBLANK($S1995)), $S1995<'P&L'!$P$8), AI1995, 0)","v":0},{"$f":"IF(OR(ISBLANK($S1995), $S1995>'BankRec Main Acct'!$E$8), AI1995, 0)","v":0},0,{"$f":"IF(AND(NOT(ISBLANK($U1995)), $U1995<'P&L'!$P$8), $AL1995, 0)","v":0},{"$f":"IF(OR(ISBLANK($U1995), $U1995>'DebitCard Rec '!$E$8), $AL1995, 0)","v":0},0,{"$f":"IF(AND(NOT(ISBLANK($U1995)), $U1995<'P&L'!$P$8), $AO1995, 0)","v":0},{"$f":"IF(OR(ISBLANK($U1995), $U1995>'DebitCard Rec '!$E$8), $AO1995, 0)","v":0},0,{"$f":"IF(AND($A1995<'P&L'!$P$8, $X1995='P&L'!$G$6), $AR1995, 0)","v":0},0,{"$f":"IF(AND($A1995<'P&L'!$P$8, $X1995='P&L'!$G$6), $AT1995, 0)","v":0},{"$f":"CONCATENATE(B1995,\" \",C1995)","v":" "}," "," "]
[null,null,null,null,null,null,null,null,null,null,null,null,null,null,null,null,null,null,null,null,null,null,"Jan-00",1900,{"$f":"IF(AND($A2002<'P&L'!$P$8, YEAR($A2002)=Master!$C$6), $K2002, 0)","v":0},0,{"$f":"IF(AND(NOT(ISBLANK($O2002)), $O2002<'P&L'!$P$8), Z2002, 0)","v":0},{"$f":"IF(OR(ISBLANK($O2002), $O2002>'BankRec Main Acct'!$E$8), Z2002, 0)","v":0},0,{"$f":"IF(AND(NOT(ISBLANK($O2002)), $O2002<'P&L'!$P$8), AC2002, 0)","v":0},{"$f":"IF(OR(ISBLANK($O2002), $O2002>'BankRec Main Acct'!$E$8), AC2002, 0)","v":0},0,{"$f":"IF(AND(NOT(ISBLANK($S2002)), $S2002<'P&L'!$P$8), AF2002, 0)","v":0},{"$f":"IF(OR(ISBLANK($S2002), $S2002>'BankRec Main Acct'!$E$8), AF2002, 0)","v":0},0,{"$f":"IF(AND(NOT(ISBLANK($S2002)), $S2002<'P&L'!$P$8), AI2002, 0)","v":0},{"$f":"IF(OR(ISBLANK($S2002), $S2002>'BankRec Main Acct'!$E$8), AI2002, 0)","v":0},0,{"$f":"IF(AND(NOT(ISBLANK($U2002)), $U2002<'P&L'!$P$8), $AL2002, 0)","v":0},{"$f":"IF(OR(ISBLANK($U2002), $U2002>'DebitCard Rec '!$E$8), $AL2002, 0)","v":0},0,{"$f":"IF(AND(NOT(ISBLANK($U2002)), $U2002<'P&L'!$P$8), $AO2002, 0)","v":0},{"$f":"IF(OR(ISBLANK($U2002), $U2002>'DebitCard Rec '!$E$8), $AO2002, 0)","v":0},0,{"$f":"IF(AND($A2002<'P&L'!$P$8, $X2002='P&L'!$G$6), $AR2002, 0)","v":0},0,{"$f":"IF(AND($A2002<'P&L'!$P$8, $X2002='P&L'!$G$6), $AT2002, 0)","v":0}," "," "," "]
[null,null,null,null,null,null,null,null,null,null,null,null,null,null,null,null,null,null,null,null,null,null,"Jan-00",1900,{"$f":"IF(AND($A2014<'P&L'!$P$8, YEAR($A2014)=Master!$C$6), $K2014, 0)","v":0},0,{"$f":"IF(AND(NOT(ISBLANK($O2014)), $O2014<'P&L'!$P$8), Z2014, 0)","v":0},{"$f":"IF(OR(ISBLANK($O2014), $O2014>'BankRec Main Acct'!$E$8), Z2014, 0)","v":0},0,{"$f":"IF(AND(NOT(ISBLANK($O2014)), $O2014<'P&L'!$P$8), AC2014, 0)","v":0},{"$f":"IF(OR(ISBLANK($O2014), $O2014>'BankRec Main Acct'!$E$8), AC2014, 0)","v":0},0,{"$f":"IF(AND(NOT(ISBLANK($S2014)), $S2014<'P&L'!$P$8), AF2014, 0)","v":0},{"$f":"IF(OR(ISBLANK($S2014), $S2014>'BankRec Main Acct'!$E$8), AF2014, 0)","v":0},0,{"$f":"IF(AND(NOT(ISBLANK($S2014)), $S2014<'P&L'!$P$8), AI2014, 0)","v":0},{"$f":"IF(OR(ISBLANK($S2014), $S2014>'BankRec Main Acct'!$E$8), AI2014, 0)","v":0},0,{"$f":"IF(AND(NOT(ISBLANK($U2014)), $U2014<'P&L'!$P$8), $AL2014, 0)","v":0},{"$f":"IF(OR(ISBLANK($U2014), $U2014>'DebitCard Rec '!$E$8), $AL2014, 0)","v":0},0,{"$f":"IF(AND(NOT(ISBLANK($U2014)), $U2014<'P&L'!$P$8), $AO2014, 0)","v":0},{"$f":"IF(OR(ISBLANK($U2014), $U2014>'DebitCard Rec '!$E$8), $AO2014, 0)","v":0},0,{"$f":"IF(AND($A2014<'P&L'!$P$8, $X2014='P&L'!$G$6), $AR2014, 0)","v":0},0,{"$f":"IF(AND($A2014<'P&L'!$P$8, $X2014='P&L'!$G$6), $AT2014, 0)","v":0}," "," "," "]
[null,null,null,null,null,null,null,null,null,null,null,null,null,null,null,null,null,null,null,null,null,null,"Jan-00",1900,{"$f":"IF(AND($A2021<'P&L'!$P$8, YEAR($A2021)=Master!$C$6), $K2021, 0)","v":0},0,{"$f":"IF(AND(NOT(ISBLANK($O2021)), $O2021<'P&L'!$P$8), Z2021, 0)","v":0},{"$f":"IF(OR(ISBLANK($O2021), $O2021>'BankRec Main Acct'!$E$8), Z2021, 0)","v":0},0,{"$f":"IF(AND(NOT(ISBLANK($O2021)), $O2021<'P&L'!$P$8), AC2021, 0)","v":0},{"$f":"IF(OR(ISBLANK($O2021), $O2021>'BankRec Main Acct'!$E$8), AC2021, 0)","v":0},0,{"$f":"IF(AND(NOT(ISBLANK($S2021)), $S2021<'P&L'!$P$8), AF2021, 0)","v":0},{"$f":"IF(OR(ISBLANK($S2021), $S2021>'BankRec Main Acct'!$E$8), AF2021, 0)","v":0},0,{"$f":"IF(AND(NOT(ISBLANK($S2021)), $S2021<'P&L'!$P$8), AI2021, 0)","v":0},{"$f":"IF(OR(ISBLANK($S2021), $S2021>'BankRec Main Acct'!$E$8), AI2021, 0)","v":0},0,{"$f":"IF(AND(NOT(ISBLANK($U2021)), $U2021<'P&L'!$P$8), $AL2021, 0)","v":0},{"$f":"IF(OR(ISBLANK($U2021), $U2021>'DebitCard Rec '!$E$8), $AL2021, 0)","v":0},0,{"$f":"IF(AND(NOT(ISBLANK($U2021)), $U2021<'P&L'!$P$8), $AO2021, 0)","v":0},{"$f":"IF(OR(ISBLANK($U2021), $U2021>'DebitCard Rec '!$E$8), $AO2021, 0)","v":0},0,{"$f":"IF(AND($A2021<'P&L'!$P$8, $X2021='P&L'!$G$6), $AR2021, 0)","v":0},0,{"$f":"IF(AND($A2021<'P&L'!$P$8, $X2021='P&L'!$G$6), $AT2021, 0)","v":0}," "," "," "]
[null,null,null,null,null,null,null,null,null,null,null,null,null,null,null,null,null,null,null,null,null,null,"Jan-00",1900,{"$f":"IF(AND($A2036<'P&L'!$P$8, YEAR($A2036)=Master!$C$6), $K2036, 0)","v":0},0,{"$f":"IF(AND(NOT(ISBLANK($O2036)), $O2036<'P&L'!$P$8), Z2036, 0)","v":0},{"$f":"IF(OR(ISBLANK($O2036), $O2036>'BankRec Main Acct'!$E$8), Z2036, 0)","v":0},0,{"$f":"IF(AND(NOT(ISBLANK($O2036)), $O2036<'P&L'!$P$8), AC2036, 0)","v":0},{"$f":"IF(OR(ISBLANK($O2036), $O2036>'BankRec Main Acct'!$E$8), AC2036, 0)","v":0},0,{"$f":"IF(AND(NOT(ISBLANK($S2036)), $S2036<'P&L'!$P$8), AF2036, 0)","v":0},{"$f":"IF(OR(ISBLANK($S2036), $S2036>'BankRec Main Acct'!$E$8), AF2036, 0)","v":0},0,{"$f":"IF(AND(NOT(ISBLANK($S2036)), $S2036<'P&L'!$P$8), AI2036, 0)","v":0},{"$f":"IF(OR(ISBLANK($S2036), $S2036>'BankRec Main Acct'!$E$8), AI2036, 0)","v":0},0,{"$f":"IF(AND(NOT(ISBLANK($U2036)), $U2036<'P&L'!$P$8), $AL2036, 0)","v":0},{"$f":"IF(OR(ISBLANK($U2036), $U2036>'DebitCard Rec '!$E$8), $AL2036, 0)","v":0},0,{"$f":"IF(AND(NOT(ISBLANK($U2036)), $U2036<'P&L'!$P$8), $AO2036, 0)","v":0},{"$f":"IF(OR(ISBLANK($U2036), $U2036>'DebitCard Rec '!$E$8), $AO2036, 0)","v":0},0,{"$f":"IF(AND($A2036<'P&L'!$P$8, $X2036='P&L'!$G$6), $AR2036, 0)","v":0},0,{"$f":"IF(AND($A2036<'P&L'!$P$8, $X2036='P&L'!$G$6), $AT2036, 0)","v":0}," "," "," "]
[null,null,null,null,null,null,null,null,null,null,null,null,null,null,null,null,null,null,null,null,null,null,"Jan-00",1900,{"$f":"IF(AND($A2044<'P&L'!$P$8, YEAR($A2044)=Master!$C$6), $K2044, 0)","v":0},0,{"$f":"IF(AND(NOT(ISBLANK($O2044)), $O2044<'P&L'!$P$8), Z2044, 0)","v":0},{"$f":"IF(OR(ISBLANK($O2044), $O2044>'BankRec Main Acct'!$E$8), Z2044, 0)","v":0},0,{"$f":"IF(AND(NOT(ISBLANK($O2044)), $O2044<'P&L'!$P$8), AC2044, 0)","v":0},{"$f":"IF(OR(ISBLANK($O2044), $O2044>'BankRec Main Acct'!$E$8), AC2044, 0)","v":0},0,{"$f":"IF(AND(NOT(ISBLANK($S2044)), $S2044<'P&L'!$P$8), AF2044, 0)","v":0},{"$f":"IF(OR(ISBLANK($S2044), $S2044>'BankRec Main Acct'!$E$8), AF2044, 0)","v":0},0,{"$f":"IF(AND(NOT(ISBLANK($S2044)), $S2044<'P&L'!$P$8), AI2044, 0)","v":0},{"$f":"IF(OR(ISBLANK($S2044), $S2044>'BankRec Main Acct'!$E$8), AI2044, 0)","v":0},0,{"$f":"IF(AND(NOT(ISBLANK($U2044)), $U2044<'P&L'!$P$8), $AL2044, 0)","v":0},{"$f":"IF(OR(ISBLANK($U2044), $U2044>'DebitCard Rec '!$E$8), $AL2044, 0)","v":0},0,{"$f":"IF(AND(NOT(ISBLANK($U2044)), $U2044<'P&L'!$P$8), $AO2044, 0)","v":0},{"$f":"IF(OR(ISBLANK($U2044), $U2044>'DebitCard Rec '!$E$8), $AO2044, 0)","v":0},0,{"$f":"IF(AND($A2044<'P&L'!$P$8, $X2044='P&L'!$G$6), $AR2044, 0)","v":0},0,{"$f":"IF(AND($A2044<'P&L'!$P$8, $X2044='P&L'!$G$6), $AT2044, 0)","v":0}," "," "," "]
[null,null,null,null,null,null,null,null,null,null,null,null,null,null,null,null,null,null,null,null,null,null,"Jan-00",1900,{"$f":"IF(AND($A2051<'P&L'!$P$8, YEAR($A2051)=Master!$C$6), $K2051, 0)","v":0},0,{"$f":"IF(AND(NOT(ISBLANK($O2051)), $O2051<'P&L'!$P$8), Z2051, 0)","v":0},{"$f":"IF(OR(ISBLANK($O2051), $O2051>'BankRec Main Acct'!$E$8), Z2051, 0)","v":0},0,{"$f":"IF(AND(NOT(ISBLANK($O2051)), $O2051<'P&L'!$P$8), AC2051, 0)","v":0},{"$f":"IF(OR(ISBLANK($O2051), $O2051>'BankRec Main Acct'!$E$8), AC2051, 0)","v":0},0,{"$f":"IF(AND(NOT(ISBLANK($S2051)), $S2051<'P&L'!$P$8), AF2051, 0)","v":0},{"$f":"IF(OR(ISBLANK($S2051), $S2051>'BankRec Main Acct'!$E$8), AF2051, 0)","v":0},0,{"$f":"IF(AND(NOT(ISBLANK($S2051)), $S2051<'P&L'!$P$8), AI2051, 0)","v":0},{"$f":"IF(OR(ISBLANK($S2051), $S2051>'BankRec Main Acct'!$E$8), AI2051, 0)","v":0},0,{"$f":"IF(AND(NOT(ISBLANK($U2051)), $U2051<'P&L'!$P$8), $AL2051, 0)","v":0},{"$f":"IF(OR(ISBLANK($U2051), $U2051>'DebitCard Rec '!$E$8), $AL2051, 0)","v":0},0,{"$f":"IF(AND(NOT(ISBLANK($U2051)), $U2051<'P&L'!$P$8), $AO2051, 0)","v":0},{"$f":"IF(OR(ISBLANK($U2051), $U2051>'DebitCard Rec '!$E$8), $AO2051, 0)","v":0},0,{"$f":"IF(AND($A2051<'P&L'!$P$8, $X2051='P&L'!$G$6), $AR2051, 0)","v":0},0,{"$f":"IF(AND($A2051<'P&L'!$P$8, $X2051='P&L'!$G$6), $AT2051, 0)","v":0}," "," "," "]
[null,null,null,null,null,null,null,null,null,null,null,null,null,null,null,null,null,null,null,null,null,null,"Jan-00",1900,{"$f":"IF(AND($A2063<'P&L'!$P$8, YEAR($A2063)=Master!$C$6), $K2063, 0)","v":0},0,{"$f":"IF(AND(NOT(ISBLANK($O2063)), $O2063<'P&L'!$P$8), Z2063, 0)","v":0},{"$f":"IF(OR(ISBLANK($O2063), $O2063>'BankRec Main Acct'!$E$8), Z2063, 0)","v":0},0,{"$f":"IF(AND(NOT(ISBLANK($O2063)), $O2063<'P&L'!$P$8), AC2063, 0)","v":0},{"$f":"IF(OR(ISBLANK($O2063), $O2063>'BankRec Main Acct'!$E$8), AC2063, 0)","v":0},0,{"$f":"IF(AND(NOT(ISBLANK($S2063)), $S2063<'P&L'!$P$8), AF2063, 0)","v":0},{"$f":"IF(OR(ISBLANK($S2063), $S2063>'BankRec Main Acct'!$E$8), AF2063, 0)","v":0},0,{"$f":"IF(AND(NOT(ISBLANK($S2063)), $S2063<'P&L'!$P$8), AI2063, 0)","v":0},{"$f":"IF(OR(ISBLANK($S2063), $S2063>'BankRec Main Acct'!$E$8), AI2063, 0)","v":0},0,{"$f":"IF(AND(NOT(ISBLANK($U2063)), $U2063<'P&L'!$P$8), $AL2063, 0)","v":0},{"$f":"IF(OR(ISBLANK($U2063), $U2063>'DebitCard Rec '!$E$8), $AL2063, 0)","v":0},0,{"$f":"IF(AND(NOT(ISBLANK($U2063)), $U2063<'P&L'!$P$8), $AO2063, 0)","v":0},{"$f":"IF(OR(ISBLANK($U2063), $U2063>'DebitCard Rec '!$E$8), $AO2063, 0)","v":0},0,{"$f":"IF(AND($A2063<'P&L'!$P$8, $X2063='P&L'!$G$6), $AR2063, 0)","v":0},0,{"$f":"IF(AND($A2063<'P&L'!$P$8, $X2063='P&L'!$G$6), $AT2063, 0)","v":0}," "," "," "]
[null,null,null,null,null,null,null,null,null,null,null,null,null,null,null,null,null,null,null,null,null,null,"Jan-00",1900,{"$f":"IF(AND($A2067<'P&L'!$P$8, YEAR($A2067)=Master!$C$6), $K2067, 0)","v":0},0,{"$f":"IF(AND(NOT(ISBLANK($O2067)), $O2067<'P&L'!$P$8), Z2067, 0)","v":0},{"$f":"IF(OR(ISBLANK($O2067), $O2067>'BankRec Main Acct'!$E$8), Z2067, 0)","v":0},0,{"$f":"IF(AND(NOT(ISBLANK($O2067)), $O2067<'P&L'!$P$8), AC2067, 0)","v":0},{"$f":"IF(OR(ISBLANK($O2067), $O2067>'BankRec Main Acct'!$E$8), AC2067, 0)","v":0},0,{"$f":"IF(AND(NOT(ISBLANK($S2067)), $S2067<'P&L'!$P$8), AF2067, 0)","v":0},{"$f":"IF(OR(ISBLANK($S2067), $S2067>'BankRec Main Acct'!$E$8), AF2067, 0)","v":0},0,{"$f":"IF(AND(NOT(ISBLANK($S2067)), $S2067<'P&L'!$P$8), AI2067, 0)","v":0},{"$f":"IF(OR(ISBLANK($S2067), $S2067>'BankRec Main Acct'!$E$8), AI2067, 0)","v":0},0,{"$f":"IF(AND(NOT(ISBLANK($U2067)), $U2067<'P&L'!$P$8), $AL2067, 0)","v":0},{"$f":"IF(OR(ISBLANK($U2067), $U2067>'DebitCard Rec '!$E$8), $AL2067, 0)","v":0},0,{"$f":"IF(AND(NOT(ISBLANK($U2067)), $U2067<'P&L'!$P$8), $AO2067, 0)","v":0},{"$f":"IF(OR(ISBLANK($U2067), $U2067>'DebitCard Rec '!$E$8), $AO2067, 0)","v":0},0,{"$f":"IF(AND($A2067<'P&L'!$P$8, $X2067='P&L'!$G$6), $AR2067, 0)","v":0},0,{"$f":"IF(AND($A2067<'P&L'!$P$8, $X2067='P&L'!$G$6), $AT2067, 0)","v":0}," "," "," "]
[null,null,null,null,null,null,null,null,null,null,null,null,null,null,null,null,null,null,null,null,null,null,"Jan-00",1900,{"$f":"IF(AND($A2072<'P&L'!$P$8, YEAR($A2072)=Master!$C$6), $K2072, 0)","v":0},0,{"$f":"IF(AND(NOT(ISBLANK($O2072)), $O2072<'P&L'!$P$8), Z2072, 0)","v":0},{"$f":"IF(OR(ISBLANK($O2072), $O2072>'BankRec Main Acct'!$E$8), Z2072, 0)","v":0},0,{"$f":"IF(AND(NOT(ISBLANK($O2072)), $O2072<'P&L'!$P$8), AC2072, 0)","v":0},{"$f":"IF(OR(ISBLANK($O2072), $O2072>'BankRec Main Acct'!$E$8), AC2072, 0)","v":0},0,{"$f":"IF(AND(NOT(ISBLANK($S2072)), $S2072<'P&L'!$P$8), AF2072, 0)","v":0},{"$f":"IF(OR(ISBLANK($S2072), $S2072>'BankRec Main Acct'!$E$8), AF2072, 0)","v":0},0,{"$f":"IF(AND(NOT(ISBLANK($S2072)), $S2072<'P&L'!$P$8), AI2072, 0)","v":0},{"$f":"IF(OR(ISBLANK($S2072), $S2072>'BankRec Main Acct'!$E$8), AI2072, 0)","v":0},0,{"$f":"IF(AND(NOT(ISBLANK($U2072)), $U2072<'P&L'!$P$8), $AL2072, 0)","v":0},{"$f":"IF(OR(ISBLANK($U2072), $U2072>'DebitCard Rec '!$E$8), $AL2072, 0)","v":0},0,{"$f":"IF(AND(NOT(ISBLANK($U2072)), $U2072<'P&L'!$P$8), $AO2072, 0)","v":0},{"$f":"IF(OR(ISBLANK($U2072), $U2072>'DebitCard Rec '!$E$8), $AO2072, 0)","v":0},0,{"$f":"IF(AND($A2072<'P&L'!$P$8, $X2072='P&L'!$G$6), $AR2072, 0)","v":0},0,{"$f":"IF(AND($A2072<'P&L'!$P$8, $X2072='P&L'!$G$6), $AT2072, 0)","v":0}," "," "," "]
[null,null,null,null,null,null,null,null,null,null,null,null,null,null,null,null,null,null,null,null,null,null,"Jan-00",1900,{"$f":"IF(AND($A2084<'P&L'!$P$8, YEAR($A2084)=Master!$C$6), $K2084, 0)","v":0},0,{"$f":"IF(AND(NOT(ISBLANK($O2084)), $O2084<'P&L'!$P$8), Z2084, 0)","v":0},{"$f":"IF(OR(ISBLANK($O2084), $O2084>'BankRec Main Acct'!$E$8), Z2084, 0)","v":0},0,{"$f":"IF(AND(NOT(ISBLANK($O2084)), $O2084<'P&L'!$P$8), AC2084, 0)","v":0},{"$f":"IF(OR(ISBLANK($O2084), $O2084>'BankRec Main Acct'!$E$8), AC2084, 0)","v":0},0,{"$f":"IF(AND(NOT(ISBLANK($S2084)), $S2084<'P&L'!$P$8), AF2084, 0)","v":0},{"$f":"IF(OR(ISBLANK($S2084), $S2084>'BankRec Main Acct'!$E$8), AF2084, 0)","v":0},0,{"$f":"IF(AND(NOT(ISBLANK($S2084)), $S2084<'P&L'!$P$8), AI2084, 0)","v":0},{"$f":"IF(OR(ISBLANK($S2084), $S2084>'BankRec Main Acct'!$E$8), AI2084, 0)","v":0},0,{"$f":"IF(AND(NOT(ISBLANK($U2084)), $U2084<'P&L'!$P$8), $AL2084, 0)","v":0},{"$f":"IF(OR(ISBLANK($U2084), $U2084>'DebitCard Rec '!$E$8), $AL2084, 0)","v":0},0,{"$f":"IF(AND(NOT(ISBLANK($U2084)), $U2084<'P&L'!$P$8), $AO2084, 0)","v":0},{"$f":"IF(OR(ISBLANK($U2084), $U2084>'DebitCard Rec '!$E$8), $AO2084, 0)","v":0},0,{"$f":"IF(AND($A2084<'P&L'!$P$8, $X2084='P&L'!$G$6), $AR2084, 0)","v":0},0,{"$f":"IF(AND($A2084<'P&L'!$P$8, $X2084='P&L'!$G$6), $AT2084, 0)","v":0}," "," "," "]
[null,null,null,null,null,null,null,null,null,null,null,null,null,null,null,null,null,null,null,null,null,null,"Jan-00",1900,{"$f":"IF(AND($A2091<'P&L'!$P$8, YEAR($A2091)=Master!$C$6), $K2091, 0)","v":0},0,{"$f":"IF(AND(NOT(ISBLANK($O2091)), $O2091<'P&L'!$P$8), Z2091, 0)","v":0},{"$f":"IF(OR(ISBLANK($O2091), $O2091>'BankRec Main Acct'!$E$8), Z2091, 0)","v":0},0,{"$f":"IF(AND(NOT(ISBLANK($O2091)), $O2091<'P&L'!$P$8), AC2091, 0)","v":0},{"$f":"IF(OR(ISBLANK($O2091), $O2091>'BankRec Main Acct'!$E$8), AC2091, 0)","v":0},0,{"$f":"IF(AND(NOT(ISBLANK($S2091)), $S2091<'P&L'!$P$8), AF2091, 0)","v":0},{"$f":"IF(OR(ISBLANK($S2091), $S2091>'BankRec Main Acct'!$E$8), AF2091, 0)","v":0},0,{"$f":"IF(AND(NOT(ISBLANK($S2091)), $S2091<'P&L'!$P$8), AI2091, 0)","v":0},{"$f":"IF(OR(ISBLANK($S2091), $S2091>'BankRec Main Acct'!$E$8), AI2091, 0)","v":0},0,{"$f":"IF(AND(NOT(ISBLANK($U2091)), $U2091<'P&L'!$P$8), $AL2091, 0)","v":0},{"$f":"IF(OR(ISBLANK($U2091), $U2091>'DebitCard Rec '!$E$8), $AL2091, 0)","v":0},0,{"$f":"IF(AND(NOT(ISBLANK($U2091)), $U2091<'P&L'!$P$8), $AO2091, 0)","v":0},{"$f":"IF(OR(ISBLANK($U2091), $U2091>'DebitCard Rec '!$E$8), $AO2091, 0)","v":0},0,{"$f":"IF(AND($A2091<'P&L'!$P$8, $X2091='P&L'!$G$6), $AR2091, 0)","v":0},0,{"$f":"IF(AND($A2091<'P&L'!$P$8, $X2091='P&L'!$G$6), $AT2091, 0)","v":0}," "," "," "]
[null,null,null,null,null,null,null,null,null,null,null,null,null,null,null,null,null,null,null,null,null,null,"Jan-00",1900,{"$f":"IF(AND($A2103<'P&L'!$P$8, YEAR($A2103)=Master!$C$6), $K2103, 0)","v":0},0,{"$f":"IF(AND(NOT(ISBLANK($O2103)), $O2103<'P&L'!$P$8), Z2103, 0)","v":0},{"$f":"IF(OR(ISBLANK($O2103), $O2103>'BankRec Main Acct'!$E$8), Z2103, 0)","v":0},0,{"$f":"IF(AND(NOT(ISBLANK($O2103)), $O2103<'P&L'!$P$8), AC2103, 0)","v":0},{"$f":"IF(OR(ISBLANK($O2103), $O2103>'BankRec Main Acct'!$E$8), AC2103, 0)","v":0},0,{"$f":"IF(AND(NOT(ISBLANK($S2103)), $S2103<'P&L'!$P$8), AF2103, 0)","v":0},{"$f":"IF(OR(ISBLANK($S2103), $S2103>'BankRec Main Acct'!$E$8), AF2103, 0)","v":0},0,{"$f":"IF(AND(NOT(ISBLANK($S2103)), $S2103<'P&L'!$P$8), AI2103, 0)","v":0},{"$f":"IF(OR(ISBLANK($S2103), $S2103>'BankRec Main Acct'!$E$8), AI2103, 0)","v":0},0,{"$f":"IF(AND(NOT(ISBLANK($U2103)), $U2103<'P&L'!$P$8), $AL2103, 0)","v":0},{"$f":"IF(OR(ISBLANK($U2103), $U2103>'DebitCard Rec '!$E$8), $AL2103, 0)","v":0},0,{"$f":"IF(AND(NOT(ISBLANK($U2103)), $U2103<'P&L'!$P$8), $AO2103, 0)","v":0},{"$f":"IF(OR(ISBLANK($U2103), $U2103>'DebitCard Rec '!$E$8), $AO2103, 0)","v":0},0,{"$f":"IF(AND($A2103<'P&L'!$P$8, $X2103='P&L'!$G$6), $AR2103, 0)","v":0},0,{"$f":"IF(AND($A2103<'P&L'!$P$8, $X2103='P&L'!$G$6), $AT2103, 0)","v":0}," "," "," "]
[null,null,null,null,null,null,null,null,null,null,null,null,null,null,null,null,null,null,null,null,null,null,"Jan-00",1900,{"$f":"IF(AND($A2108<'P&L'!$P$8, YEAR($A2108)=Master!$C$6), $K2108, 0)","v":0},0,{"$f":"IF(AND(NOT(ISBLANK($O2108)), $O2108<'P&L'!$P$8), Z2108, 0)","v":0},{"$f":"IF(OR(ISBLANK($O2108), $O2108>'BankRec Main Acct'!$E$8), Z2108, 0)","v":0},0,{"$f":"IF(AND(NOT(ISBLANK($O2108)), $O2108<'P&L'!$P$8), AC2108, 0)","v":0},{"$f":"IF(OR(ISBLANK($O2108), $O2108>'BankRec Main Acct'!$E$8), AC2108, 0)","v":0},0,{"$f":"IF(AND(NOT(ISBLANK($S2108)), $S2108<'P&L'!$P$8), AF2108, 0)","v":0},{"$f":"IF(OR(ISBLANK($S2108), $S2108>'BankRec Main Acct'!$E$8), AF2108, 0)","v":0},0,{"$f":"IF(AND(NOT(ISBLANK($S2108)), $S2108<'P&L'!$P$8), AI2108, 0)","v":0},{"$f":"IF(OR(ISBLANK($S2108), $S2108>'BankRec Main Acct'!$E$8), AI2108, 0)","v":0},0,{"$f":"IF(AND(NOT(ISBLANK($U2108)), $U2108<'P&L'!$P$8), $AL2108, 0)","v":0},{"$f":"IF(OR(ISBLANK($U2108), $U2108>'DebitCard Rec '!$E$8), $AL2108, 0)","v":0},0,{"$f":"IF(AND(NOT(ISBLANK($U2108)), $U2108<'P&L'!$P$8), $AO2108, 0)","v":0},{"$f":"IF(OR(ISBLANK($U2108), $U2108>'DebitCard Rec '!$E$8), $AO2108, 0)","v":0},0,{"$f":"IF(AND($A2108<'P&L'!$P$8, $X2108='P&L'!$G$6), $AR2108, 0)","v":0},0,{"$f":"IF(AND($A2108<'P&L'!$P$8, $X2108='P&L'!$G$6), $AT2108, 0)","v":0}," "," "," "]
[null,null,null,null,null,null,null,null,null,null,null,null,null,null,null,null,null,null,null,null,null,null,"Jan-00",1900,{"$f":"IF(AND($A2121<'P&L'!$P$8, YEAR($A2121)=Master!$C$6), $K2121, 0)","v":0},0,{"$f":"IF(AND(NOT(ISBLANK($O2121)), $O2121<'P&L'!$P$8), Z2121, 0)","v":0},{"$f":"IF(OR(ISBLANK($O2121), $O2121>'BankRec Main Acct'!$E$8), Z2121, 0)","v":0},0,{"$f":"IF(AND(NOT(ISBLANK($O2121)), $O2121<'P&L'!$P$8), AC2121, 0)","v":0},{"$f":"IF(OR(ISBLANK($O2121), $O2121>'BankRec Main Acct'!$E$8), AC2121, 0)","v":0},0,{"$f":"IF(AND(NOT(ISBLANK($S2121)), $S2121<'P&L'!$P$8), AF2121, 0)","v":0},{"$f":"IF(OR(ISBLANK($S2121), $S2121>'BankRec Main Acct'!$E$8), AF2121, 0)","v":0},0,{"$f":"IF(AND(NOT(ISBLANK($S2121)), $S2121<'P&L'!$P$8), AI2121, 0)","v":0},{"$f":"IF(OR(ISBLANK($S2121), $S2121>'BankRec Main Acct'!$E$8), AI2121, 0)","v":0},0,{"$f":"IF(AND(NOT(ISBLANK($U2121)), $U2121<'P&L'!$P$8), $AL2121, 0)","v":0},{"$f":"IF(OR(ISBLANK($U2121), $U2121>'DebitCard Rec '!$E$8), $AL2121, 0)","v":0},0,{"$f":"IF(AND(NOT(ISBLANK($U2121)), $U2121<'P&L'!$P$8), $AO2121, 0)","v":0},{"$f":"IF(OR(ISBLANK($U2121), $U2121>'DebitCard Rec '!$E$8), $AO2121, 0)","v":0},0,{"$f":"IF(AND($A2121<'P&L'!$P$8, $X2121='P&L'!$G$6), $AR2121, 0)","v":0},0,{"$f":"IF(AND($A2121<'P&L'!$P$8, $X2121='P&L'!$G$6), $AT2121, 0)","v":0}," "," "," "]
[null,null,null,null,null,null,null,null,null,null,null,null,null,null,null,null,null,null,null,null,null,null,"Jan-00",1900,{"$f":"IF(AND($A2133<'P&L'!$P$8, YEAR($A2133)=Master!$C$6), $K2133, 0)","v":0},0,{"$f":"IF(AND(NOT(ISBLANK($O2133)), $O2133<'P&L'!$P$8), Z2133, 0)","v":0},{"$f":"IF(OR(ISBLANK($O2133), $O2133>'BankRec Main Acct'!$E$8), Z2133, 0)","v":0},0,{"$f":"IF(AND(NOT(ISBLANK($O2133)), $O2133<'P&L'!$P$8), AC2133, 0)","v":0},{"$f":"IF(OR(ISBLANK($O2133), $O2133>'BankRec Main Acct'!$E$8), AC2133, 0)","v":0},0,{"$f":"IF(AND(NOT(ISBLANK($S2133)), $S2133<'P&L'!$P$8), AF2133, 0)","v":0},{"$f":"IF(OR(ISBLANK($S2133), $S2133>'BankRec Main Acct'!$E$8), AF2133, 0)","v":0},0,{"$f":"IF(AND(NOT(ISBLANK($S2133)), $S2133<'P&L'!$P$8), AI2133, 0)","v":0},{"$f":"IF(OR(ISBLANK($S2133), $S2133>'BankRec Main Acct'!$E$8), AI2133, 0)","v":0},0,{"$f":"IF(AND(NOT(ISBLANK($U2133)), $U2133<'P&L'!$P$8), $AL2133, 0)","v":0},{"$f":"IF(OR(ISBLANK($U2133), $U2133>'DebitCard Rec '!$E$8), $AL2133, 0)","v":0},0,{"$f":"IF(AND(NOT(ISBLANK($U2133)), $U2133<'P&L'!$P$8), $AO2133, 0)","v":0},{"$f":"IF(OR(ISBLANK($U2133), $U2133>'DebitCard Rec '!$E$8), $AO2133, 0)","v":0},0,{"$f":"IF(AND($A2133<'P&L'!$P$8, $X2133='P&L'!$G$6), $AR2133, 0)","v":0},0,{"$f":"IF(AND($A2133<'P&L'!$P$8, $X2133='P&L'!$G$6), $AT2133, 0)","v":0}," "," "," "]
[null,null,null,null,null,null,null,null,null,null,null,null,null,null,null,null,null,null,null,null,null,null,"Jan-00",1900,{"$f":"IF(AND($A2140<'P&L'!$P$8, YEAR($A2140)=Master!$C$6), $K2140, 0)","v":0},0,{"$f":"IF(AND(NOT(ISBLANK($O2140)), $O2140<'P&L'!$P$8), Z2140, 0)","v":0},{"$f":"IF(OR(ISBLANK($O2140), $O2140>'BankRec Main Acct'!$E$8), Z2140, 0)","v":0},0,{"$f":"IF(AND(NOT(ISBLANK($O2140)), $O2140<'P&L'!$P$8), AC2140, 0)","v":0},{"$f":"IF(OR(ISBLANK($O2140), $O2140>'BankRec Main Acct'!$E$8), AC2140, 0)","v":0},0,{"$f":"IF(AND(NOT(ISBLANK($S2140)), $S2140<'P&L'!$P$8), AF2140, 0)","v":0},{"$f":"IF(OR(ISBLANK($S2140), $S2140>'BankRec Main Acct'!$E$8), AF2140, 0)","v":0},0,{"$f":"IF(AND(NOT(ISBLANK($S2140)), $S2140<'P&L'!$P$8), AI2140, 0)","v":0},{"$f":"IF(OR(ISBLANK($S2140), $S2140>'BankRec Main Acct'!$E$8), AI2140, 0)","v":0},0,{"$f":"IF(AND(NOT(ISBLANK($U2140)), $U2140<'P&L'!$P$8), $AL2140, 0)","v":0},{"$f":"IF(OR(ISBLANK($U2140), $U2140>'DebitCard Rec '!$E$8), $AL2140, 0)","v":0},0,{"$f":"IF(AND(NOT(ISBLANK($U2140)), $U2140<'P&L'!$P$8), $AO2140, 0)","v":0},{"$f":"IF(OR(ISBLANK($U2140), $U2140>'DebitCard Rec '!$E$8), $AO2140, 0)","v":0},0,{"$f":"IF(AND($A2140<'P&L'!$P$8, $X2140='P&L'!$G$6), $AR2140, 0)","v":0},0,{"$f":"IF(AND($A2140<'P&L'!$P$8, $X2140='P&L'!$G$6), $AT2140, 0)","v":0}," "," "," "]
[null,null,null,null,null,null,null,null,null,null,null,null,null,null,null,null,null,null,null,null,null,null,"Jan-00",1900,{"$f":"IF(AND($A2143<'P&L'!$P$8, YEAR($A2143)=Master!$C$6), $K2143, 0)","v":0},0,{"$f":"IF(AND(NOT(ISBLANK($O2143)), $O2143<'P&L'!$P$8), Z2143, 0)","v":0},{"$f":"IF(OR(ISBLANK($O2143), $O2143>'BankRec Main Acct'!$E$8), Z2143, 0)","v":0},0,{"$f":"IF(AND(NOT(ISBLANK($O2143)), $O2143<'P&L'!$P$8), AC2143, 0)","v":0},{"$f":"IF(OR(ISBLANK($O2143), $O2143>'BankRec Main Acct'!$E$8), AC2143, 0)","v":0},0,{"$f":"IF(AND(NOT(ISBLANK($S2143)), $S2143<'P&L'!$P$8), AF2143, 0)","v":0},{"$f":"IF(OR(ISBLANK($S2143), $S2143>'BankRec Main Acct'!$E$8), AF2143, 0)","v":0},0,{"$f":"IF(AND(NOT(ISBLANK($S2143)), $S2143<'P&L'!$P$8), AI2143, 0)","v":0},{"$f":"IF(OR(ISBLANK($S2143), $S2143>'BankRec Main Acct'!$E$8), AI2143, 0)","v":0},0,{"$f":"IF(AND(NOT(ISBLANK($U2143)), $U2143<'P&L'!$P$8), $AL2143, 0)","v":0},{"$f":"IF(OR(ISBLANK($U2143), $U2143>'DebitCard Rec '!$E$8), $AL2143, 0)","v":0},0,{"$f":"IF(AND(NOT(ISBLANK($U2143)), $U2143<'P&L'!$P$8), $AO2143, 0)","v":0},{"$f":"IF(OR(ISBLANK($U2143), $U2143>'DebitCard Rec '!$E$8), $AO2143, 0)","v":0},0,{"$f":"IF(AND($A2143<'P&L'!$P$8, $X2143='P&L'!$G$6), $AR2143, 0)","v":0},0,{"$f":"IF(AND($A2143<'P&L'!$P$8, $X2143='P&L'!$G$6), $AT2143, 0)","v":0}," "," "," "]
[null,null,null,null,null,null,null,null,null,null,null,null,null,null,null,null,null,null,null,null,null,null,"Jan-00",1900,{"$f":"IF(AND($A2157<'P&L'!$P$8, YEAR($A2157)=Master!$C$6), $K2157, 0)","v":0},0,{"$f":"IF(AND(NOT(ISBLANK($O2157)), $O2157<'P&L'!$P$8), Z2157, 0)","v":0},{"$f":"IF(OR(ISBLANK($O2157), $O2157>'BankRec Main Acct'!$E$8), Z2157, 0)","v":0},0,{"$f":"IF(AND(NOT(ISBLANK($O2157)), $O2157<'P&L'!$P$8), AC2157, 0)","v":0},{"$f":"IF(OR(ISBLANK($O2157), $O2157>'BankRec Main Acct'!$E$8), AC2157, 0)","v":0},0,{"$f":"IF(AND(NOT(ISBLANK($S2157)), $S2157<'P&L'!$P$8), AF2157, 0)","v":0},{"$f":"IF(OR(ISBLANK($S2157), $S2157>'BankRec Main Acct'!$E$8), AF2157, 0)","v":0},0,{"$f":"IF(AND(NOT(ISBLANK($S2157)), $S2157<'P&L'!$P$8), AI2157, 0)","v":0},{"$f":"IF(OR(ISBLANK($S2157), $S2157>'BankRec Main Acct'!$E$8), AI2157, 0)","v":0},0,{"$f":"IF(AND(NOT(ISBLANK($U2157)), $U2157<'P&L'!$P$8), $AL2157, 0)","v":0},{"$f":"IF(OR(ISBLANK($U2157), $U2157>'DebitCard Rec '!$E$8), $AL2157, 0)","v":0},0,{"$f":"IF(AND(NOT(ISBLANK($U2157)), $U2157<'P&L'!$P$8), $AO2157, 0)","v":0},{"$f":"IF(OR(ISBLANK($U2157), $U2157>'DebitCard Rec '!$E$8), $AO2157, 0)","v":0},0,{"$f":"IF(AND($A2157<'P&L'!$P$8, $X2157='P&L'!$G$6), $AR2157, 0)","v":0},0,{"$f":"IF(AND($A2157<'P&L'!$P$8, $X2157='P&L'!$G$6), $AT2157, 0)","v":0}," "," "," "]
[null,null,null,null,null,null,null,null,null,null,null,null,null,null,null,null,null,null,null,null,null,null,"Jan-00",1900,{"$f":"IF(AND($A2161<'P&L'!$P$8, YEAR($A2161)=Master!$C$6), $K2161, 0)","v":0},0,{"$f":"IF(AND(NOT(ISBLANK($O2161)), $O2161<'P&L'!$P$8), Z2161, 0)","v":0},{"$f":"IF(OR(ISBLANK($O2161), $O2161>'BankRec Main Acct'!$E$8), Z2161, 0)","v":0},0,{"$f":"IF(AND(NOT(ISBLANK($O2161)), $O2161<'P&L'!$P$8), AC2161, 0)","v":0},{"$f":"IF(OR(ISBLANK($O2161), $O2161>'BankRec Main Acct'!$E$8), AC2161, 0)","v":0},0,{"$f":"IF(AND(NOT(ISBLANK($S2161)), $S2161<'P&L'!$P$8), AF2161, 0)","v":0},{"$f":"IF(OR(ISBLANK($S2161), $S2161>'BankRec Main Acct'!$E$8), AF2161, 0)","v":0},0,{"$f":"IF(AND(NOT(ISBLANK($S2161)), $S2161<'P&L'!$P$8), AI2161, 0)","v":0},{"$f":"IF(OR(ISBLANK($S2161), $S2161>'BankRec Main Acct'!$E$8), AI2161, 0)","v":0},0,{"$f":"IF(AND(NOT(ISBLANK($U2161)), $U2161<'P&L'!$P$8), $AL2161, 0)","v":0},{"$f":"IF(OR(ISBLANK($U2161), $U2161>'DebitCard Rec '!$E$8), $AL2161, 0)","v":0},0,{"$f":"IF(AND(NOT(ISBLANK($U2161)), $U2161<'P&L'!$P$8), $AO2161, 0)","v":0},{"$f":"IF(OR(ISBLANK($U2161), $U2161>'DebitCard Rec '!$E$8), $AO2161, 0)","v":0},0,{"$f":"IF(AND($A2161<'P&L'!$P$8, $X2161='P&L'!$G$6), $AR2161, 0)","v":0},0,{"$f":"IF(AND($A2161<'P&L'!$P$8, $X2161='P&L'!$G$6), $AT2161, 0)","v":0}," "," "," "]
[null,null,null,null,null,null,null,null,null,null,null,null,null,null,null,null,null,null,null,null,null,null,"Jan-00",1900,{"$f":"IF(AND($A2173<'P&L'!$P$8, YEAR($A2173)=Master!$C$6), $K2173, 0)","v":0},0,{"$f":"IF(AND(NOT(ISBLANK($O2173)), $O2173<'P&L'!$P$8), Z2173, 0)","v":0},{"$f":"IF(OR(ISBLANK($O2173), $O2173>'BankRec Main Acct'!$E$8), Z2173, 0)","v":0},0,{"$f":"IF(AND(NOT(ISBLANK($O2173)), $O2173<'P&L'!$P$8), AC2173, 0)","v":0},{"$f":"IF(OR(ISBLANK($O2173), $O2173>'BankRec Main Acct'!$E$8), AC2173, 0)","v":0},0,{"$f":"IF(AND(NOT(ISBLANK($S2173)), $S2173<'P&L'!$P$8), AF2173, 0)","v":0},{"$f":"IF(OR(ISBLANK($S2173), $S2173>'BankRec Main Acct'!$E$8), AF2173, 0)","v":0},0,{"$f":"IF(AND(NOT(ISBLANK($S2173)), $S2173<'P&L'!$P$8), AI2173, 0)","v":0},{"$f":"IF(OR(ISBLANK($S2173), $S2173>'BankRec Main Acct'!$E$8), AI2173, 0)","v":0},0,{"$f":"IF(AND(NOT(ISBLANK($U2173)), $U2173<'P&L'!$P$8), $AL2173, 0)","v":0},{"$f":"IF(OR(ISBLANK($U2173), $U2173>'DebitCard Rec '!$E$8), $AL2173, 0)","v":0},0,{"$f":"IF(AND(NOT(ISBLANK($U2173)), $U2173<'P&L'!$P$8), $AO2173, 0)","v":0},{"$f":"IF(OR(ISBLANK($U2173), $U2173>'DebitCard Rec '!$E$8), $AO2173, 0)","v":0},0,{"$f":"IF(AND($A2173<'P&L'!$P$8, $X2173='P&L'!$G$6), $AR2173, 0)","v":0},0,{"$f":"IF(AND($A2173<'P&L'!$P$8, $X2173='P&L'!$G$6), $AT2173, 0)","v":0}," "," "," "]
[null,null,null,null,null,null,null,null,null,null,null,null,null,null,null,null,null,null,null,null,null,null,"Jan-00",1900,{"$f":"IF(AND($A2185<'P&L'!$P$8, YEAR($A2185)=Master!$C$6), $K2185, 0)","v":0},0,{"$f":"IF(AND(NOT(ISBLANK($O2185)), $O2185<'P&L'!$P$8), Z2185, 0)","v":0},{"$f":"IF(OR(ISBLANK($O2185), $O2185>'BankRec Main Acct'!$E$8), Z2185, 0)","v":0},0,{"$f":"IF(AND(NOT(ISBLANK($O2185)), $O2185<'P&L'!$P$8), AC2185, 0)","v":0},{"$f":"IF(OR(ISBLANK($O2185), $O2185>'BankRec Main Acct'!$E$8), AC2185, 0)","v":0},0,{"$f":"IF(AND(NOT(ISBLANK($S2185)), $S2185<'P&L'!$P$8), AF2185, 0)","v":0},{"$f":"IF(OR(ISBLANK($S2185), $S2185>'BankRec Main Acct'!$E$8), AF2185, 0)","v":0},0,{"$f":"IF(AND(NOT(ISBLANK($S2185)), $S2185<'P&L'!$P$8), AI2185, 0)","v":0},{"$f":"IF(OR(ISBLANK($S2185), $S2185>'BankRec Main Acct'!$E$8), AI2185, 0)","v":0},0,{"$f":"IF(AND(NOT(ISBLANK($U2185)), $U2185<'P&L'!$P$8), $AL2185, 0)","v":0},{"$f":"IF(OR(ISBLANK($U2185), $U2185>'DebitCard Rec '!$E$8), $AL2185, 0)","v":0},0,{"$f":"IF(AND(NOT(ISBLANK($U2185)), $U2185<'P&L'!$P$8), $AO2185, 0)","v":0},{"$f":"IF(OR(ISBLANK($U2185), $U2185>'DebitCard Rec '!$E$8), $AO2185, 0)","v":0},0,{"$f":"IF(AND($A2185<'P&L'!$P$8, $X2185='P&L'!$G$6), $AR2185, 0)","v":0},0,{"$f":"IF(AND($A2185<'P&L'!$P$8, $X2185='P&L'!$G$6), $AT2185, 0)","v":0}," "," "," "]
[null,null,null,null,null,null,null,null,null,null,null,null,null,null,null,null,null,null,null,null,null,null,"Jan-00",1900,{"$f":"IF(AND($A2188<'P&L'!$P$8, YEAR($A2188)=Master!$C$6), $K2188, 0)","v":0},0,{"$f":"IF(AND(NOT(ISBLANK($O2188)), $O2188<'P&L'!$P$8), Z2188, 0)","v":0},{"$f":"IF(OR(ISBLANK($O2188), $O2188>'BankRec Main Acct'!$E$8), Z2188, 0)","v":0},0,{"$f":"IF(AND(NOT(ISBLANK($O2188)), $O2188<'P&L'!$P$8), AC2188, 0)","v":0},{"$f":"IF(OR(ISBLANK($O2188), $O2188>'BankRec Main Acct'!$E$8), AC2188, 0)","v":0},0,{"$f":"IF(AND(NOT(ISBLANK($S2188)), $S2188<'P&L'!$P$8), AF2188, 0)","v":0},{"$f":"IF(OR(ISBLANK($S2188), $S2188>'BankRec Main Acct'!$E$8), AF2188, 0)","v":0},0,{"$f":"IF(AND(NOT(ISBLANK($S2188)), $S2188<'P&L'!$P$8), AI2188, 0)","v":0},{"$f":"IF(OR(ISBLANK($S2188), $S2188>'BankRec Main Acct'!$E$8), AI2188, 0)","v":0},0,{"$f":"IF(AND(NOT(ISBLANK($U2188)), $U2188<'P&L'!$P$8), $AL2188, 0)","v":0},{"$f":"IF(OR(ISBLANK($U2188), $U2188>'DebitCard Rec '!$E$8), $AL2188, 0)","v":0},0,{"$f":"IF(AND(NOT(ISBLANK($U2188)), $U2188<'P&L'!$P$8), $AO2188, 0)","v":0},{"$f":"IF(OR(ISBLANK($U2188), $U2188>'DebitCard Rec '!$E$8), $AO2188, 0)","v":0},0,{"$f":"IF(AND($A2188<'P&L'!$P$8, $X2188='P&L'!$G$6), $AR2188, 0)","v":0},0,{"$f":"IF(AND($A2188<'P&L'!$P$8, $X2188='P&L'!$G$6), $AT2188, 0)","v":0}," "," "," "]
[null,null,null,null,null,null,null,null,null,null,null,null,null,null,null,null,null,null,null,null,null,null,"Jan-00",1900,{"$f":"IF(AND($A2203<'P&L'!$P$8, YEAR($A2203)=Master!$C$6), $K2203, 0)","v":0},0,{"$f":"IF(AND(NOT(ISBLANK($O2203)), $O2203<'P&L'!$P$8), Z2203, 0)","v":0},{"$f":"IF(OR(ISBLANK($O2203), $O2203>'BankRec Main Acct'!$E$8), Z2203, 0)","v":0},0,{"$f":"IF(AND(NOT(ISBLANK($O2203)), $O2203<'P&L'!$P$8), AC2203, 0)","v":0},{"$f":"IF(OR(ISBLANK($O2203), $O2203>'BankRec Main Acct'!$E$8), AC2203, 0)","v":0},0,{"$f":"IF(AND(NOT(ISBLANK($S2203)), $S2203<'P&L'!$P$8), AF2203, 0)","v":0},{"$f":"IF(OR(ISBLANK($S2203), $S2203>'BankRec Main Acct'!$E$8), AF2203, 0)","v":0},0,{"$f":"IF(AND(NOT(ISBLANK($S2203)), $S2203<'P&L'!$P$8), AI2203, 0)","v":0},{"$f":"IF(OR(ISBLANK($S2203), $S2203>'BankRec Main Acct'!$E$8), AI2203, 0)","v":0},0,{"$f":"IF(AND(NOT(ISBLANK($U2203)), $U2203<'P&L'!$P$8), $AL2203, 0)","v":0},{"$f":"IF(OR(ISBLANK($U2203), $U2203>'DebitCard Rec '!$E$8), $AL2203, 0)","v":0},0,{"$f":"IF(AND(NOT(ISBLANK($U2203)), $U2203<'P&L'!$P$8), $AO2203, 0)","v":0},{"$f":"IF(OR(ISBLANK($U2203), $U2203>'DebitCard Rec '!$E$8), $AO2203, 0)","v":0},0,{"$f":"IF(AND($A2203<'P&L'!$P$8, $X2203='P&L'!$G$6), $AR2203, 0)","v":0},0,{"$f":"IF(AND($A2203<'P&L'!$P$8, $X2203='P&L'!$G$6), $AT2203, 0)","v":0}," "," "," "]
[null,null,null,null,null,null,null,null,null,null,null,null,null,null,null,null,null,null,null,null,null,null,"Jan-00",1900,{"$f":"IF(AND($A2210<'P&L'!$P$8, YEAR($A2210)=Master!$C$6), $K2210, 0)","v":0},0,{"$f":"IF(AND(NOT(ISBLANK($O2210)), $O2210<'P&L'!$P$8), Z2210, 0)","v":0},{"$f":"IF(OR(ISBLANK($O2210), $O2210>'BankRec Main Acct'!$E$8), Z2210, 0)","v":0},0,{"$f":"IF(AND(NOT(ISBLANK($O2210)), $O2210<'P&L'!$P$8), AC2210, 0)","v":0},{"$f":"IF(OR(ISBLANK($O2210), $O2210>'BankRec Main Acct'!$E$8), AC2210, 0)","v":0},0,{"$f":"IF(AND(NOT(ISBLANK($S2210)), $S2210<'P&L'!$P$8), AF2210, 0)","v":0},{"$f":"IF(OR(ISBLANK($S2210), $S2210>'BankRec Main Acct'!$E$8), AF2210, 0)","v":0},0,{"$f":"IF(AND(NOT(ISBLANK($S2210)), $S2210<'P&L'!$P$8), AI2210, 0)","v":0},{"$f":"IF(OR(ISBLANK($S2210), $S2210>'BankRec Main Acct'!$E$8), AI2210, 0)","v":0},0,{"$f":"IF(AND(NOT(ISBLANK($U2210)), $U2210<'P&L'!$P$8), $AL2210, 0)","v":0},{"$f":"IF(OR(ISBLANK($U2210), $U2210>'DebitCard Rec '!$E$8), $AL2210, 0)","v":0},0,{"$f":"IF(AND(NOT(ISBLANK($U2210)), $U2210<'P&L'!$P$8), $AO2210, 0)","v":0},{"$f":"IF(OR(ISBLANK($U2210), $U2210>'DebitCard Rec '!$E$8), $AO2210, 0)","v":0},0,{"$f":"IF(AND($A2210<'P&L'!$P$8, $X2210='P&L'!$G$6), $AR2210, 0)","v":0},0,{"$f":"IF(AND($A2210<'P&L'!$P$8, $X2210='P&L'!$G$6), $AT2210, 0)","v":0}," "," "," "]
[null,null,null,null,null,null,null,null,null,null,null,null,null,null,null,null,null,null,null,null,null,null,"Jan-00",1900,{"$f":"IF(AND($A2213<'P&L'!$P$8, YEAR($A2213)=Master!$C$6), $K2213, 0)","v":0},0,{"$f":"IF(AND(NOT(ISBLANK($O2213)), $O2213<'P&L'!$P$8), Z2213, 0)","v":0},{"$f":"IF(OR(ISBLANK($O2213), $O2213>'BankRec Main Acct'!$E$8), Z2213, 0)","v":0},0,{"$f":"IF(AND(NOT(ISBLANK($O2213)), $O2213<'P&L'!$P$8), AC2213, 0)","v":0},{"$f":"IF(OR(ISBLANK($O2213), $O2213>'BankRec Main Acct'!$E$8), AC2213, 0)","v":0},0,{"$f":"IF(AND(NOT(ISBLANK($S2213)), $S2213<'P&L'!$P$8), AF2213, 0)","v":0},{"$f":"IF(OR(ISBLANK($S2213), $S2213>'BankRec Main Acct'!$E$8), AF2213, 0)","v":0},0,{"$f":"IF(AND(NOT(ISBLANK($S2213)), $S2213<'P&L'!$P$8), AI2213, 0)","v":0},{"$f":"IF(OR(ISBLANK($S2213), $S2213>'BankRec Main Acct'!$E$8), AI2213, 0)","v":0},0,{"$f":"IF(AND(NOT(ISBLANK($U2213)), $U2213<'P&L'!$P$8), $AL2213, 0)","v":0},{"$f":"IF(OR(ISBLANK($U2213), $U2213>'DebitCard Rec '!$E$8), $AL2213, 0)","v":0},0,{"$f":"IF(AND(NOT(ISBLANK($U2213)), $U2213<'P&L'!$P$8), $AO2213, 0)","v":0},{"$f":"IF(OR(ISBLANK($U2213), $U2213>'DebitCard Rec '!$E$8), $AO2213, 0)","v":0},0,{"$f":"IF(AND($A2213<'P&L'!$P$8, $X2213='P&L'!$G$6), $AR2213, 0)","v":0},0,{"$f":"IF(AND($A2213<'P&L'!$P$8, $X2213='P&L'!$G$6), $AT2213, 0)","v":0}," "," "," "]
[null,null,null,null,null,null,null,null,null,null,null,null,null,null,null,null,null,null,null,null,null,null,"Jan-00",1900,{"$f":"IF(AND($A2225<'P&L'!$P$8, YEAR($A2225)=Master!$C$6), $K2225, 0)","v":0},0,{"$f":"IF(AND(NOT(ISBLANK($O2225)), $O2225<'P&L'!$P$8), Z2225, 0)","v":0},{"$f":"IF(OR(ISBLANK($O2225), $O2225>'BankRec Main Acct'!$E$8), Z2225, 0)","v":0},0,{"$f":"IF(AND(NOT(ISBLANK($O2225)), $O2225<'P&L'!$P$8), AC2225, 0)","v":0},{"$f":"IF(OR(ISBLANK($O2225), $O2225>'BankRec Main Acct'!$E$8), AC2225, 0)","v":0},0,{"$f":"IF(AND(NOT(ISBLANK($S2225)), $S2225<'P&L'!$P$8), AF2225, 0)","v":0},{"$f":"IF(OR(ISBLANK($S2225), $S2225>'BankRec Main Acct'!$E$8), AF2225, 0)","v":0},0,{"$f":"IF(AND(NOT(ISBLANK($S2225)), $S2225<'P&L'!$P$8), AI2225, 0)","v":0},{"$f":"IF(OR(ISBLANK($S2225), $S2225>'BankRec Main Acct'!$E$8), AI2225, 0)","v":0},0,{"$f":"IF(AND(NOT(ISBLANK($U2225)), $U2225<'P&L'!$P$8), $AL2225, 0)","v":0},{"$f":"IF(OR(ISBLANK($U2225), $U2225>'DebitCard Rec '!$E$8), $AL2225, 0)","v":0},0,{"$f":"IF(AND(NOT(ISBLANK($U2225)), $U2225<'P&L'!$P$8), $AO2225, 0)","v":0},{"$f":"IF(OR(ISBLANK($U2225), $U2225>'DebitCard Rec '!$E$8), $AO2225, 0)","v":0},0,{"$f":"IF(AND($A2225<'P&L'!$P$8, $X2225='P&L'!$G$6), $AR2225, 0)","v":0},0,{"$f":"IF(AND($A2225<'P&L'!$P$8, $X2225='P&L'!$G$6), $AT2225, 0)","v":0}," "," "," "]
[null,null,null,null,null,null,null,null,null,null,null,null,null,null,null,null,null,null,null,null,null,null,"Jan-00",1900,{"$f":"IF(AND($A2237<'P&L'!$P$8, YEAR($A2237)=Master!$C$6), $K2237, 0)","v":0},0,{"$f":"IF(AND(NOT(ISBLANK($O2237)), $O2237<'P&L'!$P$8), Z2237, 0)","v":0},{"$f":"IF(OR(ISBLANK($O2237), $O2237>'BankRec Main Acct'!$E$8), Z2237, 0)","v":0},0,{"$f":"IF(AND(NOT(ISBLANK($O2237)), $O2237<'P&L'!$P$8), AC2237, 0)","v":0},{"$f":"IF(OR(ISBLANK($O2237), $O2237>'BankRec Main Acct'!$E$8), AC2237, 0)","v":0},0,{"$f":"IF(AND(NOT(ISBLANK($S2237)), $S2237<'P&L'!$P$8), AF2237, 0)","v":0},{"$f":"IF(OR(ISBLANK($S2237), $S2237>'BankRec Main Acct'!$E$8), AF2237, 0)","v":0},0,{"$f":"IF(AND(NOT(ISBLANK($S2237)), $S2237<'P&L'!$P$8), AI2237, 0)","v":0},{"$f":"IF(OR(ISBLANK($S2237), $S2237>'BankRec Main Acct'!$E$8), AI2237, 0)","v":0},0,{"$f":"IF(AND(NOT(ISBLANK($U2237)), $U2237<'P&L'!$P$8), $AL2237, 0)","v":0},{"$f":"IF(OR(ISBLANK($U2237), $U2237>'DebitCard Rec '!$E$8), $AL2237, 0)","v":0},0,{"$f":"IF(AND(NOT(ISBLANK($U2237)), $U2237<'P&L'!$P$8), $AO2237, 0)","v":0},{"$f":"IF(OR(ISBLANK($U2237), $U2237>'DebitCard Rec '!$E$8), $AO2237, 0)","v":0},0,{"$f":"IF(AND($A2237<'P&L'!$P$8, $X2237='P&L'!$G$6), $AR2237, 0)","v":0},0,{"$f":"IF(AND($A2237<'P&L'!$P$8, $X2237='P&L'!$G$6), $AT2237, 0)","v":0}," "," "," "]
[null,null,null,null,null,null,null,null,null,null,null,null,null,null,null,null,null,null,null,null,null,null,"Jan-00",1900,{"$f":"IF(AND($A2243<'P&L'!$P$8, YEAR($A2243)=Master!$C$6), $K2243, 0)","v":0},0,{"$f":"IF(AND(NOT(ISBLANK($O2243)), $O2243<'P&L'!$P$8), Z2243, 0)","v":0},{"$f":"IF(OR(ISBLANK($O2243), $O2243>'BankRec Main Acct'!$E$8), Z2243, 0)","v":0},0,{"$f":"IF(AND(NOT(ISBLANK($O2243)), $O2243<'P&L'!$P$8), AC2243, 0)","v":0},{"$f":"IF(OR(ISBLANK($O2243), $O2243>'BankRec Main Acct'!$E$8), AC2243, 0)","v":0},0,{"$f":"IF(AND(NOT(ISBLANK($S2243)), $S2243<'P&L'!$P$8), AF2243, 0)","v":0},{"$f":"IF(OR(ISBLANK($S2243), $S2243>'BankRec Main Acct'!$E$8), AF2243, 0)","v":0},0,{"$f":"IF(AND(NOT(ISBLANK($S2243)), $S2243<'P&L'!$P$8), AI2243, 0)","v":0},{"$f":"IF(OR(ISBLANK($S2243), $S2243>'BankRec Main Acct'!$E$8), AI2243, 0)","v":0},0,{"$f":"IF(AND(NOT(ISBLANK($U2243)), $U2243<'P&L'!$P$8), $AL2243, 0)","v":0},{"$f":"IF(OR(ISBLANK($U2243), $U2243>'DebitCard Rec '!$E$8), $AL2243, 0)","v":0},0,{"$f":"IF(AND(NOT(ISBLANK($U2243)), $U2243<'P&L'!$P$8), $AO2243, 0)","v":0},{"$f":"IF(OR(ISBLANK($U2243), $U2243>'DebitCard Rec '!$E$8), $AO2243, 0)","v":0},0,{"$f":"IF(AND($A2243<'P&L'!$P$8, $X2243='P&L'!$G$6), $AR2243, 0)","v":0},0,{"$f":"IF(AND($A2243<'P&L'!$P$8, $X2243='P&L'!$G$6), $AT2243, 0)","v":0}," "," "," "]
[null,null,null,null,null,null,null,null,null,null,null,null,null,null,null,null,null,null,null,null,null,null,"Jan-00",1900,{"$f":"IF(AND($A2250<'P&L'!$P$8, YEAR($A2250)=Master!$C$6), $K2250, 0)","v":0},0,{"$f":"IF(AND(NOT(ISBLANK($O2250)), $O2250<'P&L'!$P$8), Z2250, 0)","v":0},{"$f":"IF(OR(ISBLANK($O2250), $O2250>'BankRec Main Acct'!$E$8), Z2250, 0)","v":0},0,{"$f":"IF(AND(NOT(ISBLANK($O2250)), $O2250<'P&L'!$P$8), AC2250, 0)","v":0},{"$f":"IF(OR(ISBLANK($O2250), $O2250>'BankRec Main Acct'!$E$8), AC2250, 0)","v":0},0,{"$f":"IF(AND(NOT(ISBLANK($S2250)), $S2250<'P&L'!$P$8), AF2250, 0)","v":0},{"$f":"IF(OR(ISBLANK($S2250), $S2250>'BankRec Main Acct'!$E$8), AF2250, 0)","v":0},0,{"$f":"IF(AND(NOT(ISBLANK($S2250)), $S2250<'P&L'!$P$8), AI2250, 0)","v":0},{"$f":"IF(OR(ISBLANK($S2250), $S2250>'BankRec Main Acct'!$E$8), AI2250, 0)","v":0},0,{"$f":"IF(AND(NOT(ISBLANK($U2250)), $U2250<'P&L'!$P$8), $AL2250, 0)","v":0},{"$f":"IF(OR(ISBLANK($U2250), $U2250>'DebitCard Rec '!$E$8), $AL2250, 0)","v":0},0,{"$f":"IF(AND(NOT(ISBLANK($U2250)), $U2250<'P&L'!$P$8), $AO2250, 0)","v":0},{"$f":"IF(OR(ISBLANK($U2250), $U2250>'DebitCard Rec '!$E$8), $AO2250, 0)","v":0},0,{"$f":"IF(AND($A2250<'P&L'!$P$8, $X2250='P&L'!$G$6), $AR2250, 0)","v":0},0,{"$f":"IF(AND($A2250<'P&L'!$P$8, $X2250='P&L'!$G$6), $AT2250, 0)","v":0}," "," "," "]
[null,null,null,null,null,null,null,null,null,null,null,null,null,null,null,null,null,null,null,null,null,null,"Jan-00",1900,{"$f":"IF(AND($A2262<'P&L'!$P$8, YEAR($A2262)=Master!$C$6), $K2262, 0)","v":0},0,{"$f":"IF(AND(NOT(ISBLANK($O2262)), $O2262<'P&L'!$P$8), Z2262, 0)","v":0},{"$f":"IF(OR(ISBLANK($O2262), $O2262>'BankRec Main Acct'!$E$8), Z2262, 0)","v":0},0,{"$f":"IF(AND(NOT(ISBLANK($O2262)), $O2262<'P&L'!$P$8), AC2262, 0)","v":0},{"$f":"IF(OR(ISBLANK($O2262), $O2262>'BankRec Main Acct'!$E$8), AC2262, 0)","v":0},0,{"$f":"IF(AND(NOT(ISBLANK($S2262)), $S2262<'P&L'!$P$8), AF2262, 0)","v":0},{"$f":"IF(OR(ISBLANK($S2262), $S2262>'BankRec Main Acct'!$E$8), AF2262, 0)","v":0},0,{"$f":"IF(AND(NOT(ISBLANK($S2262)), $S2262<'P&L'!$P$8), AI2262, 0)","v":0},{"$f":"IF(OR(ISBLANK($S2262), $S2262>'BankRec Main Acct'!$E$8), AI2262, 0)","v":0},0,{"$f":"IF(AND(NOT(ISBLANK($U2262)), $U2262<'P&L'!$P$8), $AL2262, 0)","v":0},{"$f":"IF(OR(ISBLANK($U2262), $U2262>'DebitCard Rec '!$E$8), $AL2262, 0)","v":0},0,{"$f":"IF(AND(NOT(ISBLANK($U2262)), $U2262<'P&L'!$P$8), $AO2262, 0)","v":0},{"$f":"IF(OR(ISBLANK($U2262), $U2262>'DebitCard Rec '!$E$8), $AO2262, 0)","v":0},0,{"$f":"IF(AND($A2262<'P&L'!$P$8, $X2262='P&L'!$G$6), $AR2262, 0)","v":0},0,{"$f":"IF(AND($A2262<'P&L'!$P$8, $X2262='P&L'!$G$6), $AT2262, 0)","v":0}," "," "," "]
[null,null,null,null,null,null,null,null,null,null,null,null,null,null,null,null,null,null,null,null,null,null,"Jan-00",1900,{"$f":"IF(AND($A2268<'P&L'!$P$8, YEAR($A2268)=Master!$C$6), $K2268, 0)","v":0},0,{"$f":"IF(AND(NOT(ISBLANK($O2268)), $O2268<'P&L'!$P$8), Z2268, 0)","v":0},{"$f":"IF(OR(ISBLANK($O2268), $O2268>'BankRec Main Acct'!$E$8), Z2268, 0)","v":0},0,{"$f":"IF(AND(NOT(ISBLANK($O2268)), $O2268<'P&L'!$P$8), AC2268, 0)","v":0},{"$f":"IF(OR(ISBLANK($O2268), $O2268>'BankRec Main Acct'!$E$8), AC2268, 0)","v":0},0,{"$f":"IF(AND(NOT(ISBLANK($S2268)), $S2268<'P&L'!$P$8), AF2268, 0)","v":0},{"$f":"IF(OR(ISBLANK($S2268), $S2268>'BankRec Main Acct'!$E$8), AF2268, 0)","v":0},0,{"$f":"IF(AND(NOT(ISBLANK($S2268)), $S2268<'P&L'!$P$8), AI2268, 0)","v":0},{"$f":"IF(OR(ISBLANK($S2268), $S2268>'BankRec Main Acct'!$E$8), AI2268, 0)","v":0},0,{"$f":"IF(AND(NOT(ISBLANK($U2268)), $U2268<'P&L'!$P$8), $AL2268, 0)","v":0},{"$f":"IF(OR(ISBLANK($U2268), $U2268>'DebitCard Rec '!$E$8), $AL2268, 0)","v":0},0,{"$f":"IF(AND(NOT(ISBLANK($U2268)), $U2268<'P&L'!$P$8), $AO2268, 0)","v":0},{"$f":"IF(OR(ISBLANK($U2268), $U2268>'DebitCard Rec '!$E$8), $AO2268, 0)","v":0},0,{"$f":"IF(AND($A2268<'P&L'!$P$8, $X2268='P&L'!$G$6), $AR2268, 0)","v":0},0,{"$f":"IF(AND($A2268<'P&L'!$P$8, $X2268='P&L'!$G$6), $AT2268, 0)","v":0}," "," "," "]
[null,null,null,null,null,null,null,null,null,null,null,null,null,null,null,null,null,null,null,null,null,null,"Jan-00",1900,{"$f":"IF(AND($A2280<'P&L'!$P$8, YEAR($A2280)=Master!$C$6), $K2280, 0)","v":0},0,{"$f":"IF(AND(NOT(ISBLANK($O2280)), $O2280<'P&L'!$P$8), Z2280, 0)","v":0},{"$f":"IF(OR(ISBLANK($O2280), $O2280>'BankRec Main Acct'!$E$8), Z2280, 0)","v":0},0,{"$f":"IF(AND(NOT(ISBLANK($O2280)), $O2280<'P&L'!$P$8), AC2280, 0)","v":0},{"$f":"IF(OR(ISBLANK($O2280), $O2280>'BankRec Main Acct'!$E$8), AC2280, 0)","v":0},0,{"$f":"IF(AND(NOT(ISBLANK($S2280)), $S2280<'P&L'!$P$8), AF2280, 0)","v":0},{"$f":"IF(OR(ISBLANK($S2280), $S2280>'BankRec Main Acct'!$E$8), AF2280, 0)","v":0},0,{"$f":"IF(AND(NOT(ISBLANK($S2280)), $S2280<'P&L'!$P$8), AI2280, 0)","v":0},{"$f":"IF(OR(ISBLANK($S2280), $S2280>'BankRec Main Acct'!$E$8), AI2280, 0)","v":0},0,{"$f":"IF(AND(NOT(ISBLANK($U2280)), $U2280<'P&L'!$P$8), $AL2280, 0)","v":0},{"$f":"IF(OR(ISBLANK($U2280), $U2280>'DebitCard Rec '!$E$8), $AL2280, 0)","v":0},0,{"$f":"IF(AND(NOT(ISBLANK($U2280)), $U2280<'P&L'!$P$8), $AO2280, 0)","v":0},{"$f":"IF(OR(ISBLANK($U2280), $U2280>'DebitCard Rec '!$E$8), $AO2280, 0)","v":0},0,{"$f":"IF(AND($A2280<'P&L'!$P$8, $X2280='P&L'!$G$6), $AR2280, 0)","v":0},0,{"$f":"IF(AND($A2280<'P&L'!$P$8, $X2280='P&L'!$G$6), $AT2280, 0)","v":0}," "," "," "]
[null,null,null,null,null,null,null,null,null,null,null,null,null,null,null,null,null,null,null,null,null,null,"Jan-00",1900,{"$f":"IF(AND($A2283<'P&L'!$P$8, YEAR($A2283)=Master!$C$6), $K2283, 0)","v":0},0,{"$f":"IF(AND(NOT(ISBLANK($O2283)), $O2283<'P&L'!$P$8), Z2283, 0)","v":0},{"$f":"IF(OR(ISBLANK($O2283), $O2283>'BankRec Main Acct'!$E$8), Z2283, 0)","v":0},0,{"$f":"IF(AND(NOT(ISBLANK($O2283)), $O2283<'P&L'!$P$8), AC2283, 0)","v":0},{"$f":"IF(OR(ISBLANK($O2283), $O2283>'BankRec Main Acct'!$E$8), AC2283, 0)","v":0},0,{"$f":"IF(AND(NOT(ISBLANK($S2283)), $S2283<'P&L'!$P$8), AF2283, 0)","v":0},{"$f":"IF(OR(ISBLANK($S2283), $S2283>'BankRec Main Acct'!$E$8), AF2283, 0)","v":0},0,{"$f":"IF(AND(NOT(ISBLANK($S2283)), $S2283<'P&L'!$P$8), AI2283, 0)","v":0},{"$f":"IF(OR(ISBLANK($S2283), $S2283>'BankRec Main Acct'!$E$8), AI2283, 0)","v":0},0,{"$f":"IF(AND(NOT(ISBLANK($U2283)), $U2283<'P&L'!$P$8), $AL2283, 0)","v":0},{"$f":"IF(OR(ISBLANK($U2283), $U2283>'DebitCard Rec '!$E$8), $AL2283, 0)","v":0},0,{"$f":"IF(AND(NOT(ISBLANK($U2283)), $U2283<'P&L'!$P$8), $AO2283, 0)","v":0},{"$f":"IF(OR(ISBLANK($U2283), $U2283>'DebitCard Rec '!$E$8), $AO2283, 0)","v":0},0,{"$f":"IF(AND($A2283<'P&L'!$P$8, $X2283='P&L'!$G$6), $AR2283, 0)","v":0},0,{"$f":"IF(AND($A2283<'P&L'!$P$8, $X2283='P&L'!$G$6), $AT2283, 0)","v":0}," "," "," "]
[null,null,null,null,null,null,null,null,null,null,null,null,null,null,null,null,null,null,null,null,null,null,"Jan-00",1900,{"$f":"IF(AND($A2295<'P&L'!$P$8, YEAR($A2295)=Master!$C$6), $K2295, 0)","v":0},0,{"$f":"IF(AND(NOT(ISBLANK($O2295)), $O2295<'P&L'!$P$8), Z2295, 0)","v":0},{"$f":"IF(OR(ISBLANK($O2295), $O2295>'BankRec Main Acct'!$E$8), Z2295, 0)","v":0},0,{"$f":"IF(AND(NOT(ISBLANK($O2295)), $O2295<'P&L'!$P$8), AC2295, 0)","v":0},{"$f":"IF(OR(ISBLANK($O2295), $O2295>'BankRec Main Acct'!$E$8), AC2295, 0)","v":0},0,{"$f":"IF(AND(NOT(ISBLANK($S2295)), $S2295<'P&L'!$P$8), AF2295, 0)","v":0},{"$f":"IF(OR(ISBLANK($S2295), $S2295>'BankRec Main Acct'!$E$8), AF2295, 0)","v":0},0,{"$f":"IF(AND(NOT(ISBLANK($S2295)), $S2295<'P&L'!$P$8), AI2295, 0)","v":0},{"$f":"IF(OR(ISBLANK($S2295), $S2295>'BankRec Main Acct'!$E$8), AI2295, 0)","v":0},0,{"$f":"IF(AND(NOT(ISBLANK($U2295)), $U2295<'P&L'!$P$8), $AL2295, 0)","v":0},{"$f":"IF(OR(ISBLANK($U2295), $U2295>'DebitCard Rec '!$E$8), $AL2295, 0)","v":0},0,{"$f":"IF(AND(NOT(ISBLANK($U2295)), $U2295<'P&L'!$P$8), $AO2295, 0)","v":0},{"$f":"IF(OR(ISBLANK($U2295), $U2295>'DebitCard Rec '!$E$8), $AO2295, 0)","v":0},0,{"$f":"IF(AND($A2295<'P&L'!$P$8, $X2295='P&L'!$G$6), $AR2295, 0)","v":0},0,{"$f":"IF(AND($A2295<'P&L'!$P$8, $X2295='P&L'!$G$6), $AT2295, 0)","v":0}," "," "," "]
[null,null,null,null,null,null,null,null,null,null,null,null,null,null,null,null,null,null,null,null,null,null,"Jan-00",1900,{"$f":"IF(AND($A2302<'P&L'!$P$8, YEAR($A2302)=Master!$C$6), $K2302, 0)","v":0},0,{"$f":"IF(AND(NOT(ISBLANK($O2302)), $O2302<'P&L'!$P$8), Z2302, 0)","v":0},{"$f":"IF(OR(ISBLANK($O2302), $O2302>'BankRec Main Acct'!$E$8), Z2302, 0)","v":0},0,{"$f":"IF(AND(NOT(ISBLANK($O2302)), $O2302<'P&L'!$P$8), AC2302, 0)","v":0},{"$f":"IF(OR(ISBLANK($O2302), $O2302>'BankRec Main Acct'!$E$8), AC2302, 0)","v":0},0,{"$f":"IF(AND(NOT(ISBLANK($S2302)), $S2302<'P&L'!$P$8), AF2302, 0)","v":0},{"$f":"IF(OR(ISBLANK($S2302), $S2302>'BankRec Main Acct'!$E$8), AF2302, 0)","v":0},0,{"$f":"IF(AND(NOT(ISBLANK($S2302)), $S2302<'P&L'!$P$8), AI2302, 0)","v":0},{"$f":"IF(OR(ISBLANK($S2302), $S2302>'BankRec Main Acct'!$E$8), AI2302, 0)","v":0},0,{"$f":"IF(AND(NOT(ISBLANK($U2302)), $U2302<'P&L'!$P$8), $AL2302, 0)","v":0},{"$f":"IF(OR(ISBLANK($U2302), $U2302>'DebitCard Rec '!$E$8), $AL2302, 0)","v":0},0,{"$f":"IF(AND(NOT(ISBLANK($U2302)), $U2302<'P&L'!$P$8), $AO2302, 0)","v":0},{"$f":"IF(OR(ISBLANK($U2302), $U2302>'DebitCard Rec '!$E$8), $AO2302, 0)","v":0},0,{"$f":"IF(AND($A2302<'P&L'!$P$8, $X2302='P&L'!$G$6), $AR2302, 0)","v":0},0,{"$f":"IF(AND($A2302<'P&L'!$P$8, $X2302='P&L'!$G$6), $AT2302, 0)","v":0}," "," "," "]
[null,null,null,null,null,null,null,null,null,null,null,null,null,null,null,null,null,null,null,null,null,null,"Jan-00",1900,{"$f":"IF(AND($A2317<'P&L'!$P$8, YEAR($A2317)=Master!$C$6), $K2317, 0)","v":0},0,{"$f":"IF(AND(NOT(ISBLANK($O2317)), $O2317<'P&L'!$P$8), Z2317, 0)","v":0},{"$f":"IF(OR(ISBLANK($O2317), $O2317>'BankRec Main Acct'!$E$8), Z2317, 0)","v":0},0,{"$f":"IF(AND(NOT(ISBLANK($O2317)), $O2317<'P&L'!$P$8), AC2317, 0)","v":0},{"$f":"IF(OR(ISBLANK($O2317), $O2317>'BankRec Main Acct'!$E$8), AC2317, 0)","v":0},0,{"$f":"IF(AND(NOT(ISBLANK($S2317)), $S2317<'P&L'!$P$8), AF2317, 0)","v":0},{"$f":"IF(OR(ISBLANK($S2317), $S2317>'BankRec Main Acct'!$E$8), AF2317, 0)","v":0},0,{"$f":"IF(AND(NOT(ISBLANK($S2317)), $S2317<'P&L'!$P$8), AI2317, 0)","v":0},{"$f":"IF(OR(ISBLANK($S2317), $S2317>'BankRec Main Acct'!$E$8), AI2317, 0)","v":0},0,{"$f":"IF(AND(NOT(ISBLANK($U2317)), $U2317<'P&L'!$P$8), $AL2317, 0)","v":0},{"$f":"IF(OR(ISBLANK($U2317), $U2317>'DebitCard Rec '!$E$8), $AL2317, 0)","v":0},0,{"$f":"IF(AND(NOT(ISBLANK($U2317)), $U2317<'P&L'!$P$8), $AO2317, 0)","v":0},{"$f":"IF(OR(ISBLANK($U2317), $U2317>'DebitCard Rec '!$E$8), $AO2317, 0)","v":0},0,{"$f":"IF(AND($A2317<'P&L'!$P$8, $X2317='P&L'!$G$6), $AR2317, 0)","v":0},0,{"$f":"IF(AND($A2317<'P&L'!$P$8, $X2317='P&L'!$G$6), $AT2317, 0)","v":0}," "," "," "]
[null,null,null,null,null,null,null,null,null,null,null,null,null,null,null,null,null,null,null,null,null,null,"Jan-00",1900,{"$f":"IF(AND($A2320<'P&L'!$P$8, YEAR($A2320)=Master!$C$6), $K2320, 0)","v":0},0,{"$f":"IF(AND(NOT(ISBLANK($O2320)), $O2320<'P&L'!$P$8), Z2320, 0)","v":0},{"$f":"IF(OR(ISBLANK($O2320), $O2320>'BankRec Main Acct'!$E$8), Z2320, 0)","v":0},0,{"$f":"IF(AND(NOT(ISBLANK($O2320)), $O2320<'P&L'!$P$8), AC2320, 0)","v":0},{"$f":"IF(OR(ISBLANK($O2320), $O2320>'BankRec Main Acct'!$E$8), AC2320, 0)","v":0},0,{"$f":"IF(AND(NOT(ISBLANK($S2320)), $S2320<'P&L'!$P$8), AF2320, 0)","v":0},{"$f":"IF(OR(ISBLANK($S2320), $S2320>'BankRec Main Acct'!$E$8), AF2320, 0)","v":0},0,{"$f":"IF(AND(NOT(ISBLANK($S2320)), $S2320<'P&L'!$P$8), AI2320, 0)","v":0},{"$f":"IF(OR(ISBLANK($S2320), $S2320>'BankRec Main Acct'!$E$8), AI2320, 0)","v":0},0,{"$f":"IF(AND(NOT(ISBLANK($U2320)), $U2320<'P&L'!$P$8), $AL2320, 0)","v":0},{"$f":"IF(OR(ISBLANK($U2320), $U2320>'DebitCard Rec '!$E$8), $AL2320, 0)","v":0},0,{"$f":"IF(AND(NOT(ISBLANK($U2320)), $U2320<'P&L'!$P$8), $AO2320, 0)","v":0},{"$f":"IF(OR(ISBLANK($U2320), $U2320>'DebitCard Rec '!$E$8), $AO2320, 0)","v":0},0,{"$f":"IF(AND($A2320<'P&L'!$P$8, $X2320='P&L'!$G$6), $AR2320, 0)","v":0},0,{"$f":"IF(AND($A2320<'P&L'!$P$8, $X2320='P&L'!$G$6), $AT2320, 0)","v":0}," "," "," "]
[null,null,null,null,null,null,null,null,null,null,null,null,null,null,null,null,null,null,null,null,null,null,"Jan-00",1900,{"$f":"IF(AND($A2332<'P&L'!$P$8, YEAR($A2332)=Master!$C$6), $K2332, 0)","v":0},0,{"$f":"IF(AND(NOT(ISBLANK($O2332)), $O2332<'P&L'!$P$8), Z2332, 0)","v":0},{"$f":"IF(OR(ISBLANK($O2332), $O2332>'BankRec Main Acct'!$E$8), Z2332, 0)","v":0},0,{"$f":"IF(AND(NOT(ISBLANK($O2332)), $O2332<'P&L'!$P$8), AC2332, 0)","v":0},{"$f":"IF(OR(ISBLANK($O2332), $O2332>'BankRec Main Acct'!$E$8), AC2332, 0)","v":0},0,{"$f":"IF(AND(NOT(ISBLANK($S2332)), $S2332<'P&L'!$P$8), AF2332, 0)","v":0},{"$f":"IF(OR(ISBLANK($S2332), $S2332>'BankRec Main Acct'!$E$8), AF2332, 0)","v":0},0,{"$f":"IF(AND(NOT(ISBLANK($S2332)), $S2332<'P&L'!$P$8), AI2332, 0)","v":0},{"$f":"IF(OR(ISBLANK($S2332), $S2332>'BankRec Main Acct'!$E$8), AI2332, 0)","v":0},0,{"$f":"IF(AND(NOT(ISBLANK($U2332)), $U2332<'P&L'!$P$8), $AL2332, 0)","v":0},{"$f":"IF(OR(ISBLANK($U2332), $U2332>'DebitCard Rec '!$E$8), $AL2332, 0)","v":0},0,{"$f":"IF(AND(NOT(ISBLANK($U2332)), $U2332<'P&L'!$P$8), $AO2332, 0)","v":0},{"$f":"IF(OR(ISBLANK($U2332), $U2332>'DebitCard Rec '!$E$8), $AO2332, 0)","v":0},0,{"$f":"IF(AND($A2332<'P&L'!$P$8, $X2332='P&L'!$G$6), $AR2332, 0)","v":0},0,{"$f":"IF(AND($A2332<'P&L'!$P$8, $X2332='P&L'!$G$6), $AT2332, 0)","v":0}," "," "," "]
[null,null,null,null,null,null,null,null,null,null,null,null,null,null,null,null,null,null,null,null,null,null,"Jan-00",1900,{"$f":"IF(AND($A2344<'P&L'!$P$8, YEAR($A2344)=Master!$C$6), $K2344, 0)","v":0},0,{"$f":"IF(AND(NOT(ISBLANK($O2344)), $O2344<'P&L'!$P$8), Z2344, 0)","v":0},{"$f":"IF(OR(ISBLANK($O2344), $O2344>'BankRec Main Acct'!$E$8), Z2344, 0)","v":0},0,{"$f":"IF(AND(NOT(ISBLANK($O2344)), $O2344<'P&L'!$P$8), AC2344, 0)","v":0},{"$f":"IF(OR(ISBLANK($O2344), $O2344>'BankRec Main Acct'!$E$8), AC2344, 0)","v":0},0,{"$f":"IF(AND(NOT(ISBLANK($S2344)), $S2344<'P&L'!$P$8), AF2344, 0)","v":0},{"$f":"IF(OR(ISBLANK($S2344), $S2344>'BankRec Main Acct'!$E$8), AF2344, 0)","v":0},0,{"$f":"IF(AND(NOT(ISBLANK($S2344)), $S2344<'P&L'!$P$8), AI2344, 0)","v":0},{"$f":"IF(OR(ISBLANK($S2344), $S2344>'BankRec Main Acct'!$E$8), AI2344, 0)","v":0},0,{"$f":"IF(AND(NOT(ISBLANK($U2344)), $U2344<'P&L'!$P$8), $AL2344, 0)","v":0},{"$f":"IF(OR(ISBLANK($U2344), $U2344>'DebitCard Rec '!$E$8), $AL2344, 0)","v":0},0,{"$f":"IF(AND(NOT(ISBLANK($U2344)), $U2344<'P&L'!$P$8), $AO2344, 0)","v":0},{"$f":"IF(OR(ISBLANK($U2344), $U2344>'DebitCard Rec '!$E$8), $AO2344, 0)","v":0},0,{"$f":"IF(AND($A2344<'P&L'!$P$8, $X2344='P&L'!$G$6), $AR2344, 0)","v":0},0,{"$f":"IF(AND($A2344<'P&L'!$P$8, $X2344='P&L'!$G$6), $AT2344, 0)","v":0}," "," "," "]
[null,null,null,null,null,null,null,null,null,null,null,null,null,null,null,null,null,null,null,null,null,null,"Jan-00",1900,{"$f":"IF(AND($A2351<'P&L'!$P$8, YEAR($A2351)=Master!$C$6), $K2351, 0)","v":0},0,{"$f":"IF(AND(NOT(ISBLANK($O2351)), $O2351<'P&L'!$P$8), Z2351, 0)","v":0},{"$f":"IF(OR(ISBLANK($O2351), $O2351>'BankRec Main Acct'!$E$8), Z2351, 0)","v":0},0,{"$f":"IF(AND(NOT(ISBLANK($O2351)), $O2351<'P&L'!$P$8), AC2351, 0)","v":0},{"$f":"IF(OR(ISBLANK($O2351), $O2351>'BankRec Main Acct'!$E$8), AC2351, 0)","v":0},0,{"$f":"IF(AND(NOT(ISBLANK($S2351)), $S2351<'P&L'!$P$8), AF2351, 0)","v":0},{"$f":"IF(OR(ISBLANK($S2351), $S2351>'BankRec Main Acct'!$E$8), AF2351, 0)","v":0},0,{"$f":"IF(AND(NOT(ISBLANK($S2351)), $S2351<'P&L'!$P$8), AI2351, 0)","v":0},{"$f":"IF(OR(ISBLANK($S2351), $S2351>'BankRec Main Acct'!$E$8), AI2351, 0)","v":0},0,{"$f":"IF(AND(NOT(ISBLANK($U2351)), $U2351<'P&L'!$P$8), $AL2351, 0)","v":0},{"$f":"IF(OR(ISBLANK($U2351), $U2351>'DebitCard Rec '!$E$8), $AL2351, 0)","v":0},0,{"$f":"IF(AND(NOT(ISBLANK($U2351)), $U2351<'P&L'!$P$8), $AO2351, 0)","v":0},{"$f":"IF(OR(ISBLANK($U2351), $U2351>'DebitCard Rec '!$E$8), $AO2351, 0)","v":0},0,{"$f":"IF(AND($A2351<'P&L'!$P$8, $X2351='P&L'!$G$6), $AR2351, 0)","v":0},0,{"$f":"IF(AND($A2351<'P&L'!$P$8, $X2351='P&L'!$G$6), $AT2351, 0)","v":0}," "," "," "]
[null,null,null,null,null,null,null,null,null,null,null,null,null,null,null,null,null,null,null,null,null,null,"Jan-00",1900,{"$f":"IF(AND($A2358<'P&L'!$P$8, YEAR($A2358)=Master!$C$6), $K2358, 0)","v":0},0,{"$f":"IF(AND(NOT(ISBLANK($O2358)), $O2358<'P&L'!$P$8), Z2358, 0)","v":0},{"$f":"IF(OR(ISBLANK($O2358), $O2358>'BankRec Main Acct'!$E$8), Z2358, 0)","v":0},0,{"$f":"IF(AND(NOT(ISBLANK($O2358)), $O2358<'P&L'!$P$8), AC2358, 0)","v":0},{"$f":"IF(OR(ISBLANK($O2358), $O2358>'BankRec Main Acct'!$E$8), AC2358, 0)","v":0},0,{"$f":"IF(AND(NOT(ISBLANK($S2358)), $S2358<'P&L'!$P$8), AF2358, 0)","v":0},{"$f":"IF(OR(ISBLANK($S2358), $S2358>'BankRec Main Acct'!$E$8), AF2358, 0)","v":0},0,{"$f":"IF(AND(NOT(ISBLANK($S2358)), $S2358<'P&L'!$P$8), AI2358, 0)","v":0},{"$f":"IF(OR(ISBLANK($S2358), $S2358>'BankRec Main Acct'!$E$8), AI2358, 0)","v":0},0,{"$f":"IF(AND(NOT(ISBLANK($U2358)), $U2358<'P&L'!$P$8), $AL2358, 0)","v":0},{"$f":"IF(OR(ISBLANK($U2358), $U2358>'DebitCard Rec '!$E$8), $AL2358, 0)","v":0},0,{"$f":"IF(AND(NOT(ISBLANK($U2358)), $U2358<'P&L'!$P$8), $AO2358, 0)","v":0},{"$f":"IF(OR(ISBLANK($U2358), $U2358>'DebitCard Rec '!$E$8), $AO2358, 0)","v":0},0,{"$f":"IF(AND($A2358<'P&L'!$P$8, $X2358='P&L'!$G$6), $AR2358, 0)","v":0},0,{"$f":"IF(AND($A2358<'P&L'!$P$8, $X2358='P&L'!$G$6), $AT2358, 0)","v":0}," "," "," "]
[null,null,null,null,null,null,null,null,null,null,null,null,null,null,null,null,null,null,null,null,null,null,"Jan-00",1900,{"$f":"IF(AND($A2365<'P&L'!$P$8, YEAR($A2365)=Master!$C$6), $K2365, 0)","v":0},0,{"$f":"IF(AND(NOT(ISBLANK($O2365)), $O2365<'P&L'!$P$8), Z2365, 0)","v":0},{"$f":"IF(OR(ISBLANK($O2365), $O2365>'BankRec Main Acct'!$E$8), Z2365, 0)","v":0},0,{"$f":"IF(AND(NOT(ISBLANK($O2365)), $O2365<'P&L'!$P$8), AC2365, 0)","v":0},{"$f":"IF(OR(ISBLANK($O2365), $O2365>'BankRec Main Acct'!$E$8), AC2365, 0)","v":0},0,{"$f":"IF(AND(NOT(ISBLANK($S2365)), $S2365<'P&L'!$P$8), AF2365, 0)","v":0},{"$f":"IF(OR(ISBLANK($S2365), $S2365>'BankRec Main Acct'!$E$8), AF2365, 0)","v":0},0,{"$f":"IF(AND(NOT(ISBLANK($S2365)), $S2365<'P&L'!$P$8), AI2365, 0)","v":0},{"$f":"IF(OR(ISBLANK($S2365), $S2365>'BankRec Main Acct'!$E$8), AI2365, 0)","v":0},0,{"$f":"IF(AND(NOT(ISBLANK($U2365)), $U2365<'P&L'!$P$8), $AL2365, 0)","v":0},{"$f":"IF(OR(ISBLANK($U2365), $U2365>'DebitCard Rec '!$E$8), $AL2365, 0)","v":0},0,{"$f":"IF(AND(NOT(ISBLANK($U2365)), $U2365<'P&L'!$P$8), $AO2365, 0)","v":0},{"$f":"IF(OR(ISBLANK($U2365), $U2365>'DebitCard Rec '!$E$8), $AO2365, 0)","v":0},0,{"$f":"IF(AND($A2365<'P&L'!$P$8, $X2365='P&L'!$G$6), $AR2365, 0)","v":0},0,{"$f":"IF(AND($A2365<'P&L'!$P$8, $X2365='P&L'!$G$6), $AT2365, 0)","v":0}," "," "," "]
[null,null,null,null,null,null,null,null,null,null,null,null,null,null,null,null,null,null,null,null,null,null,"Jan-00",1900,{"$f":"IF(AND($A2372<'P&L'!$P$8, YEAR($A2372)=Master!$C$6), $K2372, 0)","v":0},0,{"$f":"IF(AND(NOT(ISBLANK($O2372)), $O2372<'P&L'!$P$8), Z2372, 0)","v":0},{"$f":"IF(OR(ISBLANK($O2372), $O2372>'BankRec Main Acct'!$E$8), Z2372, 0)","v":0},0,{"$f":"IF(AND(NOT(ISBLANK($O2372)), $O2372<'P&L'!$P$8), AC2372, 0)","v":0},{"$f":"IF(OR(ISBLANK($O2372), $O2372>'BankRec Main Acct'!$E$8), AC2372, 0)","v":0},0,{"$f":"IF(AND(NOT(ISBLANK($S2372)), $S2372<'P&L'!$P$8), AF2372, 0)","v":0},{"$f":"IF(OR(ISBLANK($S2372), $S2372>'BankRec Main Acct'!$E$8), AF2372, 0)","v":0},0,{"$f":"IF(AND(NOT(ISBLANK($S2372)), $S2372<'P&L'!$P$8), AI2372, 0)","v":0},{"$f":"IF(OR(ISBLANK($S2372), $S2372>'BankRec Main Acct'!$E$8), AI2372, 0)","v":0},0,{"$f":"IF(AND(NOT(ISBLANK($U2372)), $U2372<'P&L'!$P$8), $AL2372, 0)","v":0},{"$f":"IF(OR(ISBLANK($U2372), $U2372>'DebitCard Rec '!$E$8), $AL2372, 0)","v":0},0,{"$f":"IF(AND(NOT(ISBLANK($U2372)), $U2372<'P&L'!$P$8), $AO2372, 0)","v":0},{"$f":"IF(OR(ISBLANK($U2372), $U2372>'DebitCard Rec '!$E$8), $AO2372, 0)","v":0},{"$f":"IF($AV2372=\"Petty cash Receipt\", $K2372, 0)","v":0},{"$f":"IF(AND($A2372<'P&L'!$P$8, $X2372='P&L'!$G$6), $AR2372, 0)","v":0},{"$f":"IF($AV2372=\"Petty cash Payment\", $K2372, 0)","v":0},{"$f":"IF(AND($A2372<'P&L'!$P$8, $X2372='P&L'!$G$6), $AT2372, 0)","v":0}," ",{"$f":"IF(C2372=\"Receipt\",CONCATENATE(D2372,\" \", F2372), \" \")","v":" "},{"$f":"IF(C2372= \"Payment\", CONCATENATE(F2372,\" \",E2372), \" \")","v":" "}]
[null,null,null,null,null,null,null,null,null,null,null,null,null,null,null,null,null,null,null,null,null,null,"Jan-00",1900,{"$f":"IF(AND($A2384<'P&L'!$P$8, YEAR($A2384)=Master!$C$6), $K2384, 0)","v":0},0,{"$f":"IF(AND(NOT(ISBLANK($O2384)), $O2384<'P&L'!$P$8), Z2384, 0)","v":0},{"$f":"IF(OR(ISBLANK($O2384), $O2384>'BankRec Main Acct'!$E$8), Z2384, 0)","v":0},0,{"$f":"IF(AND(NOT(ISBLANK($O2384)), $O2384<'P&L'!$P$8), AC2384, 0)","v":0},{"$f":"IF(OR(ISBLANK($O2384), $O2384>'BankRec Main Acct'!$E$8), AC2384, 0)","v":0},0,{"$f":"IF(AND(NOT(ISBLANK($S2384)), $S2384<'P&L'!$P$8), AF2384, 0)","v":0},{"$f":"IF(OR(ISBLANK($S2384), $S2384>'BankRec Main Acct'!$E$8), AF2384, 0)","v":0},0,{"$f":"IF(AND(NOT(ISBLANK($S2384)), $S2384<'P&L'!$P$8), AI2384, 0)","v":0},{"$f":"IF(OR(ISBLANK($S2384), $S2384>'BankRec Main Acct'!$E$8), AI2384, 0)","v":0},0,{"$f":"IF(AND(NOT(ISBLANK($U2384)), $U2384<'P&L'!$P$8), $AL2384, 0)","v":0},{"$f":"IF(OR(ISBLANK($U2384), $U2384>'DebitCard Rec '!$E$8), $AL2384, 0)","v":0},0,{"$f":"IF(AND(NOT(ISBLANK($U2384)), $U2384<'P&L'!$P$8), $AO2384, 0)","v":0},{"$f":"IF(OR(ISBLANK($U2384), $U2384>'DebitCard Rec '!$E$8), $AO2384, 0)","v":0},0,{"$f":"IF(AND($A2384<'P&L'!$P$8, $X2384='P&L'!$G$6), $AR2384, 0)","v":0},0,{"$f":"IF(AND($A2384<'P&L'!$P$8, $X2384='P&L'!$G$6), $AT2384, 0)","v":0}," "," "," "]
[null,null,null,null,null,null,null,null,null,null,null,null,null,null,null,null,null,null,null,null,null,null,"Jan-00",1900,{"$f":"IF(AND($A2389<'P&L'!$P$8, YEAR($A2389)=Master!$C$6), $K2389, 0)","v":0},0,{"$f":"IF(AND(NOT(ISBLANK($O2389)), $O2389<'P&L'!$P$8), Z2389, 0)","v":0},{"$f":"IF(OR(ISBLANK($O2389), $O2389>'BankRec Main Acct'!$E$8), Z2389, 0)","v":0},0,{"$f":"IF(AND(NOT(ISBLANK($O2389)), $O2389<'P&L'!$P$8), AC2389, 0)","v":0},{"$f":"IF(OR(ISBLANK($O2389), $O2389>'BankRec Main Acct'!$E$8), AC2389, 0)","v":0},0,{"$f":"IF(AND(NOT(ISBLANK($S2389)), $S2389<'P&L'!$P$8), AF2389, 0)","v":0},{"$f":"IF(OR(ISBLANK($S2389), $S2389>'BankRec Main Acct'!$E$8), AF2389, 0)","v":0},0,{"$f":"IF(AND(NOT(ISBLANK($S2389)), $S2389<'P&L'!$P$8), AI2389, 0)","v":0},{"$f":"IF(OR(ISBLANK($S2389), $S2389>'BankRec Main Acct'!$E$8), AI2389, 0)","v":0},0,{"$f":"IF(AND(NOT(ISBLANK($U2389)), $U2389<'P&L'!$P$8), $AL2389, 0)","v":0},{"$f":"IF(OR(ISBLANK($U2389), $U2389>'DebitCard Rec '!$E$8), $AL2389, 0)","v":0},0,{"$f":"IF(AND(NOT(ISBLANK($U2389)), $U2389<'P&L'!$P$8), $AO2389, 0)","v":0},{"$f":"IF(OR(ISBLANK($U2389), $U2389>'DebitCard Rec '!$E$8), $AO2389, 0)","v":0},0,{"$f":"IF(AND($A2389<'P&L'!$P$8, $X2389='P&L'!$G$6), $AR2389, 0)","v":0},0,{"$f":"IF(AND($A2389<'P&L'!$P$8, $X2389='P&L'!$G$6), $AT2389, 0)","v":0}," "," "," "]
[null,null,null,null,null,null,null,null,null,null,null,null,null,null,null,null,null,null,null,null,null,null,"Jan-00",1900,{"$f":"IF(AND($A2402<'P&L'!$P$8, YEAR($A2402)=Master!$C$6), $K2402, 0)","v":0},0,{"$f":"IF(AND(NOT(ISBLANK($O2402)), $O2402<'P&L'!$P$8), Z2402, 0)","v":0},{"$f":"IF(OR(ISBLANK($O2402), $O2402>'BankRec Main Acct'!$E$8), Z2402, 0)","v":0},0,{"$f":"IF(AND(NOT(ISBLANK($O2402)), $O2402<'P&L'!$P$8), AC2402, 0)","v":0},{"$f":"IF(OR(ISBLANK($O2402), $O2402>'BankRec Main Acct'!$E$8), AC2402, 0)","v":0},0,{"$f":"IF(AND(NOT(ISBLANK($S2402)), $S2402<'P&L'!$P$8), AF2402, 0)","v":0},{"$f":"IF(OR(ISBLANK($S2402), $S2402>'BankRec Main Acct'!$E$8), AF2402, 0)","v":0},0,{"$f":"IF(AND(NOT(ISBLANK($S2402)), $S2402<'P&L'!$P$8), AI2402, 0)","v":0},{"$f":"IF(OR(ISBLANK($S2402), $S2402>'BankRec Main Acct'!$E$8), AI2402, 0)","v":0},0,{"$f":"IF(AND(NOT(ISBLANK($U2402)), $U2402<'P&L'!$P$8), $AL2402, 0)","v":0},{"$f":"IF(OR(ISBLANK($U2402), $U2402>'DebitCard Rec '!$E$8), $AL2402, 0)","v":0},0,{"$f":"IF(AND(NOT(ISBLANK($U2402)), $U2402<'P&L'!$P$8), $AO2402, 0)","v":0},{"$f":"IF(OR(ISBLANK($U2402), $U2402>'DebitCard Rec '!$E$8), $AO2402, 0)","v":0},0,{"$f":"IF(AND($A2402<'P&L'!$P$8, $X2402='P&L'!$G$6), $AR2402, 0)","v":0},0,{"$f":"IF(AND($A2402<'P&L'!$P$8, $X2402='P&L'!$G$6), $AT2402, 0)","v":0}," "," "," "]
[null,null,null,null,null,null,null,null,null,null,null,null,null,null,null,null,null,null,null,null,null,null,"Jan-00",1900,{"$f":"IF(AND($A2414<'P&L'!$P$8, YEAR($A2414)=Master!$C$6), $K2414, 0)","v":0},0,{"$f":"IF(AND(NOT(ISBLANK($O2414)), $O2414<'P&L'!$P$8), Z2414, 0)","v":0},{"$f":"IF(OR(ISBLANK($O2414), $O2414>'BankRec Main Acct'!$E$8), Z2414, 0)","v":0},0,{"$f":"IF(AND(NOT(ISBLANK($O2414)), $O2414<'P&L'!$P$8), AC2414, 0)","v":0},{"$f":"IF(OR(ISBLANK($O2414), $O2414>'BankRec Main Acct'!$E$8), AC2414, 0)","v":0},0,{"$f":"IF(AND(NOT(ISBLANK($S2414)), $S2414<'P&L'!$P$8), AF2414, 0)","v":0},{"$f":"IF(OR(ISBLANK($S2414), $S2414>'BankRec Main Acct'!$E$8), AF2414, 0)","v":0},0,{"$f":"IF(AND(NOT(ISBLANK($S2414)), $S2414<'P&L'!$P$8), AI2414, 0)","v":0},{"$f":"IF(OR(ISBLANK($S2414), $S2414>'BankRec Main Acct'!$E$8), AI2414, 0)","v":0},0,{"$f":"IF(AND(NOT(ISBLANK($U2414)), $U2414<'P&L'!$P$8), $AL2414, 0)","v":0},{"$f":"IF(OR(ISBLANK($U2414), $U2414>'DebitCard Rec '!$E$8), $AL2414, 0)","v":0},0,{"$f":"IF(AND(NOT(ISBLANK($U2414)), $U2414<'P&L'!$P$8), $AO2414, 0)","v":0},{"$f":"IF(OR(ISBLANK($U2414), $U2414>'DebitCard Rec '!$E$8), $AO2414, 0)","v":0},0,{"$f":"IF(AND($A2414<'P&L'!$P$8, $X2414='P&L'!$G$6), $AR2414, 0)","v":0},0,{"$f":"IF(AND($A2414<'P&L'!$P$8, $X2414='P&L'!$G$6), $AT2414, 0)","v":0}," "," "," "]
[null,null,null,null,null,null,null,null,null,null,null,null,null,null,null,null,null,null,null,null,null,null,"Jan-00",1900,{"$f":"IF(AND($A2421<'P&L'!$P$8, YEAR($A2421)=Master!$C$6), $K2421, 0)","v":0},0,{"$f":"IF(AND(NOT(ISBLANK($O2421)), $O2421<'P&L'!$P$8), Z2421, 0)","v":0},{"$f":"IF(OR(ISBLANK($O2421), $O2421>'BankRec Main Acct'!$E$8), Z2421, 0)","v":0},0,{"$f":"IF(AND(NOT(ISBLANK($O2421)), $O2421<'P&L'!$P$8), AC2421, 0)","v":0},{"$f":"IF(OR(ISBLANK($O2421), $O2421>'BankRec Main Acct'!$E$8), AC2421, 0)","v":0},0,{"$f":"IF(AND(NOT(ISBLANK($S2421)), $S2421<'P&L'!$P$8), AF2421, 0)","v":0},{"$f":"IF(OR(ISBLANK($S2421), $S2421>'BankRec Main Acct'!$E$8), AF2421, 0)","v":0},0,{"$f":"IF(AND(NOT(ISBLANK($S2421)), $S2421<'P&L'!$P$8), AI2421, 0)","v":0},{"$f":"IF(OR(ISBLANK($S2421), $S2421>'BankRec Main Acct'!$E$8), AI2421, 0)","v":0},0,{"$f":"IF(AND(NOT(ISBLANK($U2421)), $U2421<'P&L'!$P$8), $AL2421, 0)","v":0},{"$f":"IF(OR(ISBLANK($U2421), $U2421>'DebitCard Rec '!$E$8), $AL2421, 0)","v":0},0,{"$f":"IF(AND(NOT(ISBLANK($U2421)), $U2421<'P&L'!$P$8), $AO2421, 0)","v":0},{"$f":"IF(OR(ISBLANK($U2421), $U2421>'DebitCard Rec '!$E$8), $AO2421, 0)","v":0},0,{"$f":"IF(AND($A2421<'P&L'!$P$8, $X2421='P&L'!$G$6), $AR2421, 0)","v":0},0,{"$f":"IF(AND($A2421<'P&L'!$P$8, $X2421='P&L'!$G$6), $AT2421, 0)","v":0}," "," "," "]
[null,null,null,null,null,null,null,null,null,null,null,null,null,null,null,null,null,null,null,null,null,null,"Jan-00",1900,{"$f":"IF(AND($A2424<'P&L'!$P$8, YEAR($A2424)=Master!$C$6), $K2424, 0)","v":0},0,{"$f":"IF(AND(NOT(ISBLANK($O2424)), $O2424<'P&L'!$P$8), Z2424, 0)","v":0},{"$f":"IF(OR(ISBLANK($O2424), $O2424>'BankRec Main Acct'!$E$8), Z2424, 0)","v":0},0,{"$f":"IF(AND(NOT(ISBLANK($O2424)), $O2424<'P&L'!$P$8), AC2424, 0)","v":0},{"$f":"IF(OR(ISBLANK($O2424), $O2424>'BankRec Main Acct'!$E$8), AC2424, 0)","v":0},0,{"$f":"IF(AND(NOT(ISBLANK($S2424)), $S2424<'P&L'!$P$8), AF2424, 0)","v":0},{"$f":"IF(OR(ISBLANK($S2424), $S2424>'BankRec Main Acct'!$E$8), AF2424, 0)","v":0},0,{"$f":"IF(AND(NOT(ISBLANK($S2424)), $S2424<'P&L'!$P$8), AI2424, 0)","v":0},{"$f":"IF(OR(ISBLANK($S2424), $S2424>'BankRec Main Acct'!$E$8), AI2424, 0)","v":0},0,{"$f":"IF(AND(NOT(ISBLANK($U2424)), $U2424<'P&L'!$P$8), $AL2424, 0)","v":0},{"$f":"IF(OR(ISBLANK($U2424), $U2424>'DebitCard Rec '!$E$8), $AL2424, 0)","v":0},0,{"$f":"IF(AND(NOT(ISBLANK($U2424)), $U2424<'P&L'!$P$8), $AO2424, 0)","v":0},{"$f":"IF(OR(ISBLANK($U2424), $U2424>'DebitCard Rec '!$E$8), $AO2424, 0)","v":0},0,{"$f":"IF(AND($A2424<'P&L'!$P$8, $X2424='P&L'!$G$6), $AR2424, 0)","v":0},0,{"$f":"IF(AND($A2424<'P&L'!$P$8, $X2424='P&L'!$G$6), $AT2424, 0)","v":0}," "," "," "]
[null,null,null,null,null,null,null,null,null,null,null,null,null,null,null,null,null,null,null,null,null,null,"Jan-00",1900,{"$f":"IF(AND($A2438<'P&L'!$P$8, YEAR($A2438)=Master!$C$6), $K2438, 0)","v":0},0,{"$f":"IF(AND(NOT(ISBLANK($O2438)), $O2438<'P&L'!$P$8), Z2438, 0)","v":0},{"$f":"IF(OR(ISBLANK($O2438), $O2438>'BankRec Main Acct'!$E$8), Z2438, 0)","v":0},0,{"$f":"IF(AND(NOT(ISBLANK($O2438)), $O2438<'P&L'!$P$8), AC2438, 0)","v":0},{"$f":"IF(OR(ISBLANK($O2438), $O2438>'BankRec Main Acct'!$E$8), AC2438, 0)","v":0},0,{"$f":"IF(AND(NOT(ISBLANK($S2438)), $S2438<'P&L'!$P$8), AF2438, 0)","v":0},{"$f":"IF(OR(ISBLANK($S2438), $S2438>'BankRec Main Acct'!$E$8), AF2438, 0)","v":0},0,{"$f":"IF(AND(NOT(ISBLANK($S2438)), $S2438<'P&L'!$P$8), AI2438, 0)","v":0},{"$f":"IF(OR(ISBLANK($S2438), $S2438>'BankRec Main Acct'!$E$8), AI2438, 0)","v":0},0,{"$f":"IF(AND(NOT(ISBLANK($U2438)), $U2438<'P&L'!$P$8), $AL2438, 0)","v":0},{"$f":"IF(OR(ISBLANK($U2438), $U2438>'DebitCard Rec '!$E$8), $AL2438, 0)","v":0},0,{"$f":"IF(AND(NOT(ISBLANK($U2438)), $U2438<'P&L'!$P$8), $AO2438, 0)","v":0},{"$f":"IF(OR(ISBLANK($U2438), $U2438>'DebitCard Rec '!$E$8), $AO2438, 0)","v":0},0,{"$f":"IF(AND($A2438<'P&L'!$P$8, $X2438='P&L'!$G$6), $AR2438, 0)","v":0},0,{"$f":"IF(AND($A2438<'P&L'!$P$8, $X2438='P&L'!$G$6), $AT2438, 0)","v":0}," "," "," "]
[null,null,null,null,null,null,null,null,null,null,null,null,null,null,null,null,null,null,null,null,null,null,"Jan-00",1900,{"$f":"IF(AND($A2442<'P&L'!$P$8, YEAR($A2442)=Master!$C$6), $K2442, 0)","v":0},0,{"$f":"IF(AND(NOT(ISBLANK($O2442)), $O2442<'P&L'!$P$8), Z2442, 0)","v":0},{"$f":"IF(OR(ISBLANK($O2442), $O2442>'BankRec Main Acct'!$E$8), Z2442, 0)","v":0},0,{"$f":"IF(AND(NOT(ISBLANK($O2442)), $O2442<'P&L'!$P$8), AC2442, 0)","v":0},{"$f":"IF(OR(ISBLANK($O2442), $O2442>'BankRec Main Acct'!$E$8), AC2442, 0)","v":0},0,{"$f":"IF(AND(NOT(ISBLANK($S2442)), $S2442<'P&L'!$P$8), AF2442, 0)","v":0},{"$f":"IF(OR(ISBLANK($S2442), $S2442>'BankRec Main Acct'!$E$8), AF2442, 0)","v":0},0,{"$f":"IF(AND(NOT(ISBLANK($S2442)), $S2442<'P&L'!$P$8), AI2442, 0)","v":0},{"$f":"IF(OR(ISBLANK($S2442), $S2442>'BankRec Main Acct'!$E$8), AI2442, 0)","v":0},0,{"$f":"IF(AND(NOT(ISBLANK($U2442)), $U2442<'P&L'!$P$8), $AL2442, 0)","v":0},{"$f":"IF(OR(ISBLANK($U2442), $U2442>'DebitCard Rec '!$E$8), $AL2442, 0)","v":0},0,{"$f":"IF(AND(NOT(ISBLANK($U2442)), $U2442<'P&L'!$P$8), $AO2442, 0)","v":0},{"$f":"IF(OR(ISBLANK($U2442), $U2442>'DebitCard Rec '!$E$8), $AO2442, 0)","v":0},0,{"$f":"IF(AND($A2442<'P&L'!$P$8, $X2442='P&L'!$G$6), $AR2442, 0)","v":0},0,{"$f":"IF(AND($A2442<'P&L'!$P$8, $X2442='P&L'!$G$6), $AT2442, 0)","v":0}," "," "," "]
[null,null,null,null,null,null,null,null,null,null,null,null,null,null,null,null,null,null,null,null,null,null,"Jan-00",1900,{"$f":"IF(AND($A2454<'P&L'!$P$8, YEAR($A2454)=Master!$C$6), $K2454, 0)","v":0},0,{"$f":"IF(AND(NOT(ISBLANK($O2454)), $O2454<'P&L'!$P$8), Z2454, 0)","v":0},{"$f":"IF(OR(ISBLANK($O2454), $O2454>'BankRec Main Acct'!$E$8), Z2454, 0)","v":0},0,{"$f":"IF(AND(NOT(ISBLANK($O2454)), $O2454<'P&L'!$P$8), AC2454, 0)","v":0},{"$f":"IF(OR(ISBLANK($O2454), $O2454>'BankRec Main Acct'!$E$8), AC2454, 0)","v":0},0,{"$f":"IF(AND(NOT(ISBLANK($S2454)), $S2454<'P&L'!$P$8), AF2454, 0)","v":0},{"$f":"IF(OR(ISBLANK($S2454), $S2454>'BankRec Main Acct'!$E$8), AF2454, 0)","v":0},0,{"$f":"IF(AND(NOT(ISBLANK($S2454)), $S2454<'P&L'!$P$8), AI2454, 0)","v":0},{"$f":"IF(OR(ISBLANK($S2454), $S2454>'BankRec Main Acct'!$E$8), AI2454, 0)","v":0},0,{"$f":"IF(AND(NOT(ISBLANK($U2454)), $U2454<'P&L'!$P$8), $AL2454, 0)","v":0},{"$f":"IF(OR(ISBLANK($U2454), $U2454>'DebitCard Rec '!$E$8), $AL2454, 0)","v":0},0,{"$f":"IF(AND(NOT(ISBLANK($U2454)), $U2454<'P&L'!$P$8), $AO2454, 0)","v":0},{"$f":"IF(OR(ISBLANK($U2454), $U2454>'DebitCard Rec '!$E$8), $AO2454, 0)","v":0},0,{"$f":"IF(AND($A2454<'P&L'!$P$8, $X2454='P&L'!$G$6), $AR2454, 0)","v":0},0,{"$f":"IF(AND($A2454<'P&L'!$P$8, $X2454='P&L'!$G$6), $AT2454, 0)","v":0}," "," "," "]
[null,null,null,null,null,null,null,null,null,null,null,null,null,null,null,null,null,null,null,null,null,null,"Jan-00",1900,{"$f":"IF(AND($A2461<'P&L'!$P$8, YEAR($A2461)=Master!$C$6), $K2461, 0)","v":0},0,{"$f":"IF(AND(NOT(ISBLANK($O2461)), $O2461<'P&L'!$P$8), Z2461, 0)","v":0},{"$f":"IF(OR(ISBLANK($O2461), $O2461>'BankRec Main Acct'!$E$8), Z2461, 0)","v":0},0,{"$f":"IF(AND(NOT(ISBLANK($O2461)), $O2461<'P&L'!$P$8), AC2461, 0)","v":0},{"$f":"IF(OR(ISBLANK($O2461), $O2461>'BankRec Main Acct'!$E$8), AC2461, 0)","v":0},0,{"$f":"IF(AND(NOT(ISBLANK($S2461)), $S2461<'P&L'!$P$8), AF2461, 0)","v":0},{"$f":"IF(OR(ISBLANK($S2461), $S2461>'BankRec Main Acct'!$E$8), AF2461, 0)","v":0},0,{"$f":"IF(AND(NOT(ISBLANK($S2461)), $S2461<'P&L'!$P$8), AI2461, 0)","v":0},{"$f":"IF(OR(ISBLANK($S2461), $S2461>'BankRec Main Acct'!$E$8), AI2461, 0)","v":0},0,{"$f":"IF(AND(NOT(ISBLANK($U2461)), $U2461<'P&L'!$P$8), $AL2461, 0)","v":0},{"$f":"IF(OR(ISBLANK($U2461), $U2461>'DebitCard Rec '!$E$8), $AL2461, 0)","v":0},0,{"$f":"IF(AND(NOT(ISBLANK($U2461)), $U2461<'P&L'!$P$8), $AO2461, 0)","v":0},{"$f":"IF(OR(ISBLANK($U2461), $U2461>'DebitCard Rec '!$E$8), $AO2461, 0)","v":0},0,{"$f":"IF(AND($A2461<'P&L'!$P$8, $X2461='P&L'!$G$6), $AR2461, 0)","v":0},0,{"$f":"IF(AND($A2461<'P&L'!$P$8, $X2461='P&L'!$G$6), $AT2461, 0)","v":0}," "," "," "]
[null,null,null,null,null,null,null,null,null,null,null,null,null,null,null,null,null,null,null,null,null,null,"Jan-00",1900,{"$f":"IF(AND($A2469<'P&L'!$P$8, YEAR($A2469)=Master!$C$6), $K2469, 0)","v":0},0,{"$f":"IF(AND(NOT(ISBLANK($O2469)), $O2469<'P&L'!$P$8), Z2469, 0)","v":0},{"$f":"IF(OR(ISBLANK($O2469), $O2469>'BankRec Main Acct'!$E$8), Z2469, 0)","v":0},0,{"$f":"IF(AND(NOT(ISBLANK($O2469)), $O2469<'P&L'!$P$8), AC2469, 0)","v":0},{"$f":"IF(OR(ISBLANK($O2469), $O2469>'BankRec Main Acct'!$E$8), AC2469, 0)","v":0},0,{"$f":"IF(AND(NOT(ISBLANK($S2469)), $S2469<'P&L'!$P$8), AF2469, 0)","v":0},{"$f":"IF(OR(ISBLANK($S2469), $S2469>'BankRec Main Acct'!$E$8), AF2469, 0)","v":0},0,{"$f":"IF(AND(NOT(ISBLANK($S2469)), $S2469<'P&L'!$P$8), AI2469, 0)","v":0},{"$f":"IF(OR(ISBLANK($S2469), $S2469>'BankRec Main Acct'!$E$8), AI2469, 0)","v":0},0,{"$f":"IF(AND(NOT(ISBLANK($U2469)), $U2469<'P&L'!$P$8), $AL2469, 0)","v":0},{"$f":"IF(OR(ISBLANK($U2469), $U2469>'DebitCard Rec '!$E$8), $AL2469, 0)","v":0},0,{"$f":"IF(AND(NOT(ISBLANK($U2469)), $U2469<'P&L'!$P$8), $AO2469, 0)","v":0},{"$f":"IF(OR(ISBLANK($U2469), $U2469>'DebitCard Rec '!$E$8), $AO2469, 0)","v":0},0,{"$f":"IF(AND($A2469<'P&L'!$P$8, $X2469='P&L'!$G$6), $AR2469, 0)","v":0},0,{"$f":"IF(AND($A2469<'P&L'!$P$8, $X2469='P&L'!$G$6), $AT2469, 0)","v":0}," "," "," "]
[null,null,null,null,null,null,null,null,null,null,null,null,null,null,null,null,null,null,null,null,null,null,"Jan-00",1900,{"$f":"IF(AND($A2484<'P&L'!$P$8, YEAR($A2484)=Master!$C$6), $K2484, 0)","v":0},0,{"$f":"IF(AND(NOT(ISBLANK($O2484)), $O2484<'P&L'!$P$8), Z2484, 0)","v":0},{"$f":"IF(OR(ISBLANK($O2484), $O2484>'BankRec Main Acct'!$E$8), Z2484, 0)","v":0},0,{"$f":"IF(AND(NOT(ISBLANK($O2484)), $O2484<'P&L'!$P$8), AC2484, 0)","v":0},{"$f":"IF(OR(ISBLANK($O2484), $O2484>'BankRec Main Acct'!$E$8), AC2484, 0)","v":0},0,{"$f":"IF(AND(NOT(ISBLANK($S2484)), $S2484<'P&L'!$P$8), AF2484, 0)","v":0},{"$f":"IF(OR(ISBLANK($S2484), $S2484>'BankRec Main Acct'!$E$8), AF2484, 0)","v":0},0,{"$f":"IF(AND(NOT(ISBLANK($S2484)), $S2484<'P&L'!$P$8), AI2484, 0)","v":0},{"$f":"IF(OR(ISBLANK($S2484), $S2484>'BankRec Main Acct'!$E$8), AI2484, 0)","v":0},0,{"$f":"IF(AND(NOT(ISBLANK($U2484)), $U2484<'P&L'!$P$8), $AL2484, 0)","v":0},{"$f":"IF(OR(ISBLANK($U2484), $U2484>'DebitCard Rec '!$E$8), $AL2484, 0)","v":0},0,{"$f":"IF(AND(NOT(ISBLANK($U2484)), $U2484<'P&L'!$P$8), $AO2484, 0)","v":0},{"$f":"IF(OR(ISBLANK($U2484), $U2484>'DebitCard Rec '!$E$8), $AO2484, 0)","v":0},0,{"$f":"IF(AND($A2484<'P&L'!$P$8, $X2484='P&L'!$G$6), $AR2484, 0)","v":0},0,{"$f":"IF(AND($A2484<'P&L'!$P$8, $X2484='P&L'!$G$6), $AT2484, 0)","v":0}," "," "," "]
[null,null,null,null,null,null,null,null,null,null,null,null,null,null,null,null,null,null,null,null,null,null,"Jan-00",1900,{"$f":"IF(AND($A2491<'P&L'!$P$8, YEAR($A2491)=Master!$C$6), $K2491, 0)","v":0},0,{"$f":"IF(AND(NOT(ISBLANK($O2491)), $O2491<'P&L'!$P$8), Z2491, 0)","v":0},{"$f":"IF(OR(ISBLANK($O2491), $O2491>'BankRec Main Acct'!$E$8), Z2491, 0)","v":0},0,{"$f":"IF(AND(NOT(ISBLANK($O2491)), $O2491<'P&L'!$P$8), AC2491, 0)","v":0},{"$f":"IF(OR(ISBLANK($O2491), $O2491>'BankRec Main Acct'!$E$8), AC2491, 0)","v":0},0,{"$f":"IF(AND(NOT(ISBLANK($S2491)), $S2491<'P&L'!$P$8), AF2491, 0)","v":0},{"$f":"IF(OR(ISBLANK($S2491), $S2491>'BankRec Main Acct'!$E$8), AF2491, 0)","v":0},0,{"$f":"IF(AND(NOT(ISBLANK($S2491)), $S2491<'P&L'!$P$8), AI2491, 0)","v":0},{"$f":"IF(OR(ISBLANK($S2491), $S2491>'BankRec Main Acct'!$E$8), AI2491, 0)","v":0},0,{"$f":"IF(AND(NOT(ISBLANK($U2491)), $U2491<'P&L'!$P$8), $AL2491, 0)","v":0},{"$f":"IF(OR(ISBLANK($U2491), $U2491>'DebitCard Rec '!$E$8), $AL2491, 0)","v":0},0,{"$f":"IF(AND(NOT(ISBLANK($U2491)), $U2491<'P&L'!$P$8), $AO2491, 0)","v":0},{"$f":"IF(OR(ISBLANK($U2491), $U2491>'DebitCard Rec '!$E$8), $AO2491, 0)","v":0},0,{"$f":"IF(AND($A2491<'P&L'!$P$8, $X2491='P&L'!$G$6), $AR2491, 0)","v":0},0,{"$f":"IF(AND($A2491<'P&L'!$P$8, $X2491='P&L'!$G$6), $AT2491, 0)","v":0}," "," "," "]
[null,null,null,null,null,null,null,null,null,null,null,null,null,null,null,null,null,null,null,null,null,null,"Jan-00",1900,{"$f":"IF(AND($A2494<'P&L'!$P$8, YEAR($A2494)=Master!$C$6), $K2494, 0)","v":0},0,{"$f":"IF(AND(NOT(ISBLANK($O2494)), $O2494<'P&L'!$P$8), Z2494, 0)","v":0},{"$f":"IF(OR(ISBLANK($O2494), $O2494>'BankRec Main Acct'!$E$8), Z2494, 0)","v":0},0,{"$f":"IF(AND(NOT(ISBLANK($O2494)), $O2494<'P&L'!$P$8), AC2494, 0)","v":0},{"$f":"IF(OR(ISBLANK($O2494), $O2494>'BankRec Main Acct'!$E$8), AC2494, 0)","v":0},0,{"$f":"IF(AND(NOT(ISBLANK($S2494)), $S2494<'P&L'!$P$8), AF2494, 0)","v":0},{"$f":"IF(OR(ISBLANK($S2494), $S2494>'BankRec Main Acct'!$E$8), AF2494, 0)","v":0},0,{"$f":"IF(AND(NOT(ISBLANK($S2494)), $S2494<'P&L'!$P$8), AI2494, 0)","v":0},{"$f":"IF(OR(ISBLANK($S2494), $S2494>'BankRec Main Acct'!$E$8), AI2494, 0)","v":0},0,{"$f":"IF(AND(NOT(ISBLANK($U2494)), $U2494<'P&L'!$P$8), $AL2494, 0)","v":0},{"$f":"IF(OR(ISBLANK($U2494), $U2494>'DebitCard Rec '!$E$8), $AL2494, 0)","v":0},0,{"$f":"IF(AND(NOT(ISBLANK($U2494)), $U2494<'P&L'!$P$8), $AO2494, 0)","v":0},{"$f":"IF(OR(ISBLANK($U2494), $U2494>'DebitCard Rec '!$E$8), $AO2494, 0)","v":0},0,{"$f":"IF(AND($A2494<'P&L'!$P$8, $X2494='P&L'!$G$6), $AR2494, 0)","v":0},0,{"$f":"IF(AND($A2494<'P&L'!$P$8, $X2494='P&L'!$G$6), $AT2494, 0)","v":0}," "," "," "]
[null,null,null,null,null,null,null,null,null,null,null,null,null,null,null,null,null,null,null,null,null,null,"Jan-00",1900,{"$f":"IF(AND($A2510<'P&L'!$P$8, YEAR($A2510)=Master!$C$6), $K2510, 0)","v":0},0,{"$f":"IF(AND(NOT(ISBLANK($O2510)), $O2510<'P&L'!$P$8), Z2510, 0)","v":0},{"$f":"IF(OR(ISBLANK($O2510), $O2510>'BankRec Main Acct'!$E$8), Z2510, 0)","v":0},0,{"$f":"IF(AND(NOT(ISBLANK($O2510)), $O2510<'P&L'!$P$8), AC2510, 0)","v":0},{"$f":"IF(OR(ISBLANK($O2510), $O2510>'BankRec Main Acct'!$E$8), AC2510, 0)","v":0},0,{"$f":"IF(AND(NOT(ISBLANK($S2510)), $S2510<'P&L'!$P$8), AF2510, 0)","v":0},{"$f":"IF(OR(ISBLANK($S2510), $S2510>'BankRec Main Acct'!$E$8), AF2510, 0)","v":0},0,{"$f":"IF(AND(NOT(ISBLANK($S2510)), $S2510<'P&L'!$P$8), AI2510, 0)","v":0},{"$f":"IF(OR(ISBLANK($S2510), $S2510>'BankRec Main Acct'!$E$8), AI2510, 0)","v":0},0,{"$f":"IF(AND(NOT(ISBLANK($U2510)), $U2510<'P&L'!$P$8), $AL2510, 0)","v":0},{"$f":"IF(OR(ISBLANK($U2510), $U2510>'DebitCard Rec '!$E$8), $AL2510, 0)","v":0},0,{"$f":"IF(AND(NOT(ISBLANK($U2510)), $U2510<'P&L'!$P$8), $AO2510, 0)","v":0},{"$f":"IF(OR(ISBLANK($U2510), $U2510>'DebitCard Rec '!$E$8), $AO2510, 0)","v":0},0,{"$f":"IF(AND($A2510<'P&L'!$P$8, $X2510='P&L'!$G$6), $AR2510, 0)","v":0},0,{"$f":"IF(AND($A2510<'P&L'!$P$8, $X2510='P&L'!$G$6), $AT2510, 0)","v":0}," "," "," "]
[null,null,null,null,null,null,null,null,null,null,null,null,null,null,null,null,null,null,null,null,null,null,"Jan-00",1900,{"$f":"IF(AND($A2518<'P&L'!$P$8, YEAR($A2518)=Master!$C$6), $K2518, 0)","v":0},0,{"$f":"IF(AND(NOT(ISBLANK($O2518)), $O2518<'P&L'!$P$8), Z2518, 0)","v":0},{"$f":"IF(OR(ISBLANK($O2518), $O2518>'BankRec Main Acct'!$E$8), Z2518, 0)","v":0},0,{"$f":"IF(AND(NOT(ISBLANK($O2518)), $O2518<'P&L'!$P$8), AC2518, 0)","v":0},{"$f":"IF(OR(ISBLANK($O2518), $O2518>'BankRec Main Acct'!$E$8), AC2518, 0)","v":0},0,{"$f":"IF(AND(NOT(ISBLANK($S2518)), $S2518<'P&L'!$P$8), AF2518, 0)","v":0},{"$f":"IF(OR(ISBLANK($S2518), $S2518>'BankRec Main Acct'!$E$8), AF2518, 0)","v":0},0,{"$f":"IF(AND(NOT(ISBLANK($S2518)), $S2518<'P&L'!$P$8), AI2518, 0)","v":0},{"$f":"IF(OR(ISBLANK($S2518), $S2518>'BankRec Main Acct'!$E$8), AI2518, 0)","v":0},0,{"$f":"IF(AND(NOT(ISBLANK($U2518)), $U2518<'P&L'!$P$8), $AL2518, 0)","v":0},{"$f":"IF(OR(ISBLANK($U2518), $U2518>'DebitCard Rec '!$E$8), $AL2518, 0)","v":0},0,{"$f":"IF(AND(NOT(ISBLANK($U2518)), $U2518<'P&L'!$P$8), $AO2518, 0)","v":0},{"$f":"IF(OR(ISBLANK($U2518), $U2518>'DebitCard Rec '!$E$8), $AO2518, 0)","v":0},0,{"$f":"IF(AND($A2518<'P&L'!$P$8, $X2518='P&L'!$G$6), $AR2518, 0)","v":0},0,{"$f":"IF(AND($A2518<'P&L'!$P$8, $X2518='P&L'!$G$6), $AT2518, 0)","v":0}," "," "," "]
[null,null,null,null,null,null,null,null,null,null,null,null,null,null,null,null,null,null,null,null,null,null,"Jan-00",1900,{"$f":"IF(AND($A2524<'P&L'!$P$8, YEAR($A2524)=Master!$C$6), $K2524, 0)","v":0},0,{"$f":"IF(AND(NOT(ISBLANK($O2524)), $O2524<'P&L'!$P$8), Z2524, 0)","v":0},{"$f":"IF(OR(ISBLANK($O2524), $O2524>'BankRec Main Acct'!$E$8), Z2524, 0)","v":0},0,{"$f":"IF(AND(NOT(ISBLANK($O2524)), $O2524<'P&L'!$P$8), AC2524, 0)","v":0},{"$f":"IF(OR(ISBLANK($O2524), $O2524>'BankRec Main Acct'!$E$8), AC2524, 0)","v":0},0,{"$f":"IF(AND(NOT(ISBLANK($S2524)), $S2524<'P&L'!$P$8), AF2524, 0)","v":0},{"$f":"IF(OR(ISBLANK($S2524), $S2524>'BankRec Main Acct'!$E$8), AF2524, 0)","v":0},0,{"$f":"IF(AND(NOT(ISBLANK($S2524)), $S2524<'P&L'!$P$8), AI2524, 0)","v":0},{"$f":"IF(OR(ISBLANK($S2524), $S2524>'BankRec Main Acct'!$E$8), AI2524, 0)","v":0},0,{"$f":"IF(AND(NOT(ISBLANK($U2524)), $U2524<'P&L'!$P$8), $AL2524, 0)","v":0},{"$f":"IF(OR(ISBLANK($U2524), $U2524>'DebitCard Rec '!$E$8), $AL2524, 0)","v":0},0,{"$f":"IF(AND(NOT(ISBLANK($U2524)), $U2524<'P&L'!$P$8), $AO2524, 0)","v":0},{"$f":"IF(OR(ISBLANK($U2524), $U2524>'DebitCard Rec '!$E$8), $AO2524, 0)","v":0},0,{"$f":"IF(AND($A2524<'P&L'!$P$8, $X2524='P&L'!$G$6), $AR2524, 0)","v":0},0,{"$f":"IF(AND($A2524<'P&L'!$P$8, $X2524='P&L'!$G$6), $AT2524, 0)","v":0}," "," "," "]
[null,null,null,null,null,null,null,null,null,null,null,null,null,null,null,null,null,null,null,null,null,null,"Jan-00",1900,{"$f":"IF(AND($A2531<'P&L'!$P$8, YEAR($A2531)=Master!$C$6), $K2531, 0)","v":0},0,{"$f":"IF(AND(NOT(ISBLANK($O2531)), $O2531<'P&L'!$P$8), Z2531, 0)","v":0},{"$f":"IF(OR(ISBLANK($O2531), $O2531>'BankRec Main Acct'!$E$8), Z2531, 0)","v":0},0,{"$f":"IF(AND(NOT(ISBLANK($O2531)), $O2531<'P&L'!$P$8), AC2531, 0)","v":0},{"$f":"IF(OR(ISBLANK($O2531), $O2531>'BankRec Main Acct'!$E$8), AC2531, 0)","v":0},0,{"$f":"IF(AND(NOT(ISBLANK($S2531)), $S2531<'P&L'!$P$8), AF2531, 0)","v":0},{"$f":"IF(OR(ISBLANK($S2531), $S2531>'BankRec Main Acct'!$E$8), AF2531, 0)","v":0},0,{"$f":"IF(AND(NOT(ISBLANK($S2531)), $S2531<'P&L'!$P$8), AI2531, 0)","v":0},{"$f":"IF(OR(ISBLANK($S2531), $S2531>'BankRec Main Acct'!$E$8), AI2531, 0)","v":0},0,{"$f":"IF(AND(NOT(ISBLANK($U2531)), $U2531<'P&L'!$P$8), $AL2531, 0)","v":0},{"$f":"IF(OR(ISBLANK($U2531), $U2531>'DebitCard Rec '!$E$8), $AL2531, 0)","v":0},0,{"$f":"IF(AND(NOT(ISBLANK($U2531)), $U2531<'P&L'!$P$8), $AO2531, 0)","v":0},{"$f":"IF(OR(ISBLANK($U2531), $U2531>'DebitCard Rec '!$E$8), $AO2531, 0)","v":0},0,{"$f":"IF(AND($A2531<'P&L'!$P$8, $X2531='P&L'!$G$6), $AR2531, 0)","v":0},0,{"$f":"IF(AND($A2531<'P&L'!$P$8, $X2531='P&L'!$G$6), $AT2531, 0)","v":0}," "," "," "]
[null,null,null,null,null,null,null,null,null,null,null,null,null,null,null,null,null,null,null,null,null,null,"Jan-00",1900,{"$f":"IF(AND($A2543<'P&L'!$P$8, YEAR($A2543)=Master!$C$6), $K2543, 0)","v":0},0,{"$f":"IF(AND(NOT(ISBLANK($O2543)), $O2543<'P&L'!$P$8), Z2543, 0)","v":0},{"$f":"IF(OR(ISBLANK($O2543), $O2543>'BankRec Main Acct'!$E$8), Z2543, 0)","v":0},0,{"$f":"IF(AND(NOT(ISBLANK($O2543)), $O2543<'P&L'!$P$8), AC2543, 0)","v":0},{"$f":"IF(OR(ISBLANK($O2543), $O2543>'BankRec Main Acct'!$E$8), AC2543, 0)","v":0},0,{"$f":"IF(AND(NOT(ISBLANK($S2543)), $S2543<'P&L'!$P$8), AF2543, 0)","v":0},{"$f":"IF(OR(ISBLANK($S2543), $S2543>'BankRec Main Acct'!$E$8), AF2543, 0)","v":0},0,{"$f":"IF(AND(NOT(ISBLANK($S2543)), $S2543<'P&L'!$P$8), AI2543, 0)","v":0},{"$f":"IF(OR(ISBLANK($S2543), $S2543>'BankRec Main Acct'!$E$8), AI2543, 0)","v":0},0,{"$f":"IF(AND(NOT(ISBLANK($U2543)), $U2543<'P&L'!$P$8), $AL2543, 0)","v":0},{"$f":"IF(OR(ISBLANK($U2543), $U2543>'DebitCard Rec '!$E$8), $AL2543, 0)","v":0},0,{"$f":"IF(AND(NOT(ISBLANK($U2543)), $U2543<'P&L'!$P$8), $AO2543, 0)","v":0},{"$f":"IF(OR(ISBLANK($U2543), $U2543>'DebitCard Rec '!$E$8), $AO2543, 0)","v":0},0,{"$f":"IF(AND($A2543<'P&L'!$P$8, $X2543='P&L'!$G$6), $AR2543, 0)","v":0},0,{"$f":"IF(AND($A2543<'P&L'!$P$8, $X2543='P&L'!$G$6), $AT2543, 0)","v":0}," "," "," "]
[null,null,null,null,null,null,null,null,null,null,null,null,null,null,null,null,null,null,null,null,null,null,"Jan-00",1900,{"$f":"IF(AND($A2549<'P&L'!$P$8, YEAR($A2549)=Master!$C$6), $K2549, 0)","v":0},0,{"$f":"IF(AND(NOT(ISBLANK($O2549)), $O2549<'P&L'!$P$8), Z2549, 0)","v":0},{"$f":"IF(OR(ISBLANK($O2549), $O2549>'BankRec Main Acct'!$E$8), Z2549, 0)","v":0},0,{"$f":"IF(AND(NOT(ISBLANK($O2549)), $O2549<'P&L'!$P$8), AC2549, 0)","v":0},{"$f":"IF(OR(ISBLANK($O2549), $O2549>'BankRec Main Acct'!$E$8), AC2549, 0)","v":0},0,{"$f":"IF(AND(NOT(ISBLANK($S2549)), $S2549<'P&L'!$P$8), AF2549, 0)","v":0},{"$f":"IF(OR(ISBLANK($S2549), $S2549>'BankRec Main Acct'!$E$8), AF2549, 0)","v":0},0,{"$f":"IF(AND(NOT(ISBLANK($S2549)), $S2549<'P&L'!$P$8), AI2549, 0)","v":0},{"$f":"IF(OR(ISBLANK($S2549), $S2549>'BankRec Main Acct'!$E$8), AI2549, 0)","v":0},0,{"$f":"IF(AND(NOT(ISBLANK($U2549)), $U2549<'P&L'!$P$8), $AL2549, 0)","v":0},{"$f":"IF(OR(ISBLANK($U2549), $U2549>'DebitCard Rec '!$E$8), $AL2549, 0)","v":0},0,{"$f":"IF(AND(NOT(ISBLANK($U2549)), $U2549<'P&L'!$P$8), $AO2549, 0)","v":0},{"$f":"IF(OR(ISBLANK($U2549), $U2549>'DebitCard Rec '!$E$8), $AO2549, 0)","v":0},0,{"$f":"IF(AND($A2549<'P&L'!$P$8, $X2549='P&L'!$G$6), $AR2549, 0)","v":0},0,{"$f":"IF(AND($A2549<'P&L'!$P$8, $X2549='P&L'!$G$6), $AT2549, 0)","v":0}," "," "," "]
[null,null,null,null,null,null,null,null,null,null,null,null,null,null,null,null,null,null,null,null,null,null,"Jan-00",1900,{"$f":"IF(AND($A2561<'P&L'!$P$8, YEAR($A2561)=Master!$C$6), $K2561, 0)","v":0},0,{"$f":"IF(AND(NOT(ISBLANK($O2561)), $O2561<'P&L'!$P$8), Z2561, 0)","v":0},{"$f":"IF(OR(ISBLANK($O2561), $O2561>'BankRec Main Acct'!$E$8), Z2561, 0)","v":0},0,{"$f":"IF(AND(NOT(ISBLANK($O2561)), $O2561<'P&L'!$P$8), AC2561, 0)","v":0},{"$f":"IF(OR(ISBLANK($O2561), $O2561>'BankRec Main Acct'!$E$8), AC2561, 0)","v":0},0,{"$f":"IF(AND(NOT(ISBLANK($S2561)), $S2561<'P&L'!$P$8), AF2561, 0)","v":0},{"$f":"IF(OR(ISBLANK($S2561), $S2561>'BankRec Main Acct'!$E$8), AF2561, 0)","v":0},0,{"$f":"IF(AND(NOT(ISBLANK($S2561)), $S2561<'P&L'!$P$8), AI2561, 0)","v":0},{"$f":"IF(OR(ISBLANK($S2561), $S2561>'BankRec Main Acct'!$E$8), AI2561, 0)","v":0},0,{"$f":"IF(AND(NOT(ISBLANK($U2561)), $U2561<'P&L'!$P$8), $AL2561, 0)","v":0},{"$f":"IF(OR(ISBLANK($U2561), $U2561>'DebitCard Rec '!$E$8), $AL2561, 0)","v":0},0,{"$f":"IF(AND(NOT(ISBLANK($U2561)), $U2561<'P&L'!$P$8), $AO2561, 0)","v":0},{"$f":"IF(OR(ISBLANK($U2561), $U2561>'DebitCard Rec '!$E$8), $AO2561, 0)","v":0},0,{"$f":"IF(AND($A2561<'P&L'!$P$8, $X2561='P&L'!$G$6), $AR2561, 0)","v":0},0,{"$f":"IF(AND($A2561<'P&L'!$P$8, $X2561='P&L'!$G$6), $AT2561, 0)","v":0}," "," "," "]
[null,null,null,null,null,null,null,null,null,null,null,null,null,null,null,null,null,null,null,null,null,null,"Jan-00",1900,{"$f":"IF(AND($A2564<'P&L'!$P$8, YEAR($A2564)=Master!$C$6), $K2564, 0)","v":0},0,{"$f":"IF(AND(NOT(ISBLANK($O2564)), $O2564<'P&L'!$P$8), Z2564, 0)","v":0},{"$f":"IF(OR(ISBLANK($O2564), $O2564>'BankRec Main Acct'!$E$8), Z2564, 0)","v":0},0,{"$f":"IF(AND(NOT(ISBLANK($O2564)), $O2564<'P&L'!$P$8), AC2564, 0)","v":0},{"$f":"IF(OR(ISBLANK($O2564), $O2564>'BankRec Main Acct'!$E$8), AC2564, 0)","v":0},0,{"$f":"IF(AND(NOT(ISBLANK($S2564)), $S2564<'P&L'!$P$8), AF2564, 0)","v":0},{"$f":"IF(OR(ISBLANK($S2564), $S2564>'BankRec Main Acct'!$E$8), AF2564, 0)","v":0},0,{"$f":"IF(AND(NOT(ISBLANK($S2564)), $S2564<'P&L'!$P$8), AI2564, 0)","v":0},{"$f":"IF(OR(ISBLANK($S2564), $S2564>'BankRec Main Acct'!$E$8), AI2564, 0)","v":0},0,{"$f":"IF(AND(NOT(ISBLANK($U2564)), $U2564<'P&L'!$P$8), $AL2564, 0)","v":0},{"$f":"IF(OR(ISBLANK($U2564), $U2564>'DebitCard Rec '!$E$8), $AL2564, 0)","v":0},0,{"$f":"IF(AND(NOT(ISBLANK($U2564)), $U2564<'P&L'!$P$8), $AO2564, 0)","v":0},{"$f":"IF(OR(ISBLANK($U2564), $U2564>'DebitCard Rec '!$E$8), $AO2564, 0)","v":0},{"$f":"IF($AV2564=\"Petty cash Receipt\", $K2564, 0)","v":0},{"$f":"IF(AND($A2564<'P&L'!$P$8, $X2564='P&L'!$G$6), $AR2564, 0)","v":0},{"$f":"IF($AV2564=\"Petty cash Payment\", $K2564, 0)","v":0},{"$f":"IF(AND($A2564<'P&L'!$P$8, $X2564='P&L'!$G$6), $AT2564, 0)","v":0}," ",{"$f":"IF(C2564=\"Receipt\",CONCATENATE(D2564,\" \", F2564), \" \")","v":" "},{"$f":"IF(C2564= \"Payment\", CONCATENATE(F2564,\" \",E2564), \" \")","v":" "}]
[null,null,null,null,null,null,null,null,null,null,null,null,null,null,null,null,null,null,null,null,null,null,{"$f":"TEXT($A2580, \"mmm-yy\")","v":"Jan-00"},{"$f":"YEAR($A2580)","v":1900},{"$f":"IF(AND($A2580<'P&L'!$P$8, YEAR($A2580)=Master!$C$6), $K2580, 0)","v":0},0,{"$f":"IF(AND(NOT(ISBLANK($O2580)), $O2580<'P&L'!$P$8), Z2580, 0)","v":0},{"$f":"IF(OR(ISBLANK($O2580), $O2580>'BankRec Main Acct'!$E$8), Z2580, 0)","v":0},0,{"$f":"IF(AND(NOT(ISBLANK($O2580)), $O2580<'P&L'!$P$8), AC2580, 0)","v":0},{"$f":"IF(OR(ISBLANK($O2580), $O2580>'BankRec Main Acct'!$E$8), AC2580, 0)","v":0},0,{"$f":"IF(AND(NOT(ISBLANK($S2580)), $S2580<'P&L'!$P$8), AF2580, 0)","v":0},{"$f":"IF(OR(ISBLANK($S2580), $S2580>'BankRec Main Acct'!$E$8), AF2580, 0)","v":0},0,{"$f":"IF(AND(NOT(ISBLANK($S2580)), $S2580<'P&L'!$P$8), AI2580, 0)","v":0},{"$f":"IF(OR(ISBLANK($S2580), $S2580>'BankRec Main Acct'!$E$8), AI2580, 0)","v":0},{"$f":"IF(AND($C2580=\"Receipt\",$B2580=\"Debit card\"),$K2580,0)","v":0},{"$f":"IF(AND(NOT(ISBLANK($U2580)), $U2580<'P&L'!$P$8), $AL2580, 0)","v":0},{"$f":"IF(OR(ISBLANK($U2580), $U2580>'DebitCard Rec '!$E$8), $AL2580, 0)","v":0},{"$f":"IF(AND($C2580=\"Payment\",$B2580=\"Debit card\"),$K2580,0)","v":0},{"$f":"IF(AND(NOT(ISBLANK($U2580)), $U2580<'P&L'!$P$8), $AO2580, 0)","v":0},{"$f":"IF(OR(ISBLANK($U2580), $U2580>'DebitCard Rec '!$E$8), $AO2580, 0)","v":0},0,{"$f":"IF(AND($A2580<'P&L'!$P$8, $X2580='P&L'!$G$6), $AR2580, 0)","v":0},0,{"$f":"IF(AND($A2580<'P&L'!$P$8, $X2580='P&L'!$G$6), $AT2580, 0)","v":0}," "," "," "]
[null,null,null,null,null,null,null,null,null,null,null,null,null,null,null,null,null,null,null,null,null,null,"Jan-00",1900,{"$f":"IF(AND($A2583<'P&L'!$P$8, YEAR($A2583)=Master!$C$6), $K2583, 0)","v":0},0,{"$f":"IF(AND(NOT(ISBLANK($O2583)), $O2583<'P&L'!$P$8), Z2583, 0)","v":0},{"$f":"IF(OR(ISBLANK($O2583), $O2583>'BankRec Main Acct'!$E$8), Z2583, 0)","v":0},0,{"$f":"IF(AND(NOT(ISBLANK($O2583)), $O2583<'P&L'!$P$8), AC2583, 0)","v":0},{"$f":"IF(OR(ISBLANK($O2583), $O2583>'BankRec Main Acct'!$E$8), AC2583, 0)","v":0},0,{"$f":"IF(AND(NOT(ISBLANK($S2583)), $S2583<'P&L'!$P$8), AF2583, 0)","v":0},{"$f":"IF(OR(ISBLANK($S2583), $S2583>'BankRec Main Acct'!$E$8), AF2583, 0)","v":0},0,{"$f":"IF(AND(NOT(ISBLANK($S2583)), $S2583<'P&L'!$P$8), AI2583, 0)","v":0},{"$f":"IF(OR(ISBLANK($S2583), $S2583>'BankRec Main Acct'!$E$8), AI2583, 0)","v":0},0,{"$f":"IF(AND(NOT(ISBLANK($U2583)), $U2583<'P&L'!$P$8), $AL2583, 0)","v":0},{"$f":"IF(OR(ISBLANK($U2583), $U2583>'DebitCard Rec '!$E$8), $AL2583, 0)","v":0},0,{"$f":"IF(AND(NOT(ISBLANK($U2583)), $U2583<'P&L'!$P$8), $AO2583, 0)","v":0},{"$f":"IF(OR(ISBLANK($U2583), $U2583>'DebitCard Rec '!$E$8), $AO2583, 0)","v":0},0,{"$f":"IF(AND($A2583<'P&L'!$P$8, $X2583='P&L'!$G$6), $AR2583, 0)","v":0},0,{"$f":"IF(AND($A2583<'P&L'!$P$8, $X2583='P&L'!$G$6), $AT2583, 0)","v":0}," "," "," "]
[null,null,null,null,null,null,null,null,null,null,null,null,null,null,null,null,null,null,null,null,null,null,"Jan-00",1900,{"$f":"IF(AND($A2598<'P&L'!$P$8, YEAR($A2598)=Master!$C$6), $K2598, 0)","v":0},0,{"$f":"IF(AND(NOT(ISBLANK($O2598)), $O2598<'P&L'!$P$8), Z2598, 0)","v":0},{"$f":"IF(OR(ISBLANK($O2598), $O2598>'BankRec Main Acct'!$E$8), Z2598, 0)","v":0},0,{"$f":"IF(AND(NOT(ISBLANK($O2598)), $O2598<'P&L'!$P$8), AC2598, 0)","v":0},{"$f":"IF(OR(ISBLANK($O2598), $O2598>'BankRec Main Acct'!$E$8), AC2598, 0)","v":0},0,{"$f":"IF(AND(NOT(ISBLANK($S2598)), $S2598<'P&L'!$P$8), AF2598, 0)","v":0},{"$f":"IF(OR(ISBLANK($S2598), $S2598>'BankRec Main Acct'!$E$8), AF2598, 0)","v":0},0,{"$f":"IF(AND(NOT(ISBLANK($S2598)), $S2598<'P&L'!$P$8), AI2598, 0)","v":0},{"$f":"IF(OR(ISBLANK($S2598), $S2598>'BankRec Main Acct'!$E$8), AI2598, 0)","v":0},0,{"$f":"IF(AND(NOT(ISBLANK($U2598)), $U2598<'P&L'!$P$8), $AL2598, 0)","v":0},{"$f":"IF(OR(ISBLANK($U2598), $U2598>'DebitCard Rec '!$E$8), $AL2598, 0)","v":0},0,{"$f":"IF(AND(NOT(ISBLANK($U2598)), $U2598<'P&L'!$P$8), $AO2598, 0)","v":0},{"$f":"IF(OR(ISBLANK($U2598), $U2598>'DebitCard Rec '!$E$8), $AO2598, 0)","v":0},0,{"$f":"IF(AND($A2598<'P&L'!$P$8, $X2598='P&L'!$G$6), $AR2598, 0)","v":0},0,{"$f":"IF(AND($A2598<'P&L'!$P$8, $X2598='P&L'!$G$6), $AT2598, 0)","v":0}," "," "," "]
[null,null,null,null,null,null,null,null,null,null,null,null,null,null,null,null,null,null,null,null,null,null,"Jan-00",1900,{"$f":"IF(AND($A2601<'P&L'!$P$8, YEAR($A2601)=Master!$C$6), $K2601, 0)","v":0},0,{"$f":"IF(AND(NOT(ISBLANK($O2601)), $O2601<'P&L'!$P$8), Z2601, 0)","v":0},{"$f":"IF(OR(ISBLANK($O2601), $O2601>'BankRec Main Acct'!$E$8), Z2601, 0)","v":0},0,{"$f":"IF(AND(NOT(ISBLANK($O2601)), $O2601<'P&L'!$P$8), AC2601, 0)","v":0},{"$f":"IF(OR(ISBLANK($O2601), $O2601>'BankRec Main Acct'!$E$8), AC2601, 0)","v":0},0,{"$f":"IF(AND(NOT(ISBLANK($S2601)), $S2601<'P&L'!$P$8), AF2601, 0)","v":0},{"$f":"IF(OR(ISBLANK($S2601), $S2601>'BankRec Main Acct'!$E$8), AF2601, 0)","v":0},0,{"$f":"IF(AND(NOT(ISBLANK($S2601)), $S2601<'P&L'!$P$8), AI2601, 0)","v":0},{"$f":"IF(OR(ISBLANK($S2601), $S2601>'BankRec Main Acct'!$E$8), AI2601, 0)","v":0},0,{"$f":"IF(AND(NOT(ISBLANK($U2601)), $U2601<'P&L'!$P$8), $AL2601, 0)","v":0},{"$f":"IF(OR(ISBLANK($U2601), $U2601>'DebitCard Rec '!$E$8), $AL2601, 0)","v":0},0,{"$f":"IF(AND(NOT(ISBLANK($U2601)), $U2601<'P&L'!$P$8), $AO2601, 0)","v":0},{"$f":"IF(OR(ISBLANK($U2601), $U2601>'DebitCard Rec '!$E$8), $AO2601, 0)","v":0},0,{"$f":"IF(AND($A2601<'P&L'!$P$8, $X2601='P&L'!$G$6), $AR2601, 0)","v":0},0,{"$f":"IF(AND($A2601<'P&L'!$P$8, $X2601='P&L'!$G$6), $AT2601, 0)","v":0}," "," "," "]
[null,null,null,null,null,null,null,null,null,null,null,null,null,null,null,null,null,null,null,null,null,null,"Jan-00",1900,{"$f":"IF(AND($A2613<'P&L'!$P$8, YEAR($A2613)=Master!$C$6), $K2613, 0)","v":0},0,{"$f":"IF(AND(NOT(ISBLANK($O2613)), $O2613<'P&L'!$P$8), Z2613, 0)","v":0},{"$f":"IF(OR(ISBLANK($O2613), $O2613>'BankRec Main Acct'!$E$8), Z2613, 0)","v":0},0,{"$f":"IF(AND(NOT(ISBLANK($O2613)), $O2613<'P&L'!$P$8), AC2613, 0)","v":0},{"$f":"IF(OR(ISBLANK($O2613), $O2613>'BankRec Main Acct'!$E$8), AC2613, 0)","v":0},0,{"$f":"IF(AND(NOT(ISBLANK($S2613)), $S2613<'P&L'!$P$8), AF2613, 0)","v":0},{"$f":"IF(OR(ISBLANK($S2613), $S2613>'BankRec Main Acct'!$E$8), AF2613, 0)","v":0},0,{"$f":"IF(AND(NOT(ISBLANK($S2613)), $S2613<'P&L'!$P$8), AI2613, 0)","v":0},{"$f":"IF(OR(ISBLANK($S2613), $S2613>'BankRec Main Acct'!$E$8), AI2613, 0)","v":0},0,{"$f":"IF(AND(NOT(ISBLANK($U2613)), $U2613<'P&L'!$P$8), $AL2613, 0)","v":0},{"$f":"IF(OR(ISBLANK($U2613), $U2613>'DebitCard Rec '!$E$8), $AL2613, 0)","v":0},0,{"$f":"IF(AND(NOT(ISBLANK($U2613)), $U2613<'P&L'!$P$8), $AO2613, 0)","v":0},{"$f":"IF(OR(ISBLANK($U2613), $U2613>'DebitCard Rec '!$E$8), $AO2613, 0)","v":0},0,{"$f":"IF(AND($A2613<'P&L'!$P$8, $X2613='P&L'!$G$6), $AR2613, 0)","v":0},0,{"$f":"IF(AND($A2613<'P&L'!$P$8, $X2613='P&L'!$G$6), $AT2613, 0)","v":0}," "," "," "]
[null,null,null,null,null,null,null,null,null,null,null,null,null,null,null,null,null,null,null,null,null,null,"Jan-00",1900,{"$f":"IF(AND($A2620<'P&L'!$P$8, YEAR($A2620)=Master!$C$6), $K2620, 0)","v":0},0,{"$f":"IF(AND(NOT(ISBLANK($O2620)), $O2620<'P&L'!$P$8), Z2620, 0)","v":0},{"$f":"IF(OR(ISBLANK($O2620), $O2620>'BankRec Main Acct'!$E$8), Z2620, 0)","v":0},0,{"$f":"IF(AND(NOT(ISBLANK($O2620)), $O2620<'P&L'!$P$8), AC2620, 0)","v":0},{"$f":"IF(OR(ISBLANK($O2620), $O2620>'BankRec Main Acct'!$E$8), AC2620, 0)","v":0},0,{"$f":"IF(AND(NOT(ISBLANK($S2620)), $S2620<'P&L'!$P$8), AF2620, 0)","v":0},{"$f":"IF(OR(ISBLANK($S2620), $S2620>'BankRec Main Acct'!$E$8), AF2620, 0)","v":0},0,{"$f":"IF(AND(NOT(ISBLANK($S2620)), $S2620<'P&L'!$P$8), AI2620, 0)","v":0},{"$f":"IF(OR(ISBLANK($S2620), $S2620>'BankRec Main Acct'!$E$8), AI2620, 0)","v":0},0,{"$f":"IF(AND(NOT(ISBLANK($U2620)), $U2620<'P&L'!$P$8), $AL2620, 0)","v":0},{"$f":"IF(OR(ISBLANK($U2620), $U2620>'DebitCard Rec '!$E$8), $AL2620, 0)","v":0},0,{"$f":"IF(AND(NOT(ISBLANK($U2620)), $U2620<'P&L'!$P$8), $AO2620, 0)","v":0},{"$f":"IF(OR(ISBLANK($U2620), $U2620>'DebitCard Rec '!$E$8), $AO2620, 0)","v":0},0,{"$f":"IF(AND($A2620<'P&L'!$P$8, $X2620='P&L'!$G$6), $AR2620, 0)","v":0},0,{"$f":"IF(AND($A2620<'P&L'!$P$8, $X2620='P&L'!$G$6), $AT2620, 0)","v":0}," "," "," "]
[null,null,null,null,null,null,null,null,null,null,null,null,null,null,null,null,null,null,null,null,null,null,"Jan-00",1900,{"$f":"IF(AND($A2632<'P&L'!$P$8, YEAR($A2632)=Master!$C$6), $K2632, 0)","v":0},0,{"$f":"IF(AND(NOT(ISBLANK($O2632)), $O2632<'P&L'!$P$8), Z2632, 0)","v":0},{"$f":"IF(OR(ISBLANK($O2632), $O2632>'BankRec Main Acct'!$E$8), Z2632, 0)","v":0},0,{"$f":"IF(AND(NOT(ISBLANK($O2632)), $O2632<'P&L'!$P$8), AC2632, 0)","v":0},{"$f":"IF(OR(ISBLANK($O2632), $O2632>'BankRec Main Acct'!$E$8), AC2632, 0)","v":0},0,{"$f":"IF(AND(NOT(ISBLANK($S2632)), $S2632<'P&L'!$P$8), AF2632, 0)","v":0},{"$f":"IF(OR(ISBLANK($S2632), $S2632>'BankRec Main Acct'!$E$8), AF2632, 0)","v":0},0,{"$f":"IF(AND(NOT(ISBLANK($S2632)), $S2632<'P&L'!$P$8), AI2632, 0)","v":0},{"$f":"IF(OR(ISBLANK($S2632), $S2632>'BankRec Main Acct'!$E$8), AI2632, 0)","v":0},0,{"$f":"IF(AND(NOT(ISBLANK($U2632)), $U2632<'P&L'!$P$8), $AL2632, 0)","v":0},{"$f":"IF(OR(ISBLANK($U2632), $U2632>'DebitCard Rec '!$E$8), $AL2632, 0)","v":0},0,{"$f":"IF(AND(NOT(ISBLANK($U2632)), $U2632<'P&L'!$P$8), $AO2632, 0)","v":0},{"$f":"IF(OR(ISBLANK($U2632), $U2632>'DebitCard Rec '!$E$8), $AO2632, 0)","v":0},0,{"$f":"IF(AND($A2632<'P&L'!$P$8, $X2632='P&L'!$G$6), $AR2632, 0)","v":0},0,{"$f":"IF(AND($A2632<'P&L'!$P$8, $X2632='P&L'!$G$6), $AT2632, 0)","v":0}," "," "," "]
[null,null,null,null,null,null,null,null,null,null,null,null,null,null,null,null,null,null,null,null,null,null,"Jan-00",1900,{"$f":"IF(AND($A2639<'P&L'!$P$8, YEAR($A2639)=Master!$C$6), $K2639, 0)","v":0},0,{"$f":"IF(AND(NOT(ISBLANK($O2639)), $O2639<'P&L'!$P$8), Z2639, 0)","v":0},{"$f":"IF(OR(ISBLANK($O2639), $O2639>'BankRec Main Acct'!$E$8), Z2639, 0)","v":0},0,{"$f":"IF(AND(NOT(ISBLANK($O2639)), $O2639<'P&L'!$P$8), AC2639, 0)","v":0},{"$f":"IF(OR(ISBLANK($O2639), $O2639>'BankRec Main Acct'!$E$8), AC2639, 0)","v":0},0,{"$f":"IF(AND(NOT(ISBLANK($S2639)), $S2639<'P&L'!$P$8), AF2639, 0)","v":0},{"$f":"IF(OR(ISBLANK($S2639), $S2639>'BankRec Main Acct'!$E$8), AF2639, 0)","v":0},0,{"$f":"IF(AND(NOT(ISBLANK($S2639)), $S2639<'P&L'!$P$8), AI2639, 0)","v":0},{"$f":"IF(OR(ISBLANK($S2639), $S2639>'BankRec Main Acct'!$E$8), AI2639, 0)","v":0},0,{"$f":"IF(AND(NOT(ISBLANK($U2639)), $U2639<'P&L'!$P$8), $AL2639, 0)","v":0},{"$f":"IF(OR(ISBLANK($U2639), $U2639>'DebitCard Rec '!$E$8), $AL2639, 0)","v":0},0,{"$f":"IF(AND(NOT(ISBLANK($U2639)), $U2639<'P&L'!$P$8), $AO2639, 0)","v":0},{"$f":"IF(OR(ISBLANK($U2639), $U2639>'DebitCard Rec '!$E$8), $AO2639, 0)","v":0},0,{"$f":"IF(AND($A2639<'P&L'!$P$8, $X2639='P&L'!$G$6), $AR2639, 0)","v":0},0,{"$f":"IF(AND($A2639<'P&L'!$P$8, $X2639='P&L'!$G$6), $AT2639, 0)","v":0}," "," "," "]
[null,null,null,null,null,null,null,null,null,null,null,null,null,null,null,null,null,null,null,null,null,null,"Jan-00",1900,{"$f":"IF(AND($A2650<'P&L'!$P$8, YEAR($A2650)=Master!$C$6), $K2650, 0)","v":0},0,{"$f":"IF(AND(NOT(ISBLANK($O2650)), $O2650<'P&L'!$P$8), Z2650, 0)","v":0},{"$f":"IF(OR(ISBLANK($O2650), $O2650>'BankRec Main Acct'!$E$8), Z2650, 0)","v":0},0,{"$f":"IF(AND(NOT(ISBLANK($O2650)), $O2650<'P&L'!$P$8), AC2650, 0)","v":0},{"$f":"IF(OR(ISBLANK($O2650), $O2650>'BankRec Main Acct'!$E$8), AC2650, 0)","v":0},0,{"$f":"IF(AND(NOT(ISBLANK($S2650)), $S2650<'P&L'!$P$8), AF2650, 0)","v":0},{"$f":"IF(OR(ISBLANK($S2650), $S2650>'BankRec Main Acct'!$E$8), AF2650, 0)","v":0},0,{"$f":"IF(AND(NOT(ISBLANK($S2650)), $S2650<'P&L'!$P$8), AI2650, 0)","v":0},{"$f":"IF(OR(ISBLANK($S2650), $S2650>'BankRec Main Acct'!$E$8), AI2650, 0)","v":0},0,{"$f":"IF(AND(NOT(ISBLANK($U2650)), $U2650<'P&L'!$P$8), $AL2650, 0)","v":0},{"$f":"IF(OR(ISBLANK($U2650), $U2650>'DebitCard Rec '!$E$8), $AL2650, 0)","v":0},0,{"$f":"IF(AND(NOT(ISBLANK($U2650)), $U2650<'P&L'!$P$8), $AO2650, 0)","v":0},{"$f":"IF(OR(ISBLANK($U2650), $U2650>'DebitCard Rec '!$E$8), $AO2650, 0)","v":0},0,{"$f":"IF(AND($A2650<'P&L'!$P$8, $X2650='P&L'!$G$6), $AR2650, 0)","v":0},0,{"$f":"IF(AND($A2650<'P&L'!$P$8, $X2650='P&L'!$G$6), $AT2650, 0)","v":0}," "," "," "]
[null,null,null,null,null,null,null,null,null,null,null,null,null,null,null,null,null,null,null,null,null,null,"Jan-00",1900,{"$f":"IF(AND($A2653<'P&L'!$P$8, YEAR($A2653)=Master!$C$6), $K2653, 0)","v":0},0,{"$f":"IF(AND(NOT(ISBLANK($O2653)), $O2653<'P&L'!$P$8), Z2653, 0)","v":0},{"$f":"IF(OR(ISBLANK($O2653), $O2653>'BankRec Main Acct'!$E$8), Z2653, 0)","v":0},0,{"$f":"IF(AND(NOT(ISBLANK($O2653)), $O2653<'P&L'!$P$8), AC2653, 0)","v":0},{"$f":"IF(OR(ISBLANK($O2653), $O2653>'BankRec Main Acct'!$E$8), AC2653, 0)","v":0},0,{"$f":"IF(AND(NOT(ISBLANK($S2653)), $S2653<'P&L'!$P$8), AF2653, 0)","v":0},{"$f":"IF(OR(ISBLANK($S2653), $S2653>'BankRec Main Acct'!$E$8), AF2653, 0)","v":0},0,{"$f":"IF(AND(NOT(ISBLANK($S2653)), $S2653<'P&L'!$P$8), AI2653, 0)","v":0},{"$f":"IF(OR(ISBLANK($S2653), $S2653>'BankRec Main Acct'!$E$8), AI2653, 0)","v":0},0,{"$f":"IF(AND(NOT(ISBLANK($U2653)), $U2653<'P&L'!$P$8), $AL2653, 0)","v":0},{"$f":"IF(OR(ISBLANK($U2653), $U2653>'DebitCard Rec '!$E$8), $AL2653, 0)","v":0},0,{"$f":"IF(AND(NOT(ISBLANK($U2653)), $U2653<'P&L'!$P$8), $AO2653, 0)","v":0},{"$f":"IF(OR(ISBLANK($U2653), $U2653>'DebitCard Rec '!$E$8), $AO2653, 0)","v":0},0,{"$f":"IF(AND($A2653<'P&L'!$P$8, $X2653='P&L'!$G$6), $AR2653, 0)","v":0},0,{"$f":"IF(AND($A2653<'P&L'!$P$8, $X2653='P&L'!$G$6), $AT2653, 0)","v":0}," "," "," "]
[null,null,null,null,null,null,null,null,null,null,null,null,null,null,null,null,null,null,null,null,null,null,"Jan-00",1900,{"$f":"IF(AND($A2665<'P&L'!$P$8, YEAR($A2665)=Master!$C$6), $K2665, 0)","v":0},0,{"$f":"IF(AND(NOT(ISBLANK($O2665)), $O2665<'P&L'!$P$8), Z2665, 0)","v":0},{"$f":"IF(OR(ISBLANK($O2665), $O2665>'BankRec Main Acct'!$E$8), Z2665, 0)","v":0},0,{"$f":"IF(AND(NOT(ISBLANK($O2665)), $O2665<'P&L'!$P$8), AC2665, 0)","v":0},{"$f":"IF(OR(ISBLANK($O2665), $O2665>'BankRec Main Acct'!$E$8), AC2665, 0)","v":0},0,{"$f":"IF(AND(NOT(ISBLANK($S2665)), $S2665<'P&L'!$P$8), AF2665, 0)","v":0},{"$f":"IF(OR(ISBLANK($S2665), $S2665>'BankRec Main Acct'!$E$8), AF2665, 0)","v":0},0,{"$f":"IF(AND(NOT(ISBLANK($S2665)), $S2665<'P&L'!$P$8), AI2665, 0)","v":0},{"$f":"IF(OR(ISBLANK($S2665), $S2665>'BankRec Main Acct'!$E$8), AI2665, 0)","v":0},0,{"$f":"IF(AND(NOT(ISBLANK($U2665)), $U2665<'P&L'!$P$8), $AL2665, 0)","v":0},{"$f":"IF(OR(ISBLANK($U2665), $U2665>'DebitCard Rec '!$E$8), $AL2665, 0)","v":0},0,{"$f":"IF(AND(NOT(ISBLANK($U2665)), $U2665<'P&L'!$P$8), $AO2665, 0)","v":0},{"$f":"IF(OR(ISBLANK($U2665), $U2665>'DebitCard Rec '!$E$8), $AO2665, 0)","v":0},0,{"$f":"IF(AND($A2665<'P&L'!$P$8, $X2665='P&L'!$G$6), $AR2665, 0)","v":0},0,{"$f":"IF(AND($A2665<'P&L'!$P$8, $X2665='P&L'!$G$6), $AT2665, 0)","v":0}," "," "," "]
[null,null,null,null,null,null,null,null,null,null,null,null,null,null,null,null,null,null,null,null,null,null,"Jan-00",1900,{"$f":"IF(AND($A2670<'P&L'!$P$8, YEAR($A2670)=Master!$C$6), $K2670, 0)","v":0},0,{"$f":"IF(AND(NOT(ISBLANK($O2670)), $O2670<'P&L'!$P$8), Z2670, 0)","v":0},{"$f":"IF(OR(ISBLANK($O2670), $O2670>'BankRec Main Acct'!$E$8), Z2670, 0)","v":0},0,{"$f":"IF(AND(NOT(ISBLANK($O2670)), $O2670<'P&L'!$P$8), AC2670, 0)","v":0},{"$f":"IF(OR(ISBLANK($O2670), $O2670>'BankRec Main Acct'!$E$8), AC2670, 0)","v":0},0,{"$f":"IF(AND(NOT(ISBLANK($S2670)), $S2670<'P&L'!$P$8), AF2670, 0)","v":0},{"$f":"IF(OR(ISBLANK($S2670), $S2670>'BankRec Main Acct'!$E$8), AF2670, 0)","v":0},0,{"$f":"IF(AND(NOT(ISBLANK($S2670)), $S2670<'P&L'!$P$8), AI2670, 0)","v":0},{"$f":"IF(OR(ISBLANK($S2670), $S2670>'BankRec Main Acct'!$E$8), AI2670, 0)","v":0},0,{"$f":"IF(AND(NOT(ISBLANK($U2670)), $U2670<'P&L'!$P$8), $AL2670, 0)","v":0},{"$f":"IF(OR(ISBLANK($U2670), $U2670>'DebitCard Rec '!$E$8), $AL2670, 0)","v":0},0,{"$f":"IF(AND(NOT(ISBLANK($U2670)), $U2670<'P&L'!$P$8), $AO2670, 0)","v":0},{"$f":"IF(OR(ISBLANK($U2670), $U2670>'DebitCard Rec '!$E$8), $AO2670, 0)","v":0},0,{"$f":"IF(AND($A2670<'P&L'!$P$8, $X2670='P&L'!$G$6), $AR2670, 0)","v":0},0,{"$f":"IF(AND($A2670<'P&L'!$P$8, $X2670='P&L'!$G$6), $AT2670, 0)","v":0}," "," "," "]
[null,null,null,null,null,null,null,null,null,null,null,null,null,null,null,null,null,null,null,null,null,null,"Jan-00",1900,{"$f":"IF(AND($A2683<'P&L'!$P$8, YEAR($A2683)=Master!$C$6), $K2683, 0)","v":0},0,{"$f":"IF(AND(NOT(ISBLANK($O2683)), $O2683<'P&L'!$P$8), Z2683, 0)","v":0},{"$f":"IF(OR(ISBLANK($O2683), $O2683>'BankRec Main Acct'!$E$8), Z2683, 0)","v":0},0,{"$f":"IF(AND(NOT(ISBLANK($O2683)), $O2683<'P&L'!$P$8), AC2683, 0)","v":0},{"$f":"IF(OR(ISBLANK($O2683), $O2683>'BankRec Main Acct'!$E$8), AC2683, 0)","v":0},0,{"$f":"IF(AND(NOT(ISBLANK($S2683)), $S2683<'P&L'!$P$8), AF2683, 0)","v":0},{"$f":"IF(OR(ISBLANK($S2683), $S2683>'BankRec Main Acct'!$E$8), AF2683, 0)","v":0},0,{"$f":"IF(AND(NOT(ISBLANK($S2683)), $S2683<'P&L'!$P$8), AI2683, 0)","v":0},{"$f":"IF(OR(ISBLANK($S2683), $S2683>'BankRec Main Acct'!$E$8), AI2683, 0)","v":0},0,{"$f":"IF(AND(NOT(ISBLANK($U2683)), $U2683<'P&L'!$P$8), $AL2683, 0)","v":0},{"$f":"IF(OR(ISBLANK($U2683), $U2683>'DebitCard Rec '!$E$8), $AL2683, 0)","v":0},0,{"$f":"IF(AND(NOT(ISBLANK($U2683)), $U2683<'P&L'!$P$8), $AO2683, 0)","v":0},{"$f":"IF(OR(ISBLANK($U2683), $U2683>'DebitCard Rec '!$E$8), $AO2683, 0)","v":0},0,{"$f":"IF(AND($A2683<'P&L'!$P$8, $X2683='P&L'!$G$6), $AR2683, 0)","v":0},0,{"$f":"IF(AND($A2683<'P&L'!$P$8, $X2683='P&L'!$G$6), $AT2683, 0)","v":0}," "," "," "]
[null,null,null,null,null,null,null,null,null,null,null,null,null,null,null,null,null,null,null,null,null,null,"Jan-00",1900,{"$f":"IF(AND($A2690<'P&L'!$P$8, YEAR($A2690)=Master!$C$6), $K2690, 0)","v":0},0,{"$f":"IF(AND(NOT(ISBLANK($O2690)), $O2690<'P&L'!$P$8), Z2690, 0)","v":0},{"$f":"IF(OR(ISBLANK($O2690), $O2690>'BankRec Main Acct'!$E$8), Z2690, 0)","v":0},0,{"$f":"IF(AND(NOT(ISBLANK($O2690)), $O2690<'P&L'!$P$8), AC2690, 0)","v":0},{"$f":"IF(OR(ISBLANK($O2690), $O2690>'BankRec Main Acct'!$E$8), AC2690, 0)","v":0},0,{"$f":"IF(AND(NOT(ISBLANK($S2690)), $S2690<'P&L'!$P$8), AF2690, 0)","v":0},{"$f":"IF(OR(ISBLANK($S2690), $S2690>'BankRec Main Acct'!$E$8), AF2690, 0)","v":0},0,{"$f":"IF(AND(NOT(ISBLANK($S2690)), $S2690<'P&L'!$P$8), AI2690, 0)","v":0},{"$f":"IF(OR(ISBLANK($S2690), $S2690>'BankRec Main Acct'!$E$8), AI2690, 0)","v":0},0,{"$f":"IF(AND(NOT(ISBLANK($U2690)), $U2690<'P&L'!$P$8), $AL2690, 0)","v":0},{"$f":"IF(OR(ISBLANK($U2690), $U2690>'DebitCard Rec '!$E$8), $AL2690, 0)","v":0},0,{"$f":"IF(AND(NOT(ISBLANK($U2690)), $U2690<'P&L'!$P$8), $AO2690, 0)","v":0},{"$f":"IF(OR(ISBLANK($U2690), $U2690>'DebitCard Rec '!$E$8), $AO2690, 0)","v":0},0,{"$f":"IF(AND($A2690<'P&L'!$P$8, $X2690='P&L'!$G$6), $AR2690, 0)","v":0},0,{"$f":"IF(AND($A2690<'P&L'!$P$8, $X2690='P&L'!$G$6), $AT2690, 0)","v":0}," "," "," "]
[null,null,null,null,null,null,null,null,null,null,null,null,null,null,null,null,null,null,null,null,null,null,"Jan-00",1900,{"$f":"IF(AND($A2702<'P&L'!$P$8, YEAR($A2702)=Master!$C$6), $K2702, 0)","v":0},0,{"$f":"IF(AND(NOT(ISBLANK($O2702)), $O2702<'P&L'!$P$8), Z2702, 0)","v":0},{"$f":"IF(OR(ISBLANK($O2702), $O2702>'BankRec Main Acct'!$E$8), Z2702, 0)","v":0},0,{"$f":"IF(AND(NOT(ISBLANK($O2702)), $O2702<'P&L'!$P$8), AC2702, 0)","v":0},{"$f":"IF(OR(ISBLANK($O2702), $O2702>'BankRec Main Acct'!$E$8), AC2702, 0)","v":0},0,{"$f":"IF(AND(NOT(ISBLANK($S2702)), $S2702<'P&L'!$P$8), AF2702, 0)","v":0},{"$f":"IF(OR(ISBLANK($S2702), $S2702>'BankRec Main Acct'!$E$8), AF2702, 0)","v":0},0,{"$f":"IF(AND(NOT(ISBLANK($S2702)), $S2702<'P&L'!$P$8), AI2702, 0)","v":0},{"$f":"IF(OR(ISBLANK($S2702), $S2702>'BankRec Main Acct'!$E$8), AI2702, 0)","v":0},0,{"$f":"IF(AND(NOT(ISBLANK($U2702)), $U2702<'P&L'!$P$8), $AL2702, 0)","v":0},{"$f":"IF(OR(ISBLANK($U2702), $U2702>'DebitCard Rec '!$E$8), $AL2702, 0)","v":0},0,{"$f":"IF(AND(NOT(ISBLANK($U2702)), $U2702<'P&L'!$P$8), $AO2702, 0)","v":0},{"$f":"IF(OR(ISBLANK($U2702), $U2702>'DebitCard Rec '!$E$8), $AO2702, 0)","v":0},0,{"$f":"IF(AND($A2702<'P&L'!$P$8, $X2702='P&L'!$G$6), $AR2702, 0)","v":0},0,{"$f":"IF(AND($A2702<'P&L'!$P$8, $X2702='P&L'!$G$6), $AT2702, 0)","v":0}," "," "," "]
[null,null,null,null,null,null,null,null,null,null,null,null,null,null,null,null,null,null,null,null,null,null,"Jan-00",1900,{"$f":"IF(AND($A2705<'P&L'!$P$8, YEAR($A2705)=Master!$C$6), $K2705, 0)","v":0},0,{"$f":"IF(AND(NOT(ISBLANK($O2705)), $O2705<'P&L'!$P$8), Z2705, 0)","v":0},{"$f":"IF(OR(ISBLANK($O2705), $O2705>'BankRec Main Acct'!$E$8), Z2705, 0)","v":0},0,{"$f":"IF(AND(NOT(ISBLANK($O2705)), $O2705<'P&L'!$P$8), AC2705, 0)","v":0},{"$f":"IF(OR(ISBLANK($O2705), $O2705>'BankRec Main Acct'!$E$8), AC2705, 0)","v":0},0,{"$f":"IF(AND(NOT(ISBLANK($S2705)), $S2705<'P&L'!$P$8), AF2705, 0)","v":0},{"$f":"IF(OR(ISBLANK($S2705), $S2705>'BankRec Main Acct'!$E$8), AF2705, 0)","v":0},0,{"$f":"IF(AND(NOT(ISBLANK($S2705)), $S2705<'P&L'!$P$8), AI2705, 0)","v":0},{"$f":"IF(OR(ISBLANK($S2705), $S2705>'BankRec Main Acct'!$E$8), AI2705, 0)","v":0},0,{"$f":"IF(AND(NOT(ISBLANK($U2705)), $U2705<'P&L'!$P$8), $AL2705, 0)","v":0},{"$f":"IF(OR(ISBLANK($U2705), $U2705>'DebitCard Rec '!$E$8), $AL2705, 0)","v":0},0,{"$f":"IF(AND(NOT(ISBLANK($U2705)), $U2705<'P&L'!$P$8), $AO2705, 0)","v":0},{"$f":"IF(OR(ISBLANK($U2705), $U2705>'DebitCard Rec '!$E$8), $AO2705, 0)","v":0},0,{"$f":"IF(AND($A2705<'P&L'!$P$8, $X2705='P&L'!$G$6), $AR2705, 0)","v":0},0,{"$f":"IF(AND($A2705<'P&L'!$P$8, $X2705='P&L'!$G$6), $AT2705, 0)","v":0}," "," "," "]
[null,null,null,null,null,null,null,null,null,null,null,null,null,null,null,null,null,null,null,null,null,null,"Jan-00",1900,{"$f":"IF(AND($A2719<'P&L'!$P$8, YEAR($A2719)=Master!$C$6), $K2719, 0)","v":0},0,{"$f":"IF(AND(NOT(ISBLANK($O2719)), $O2719<'P&L'!$P$8), Z2719, 0)","v":0},{"$f":"IF(OR(ISBLANK($O2719), $O2719>'BankRec Main Acct'!$E$8), Z2719, 0)","v":0},0,{"$f":"IF(AND(NOT(ISBLANK($O2719)), $O2719<'P&L'!$P$8), AC2719, 0)","v":0},{"$f":"IF(OR(ISBLANK($O2719), $O2719>'BankRec Main Acct'!$E$8), AC2719, 0)","v":0},0,{"$f":"IF(AND(NOT(ISBLANK($S2719)), $S2719<'P&L'!$P$8), AF2719, 0)","v":0},{"$f":"IF(OR(ISBLANK($S2719), $S2719>'BankRec Main Acct'!$E$8), AF2719, 0)","v":0},0,{"$f":"IF(AND(NOT(ISBLANK($S2719)), $S2719<'P&L'!$P$8), AI2719, 0)","v":0},{"$f":"IF(OR(ISBLANK($S2719), $S2719>'BankRec Main Acct'!$E$8), AI2719, 0)","v":0},0,{"$f":"IF(AND(NOT(ISBLANK($U2719)), $U2719<'P&L'!$P$8), $AL2719, 0)","v":0},{"$f":"IF(OR(ISBLANK($U2719), $U2719>'DebitCard Rec '!$E$8), $AL2719, 0)","v":0},0,{"$f":"IF(AND(NOT(ISBLANK($U2719)), $U2719<'P&L'!$P$8), $AO2719, 0)","v":0},{"$f":"IF(OR(ISBLANK($U2719), $U2719>'DebitCard Rec '!$E$8), $AO2719, 0)","v":0},0,{"$f":"IF(AND($A2719<'P&L'!$P$8, $X2719='P&L'!$G$6), $AR2719, 0)","v":0},0,{"$f":"IF(AND($A2719<'P&L'!$P$8, $X2719='P&L'!$G$6), $AT2719, 0)","v":0}," "," "," "]
[null,null,null,null,null,null,null,null,null,null,null,null,null,null,null,null,null,null,null,null,null,null,"Jan-00",1900,{"$f":"IF(AND($A2723<'P&L'!$P$8, YEAR($A2723)=Master!$C$6), $K2723, 0)","v":0},0,{"$f":"IF(AND(NOT(ISBLANK($O2723)), $O2723<'P&L'!$P$8), Z2723, 0)","v":0},{"$f":"IF(OR(ISBLANK($O2723), $O2723>'BankRec Main Acct'!$E$8), Z2723, 0)","v":0},0,{"$f":"IF(AND(NOT(ISBLANK($O2723)), $O2723<'P&L'!$P$8), AC2723, 0)","v":0},{"$f":"IF(OR(ISBLANK($O2723), $O2723>'BankRec Main Acct'!$E$8), AC2723, 0)","v":0},0,{"$f":"IF(AND(NOT(ISBLANK($S2723)), $S2723<'P&L'!$P$8), AF2723, 0)","v":0},{"$f":"IF(OR(ISBLANK($S2723), $S2723>'BankRec Main Acct'!$E$8), AF2723, 0)","v":0},0,{"$f":"IF(AND(NOT(ISBLANK($S2723)), $S2723<'P&L'!$P$8), AI2723, 0)","v":0},{"$f":"IF(OR(ISBLANK($S2723), $S2723>'BankRec Main Acct'!$E$8), AI2723, 0)","v":0},0,{"$f":"IF(AND(NOT(ISBLANK($U2723)), $U2723<'P&L'!$P$8), $AL2723, 0)","v":0},{"$f":"IF(OR(ISBLANK($U2723), $U2723>'DebitCard Rec '!$E$8), $AL2723, 0)","v":0},0,{"$f":"IF(AND(NOT(ISBLANK($U2723)), $U2723<'P&L'!$P$8), $AO2723, 0)","v":0},{"$f":"IF(OR(ISBLANK($U2723), $U2723>'DebitCard Rec '!$E$8), $AO2723, 0)","v":0},0,{"$f":"IF(AND($A2723<'P&L'!$P$8, $X2723='P&L'!$G$6), $AR2723, 0)","v":0},0,{"$f":"IF(AND($A2723<'P&L'!$P$8, $X2723='P&L'!$G$6), $AT2723, 0)","v":0}," "," "," "]
[null,null,null,null,null,null,null,null,null,null,null,null,null,null,null,null,null,null,null,null,null,null,"Jan-00",1900,{"$f":"IF(AND($A2739<'P&L'!$P$8, YEAR($A2739)=Master!$C$6), $K2739, 0)","v":0},0,{"$f":"IF(AND(NOT(ISBLANK($O2739)), $O2739<'P&L'!$P$8), Z2739, 0)","v":0},{"$f":"IF(OR(ISBLANK($O2739), $O2739>'BankRec Main Acct'!$E$8), Z2739, 0)","v":0},0,{"$f":"IF(AND(NOT(ISBLANK($O2739)), $O2739<'P&L'!$P$8), AC2739, 0)","v":0},{"$f":"IF(OR(ISBLANK($O2739), $O2739>'BankRec Main Acct'!$E$8), AC2739, 0)","v":0},0,{"$f":"IF(AND(NOT(ISBLANK($S2739)), $S2739<'P&L'!$P$8), AF2739, 0)","v":0},{"$f":"IF(OR(ISBLANK($S2739), $S2739>'BankRec Main Acct'!$E$8), AF2739, 0)","v":0},0,{"$f":"IF(AND(NOT(ISBLANK($S2739)), $S2739<'P&L'!$P$8), AI2739, 0)","v":0},{"$f":"IF(OR(ISBLANK($S2739), $S2739>'BankRec Main Acct'!$E$8), AI2739, 0)","v":0},0,{"$f":"IF(AND(NOT(ISBLANK($U2739)), $U2739<'P&L'!$P$8), $AL2739, 0)","v":0},{"$f":"IF(OR(ISBLANK($U2739), $U2739>'DebitCard Rec '!$E$8), $AL2739, 0)","v":0},0,{"$f":"IF(AND(NOT(ISBLANK($U2739)), $U2739<'P&L'!$P$8), $AO2739, 0)","v":0},{"$f":"IF(OR(ISBLANK($U2739), $U2739>'DebitCard Rec '!$E$8), $AO2739, 0)","v":0},0,{"$f":"IF(AND($A2739<'P&L'!$P$8, $X2739='P&L'!$G$6), $AR2739, 0)","v":0},0,{"$f":"IF(AND($A2739<'P&L'!$P$8, $X2739='P&L'!$G$6), $AT2739, 0)","v":0}," "," "," "]
[null,null,null,null,null,null,null,null,null,null,null,null,null,null,null,null,null,null,null,null,null,null,"Jan-00",1900,{"$f":"IF(AND($A2742<'P&L'!$P$8, YEAR($A2742)=Master!$C$6), $K2742, 0)","v":0},0,{"$f":"IF(AND(NOT(ISBLANK($O2742)), $O2742<'P&L'!$P$8), Z2742, 0)","v":0},{"$f":"IF(OR(ISBLANK($O2742), $O2742>'BankRec Main Acct'!$E$8), Z2742, 0)","v":0},0,{"$f":"IF(AND(NOT(ISBLANK($O2742)), $O2742<'P&L'!$P$8), AC2742, 0)","v":0},{"$f":"IF(OR(ISBLANK($O2742), $O2742>'BankRec Main Acct'!$E$8), AC2742, 0)","v":0},0,{"$f":"IF(AND(NOT(ISBLANK($S2742)), $S2742<'P&L'!$P$8), AF2742, 0)","v":0},{"$f":"IF(OR(ISBLANK($S2742), $S2742>'BankRec Main Acct'!$E$8), AF2742, 0)","v":0},0,{"$f":"IF(AND(NOT(ISBLANK($S2742)), $S2742<'P&L'!$P$8), AI2742, 0)","v":0},{"$f":"IF(OR(ISBLANK($S2742), $S2742>'BankRec Main Acct'!$E$8), AI2742, 0)","v":0},0,{"$f":"IF(AND(NOT(ISBLANK($U2742)), $U2742<'P&L'!$P$8), $AL2742, 0)","v":0},{"$f":"IF(OR(ISBLANK($U2742), $U2742>'DebitCard Rec '!$E$8), $AL2742, 0)","v":0},0,{"$f":"IF(AND(NOT(ISBLANK($U2742)), $U2742<'P&L'!$P$8), $AO2742, 0)","v":0},{"$f":"IF(OR(ISBLANK($U2742), $U2742>'DebitCard Rec '!$E$8), $AO2742, 0)","v":0},0,{"$f":"IF(AND($A2742<'P&L'!$P$8, $X2742='P&L'!$G$6), $AR2742, 0)","v":0},0,{"$f":"IF(AND($A2742<'P&L'!$P$8, $X2742='P&L'!$G$6), $AT2742, 0)","v":0}," "," "," "]
[null,null,null,null,null,null,null,null,null,null,null,null,null,null,null,null,null,null,null,null,null,null,"Jan-00",1900,{"$f":"IF(AND($A2750<'P&L'!$P$8, YEAR($A2750)=Master!$C$6), $K2750, 0)","v":0},0,{"$f":"IF(AND(NOT(ISBLANK($O2750)), $O2750<'P&L'!$P$8), Z2750, 0)","v":0},{"$f":"IF(OR(ISBLANK($O2750), $O2750>'BankRec Main Acct'!$E$8), Z2750, 0)","v":0},0,{"$f":"IF(AND(NOT(ISBLANK($O2750)), $O2750<'P&L'!$P$8), AC2750, 0)","v":0},{"$f":"IF(OR(ISBLANK($O2750), $O2750>'BankRec Main Acct'!$E$8), AC2750, 0)","v":0},0,{"$f":"IF(AND(NOT(ISBLANK($S2750)), $S2750<'P&L'!$P$8), AF2750, 0)","v":0},{"$f":"IF(OR(ISBLANK($S2750), $S2750>'BankRec Main Acct'!$E$8), AF2750, 0)","v":0},0,{"$f":"IF(AND(NOT(ISBLANK($S2750)), $S2750<'P&L'!$P$8), AI2750, 0)","v":0},{"$f":"IF(OR(ISBLANK($S2750), $S2750>'BankRec Main Acct'!$E$8), AI2750, 0)","v":0},0,{"$f":"IF(AND(NOT(ISBLANK($U2750)), $U2750<'P&L'!$P$8), $AL2750, 0)","v":0},{"$f":"IF(OR(ISBLANK($U2750), $U2750>'DebitCard Rec '!$E$8), $AL2750, 0)","v":0},0,{"$f":"IF(AND(NOT(ISBLANK($U2750)), $U2750<'P&L'!$P$8), $AO2750, 0)","v":0},{"$f":"IF(OR(ISBLANK($U2750), $U2750>'DebitCard Rec '!$E$8), $AO2750, 0)","v":0},0,{"$f":"IF(AND($A2750<'P&L'!$P$8, $X2750='P&L'!$G$6), $AR2750, 0)","v":0},0,{"$f":"IF(AND($A2750<'P&L'!$P$8, $X2750='P&L'!$G$6), $AT2750, 0)","v":0}," "," "," "]
[null,null,null,null,null,null,null,null,null,null,null,null,null,null,null,null,null,null,null,null,null,null,"Jan-00",1900,{"$f":"IF(AND($A2760<'P&L'!$P$8, YEAR($A2760)=Master!$C$6), $K2760, 0)","v":0},0,{"$f":"IF(AND(NOT(ISBLANK($O2760)), $O2760<'P&L'!$P$8), Z2760, 0)","v":0},{"$f":"IF(OR(ISBLANK($O2760), $O2760>'BankRec Main Acct'!$E$8), Z2760, 0)","v":0},0,{"$f":"IF(AND(NOT(ISBLANK($O2760)), $O2760<'P&L'!$P$8), AC2760, 0)","v":0},{"$f":"IF(OR(ISBLANK($O2760), $O2760>'BankRec Main Acct'!$E$8), AC2760, 0)","v":0},0,{"$f":"IF(AND(NOT(ISBLANK($S2760)), $S2760<'P&L'!$P$8), AF2760, 0)","v":0},{"$f":"IF(OR(ISBLANK($S2760), $S2760>'BankRec Main Acct'!$E$8), AF2760, 0)","v":0},0,{"$f":"IF(AND(NOT(ISBLANK($S2760)), $S2760<'P&L'!$P$8), AI2760, 0)","v":0},{"$f":"IF(OR(ISBLANK($S2760), $S2760>'BankRec Main Acct'!$E$8), AI2760, 0)","v":0},0,{"$f":"IF(AND(NOT(ISBLANK($U2760)), $U2760<'P&L'!$P$8), $AL2760, 0)","v":0},{"$f":"IF(OR(ISBLANK($U2760), $U2760>'DebitCard Rec '!$E$8), $AL2760, 0)","v":0},0,{"$f":"IF(AND(NOT(ISBLANK($U2760)), $U2760<'P&L'!$P$8), $AO2760, 0)","v":0},{"$f":"IF(OR(ISBLANK($U2760), $U2760>'DebitCard Rec '!$E$8), $AO2760, 0)","v":0},0,{"$f":"IF(AND($A2760<'P&L'!$P$8, $X2760='P&L'!$G$6), $AR2760, 0)","v":0},0,{"$f":"IF(AND($A2760<'P&L'!$P$8, $X2760='P&L'!$G$6), $AT2760, 0)","v":0}," "," "," "]
[null,null,null,null,null,null,null,null,null,null,null,null,null,null,null,null,null,null,null,null,null,null,{"$f":"TEXT($A2772, \"mmm-yy\")","v":"Jan-00"},{"$f":"YEAR($A2772)","v":1900},{"$f":"IF(AND($A2772<'P&L'!$P$8, YEAR($A2772)=Master!$C$6), $K2772, 0)","v":0},0,{"$f":"IF(AND(NOT(ISBLANK($O2772)), $O2772<'P&L'!$P$8), Z2772, 0)","v":0},{"$f":"IF(OR(ISBLANK($O2772), $O2772>'BankRec Main Acct'!$E$8), Z2772, 0)","v":0},0,{"$f":"IF(AND(NOT(ISBLANK($O2772)), $O2772<'P&L'!$P$8), AC2772, 0)","v":0},{"$f":"IF(OR(ISBLANK($O2772), $O2772>'BankRec Main Acct'!$E$8), AC2772, 0)","v":0},0,{"$f":"IF(AND(NOT(ISBLANK($S2772)), $S2772<'P&L'!$P$8), AF2772, 0)","v":0},{"$f":"IF(OR(ISBLANK($S2772), $S2772>'BankRec Main Acct'!$E$8), AF2772, 0)","v":0},0,{"$f":"IF(AND(NOT(ISBLANK($S2772)), $S2772<'P&L'!$P$8), AI2772, 0)","v":0},{"$f":"IF(OR(ISBLANK($S2772), $S2772>'BankRec Main Acct'!$E$8), AI2772, 0)","v":0},{"$f":"IF(AND($C2772=\"Receipt\",$B2772=\"Debit card\"),$K2772,0)","v":0},{"$f":"IF(AND(NOT(ISBLANK($U2772)), $U2772<'P&L'!$P$8), $AL2772, 0)","v":0},{"$f":"IF(OR(ISBLANK($U2772), $U2772>'DebitCard Rec '!$E$8), $AL2772, 0)","v":0},{"$f":"IF(AND($C2772=\"Payment\",$B2772=\"Debit card\"),$K2772,0)","v":0},{"$f":"IF(AND(NOT(ISBLANK($U2772)), $U2772<'P&L'!$P$8), $AO2772, 0)","v":0},{"$f":"IF(OR(ISBLANK($U2772), $U2772>'DebitCard Rec '!$E$8), $AO2772, 0)","v":0},0,{"$f":"IF(AND($A2772<'P&L'!$P$8, $X2772='P&L'!$G$6), $AR2772, 0)","v":0},0,{"$f":"IF(AND($A2772<'P&L'!$P$8, $X2772='P&L'!$G$6), $AT2772, 0)","v":0}," "," "," "]
[null,null,null,null,null,null,null,null,null,null,null,null,null,null,null,null,null,null,null,null,null,null,"Jan-00",1900,{"$f":"IF(AND($A2775<'P&L'!$P$8, YEAR($A2775)=Master!$C$6), $K2775, 0)","v":0},0,{"$f":"IF(AND(NOT(ISBLANK($O2775)), $O2775<'P&L'!$P$8), Z2775, 0)","v":0},{"$f":"IF(OR(ISBLANK($O2775), $O2775>'BankRec Main Acct'!$E$8), Z2775, 0)","v":0},0,{"$f":"IF(AND(NOT(ISBLANK($O2775)), $O2775<'P&L'!$P$8), AC2775, 0)","v":0},{"$f":"IF(OR(ISBLANK($O2775), $O2775>'BankRec Main Acct'!$E$8), AC2775, 0)","v":0},0,{"$f":"IF(AND(NOT(ISBLANK($S2775)), $S2775<'P&L'!$P$8), AF2775, 0)","v":0},{"$f":"IF(OR(ISBLANK($S2775), $S2775>'BankRec Main Acct'!$E$8), AF2775, 0)","v":0},0,{"$f":"IF(AND(NOT(ISBLANK($S2775)), $S2775<'P&L'!$P$8), AI2775, 0)","v":0},{"$f":"IF(OR(ISBLANK($S2775), $S2775>'BankRec Main Acct'!$E$8), AI2775, 0)","v":0},0,{"$f":"IF(AND(NOT(ISBLANK($U2775)), $U2775<'P&L'!$P$8), $AL2775, 0)","v":0},{"$f":"IF(OR(ISBLANK($U2775), $U2775>'DebitCard Rec '!$E$8), $AL2775, 0)","v":0},0,{"$f":"IF(AND(NOT(ISBLANK($U2775)), $U2775<'P&L'!$P$8), $AO2775, 0)","v":0},{"$f":"IF(OR(ISBLANK($U2775), $U2775>'DebitCard Rec '!$E$8), $AO2775, 0)","v":0},0,{"$f":"IF(AND($A2775<'P&L'!$P$8, $X2775='P&L'!$G$6), $AR2775, 0)","v":0},0,{"$f":"IF(AND($A2775<'P&L'!$P$8, $X2775='P&L'!$G$6), $AT2775, 0)","v":0}," "," "," "]
[null,null,null,null,null,null,null,null,null,null,null,null,null,null,null,null,null,null,null,null,null,null,"Jan-00",1900,{"$f":"IF(AND($A2791<'P&L'!$P$8, YEAR($A2791)=Master!$C$6), $K2791, 0)","v":0},0,{"$f":"IF(AND(NOT(ISBLANK($O2791)), $O2791<'P&L'!$P$8), Z2791, 0)","v":0},{"$f":"IF(OR(ISBLANK($O2791), $O2791>'BankRec Main Acct'!$E$8), Z2791, 0)","v":0},0,{"$f":"IF(AND(NOT(ISBLANK($O2791)), $O2791<'P&L'!$P$8), AC2791, 0)","v":0},{"$f":"IF(OR(ISBLANK($O2791), $O2791>'BankRec Main Acct'!$E$8), AC2791, 0)","v":0},0,{"$f":"IF(AND(NOT(ISBLANK($S2791)), $S2791<'P&L'!$P$8), AF2791, 0)","v":0},{"$f":"IF(OR(ISBLANK($S2791), $S2791>'BankRec Main Acct'!$E$8), AF2791, 0)","v":0},0,{"$f":"IF(AND(NOT(ISBLANK($S2791)), $S2791<'P&L'!$P$8), AI2791, 0)","v":0},{"$f":"IF(OR(ISBLANK($S2791), $S2791>'BankRec Main Acct'!$E$8), AI2791, 0)","v":0},0,{"$f":"IF(AND(NOT(ISBLANK($U2791)), $U2791<'P&L'!$P$8), $AL2791, 0)","v":0},{"$f":"IF(OR(ISBLANK($U2791), $U2791>'DebitCard Rec '!$E$8), $AL2791, 0)","v":0},0,{"$f":"IF(AND(NOT(ISBLANK($U2791)), $U2791<'P&L'!$P$8), $AO2791, 0)","v":0},{"$f":"IF(OR(ISBLANK($U2791), $U2791>'DebitCard Rec '!$E$8), $AO2791, 0)","v":0},0,{"$f":"IF(AND($A2791<'P&L'!$P$8, $X2791='P&L'!$G$6), $AR2791, 0)","v":0},0,{"$f":"IF(AND($A2791<'P&L'!$P$8, $X2791='P&L'!$G$6), $AT2791, 0)","v":0}," "," "," "]
[null,null,null,null,null,null,null,null,null,null,null,null,null,null,null,null,null,null,null,null,null,null,"Jan-00",1900,{"$f":"IF(AND($A2799<'P&L'!$P$8, YEAR($A2799)=Master!$C$6), $K2799, 0)","v":0},0,{"$f":"IF(AND(NOT(ISBLANK($O2799)), $O2799<'P&L'!$P$8), Z2799, 0)","v":0},{"$f":"IF(OR(ISBLANK($O2799), $O2799>'BankRec Main Acct'!$E$8), Z2799, 0)","v":0},0,{"$f":"IF(AND(NOT(ISBLANK($O2799)), $O2799<'P&L'!$P$8), AC2799, 0)","v":0},{"$f":"IF(OR(ISBLANK($O2799), $O2799>'BankRec Main Acct'!$E$8), AC2799, 0)","v":0},0,{"$f":"IF(AND(NOT(ISBLANK($S2799)), $S2799<'P&L'!$P$8), AF2799, 0)","v":0},{"$f":"IF(OR(ISBLANK($S2799), $S2799>'BankRec Main Acct'!$E$8), AF2799, 0)","v":0},0,{"$f":"IF(AND(NOT(ISBLANK($S2799)), $S2799<'P&L'!$P$8), AI2799, 0)","v":0},{"$f":"IF(OR(ISBLANK($S2799), $S2799>'BankRec Main Acct'!$E$8), AI2799, 0)","v":0},0,{"$f":"IF(AND(NOT(ISBLANK($U2799)), $U2799<'P&L'!$P$8), $AL2799, 0)","v":0},{"$f":"IF(OR(ISBLANK($U2799), $U2799>'DebitCard Rec '!$E$8), $AL2799, 0)","v":0},0,{"$f":"IF(AND(NOT(ISBLANK($U2799)), $U2799<'P&L'!$P$8), $AO2799, 0)","v":0},{"$f":"IF(OR(ISBLANK($U2799), $U2799>'DebitCard Rec '!$E$8), $AO2799, 0)","v":0},0,{"$f":"IF(AND($A2799<'P&L'!$P$8, $X2799='P&L'!$G$6), $AR2799, 0)","v":0},0,{"$f":"IF(AND($A2799<'P&L'!$P$8, $X2799='P&L'!$G$6), $AT2799, 0)","v":0}," "," "," "]
[null,null,null,null,null,null,null,null,null,null,null,null,null,null,null,null,null,null,null,null,null,null,"Jan-00",1900,{"$f":"IF(AND($A2809<'P&L'!$P$8, YEAR($A2809)=Master!$C$6), $K2809, 0)","v":0},0,{"$f":"IF(AND(NOT(ISBLANK($O2809)), $O2809<'P&L'!$P$8), Z2809, 0)","v":0},{"$f":"IF(OR(ISBLANK($O2809), $O2809>'BankRec Main Acct'!$E$8), Z2809, 0)","v":0},0,{"$f":"IF(AND(NOT(ISBLANK($O2809)), $O2809<'P&L'!$P$8), AC2809, 0)","v":0},{"$f":"IF(OR(ISBLANK($O2809), $O2809>'BankRec Main Acct'!$E$8), AC2809, 0)","v":0},0,{"$f":"IF(AND(NOT(ISBLANK($S2809)), $S2809<'P&L'!$P$8), AF2809, 0)","v":0},{"$f":"IF(OR(ISBLANK($S2809), $S2809>'BankRec Main Acct'!$E$8), AF2809, 0)","v":0},0,{"$f":"IF(AND(NOT(ISBLANK($S2809)), $S2809<'P&L'!$P$8), AI2809, 0)","v":0},{"$f":"IF(OR(ISBLANK($S2809), $S2809>'BankRec Main Acct'!$E$8), AI2809, 0)","v":0},0,{"$f":"IF(AND(NOT(ISBLANK($U2809)), $U2809<'P&L'!$P$8), $AL2809, 0)","v":0},{"$f":"IF(OR(ISBLANK($U2809), $U2809>'DebitCard Rec '!$E$8), $AL2809, 0)","v":0},0,{"$f":"IF(AND(NOT(ISBLANK($U2809)), $U2809<'P&L'!$P$8), $AO2809, 0)","v":0},{"$f":"IF(OR(ISBLANK($U2809), $U2809>'DebitCard Rec '!$E$8), $AO2809, 0)","v":0},0,{"$f":"IF(AND($A2809<'P&L'!$P$8, $X2809='P&L'!$G$6), $AR2809, 0)","v":0},0,{"$f":"IF(AND($A2809<'P&L'!$P$8, $X2809='P&L'!$G$6), $AT2809, 0)","v":0}," "," "," "]
[null,null,null,null,null,null,null,null,null,null,null,null,null,null,null,null,null,null,null,null,null,null,"Jan-00",1900,{"$f":"IF(AND($A2812<'P&L'!$P$8, YEAR($A2812)=Master!$C$6), $K2812, 0)","v":0},0,{"$f":"IF(AND(NOT(ISBLANK($O2812)), $O2812<'P&L'!$P$8), Z2812, 0)","v":0},{"$f":"IF(OR(ISBLANK($O2812), $O2812>'BankRec Main Acct'!$E$8), Z2812, 0)","v":0},0,{"$f":"IF(AND(NOT(ISBLANK($O2812)), $O2812<'P&L'!$P$8), AC2812, 0)","v":0},{"$f":"IF(OR(ISBLANK($O2812), $O2812>'BankRec Main Acct'!$E$8), AC2812, 0)","v":0},0,{"$f":"IF(AND(NOT(ISBLANK($S2812)), $S2812<'P&L'!$P$8), AF2812, 0)","v":0},{"$f":"IF(OR(ISBLANK($S2812), $S2812>'BankRec Main Acct'!$E$8), AF2812, 0)","v":0},0,{"$f":"IF(AND(NOT(ISBLANK($S2812)), $S2812<'P&L'!$P$8), AI2812, 0)","v":0},{"$f":"IF(OR(ISBLANK($S2812), $S2812>'BankRec Main Acct'!$E$8), AI2812, 0)","v":0},0,{"$f":"IF(AND(NOT(ISBLANK($U2812)), $U2812<'P&L'!$P$8), $AL2812, 0)","v":0},{"$f":"IF(OR(ISBLANK($U2812), $U2812>'DebitCard Rec '!$E$8), $AL2812, 0)","v":0},0,{"$f":"IF(AND(NOT(ISBLANK($U2812)), $U2812<'P&L'!$P$8), $AO2812, 0)","v":0},{"$f":"IF(OR(ISBLANK($U2812), $U2812>'DebitCard Rec '!$E$8), $AO2812, 0)","v":0},0,{"$f":"IF(AND($A2812<'P&L'!$P$8, $X2812='P&L'!$G$6), $AR2812, 0)","v":0},0,{"$f":"IF(AND($A2812<'P&L'!$P$8, $X2812='P&L'!$G$6), $AT2812, 0)","v":0}," "," "," "]
[null,null,null,null,null,null,null,null,null,null,null,null,null,null,null,null,null,null,null,null,null,null,"Jan-00",1900,{"$f":"IF(AND($A2824<'P&L'!$P$8, YEAR($A2824)=Master!$C$6), $K2824, 0)","v":0},0,{"$f":"IF(AND(NOT(ISBLANK($O2824)), $O2824<'P&L'!$P$8), Z2824, 0)","v":0},{"$f":"IF(OR(ISBLANK($O2824), $O2824>'BankRec Main Acct'!$E$8), Z2824, 0)","v":0},0,{"$f":"IF(AND(NOT(ISBLANK($O2824)), $O2824<'P&L'!$P$8), AC2824, 0)","v":0},{"$f":"IF(OR(ISBLANK($O2824), $O2824>'BankRec Main Acct'!$E$8), AC2824, 0)","v":0},0,{"$f":"IF(AND(NOT(ISBLANK($S2824)), $S2824<'P&L'!$P$8), AF2824, 0)","v":0},{"$f":"IF(OR(ISBLANK($S2824), $S2824>'BankRec Main Acct'!$E$8), AF2824, 0)","v":0},0,{"$f":"IF(AND(NOT(ISBLANK($S2824)), $S2824<'P&L'!$P$8), AI2824, 0)","v":0},{"$f":"IF(OR(ISBLANK($S2824), $S2824>'BankRec Main Acct'!$E$8), AI2824, 0)","v":0},0,{"$f":"IF(AND(NOT(ISBLANK($U2824)), $U2824<'P&L'!$P$8), $AL2824, 0)","v":0},{"$f":"IF(OR(ISBLANK($U2824), $U2824>'DebitCard Rec '!$E$8), $AL2824, 0)","v":0},0,{"$f":"IF(AND(NOT(ISBLANK($U2824)), $U2824<'P&L'!$P$8), $AO2824, 0)","v":0},{"$f":"IF(OR(ISBLANK($U2824), $U2824>'DebitCard Rec '!$E$8), $AO2824, 0)","v":0},0,{"$f":"IF(AND($A2824<'P&L'!$P$8, $X2824='P&L'!$G$6), $AR2824, 0)","v":0},0,{"$f":"IF(AND($A2824<'P&L'!$P$8, $X2824='P&L'!$G$6), $AT2824, 0)","v":0}," "," "," "]
[null,null,null,null,null,null,null,null,null,null,null,null,null,null,null,null,null,null,null,null,null,null,"Jan-00",1900,{"$f":"IF(AND($A2831<'P&L'!$P$8, YEAR($A2831)=Master!$C$6), $K2831, 0)","v":0},0,{"$f":"IF(AND(NOT(ISBLANK($O2831)), $O2831<'P&L'!$P$8), Z2831, 0)","v":0},{"$f":"IF(OR(ISBLANK($O2831), $O2831>'BankRec Main Acct'!$E$8), Z2831, 0)","v":0},0,{"$f":"IF(AND(NOT(ISBLANK($O2831)), $O2831<'P&L'!$P$8), AC2831, 0)","v":0},{"$f":"IF(OR(ISBLANK($O2831), $O2831>'BankRec Main Acct'!$E$8), AC2831, 0)","v":0},0,{"$f":"IF(AND(NOT(ISBLANK($S2831)), $S2831<'P&L'!$P$8), AF2831, 0)","v":0},{"$f":"IF(OR(ISBLANK($S2831), $S2831>'BankRec Main Acct'!$E$8), AF2831, 0)","v":0},0,{"$f":"IF(AND(NOT(ISBLANK($S2831)), $S2831<'P&L'!$P$8), AI2831, 0)","v":0},{"$f":"IF(OR(ISBLANK($S2831), $S2831>'BankRec Main Acct'!$E$8), AI2831, 0)","v":0},0,{"$f":"IF(AND(NOT(ISBLANK($U2831)), $U2831<'P&L'!$P$8), $AL2831, 0)","v":0},{"$f":"IF(OR(ISBLANK($U2831), $U2831>'DebitCard Rec '!$E$8), $AL2831, 0)","v":0},0,{"$f":"IF(AND(NOT(ISBLANK($U2831)), $U2831<'P&L'!$P$8), $AO2831, 0)","v":0},{"$f":"IF(OR(ISBLANK($U2831), $U2831>'DebitCard Rec '!$E$8), $AO2831, 0)","v":0},0,{"$f":"IF(AND($A2831<'P&L'!$P$8, $X2831='P&L'!$G$6), $AR2831, 0)","v":0},0,{"$f":"IF(AND($A2831<'P&L'!$P$8, $X2831='P&L'!$G$6), $AT2831, 0)","v":0}," "," "," "]
[null,null,null,null,null,null,null,null,null,null,null,null,null,null,null,null,null,null,null,null,null,null,"Jan-00",1900,{"$f":"IF(AND($A2840<'P&L'!$P$8, YEAR($A2840)=Master!$C$6), $K2840, 0)","v":0},0,{"$f":"IF(AND(NOT(ISBLANK($O2840)), $O2840<'P&L'!$P$8), Z2840, 0)","v":0},{"$f":"IF(OR(ISBLANK($O2840), $O2840>'BankRec Main Acct'!$E$8), Z2840, 0)","v":0},0,{"$f":"IF(AND(NOT(ISBLANK($O2840)), $O2840<'P&L'!$P$8), AC2840, 0)","v":0},{"$f":"IF(OR(ISBLANK($O2840), $O2840>'BankRec Main Acct'!$E$8), AC2840, 0)","v":0},0,{"$f":"IF(AND(NOT(ISBLANK($S2840)), $S2840<'P&L'!$P$8), AF2840, 0)","v":0},{"$f":"IF(OR(ISBLANK($S2840), $S2840>'BankRec Main Acct'!$E$8), AF2840, 0)","v":0},0,{"$f":"IF(AND(NOT(ISBLANK($S2840)), $S2840<'P&L'!$P$8), AI2840, 0)","v":0},{"$f":"IF(OR(ISBLANK($S2840), $S2840>'BankRec Main Acct'!$E$8), AI2840, 0)","v":0},0,{"$f":"IF(AND(NOT(ISBLANK($U2840)), $U2840<'P&L'!$P$8), $AL2840, 0)","v":0},{"$f":"IF(OR(ISBLANK($U2840), $U2840>'DebitCard Rec '!$E$8), $AL2840, 0)","v":0},0,{"$f":"IF(AND(NOT(ISBLANK($U2840)), $U2840<'P&L'!$P$8), $AO2840, 0)","v":0},{"$f":"IF(OR(ISBLANK($U2840), $U2840>'DebitCard Rec '!$E$8), $AO2840, 0)","v":0},0,{"$f":"IF(AND($A2840<'P&L'!$P$8, $X2840='P&L'!$G$6), $AR2840, 0)","v":0},0,{"$f":"IF(AND($A2840<'P&L'!$P$8, $X2840='P&L'!$G$6), $AT2840, 0)","v":0}," "," "," "]
[null,null,null,null,null,null,null,null,null,null,null,null,null,null,null,null,null,null,null,null,null,null,"Jan-00",1900,{"$f":"IF(AND($A2845<'P&L'!$P$8, YEAR($A2845)=Master!$C$6), $K2845, 0)","v":0},0,{"$f":"IF(AND(NOT(ISBLANK($O2845)), $O2845<'P&L'!$P$8), Z2845, 0)","v":0},{"$f":"IF(OR(ISBLANK($O2845), $O2845>'BankRec Main Acct'!$E$8), Z2845, 0)","v":0},0,{"$f":"IF(AND(NOT(ISBLANK($O2845)), $O2845<'P&L'!$P$8), AC2845, 0)","v":0},{"$f":"IF(OR(ISBLANK($O2845), $O2845>'BankRec Main Acct'!$E$8), AC2845, 0)","v":0},0,{"$f":"IF(AND(NOT(ISBLANK($S2845)), $S2845<'P&L'!$P$8), AF2845, 0)","v":0},{"$f":"IF(OR(ISBLANK($S2845), $S2845>'BankRec Main Acct'!$E$8), AF2845, 0)","v":0},0,{"$f":"IF(AND(NOT(ISBLANK($S2845)), $S2845<'P&L'!$P$8), AI2845, 0)","v":0},{"$f":"IF(OR(ISBLANK($S2845), $S2845>'BankRec Main Acct'!$E$8), AI2845, 0)","v":0},0,{"$f":"IF(AND(NOT(ISBLANK($U2845)), $U2845<'P&L'!$P$8), $AL2845, 0)","v":0},{"$f":"IF(OR(ISBLANK($U2845), $U2845>'DebitCard Rec '!$E$8), $AL2845, 0)","v":0},0,{"$f":"IF(AND(NOT(ISBLANK($U2845)), $U2845<'P&L'!$P$8), $AO2845, 0)","v":0},{"$f":"IF(OR(ISBLANK($U2845), $U2845>'DebitCard Rec '!$E$8), $AO2845, 0)","v":0},0,{"$f":"IF(AND($A2845<'P&L'!$P$8, $X2845='P&L'!$G$6), $AR2845, 0)","v":0},0,{"$f":"IF(AND($A2845<'P&L'!$P$8, $X2845='P&L'!$G$6), $AT2845, 0)","v":0}," "," "," "]
[null,null,null,null,null,null,null,null,null,null,null,null,null,null,null,null,null,null,null,null,null,null,"Jan-00",1900,{"$f":"IF(AND($A2861<'P&L'!$P$8, YEAR($A2861)=Master!$C$6), $K2861, 0)","v":0},0,{"$f":"IF(AND(NOT(ISBLANK($O2861)), $O2861<'P&L'!$P$8), Z2861, 0)","v":0},{"$f":"IF(OR(ISBLANK($O2861), $O2861>'BankRec Main Acct'!$E$8), Z2861, 0)","v":0},0,{"$f":"IF(AND(NOT(ISBLANK($O2861)), $O2861<'P&L'!$P$8), AC2861, 0)","v":0},{"$f":"IF(OR(ISBLANK($O2861), $O2861>'BankRec Main Acct'!$E$8), AC2861, 0)","v":0},0,{"$f":"IF(AND(NOT(ISBLANK($S2861)), $S2861<'P&L'!$P$8), AF2861, 0)","v":0},{"$f":"IF(OR(ISBLANK($S2861), $S2861>'BankRec Main Acct'!$E$8), AF2861, 0)","v":0},0,{"$f":"IF(AND(NOT(ISBLANK($S2861)), $S2861<'P&L'!$P$8), AI2861, 0)","v":0},{"$f":"IF(OR(ISBLANK($S2861), $S2861>'BankRec Main Acct'!$E$8), AI2861, 0)","v":0},0,{"$f":"IF(AND(NOT(ISBLANK($U2861)), $U2861<'P&L'!$P$8), $AL2861, 0)","v":0},{"$f":"IF(OR(ISBLANK($U2861), $U2861>'DebitCard Rec '!$E$8), $AL2861, 0)","v":0},0,{"$f":"IF(AND(NOT(ISBLANK($U2861)), $U2861<'P&L'!$P$8), $AO2861, 0)","v":0},{"$f":"IF(OR(ISBLANK($U2861), $U2861>'DebitCard Rec '!$E$8), $AO2861, 0)","v":0},0,{"$f":"IF(AND($A2861<'P&L'!$P$8, $X2861='P&L'!$G$6), $AR2861, 0)","v":0},0,{"$f":"IF(AND($A2861<'P&L'!$P$8, $X2861='P&L'!$G$6), $AT2861, 0)","v":0}," "," "," "]
[null,null,null,null,null,null,null,null,null,null,null,null,null,null,null,null,null,null,null,null,null,null,"Jan-00",1900,{"$f":"IF(AND($A2864<'P&L'!$P$8, YEAR($A2864)=Master!$C$6), $K2864, 0)","v":0},0,{"$f":"IF(AND(NOT(ISBLANK($O2864)), $O2864<'P&L'!$P$8), Z2864, 0)","v":0},{"$f":"IF(OR(ISBLANK($O2864), $O2864>'BankRec Main Acct'!$E$8), Z2864, 0)","v":0},0,{"$f":"IF(AND(NOT(ISBLANK($O2864)), $O2864<'P&L'!$P$8), AC2864, 0)","v":0},{"$f":"IF(OR(ISBLANK($O2864), $O2864>'BankRec Main Acct'!$E$8), AC2864, 0)","v":0},0,{"$f":"IF(AND(NOT(ISBLANK($S2864)), $S2864<'P&L'!$P$8), AF2864, 0)","v":0},{"$f":"IF(OR(ISBLANK($S2864), $S2864>'BankRec Main Acct'!$E$8), AF2864, 0)","v":0},0,{"$f":"IF(AND(NOT(ISBLANK($S2864)), $S2864<'P&L'!$P$8), AI2864, 0)","v":0},{"$f":"IF(OR(ISBLANK($S2864), $S2864>'BankRec Main Acct'!$E$8), AI2864, 0)","v":0},0,{"$f":"IF(AND(NOT(ISBLANK($U2864)), $U2864<'P&L'!$P$8), $AL2864, 0)","v":0},{"$f":"IF(OR(ISBLANK($U2864), $U2864>'DebitCard Rec '!$E$8), $AL2864, 0)","v":0},0,{"$f":"IF(AND(NOT(ISBLANK($U2864)), $U2864<'P&L'!$P$8), $AO2864, 0)","v":0},{"$f":"IF(OR(ISBLANK($U2864), $U2864>'DebitCard Rec '!$E$8), $AO2864, 0)","v":0},0,{"$f":"IF(AND($A2864<'P&L'!$P$8, $X2864='P&L'!$G$6), $AR2864, 0)","v":0},0,{"$f":"IF(AND($A2864<'P&L'!$P$8, $X2864='P&L'!$G$6), $AT2864, 0)","v":0}," "," "," "]
[null,null,null,null,null,null,null,null,null,null,null,null,null,null,null,null,null,null,null,null,null,null,"Jan-00",1900,{"$f":"IF(AND($A2879<'P&L'!$P$8, YEAR($A2879)=Master!$C$6), $K2879, 0)","v":0},0,{"$f":"IF(AND(NOT(ISBLANK($O2879)), $O2879<'P&L'!$P$8), Z2879, 0)","v":0},{"$f":"IF(OR(ISBLANK($O2879), $O2879>'BankRec Main Acct'!$E$8), Z2879, 0)","v":0},0,{"$f":"IF(AND(NOT(ISBLANK($O2879)), $O2879<'P&L'!$P$8), AC2879, 0)","v":0},{"$f":"IF(OR(ISBLANK($O2879), $O2879>'BankRec Main Acct'!$E$8), AC2879, 0)","v":0},0,{"$f":"IF(AND(NOT(ISBLANK($S2879)), $S2879<'P&L'!$P$8), AF2879, 0)","v":0},{"$f":"IF(OR(ISBLANK($S2879), $S2879>'BankRec Main Acct'!$E$8), AF2879, 0)","v":0},0,{"$f":"IF(AND(NOT(ISBLANK($S2879)), $S2879<'P&L'!$P$8), AI2879, 0)","v":0},{"$f":"IF(OR(ISBLANK($S2879), $S2879>'BankRec Main Acct'!$E$8), AI2879, 0)","v":0},0,{"$f":"IF(AND(NOT(ISBLANK($U2879)), $U2879<'P&L'!$P$8), $AL2879, 0)","v":0},{"$f":"IF(OR(ISBLANK($U2879), $U2879>'DebitCard Rec '!$E$8), $AL2879, 0)","v":0},0,{"$f":"IF(AND(NOT(ISBLANK($U2879)), $U2879<'P&L'!$P$8), $AO2879, 0)","v":0},{"$f":"IF(OR(ISBLANK($U2879), $U2879>'DebitCard Rec '!$E$8), $AO2879, 0)","v":0},0,{"$f":"IF(AND($A2879<'P&L'!$P$8, $X2879='P&L'!$G$6), $AR2879, 0)","v":0},0,{"$f":"IF(AND($A2879<'P&L'!$P$8, $X2879='P&L'!$G$6), $AT2879, 0)","v":0}," "," "," "]
[null,null,null,null,null,null,null,null,null,null,null,null,null,null,null,null,null,null,null,null,null,null,"Jan-00",1900,{"$f":"IF(AND($A2882<'P&L'!$P$8, YEAR($A2882)=Master!$C$6), $K2882, 0)","v":0},0,{"$f":"IF(AND(NOT(ISBLANK($O2882)), $O2882<'P&L'!$P$8), Z2882, 0)","v":0},{"$f":"IF(OR(ISBLANK($O2882), $O2882>'BankRec Main Acct'!$E$8), Z2882, 0)","v":0},0,{"$f":"IF(AND(NOT(ISBLANK($O2882)), $O2882<'P&L'!$P$8), AC2882, 0)","v":0},{"$f":"IF(OR(ISBLANK($O2882), $O2882>'BankRec Main Acct'!$E$8), AC2882, 0)","v":0},0,{"$f":"IF(AND(NOT(ISBLANK($S2882)), $S2882<'P&L'!$P$8), AF2882, 0)","v":0},{"$f":"IF(OR(ISBLANK($S2882), $S2882>'BankRec Main Acct'!$E$8), AF2882, 0)","v":0},0,{"$f":"IF(AND(NOT(ISBLANK($S2882)), $S2882<'P&L'!$P$8), AI2882, 0)","v":0},{"$f":"IF(OR(ISBLANK($S2882), $S2882>'BankRec Main Acct'!$E$8), AI2882, 0)","v":0},0,{"$f":"IF(AND(NOT(ISBLANK($U2882)), $U2882<'P&L'!$P$8), $AL2882, 0)","v":0},{"$f":"IF(OR(ISBLANK($U2882), $U2882>'DebitCard Rec '!$E$8), $AL2882, 0)","v":0},0,{"$f":"IF(AND(NOT(ISBLANK($U2882)), $U2882<'P&L'!$P$8), $AO2882, 0)","v":0},{"$f":"IF(OR(ISBLANK($U2882), $U2882>'DebitCard Rec '!$E$8), $AO2882, 0)","v":0},0,{"$f":"IF(AND($A2882<'P&L'!$P$8, $X2882='P&L'!$G$6), $AR2882, 0)","v":0},0,{"$f":"IF(AND($A2882<'P&L'!$P$8, $X2882='P&L'!$G$6), $AT2882, 0)","v":0}," "," "," "]
[null,null,null,null,null,null,null,null,null,null,null,null,null,null,null,null,null,null,null,null,null,null,"Jan-00",1900,{"$f":"IF(AND($A2894<'P&L'!$P$8, YEAR($A2894)=Master!$C$6), $K2894, 0)","v":0},0,{"$f":"IF(AND(NOT(ISBLANK($O2894)), $O2894<'P&L'!$P$8), Z2894, 0)","v":0},{"$f":"IF(OR(ISBLANK($O2894), $O2894>'BankRec Main Acct'!$E$8), Z2894, 0)","v":0},0,{"$f":"IF(AND(NOT(ISBLANK($O2894)), $O2894<'P&L'!$P$8), AC2894, 0)","v":0},{"$f":"IF(OR(ISBLANK($O2894), $O2894>'BankRec Main Acct'!$E$8), AC2894, 0)","v":0},0,{"$f":"IF(AND(NOT(ISBLANK($S2894)), $S2894<'P&L'!$P$8), AF2894, 0)","v":0},{"$f":"IF(OR(ISBLANK($S2894), $S2894>'BankRec Main Acct'!$E$8), AF2894, 0)","v":0},0,{"$f":"IF(AND(NOT(ISBLANK($S2894)), $S2894<'P&L'!$P$8), AI2894, 0)","v":0},{"$f":"IF(OR(ISBLANK($S2894), $S2894>'BankRec Main Acct'!$E$8), AI2894, 0)","v":0},0,{"$f":"IF(AND(NOT(ISBLANK($U2894)), $U2894<'P&L'!$P$8), $AL2894, 0)","v":0},{"$f":"IF(OR(ISBLANK($U2894), $U2894>'DebitCard Rec '!$E$8), $AL2894, 0)","v":0},0,{"$f":"IF(AND(NOT(ISBLANK($U2894)), $U2894<'P&L'!$P$8), $AO2894, 0)","v":0},{"$f":"IF(OR(ISBLANK($U2894), $U2894>'DebitCard Rec '!$E$8), $AO2894, 0)","v":0},0,{"$f":"IF(AND($A2894<'P&L'!$P$8, $X2894='P&L'!$G$6), $AR2894, 0)","v":0},0,{"$f":"IF(AND($A2894<'P&L'!$P$8, $X2894='P&L'!$G$6), $AT2894, 0)","v":0}," "," "," "]
[null,null,null,null,null,null,null,null,null,null,null,null,null,null,null,null,null,null,null,null,null,null,"Jan-00",1900,{"$f":"IF(AND($A2901<'P&L'!$P$8, YEAR($A2901)=Master!$C$6), $K2901, 0)","v":0},0,{"$f":"IF(AND(NOT(ISBLANK($O2901)), $O2901<'P&L'!$P$8), Z2901, 0)","v":0},{"$f":"IF(OR(ISBLANK($O2901), $O2901>'BankRec Main Acct'!$E$8), Z2901, 0)","v":0},0,{"$f":"IF(AND(NOT(ISBLANK($O2901)), $O2901<'P&L'!$P$8), AC2901, 0)","v":0},{"$f":"IF(OR(ISBLANK($O2901), $O2901>'BankRec Main Acct'!$E$8), AC2901, 0)","v":0},0,{"$f":"IF(AND(NOT(ISBLANK($S2901)), $S2901<'P&L'!$P$8), AF2901, 0)","v":0},{"$f":"IF(OR(ISBLANK($S2901), $S2901>'BankRec Main Acct'!$E$8), AF2901, 0)","v":0},0,{"$f":"IF(AND(NOT(ISBLANK($S2901)), $S2901<'P&L'!$P$8), AI2901, 0)","v":0},{"$f":"IF(OR(ISBLANK($S2901), $S2901>'BankRec Main Acct'!$E$8), AI2901, 0)","v":0},0,{"$f":"IF(AND(NOT(ISBLANK($U2901)), $U2901<'P&L'!$P$8), $AL2901, 0)","v":0},{"$f":"IF(OR(ISBLANK($U2901), $U2901>'DebitCard Rec '!$E$8), $AL2901, 0)","v":0},0,{"$f":"IF(AND(NOT(ISBLANK($U2901)), $U2901<'P&L'!$P$8), $AO2901, 0)","v":0},{"$f":"IF(OR(ISBLANK($U2901), $U2901>'DebitCard Rec '!$E$8), $AO2901, 0)","v":0},0,{"$f":"IF(AND($A2901<'P&L'!$P$8, $X2901='P&L'!$G$6), $AR2901, 0)","v":0},0,{"$f":"IF(AND($A2901<'P&L'!$P$8, $X2901='P&L'!$G$6), $AT2901, 0)","v":0}," "," "," "]
[null,null,null,null,null,null,null,null,null,null,null,null,null,null,null,null,null,null,null,null,null,null,"Jan-00",1900,{"$f":"IF(AND($A2913<'P&L'!$P$8, YEAR($A2913)=Master!$C$6), $K2913, 0)","v":0},0,{"$f":"IF(AND(NOT(ISBLANK($O2913)), $O2913<'P&L'!$P$8), Z2913, 0)","v":0},{"$f":"IF(OR(ISBLANK($O2913), $O2913>'BankRec Main Acct'!$E$8), Z2913, 0)","v":0},0,{"$f":"IF(AND(NOT(ISBLANK($O2913)), $O2913<'P&L'!$P$8), AC2913, 0)","v":0},{"$f":"IF(OR(ISBLANK($O2913), $O2913>'BankRec Main Acct'!$E$8), AC2913, 0)","v":0},0,{"$f":"IF(AND(NOT(ISBLANK($S2913)), $S2913<'P&L'!$P$8), AF2913, 0)","v":0},{"$f":"IF(OR(ISBLANK($S2913), $S2913>'BankRec Main Acct'!$E$8), AF2913, 0)","v":0},0,{"$f":"IF(AND(NOT(ISBLANK($S2913)), $S2913<'P&L'!$P$8), AI2913, 0)","v":0},{"$f":"IF(OR(ISBLANK($S2913), $S2913>'BankRec Main Acct'!$E$8), AI2913, 0)","v":0},0,{"$f":"IF(AND(NOT(ISBLANK($U2913)), $U2913<'P&L'!$P$8), $AL2913, 0)","v":0},{"$f":"IF(OR(ISBLANK($U2913), $U2913>'DebitCard Rec '!$E$8), $AL2913, 0)","v":0},0,{"$f":"IF(AND(NOT(ISBLANK($U2913)), $U2913<'P&L'!$P$8), $AO2913, 0)","v":0},{"$f":"IF(OR(ISBLANK($U2913), $U2913>'DebitCard Rec '!$E$8), $AO2913, 0)","v":0},0,{"$f":"IF(AND($A2913<'P&L'!$P$8, $X2913='P&L'!$G$6), $AR2913, 0)","v":0},0,{"$f":"IF(AND($A2913<'P&L'!$P$8, $X2913='P&L'!$G$6), $AT2913, 0)","v":0}," "," "," "]
[null,null,null,null,null,null,null,null,null,null,null,null,null,null,null,null,null,null,null,null,null,null,"Jan-00",1900,{"$f":"IF(AND($A2920<'P&L'!$P$8, YEAR($A2920)=Master!$C$6), $K2920, 0)","v":0},0,{"$f":"IF(AND(NOT(ISBLANK($O2920)), $O2920<'P&L'!$P$8), Z2920, 0)","v":0},{"$f":"IF(OR(ISBLANK($O2920), $O2920>'BankRec Main Acct'!$E$8), Z2920, 0)","v":0},0,{"$f":"IF(AND(NOT(ISBLANK($O2920)), $O2920<'P&L'!$P$8), AC2920, 0)","v":0},{"$f":"IF(OR(ISBLANK($O2920), $O2920>'BankRec Main Acct'!$E$8), AC2920, 0)","v":0},0,{"$f":"IF(AND(NOT(ISBLANK($S2920)), $S2920<'P&L'!$P$8), AF2920, 0)","v":0},{"$f":"IF(OR(ISBLANK($S2920), $S2920>'BankRec Main Acct'!$E$8), AF2920, 0)","v":0},0,{"$f":"IF(AND(NOT(ISBLANK($S2920)), $S2920<'P&L'!$P$8), AI2920, 0)","v":0},{"$f":"IF(OR(ISBLANK($S2920), $S2920>'BankRec Main Acct'!$E$8), AI2920, 0)","v":0},0,{"$f":"IF(AND(NOT(ISBLANK($U2920)), $U2920<'P&L'!$P$8), $AL2920, 0)","v":0},{"$f":"IF(OR(ISBLANK($U2920), $U2920>'DebitCard Rec '!$E$8), $AL2920, 0)","v":0},0,{"$f":"IF(AND(NOT(ISBLANK($U2920)), $U2920<'P&L'!$P$8), $AO2920, 0)","v":0},{"$f":"IF(OR(ISBLANK($U2920), $U2920>'DebitCard Rec '!$E$8), $AO2920, 0)","v":0},0,{"$f":"IF(AND($A2920<'P&L'!$P$8, $X2920='P&L'!$G$6), $AR2920, 0)","v":0},0,{"$f":"IF(AND($A2920<'P&L'!$P$8, $X2920='P&L'!$G$6), $AT2920, 0)","v":0}," "," "," "]
[null,null,null,null,null,null,null,null,null,null,null,null,null,null,null,null,null,null,null,null,null,null,"Jan-00",1900,{"$f":"IF(AND($A2931<'P&L'!$P$8, YEAR($A2931)=Master!$C$6), $K2931, 0)","v":0},0,{"$f":"IF(AND(NOT(ISBLANK($O2931)), $O2931<'P&L'!$P$8), Z2931, 0)","v":0},{"$f":"IF(OR(ISBLANK($O2931), $O2931>'BankRec Main Acct'!$E$8), Z2931, 0)","v":0},0,{"$f":"IF(AND(NOT(ISBLANK($O2931)), $O2931<'P&L'!$P$8), AC2931, 0)","v":0},{"$f":"IF(OR(ISBLANK($O2931), $O2931>'BankRec Main Acct'!$E$8), AC2931, 0)","v":0},0,{"$f":"IF(AND(NOT(ISBLANK($S2931)), $S2931<'P&L'!$P$8), AF2931, 0)","v":0},{"$f":"IF(OR(ISBLANK($S2931), $S2931>'BankRec Main Acct'!$E$8), AF2931, 0)","v":0},0,{"$f":"IF(AND(NOT(ISBLANK($S2931)), $S2931<'P&L'!$P$8), AI2931, 0)","v":0},{"$f":"IF(OR(ISBLANK($S2931), $S2931>'BankRec Main Acct'!$E$8), AI2931, 0)","v":0},0,{"$f":"IF(AND(NOT(ISBLANK($U2931)), $U2931<'P&L'!$P$8), $AL2931, 0)","v":0},{"$f":"IF(OR(ISBLANK($U2931), $U2931>'DebitCard Rec '!$E$8), $AL2931, 0)","v":0},0,{"$f":"IF(AND(NOT(ISBLANK($U2931)), $U2931<'P&L'!$P$8), $AO2931, 0)","v":0},{"$f":"IF(OR(ISBLANK($U2931), $U2931>'DebitCard Rec '!$E$8), $AO2931, 0)","v":0},0,{"$f":"IF(AND($A2931<'P&L'!$P$8, $X2931='P&L'!$G$6), $AR2931, 0)","v":0},0,{"$f":"IF(AND($A2931<'P&L'!$P$8, $X2931='P&L'!$G$6), $AT2931, 0)","v":0}," "," "," "]
[null,null,null,null,null,null,null,null,null,null,null,null,null,null,null,null,null,null,null,null,null,null,"Jan-00",1900,{"$f":"IF(AND($A2934<'P&L'!$P$8, YEAR($A2934)=Master!$C$6), $K2934, 0)","v":0},0,{"$f":"IF(AND(NOT(ISBLANK($O2934)), $O2934<'P&L'!$P$8), Z2934, 0)","v":0},{"$f":"IF(OR(ISBLANK($O2934), $O2934>'BankRec Main Acct'!$E$8), Z2934, 0)","v":0},0,{"$f":"IF(AND(NOT(ISBLANK($O2934)), $O2934<'P&L'!$P$8), AC2934, 0)","v":0},{"$f":"IF(OR(ISBLANK($O2934), $O2934>'BankRec Main Acct'!$E$8), AC2934, 0)","v":0},0,{"$f":"IF(AND(NOT(ISBLANK($S2934)), $S2934<'P&L'!$P$8), AF2934, 0)","v":0},{"$f":"IF(OR(ISBLANK($S2934), $S2934>'BankRec Main Acct'!$E$8), AF2934, 0)","v":0},0,{"$f":"IF(AND(NOT(ISBLANK($S2934)), $S2934<'P&L'!$P$8), AI2934, 0)","v":0},{"$f":"IF(OR(ISBLANK($S2934), $S2934>'BankRec Main Acct'!$E$8), AI2934, 0)","v":0},0,{"$f":"IF(AND(NOT(ISBLANK($U2934)), $U2934<'P&L'!$P$8), $AL2934, 0)","v":0},{"$f":"IF(OR(ISBLANK($U2934), $U2934>'DebitCard Rec '!$E$8), $AL2934, 0)","v":0},0,{"$f":"IF(AND(NOT(ISBLANK($U2934)), $U2934<'P&L'!$P$8), $AO2934, 0)","v":0},{"$f":"IF(OR(ISBLANK($U2934), $U2934>'DebitCard Rec '!$E$8), $AO2934, 0)","v":0},0,{"$f":"IF(AND($A2934<'P&L'!$P$8, $X2934='P&L'!$G$6), $AR2934, 0)","v":0},0,{"$f":"IF(AND($A2934<'P&L'!$P$8, $X2934='P&L'!$G$6), $AT2934, 0)","v":0}," "," "," "]
[null,null,null,null,null,null,null,null,null,null,null,null,null,null,null,null,null,null,null,null,null,null,"Jan-00",1900,{"$f":"IF(AND($A2950<'P&L'!$P$8, YEAR($A2950)=Master!$C$6), $K2950, 0)","v":0},0,{"$f":"IF(AND(NOT(ISBLANK($O2950)), $O2950<'P&L'!$P$8), Z2950, 0)","v":0},{"$f":"IF(OR(ISBLANK($O2950), $O2950>'BankRec Main Acct'!$E$8), Z2950, 0)","v":0},0,{"$f":"IF(AND(NOT(ISBLANK($O2950)), $O2950<'P&L'!$P$8), AC2950, 0)","v":0},{"$f":"IF(OR(ISBLANK($O2950), $O2950>'BankRec Main Acct'!$E$8), AC2950, 0)","v":0},0,{"$f":"IF(AND(NOT(ISBLANK($S2950)), $S2950<'P&L'!$P$8), AF2950, 0)","v":0},{"$f":"IF(OR(ISBLANK($S2950), $S2950>'BankRec Main Acct'!$E$8), AF2950, 0)","v":0},0,{"$f":"IF(AND(NOT(ISBLANK($S2950)), $S2950<'P&L'!$P$8), AI2950, 0)","v":0},{"$f":"IF(OR(ISBLANK($S2950), $S2950>'BankRec Main Acct'!$E$8), AI2950, 0)","v":0},0,{"$f":"IF(AND(NOT(ISBLANK($U2950)), $U2950<'P&L'!$P$8), $AL2950, 0)","v":0},{"$f":"IF(OR(ISBLANK($U2950), $U2950>'DebitCard Rec '!$E$8), $AL2950, 0)","v":0},0,{"$f":"IF(AND(NOT(ISBLANK($U2950)), $U2950<'P&L'!$P$8), $AO2950, 0)","v":0},{"$f":"IF(OR(ISBLANK($U2950), $U2950>'DebitCard Rec '!$E$8), $AO2950, 0)","v":0},0,{"$f":"IF(AND($A2950<'P&L'!$P$8, $X2950='P&L'!$G$6), $AR2950, 0)","v":0},0,{"$f":"IF(AND($A2950<'P&L'!$P$8, $X2950='P&L'!$G$6), $AT2950, 0)","v":0}," "," "," "]
[null,null,null,null,null,null,null,null,null,null,null,null,null,null,null,null,null,null,null,null,null,null,"Jan-00",1900,{"$f":"IF(AND($A2951<'P&L'!$P$8, YEAR($A2951)=Master!$C$6), $K2951, 0)","v":0},0,{"$f":"IF(AND(NOT(ISBLANK($O2951)), $O2951<'P&L'!$P$8), Z2951, 0)","v":0},{"$f":"IF(OR(ISBLANK($O2951), $O2951>'BankRec Main Acct'!$E$8), Z2951, 0)","v":0},0,{"$f":"IF(AND(NOT(ISBLANK($O2951)), $O2951<'P&L'!$P$8), AC2951, 0)","v":0},{"$f":"IF(OR(ISBLANK($O2951), $O2951>'BankRec Main Acct'!$E$8), AC2951, 0)","v":0},0,{"$f":"IF(AND(NOT(ISBLANK($S2951)), $S2951<'P&L'!$P$8), AF2951, 0)","v":0},{"$f":"IF(OR(ISBLANK($S2951), $S2951>'BankRec Main Acct'!$E$8), AF2951, 0)","v":0},0,{"$f":"IF(AND(NOT(ISBLANK($S2951)), $S2951<'P&L'!$P$8), AI2951, 0)","v":0},{"$f":"IF(OR(ISBLANK($S2951), $S2951>'BankRec Main Acct'!$E$8), AI2951, 0)","v":0},0,{"$f":"IF(AND(NOT(ISBLANK($U2951)), $U2951<'P&L'!$P$8), $AL2951, 0)","v":0},{"$f":"IF(OR(ISBLANK($U2951), $U2951>'DebitCard Rec '!$E$8), $AL2951, 0)","v":0},0,{"$f":"IF(AND(NOT(ISBLANK($U2951)), $U2951<'P&L'!$P$8), $AO2951, 0)","v":0},{"$f":"IF(OR(ISBLANK($U2951), $U2951>'DebitCard Rec '!$E$8), $AO2951, 0)","v":0},0,{"$f":"IF(AND($A2951<'P&L'!$P$8, $X2951='P&L'!$G$6), $AR2951, 0)","v":0},0,{"$f":"IF(AND($A2951<'P&L'!$P$8, $X2951='P&L'!$G$6), $AT2951, 0)","v":0}," "," "," "]
[null,null,null,null,null,null,null,null,null,null,null,null,null,null,null,null,null,null,null,null,null,null,{"$f":"TEXT($A2964, \"mmm-yy\")","v":"Jan-00"},{"$f":"YEAR($A2964)","v":1900},{"$f":"IF(AND($A2964<'P&L'!$P$8, YEAR($A2964)=Master!$C$6), $K2964, 0)","v":0},0,{"$f":"IF(AND(NOT(ISBLANK($O2964)), $O2964<'P&L'!$P$8), Z2964, 0)","v":0},{"$f":"IF(OR(ISBLANK($O2964), $O2964>'BankRec Main Acct'!$E$8), Z2964, 0)","v":0},0,{"$f":"IF(AND(NOT(ISBLANK($O2964)), $O2964<'P&L'!$P$8), AC2964, 0)","v":0},{"$f":"IF(OR(ISBLANK($O2964), $O2964>'BankRec Main Acct'!$E$8), AC2964, 0)","v":0},0,{"$f":"IF(AND(NOT(ISBLANK($S2964)), $S2964<'P&L'!$P$8), AF2964, 0)","v":0},{"$f":"IF(OR(ISBLANK($S2964), $S2964>'BankRec Main Acct'!$E$8), AF2964, 0)","v":0},0,{"$f":"IF(AND(NOT(ISBLANK($S2964)), $S2964<'P&L'!$P$8), AI2964, 0)","v":0},{"$f":"IF(OR(ISBLANK($S2964), $S2964>'BankRec Main Acct'!$E$8), AI2964, 0)","v":0},{"$f":"IF(AND($C2964=\"Receipt\",$B2964=\"Debit card\"),$K2964,0)","v":0},{"$f":"IF(AND(NOT(ISBLANK($U2964)), $U2964<'P&L'!$P$8), $AL2964, 0)","v":0},{"$f":"IF(OR(ISBLANK($U2964), $U2964>'DebitCard Rec '!$E$8), $AL2964, 0)","v":0},{"$f":"IF(AND($C2964=\"Payment\",$B2964=\"Debit card\"),$K2964,0)","v":0},{"$f":"IF(AND(NOT(ISBLANK($U2964)), $U2964<'P&L'!$P$8), $AO2964, 0)","v":0},{"$f":"IF(OR(ISBLANK($U2964), $U2964>'DebitCard Rec '!$E$8), $AO2964, 0)","v":0},0,{"$f":"IF(AND($A2964<'P&L'!$P$8, $X2964='P&L'!$G$6), $AR2964, 0)","v":0},0,{"$f":"IF(AND($A2964<'P&L'!$P$8, $X2964='P&L'!$G$6), $AT2964, 0)","v":0}," "," "," "]
[null,null,null,null,null,null,null,null,null,null,null,null,null,null,null,null,null,null,null,null,null,null,"Jan-00",1900,{"$f":"IF(AND($A2971<'P&L'!$P$8, YEAR($A2971)=Master!$C$6), $K2971, 0)","v":0},0,{"$f":"IF(AND(NOT(ISBLANK($O2971)), $O2971<'P&L'!$P$8), Z2971, 0)","v":0},{"$f":"IF(OR(ISBLANK($O2971), $O2971>'BankRec Main Acct'!$E$8), Z2971, 0)","v":0},0,{"$f":"IF(AND(NOT(ISBLANK($O2971)), $O2971<'P&L'!$P$8), AC2971, 0)","v":0},{"$f":"IF(OR(ISBLANK($O2971), $O2971>'BankRec Main Acct'!$E$8), AC2971, 0)","v":0},0,{"$f":"IF(AND(NOT(ISBLANK($S2971)), $S2971<'P&L'!$P$8), AF2971, 0)","v":0},{"$f":"IF(OR(ISBLANK($S2971), $S2971>'BankRec Main Acct'!$E$8), AF2971, 0)","v":0},0,{"$f":"IF(AND(NOT(ISBLANK($S2971)), $S2971<'P&L'!$P$8), AI2971, 0)","v":0},{"$f":"IF(OR(ISBLANK($S2971), $S2971>'BankRec Main Acct'!$E$8), AI2971, 0)","v":0},0,{"$f":"IF(AND(NOT(ISBLANK($U2971)), $U2971<'P&L'!$P$8), $AL2971, 0)","v":0},{"$f":"IF(OR(ISBLANK($U2971), $U2971>'DebitCard Rec '!$E$8), $AL2971, 0)","v":0},0,{"$f":"IF(AND(NOT(ISBLANK($U2971)), $U2971<'P&L'!$P$8), $AO2971, 0)","v":0},{"$f":"IF(OR(ISBLANK($U2971), $U2971>'DebitCard Rec '!$E$8), $AO2971, 0)","v":0},0,{"$f":"IF(AND($A2971<'P&L'!$P$8, $X2971='P&L'!$G$6), $AR2971, 0)","v":0},0,{"$f":"IF(AND($A2971<'P&L'!$P$8, $X2971='P&L'!$G$6), $AT2971, 0)","v":0}," "," "," "]
[null,null,null,null,null,null,null,null,null,null,null,null,null,null,null,null,null,null,null,null,null,null,"Jan-00",1900,{"$f":"IF(AND($A2983<'P&L'!$P$8, YEAR($A2983)=Master!$C$6), $K2983, 0)","v":0},0,{"$f":"IF(AND(NOT(ISBLANK($O2983)), $O2983<'P&L'!$P$8), Z2983, 0)","v":0},{"$f":"IF(OR(ISBLANK($O2983), $O2983>'BankRec Main Acct'!$E$8), Z2983, 0)","v":0},0,{"$f":"IF(AND(NOT(ISBLANK($O2983)), $O2983<'P&L'!$P$8), AC2983, 0)","v":0},{"$f":"IF(OR(ISBLANK($O2983), $O2983>'BankRec Main Acct'!$E$8), AC2983, 0)","v":0},0,{"$f":"IF(AND(NOT(ISBLANK($S2983)), $S2983<'P&L'!$P$8), AF2983, 0)","v":0},{"$f":"IF(OR(ISBLANK($S2983), $S2983>'BankRec Main Acct'!$E$8), AF2983, 0)","v":0},0,{"$f":"IF(AND(NOT(ISBLANK($S2983)), $S2983<'P&L'!$P$8), AI2983, 0)","v":0},{"$f":"IF(OR(ISBLANK($S2983), $S2983>'BankRec Main Acct'!$E$8), AI2983, 0)","v":0},0,{"$f":"IF(AND(NOT(ISBLANK($U2983)), $U2983<'P&L'!$P$8), $AL2983, 0)","v":0},{"$f":"IF(OR(ISBLANK($U2983), $U2983>'DebitCard Rec '!$E$8), $AL2983, 0)","v":0},0,{"$f":"IF(AND(NOT(ISBLANK($U2983)), $U2983<'P&L'!$P$8), $AO2983, 0)","v":0},{"$f":"IF(OR(ISBLANK($U2983), $U2983>'DebitCard Rec '!$E$8), $AO2983, 0)","v":0},0,{"$f":"IF(AND($A2983<'P&L'!$P$8, $X2983='P&L'!$G$6), $AR2983, 0)","v":0},0,{"$f":"IF(AND($A2983<'P&L'!$P$8, $X2983='P&L'!$G$6), $AT2983, 0)","v":0}," "," "," "]
[null,null,null,null,null,null,null,null,null,null,null,null,null,null,null,null,null,null,null,null,null,null,"Jan-00",1900,{"$f":"IF(AND($A2990<'P&L'!$P$8, YEAR($A2990)=Master!$C$6), $K2990, 0)","v":0},0,{"$f":"IF(AND(NOT(ISBLANK($O2990)), $O2990<'P&L'!$P$8), Z2990, 0)","v":0},{"$f":"IF(OR(ISBLANK($O2990), $O2990>'BankRec Main Acct'!$E$8), Z2990, 0)","v":0},0,{"$f":"IF(AND(NOT(ISBLANK($O2990)), $O2990<'P&L'!$P$8), AC2990, 0)","v":0},{"$f":"IF(OR(ISBLANK($O2990), $O2990>'BankRec Main Acct'!$E$8), AC2990, 0)","v":0},0,{"$f":"IF(AND(NOT(ISBLANK($S2990)), $S2990<'P&L'!$P$8), AF2990, 0)","v":0},{"$f":"IF(OR(ISBLANK($S2990), $S2990>'BankRec Main Acct'!$E$8), AF2990, 0)","v":0},0,{"$f":"IF(AND(NOT(ISBLANK($S2990)), $S2990<'P&L'!$P$8), AI2990, 0)","v":0},{"$f":"IF(OR(ISBLANK($S2990), $S2990>'BankRec Main Acct'!$E$8), AI2990, 0)","v":0},0,{"$f":"IF(AND(NOT(ISBLANK($U2990)), $U2990<'P&L'!$P$8), $AL2990, 0)","v":0},{"$f":"IF(OR(ISBLANK($U2990), $U2990>'DebitCard Rec '!$E$8), $AL2990, 0)","v":0},0,{"$f":"IF(AND(NOT(ISBLANK($U2990)), $U2990<'P&L'!$P$8), $AO2990, 0)","v":0},{"$f":"IF(OR(ISBLANK($U2990), $U2990>'DebitCard Rec '!$E$8), $AO2990, 0)","v":0},0,{"$f":"IF(AND($A2990<'P&L'!$P$8, $X2990='P&L'!$G$6), $AR2990, 0)","v":0},0,{"$f":"IF(AND($A2990<'P&L'!$P$8, $X2990='P&L'!$G$6), $AT2990, 0)","v":0}," "," "," "]
[null,null,null,null,null,null,null,null,null,null,null,null,null,null,null,null,null,null,null,null,null,null,"Jan-00",1900,{"$f":"IF(AND($A3000<'P&L'!$P$8, YEAR($A3000)=Master!$C$6), $K3000, 0)","v":0},0,{"$f":"IF(AND(NOT(ISBLANK($O3000)), $O3000<'P&L'!$P$8), Z3000, 0)","v":0},{"$f":"IF(OR(ISBLANK($O3000), $O3000>'BankRec Main Acct'!$E$8), Z3000, 0)","v":0},0,{"$f":"IF(AND(NOT(ISBLANK($O3000)), $O3000<'P&L'!$P$8), AC3000, 0)","v":0},{"$f":"IF(OR(ISBLANK($O3000), $O3000>'BankRec Main Acct'!$E$8), AC3000, 0)","v":0},0,{"$f":"IF(AND(NOT(ISBLANK($S3000)), $S3000<'P&L'!$P$8), AF3000, 0)","v":0},{"$f":"IF(OR(ISBLANK($S3000), $S3000>'BankRec Main Acct'!$E$8), AF3000, 0)","v":0},0,{"$f":"IF(AND(NOT(ISBLANK($S3000)), $S3000<'P&L'!$P$8), AI3000, 0)","v":0},{"$f":"IF(OR(ISBLANK($S3000), $S3000>'BankRec Main Acct'!$E$8), AI3000, 0)","v":0},0,{"$f":"IF(AND(NOT(ISBLANK($U3000)), $U3000<'P&L'!$P$8), $AL3000, 0)","v":0},{"$f":"IF(OR(ISBLANK($U3000), $U3000>'DebitCard Rec '!$E$8), $AL3000, 0)","v":0},0,{"$f":"IF(AND(NOT(ISBLANK($U3000)), $U3000<'P&L'!$P$8), $AO3000, 0)","v":0},{"$f":"IF(OR(ISBLANK($U3000), $U3000>'DebitCard Rec '!$E$8), $AO3000, 0)","v":0},0,{"$f":"IF(AND($A3000<'P&L'!$P$8, $X3000='P&L'!$G$6), $AR3000, 0)","v":0},0,{"$f":"IF(AND($A3000<'P&L'!$P$8, $X3000='P&L'!$G$6), $AT3000, 0)","v":0}," "," "," "]
[null,null,null,null,null,null,null,null,null,null,null,null,null,null,null,null,null,null,null,null,null,null,"Jan-00",1900,{"$f":"IF(AND($A3004<'P&L'!$P$8, YEAR($A3004)=Master!$C$6), $K3004, 0)","v":0},0,{"$f":"IF(AND(NOT(ISBLANK($O3004)), $O3004<'P&L'!$P$8), Z3004, 0)","v":0},{"$f":"IF(OR(ISBLANK($O3004), $O3004>'BankRec Main Acct'!$E$8), Z3004, 0)","v":0},0,{"$f":"IF(AND(NOT(ISBLANK($O3004)), $O3004<'P&L'!$P$8), AC3004, 0)","v":0},{"$f":"IF(OR(ISBLANK($O3004), $O3004>'BankRec Main Acct'!$E$8), AC3004, 0)","v":0},0,{"$f":"IF(AND(NOT(ISBLANK($S3004)), $S3004<'P&L'!$P$8), AF3004, 0)","v":0},{"$f":"IF(OR(ISBLANK($S3004), $S3004>'BankRec Main Acct'!$E$8), AF3004, 0)","v":0},0,{"$f":"IF(AND(NOT(ISBLANK($S3004)), $S3004<'P&L'!$P$8), AI3004, 0)","v":0},{"$f":"IF(OR(ISBLANK($S3004), $S3004>'BankRec Main Acct'!$E$8), AI3004, 0)","v":0},0,{"$f":"IF(AND(NOT(ISBLANK($U3004)), $U3004<'P&L'!$P$8), $AL3004, 0)","v":0},{"$f":"IF(OR(ISBLANK($U3004), $U3004>'DebitCard Rec '!$E$8), $AL3004, 0)","v":0},0,{"$f":"IF(AND(NOT(ISBLANK($U3004)), $U3004<'P&L'!$P$8), $AO3004, 0)","v":0},{"$f":"IF(OR(ISBLANK($U3004), $U3004>'DebitCard Rec '!$E$8), $AO3004, 0)","v":0},0,{"$f":"IF(AND($A3004<'P&L'!$P$8, $X3004='P&L'!$G$6), $AR3004, 0)","v":0},0,{"$f":"IF(AND($A3004<'P&L'!$P$8, $X3004='P&L'!$G$6), $AT3004, 0)","v":0}," "," "," "]
[null,null,null,null,null,null,null,null,null,null,null,null,null,null,null,null,null,null,null,null,null,null,"Jan-00",1900,{"$f":"IF(AND($A3020<'P&L'!$P$8, YEAR($A3020)=Master!$C$6), $K3020, 0)","v":0},0,{"$f":"IF(AND(NOT(ISBLANK($O3020)), $O3020<'P&L'!$P$8), Z3020, 0)","v":0},{"$f":"IF(OR(ISBLANK($O3020), $O3020>'BankRec Main Acct'!$E$8), Z3020, 0)","v":0},0,{"$f":"IF(AND(NOT(ISBLANK($O3020)), $O3020<'P&L'!$P$8), AC3020, 0)","v":0},{"$f":"IF(OR(ISBLANK($O3020), $O3020>'BankRec Main Acct'!$E$8), AC3020, 0)","v":0},0,{"$f":"IF(AND(NOT(ISBLANK($S3020)), $S3020<'P&L'!$P$8), AF3020, 0)","v":0},{"$f":"IF(OR(ISBLANK($S3020), $S3020>'BankRec Main Acct'!$E$8), AF3020, 0)","v":0},0,{"$f":"IF(AND(NOT(ISBLANK($S3020)), $S3020<'P&L'!$P$8), AI3020, 0)","v":0},{"$f":"IF(OR(ISBLANK($S3020), $S3020>'BankRec Main Acct'!$E$8), AI3020, 0)","v":0},0,{"$f":"IF(AND(NOT(ISBLANK($U3020)), $U3020<'P&L'!$P$8), $AL3020, 0)","v":0},{"$f":"IF(OR(ISBLANK($U3020), $U3020>'DebitCard Rec '!$E$8), $AL3020, 0)","v":0},0,{"$f":"IF(AND(NOT(ISBLANK($U3020)), $U3020<'P&L'!$P$8), $AO3020, 0)","v":0},{"$f":"IF(OR(ISBLANK($U3020), $U3020>'DebitCard Rec '!$E$8), $AO3020, 0)","v":0},0,{"$f":"IF(AND($A3020<'P&L'!$P$8, $X3020='P&L'!$G$6), $AR3020, 0)","v":0},0,{"$f":"IF(AND($A3020<'P&L'!$P$8, $X3020='P&L'!$G$6), $AT3020, 0)","v":0}," "," "," "]
[null,null,null,null,null,null,null,null,null,null,null,null,null,null,null,null,null,null,null,null,null,null,"Jan-00",1900,{"$f":"IF(AND($A3023<'P&L'!$P$8, YEAR($A3023)=Master!$C$6), $K3023, 0)","v":0},0,{"$f":"IF(AND(NOT(ISBLANK($O3023)), $O3023<'P&L'!$P$8), Z3023, 0)","v":0},{"$f":"IF(OR(ISBLANK($O3023), $O3023>'BankRec Main Acct'!$E$8), Z3023, 0)","v":0},0,{"$f":"IF(AND(NOT(ISBLANK($O3023)), $O3023<'P&L'!$P$8), AC3023, 0)","v":0},{"$f":"IF(OR(ISBLANK($O3023), $O3023>'BankRec Main Acct'!$E$8), AC3023, 0)","v":0},0,{"$f":"IF(AND(NOT(ISBLANK($S3023)), $S3023<'P&L'!$P$8), AF3023, 0)","v":0},{"$f":"IF(OR(ISBLANK($S3023), $S3023>'BankRec Main Acct'!$E$8), AF3023, 0)","v":0},0,{"$f":"IF(AND(NOT(ISBLANK($S3023)), $S3023<'P&L'!$P$8), AI3023, 0)","v":0},{"$f":"IF(OR(ISBLANK($S3023), $S3023>'BankRec Main Acct'!$E$8), AI3023, 0)","v":0},0,{"$f":"IF(AND(NOT(ISBLANK($U3023)), $U3023<'P&L'!$P$8), $AL3023, 0)","v":0},{"$f":"IF(OR(ISBLANK($U3023), $U3023>'DebitCard Rec '!$E$8), $AL3023, 0)","v":0},0,{"$f":"IF(AND(NOT(ISBLANK($U3023)), $U3023<'P&L'!$P$8), $AO3023, 0)","v":0},{"$f":"IF(OR(ISBLANK($U3023), $U3023>'DebitCard Rec '!$E$8), $AO3023, 0)","v":0},0,{"$f":"IF(AND($A3023<'P&L'!$P$8, $X3023='P&L'!$G$6), $AR3023, 0)","v":0},0,{"$f":"IF(AND($A3023<'P&L'!$P$8, $X3023='P&L'!$G$6), $AT3023, 0)","v":0}," "," "," "]
[null,null,null,null,null,null,null,null,null,null,null,null,null,null,null,null,null,null,null,null,null,null,"Jan-00",1900,{"$f":"IF(AND($A3031<'P&L'!$P$8, YEAR($A3031)=Master!$C$6), $K3031, 0)","v":0},0,{"$f":"IF(AND(NOT(ISBLANK($O3031)), $O3031<'P&L'!$P$8), Z3031, 0)","v":0},{"$f":"IF(OR(ISBLANK($O3031), $O3031>'BankRec Main Acct'!$E$8), Z3031, 0)","v":0},0,{"$f":"IF(AND(NOT(ISBLANK($O3031)), $O3031<'P&L'!$P$8), AC3031, 0)","v":0},{"$f":"IF(OR(ISBLANK($O3031), $O3031>'BankRec Main Acct'!$E$8), AC3031, 0)","v":0},0,{"$f":"IF(AND(NOT(ISBLANK($S3031)), $S3031<'P&L'!$P$8), AF3031, 0)","v":0},{"$f":"IF(OR(ISBLANK($S3031), $S3031>'BankRec Main Acct'!$E$8), AF3031, 0)","v":0},0,{"$f":"IF(AND(NOT(ISBLANK($S3031)), $S3031<'P&L'!$P$8), AI3031, 0)","v":0},{"$f":"IF(OR(ISBLANK($S3031), $S3031>'BankRec Main Acct'!$E$8), AI3031, 0)","v":0},0,{"$f":"IF(AND(NOT(ISBLANK($U3031)), $U3031<'P&L'!$P$8), $AL3031, 0)","v":0},{"$f":"IF(OR(ISBLANK($U3031), $U3031>'DebitCard Rec '!$E$8), $AL3031, 0)","v":0},0,{"$f":"IF(AND(NOT(ISBLANK($U3031)), $U3031<'P&L'!$P$8), $AO3031, 0)","v":0},{"$f":"IF(OR(ISBLANK($U3031), $U3031>'DebitCard Rec '!$E$8), $AO3031, 0)","v":0},0,{"$f":"IF(AND($A3031<'P&L'!$P$8, $X3031='P&L'!$G$6), $AR3031, 0)","v":0},0,{"$f":"IF(AND($A3031<'P&L'!$P$8, $X3031='P&L'!$G$6), $AT3031, 0)","v":0}," "," "," "]
[null,null,null,null,null,null,null,null,null,null,null,null,null,null,null,null,null,null,null,null,null,null,"Jan-00",1900,{"$f":"IF(AND($A3041<'P&L'!$P$8, YEAR($A3041)=Master!$C$6), $K3041, 0)","v":0},0,{"$f":"IF(AND(NOT(ISBLANK($O3041)), $O3041<'P&L'!$P$8), Z3041, 0)","v":0},{"$f":"IF(OR(ISBLANK($O3041), $O3041>'BankRec Main Acct'!$E$8), Z3041, 0)","v":0},0,{"$f":"IF(AND(NOT(ISBLANK($O3041)), $O3041<'P&L'!$P$8), AC3041, 0)","v":0},{"$f":"IF(OR(ISBLANK($O3041), $O3041>'BankRec Main Acct'!$E$8), AC3041, 0)","v":0},0,{"$f":"IF(AND(NOT(ISBLANK($S3041)), $S3041<'P&L'!$P$8), AF3041, 0)","v":0},{"$f":"IF(OR(ISBLANK($S3041), $S3041>'BankRec Main Acct'!$E$8), AF3041, 0)","v":0},0,{"$f":"IF(AND(NOT(ISBLANK($S3041)), $S3041<'P&L'!$P$8), AI3041, 0)","v":0},{"$f":"IF(OR(ISBLANK($S3041), $S3041>'BankRec Main Acct'!$E$8), AI3041, 0)","v":0},0,{"$f":"IF(AND(NOT(ISBLANK($U3041)), $U3041<'P&L'!$P$8), $AL3041, 0)","v":0},{"$f":"IF(OR(ISBLANK($U3041), $U3041>'DebitCard Rec '!$E$8), $AL3041, 0)","v":0},0,{"$f":"IF(AND(NOT(ISBLANK($U3041)), $U3041<'P&L'!$P$8), $AO3041, 0)","v":0},{"$f":"IF(OR(ISBLANK($U3041), $U3041>'DebitCard Rec '!$E$8), $AO3041, 0)","v":0},0,{"$f":"IF(AND($A3041<'P&L'!$P$8, $X3041='P&L'!$G$6), $AR3041, 0)","v":0},0,{"$f":"IF(AND($A3041<'P&L'!$P$8, $X3041='P&L'!$G$6), $AT3041, 0)","v":0}," "," "," "]
[null,null,null,null,null,null,null,null,null,null,null,null,null,null,null,null,null,null,null,null,null,null,"Jan-00",1900,{"$f":"IF(AND($A3053<'P&L'!$P$8, YEAR($A3053)=Master!$C$6), $K3053, 0)","v":0},0,{"$f":"IF(AND(NOT(ISBLANK($O3053)), $O3053<'P&L'!$P$8), Z3053, 0)","v":0},{"$f":"IF(OR(ISBLANK($O3053), $O3053>'BankRec Main Acct'!$E$8), Z3053, 0)","v":0},0,{"$f":"IF(AND(NOT(ISBLANK($O3053)), $O3053<'P&L'!$P$8), AC3053, 0)","v":0},{"$f":"IF(OR(ISBLANK($O3053), $O3053>'BankRec Main Acct'!$E$8), AC3053, 0)","v":0},0,{"$f":"IF(AND(NOT(ISBLANK($S3053)), $S3053<'P&L'!$P$8), AF3053, 0)","v":0},{"$f":"IF(OR(ISBLANK($S3053), $S3053>'BankRec Main Acct'!$E$8), AF3053, 0)","v":0},0,{"$f":"IF(AND(NOT(ISBLANK($S3053)), $S3053<'P&L'!$P$8), AI3053, 0)","v":0},{"$f":"IF(OR(ISBLANK($S3053), $S3053>'BankRec Main Acct'!$E$8), AI3053, 0)","v":0},0,{"$f":"IF(AND(NOT(ISBLANK($U3053)), $U3053<'P&L'!$P$8), $AL3053, 0)","v":0},{"$f":"IF(OR(ISBLANK($U3053), $U3053>'DebitCard Rec '!$E$8), $AL3053, 0)","v":0},0,{"$f":"IF(AND(NOT(ISBLANK($U3053)), $U3053<'P&L'!$P$8), $AO3053, 0)","v":0},{"$f":"IF(OR(ISBLANK($U3053), $U3053>'DebitCard Rec '!$E$8), $AO3053, 0)","v":0},0,{"$f":"IF(AND($A3053<'P&L'!$P$8, $X3053='P&L'!$G$6), $AR3053, 0)","v":0},0,{"$f":"IF(AND($A3053<'P&L'!$P$8, $X3053='P&L'!$G$6), $AT3053, 0)","v":0}," "," "," "]
[null,null,null,null,null,null,null,null,null,null,null,null,null,null,null,null,null,null,null,null,null,null,"Jan-00",1900,{"$f":"IF(AND($A3060<'P&L'!$P$8, YEAR($A3060)=Master!$C$6), $K3060, 0)","v":0},0,{"$f":"IF(AND(NOT(ISBLANK($O3060)), $O3060<'P&L'!$P$8), Z3060, 0)","v":0},{"$f":"IF(OR(ISBLANK($O3060), $O3060>'BankRec Main Acct'!$E$8), Z3060, 0)","v":0},0,{"$f":"IF(AND(NOT(ISBLANK($O3060)), $O3060<'P&L'!$P$8), AC3060, 0)","v":0},{"$f":"IF(OR(ISBLANK($O3060), $O3060>'BankRec Main Acct'!$E$8), AC3060, 0)","v":0},0,{"$f":"IF(AND(NOT(ISBLANK($S3060)), $S3060<'P&L'!$P$8), AF3060, 0)","v":0},{"$f":"IF(OR(ISBLANK($S3060), $S3060>'BankRec Main Acct'!$E$8), AF3060, 0)","v":0},0,{"$f":"IF(AND(NOT(ISBLANK($S3060)), $S3060<'P&L'!$P$8), AI3060, 0)","v":0},{"$f":"IF(OR(ISBLANK($S3060), $S3060>'BankRec Main Acct'!$E$8), AI3060, 0)","v":0},0,{"$f":"IF(AND(NOT(ISBLANK($U3060)), $U3060<'P&L'!$P$8), $AL3060, 0)","v":0},{"$f":"IF(OR(ISBLANK($U3060), $U3060>'DebitCard Rec '!$E$8), $AL3060, 0)","v":0},0,{"$f":"IF(AND(NOT(ISBLANK($U3060)), $U3060<'P&L'!$P$8), $AO3060, 0)","v":0},{"$f":"IF(OR(ISBLANK($U3060), $U3060>'DebitCard Rec '!$E$8), $AO3060, 0)","v":0},0,{"$f":"IF(AND($A3060<'P&L'!$P$8, $X3060='P&L'!$G$6), $AR3060, 0)","v":0},0,{"$f":"IF(AND($A3060<'P&L'!$P$8, $X3060='P&L'!$G$6), $AT3060, 0)","v":0}," "," "," "]
[null,null,null,null,null,null,null,null,null,null,null,null,null,null,null,null,null,null,null,null,null,null,"Jan-00",1900,{"$f":"IF(AND($A3072<'P&L'!$P$8, YEAR($A3072)=Master!$C$6), $K3072, 0)","v":0},0,{"$f":"IF(AND(NOT(ISBLANK($O3072)), $O3072<'P&L'!$P$8), Z3072, 0)","v":0},{"$f":"IF(OR(ISBLANK($O3072), $O3072>'BankRec Main Acct'!$E$8), Z3072, 0)","v":0},0,{"$f":"IF(AND(NOT(ISBLANK($O3072)), $O3072<'P&L'!$P$8), AC3072, 0)","v":0},{"$f":"IF(OR(ISBLANK($O3072), $O3072>'BankRec Main Acct'!$E$8), AC3072, 0)","v":0},0,{"$f":"IF(AND(NOT(ISBLANK($S3072)), $S3072<'P&L'!$P$8), AF3072, 0)","v":0},{"$f":"IF(OR(ISBLANK($S3072), $S3072>'BankRec Main Acct'!$E$8), AF3072, 0)","v":0},0,{"$f":"IF(AND(NOT(ISBLANK($S3072)), $S3072<'P&L'!$P$8), AI3072, 0)","v":0},{"$f":"IF(OR(ISBLANK($S3072), $S3072>'BankRec Main Acct'!$E$8), AI3072, 0)","v":0},0,{"$f":"IF(AND(NOT(ISBLANK($U3072)), $U3072<'P&L'!$P$8), $AL3072, 0)","v":0},{"$f":"IF(OR(ISBLANK($U3072), $U3072>'DebitCard Rec '!$E$8), $AL3072, 0)","v":0},0,{"$f":"IF(AND(NOT(ISBLANK($U3072)), $U3072<'P&L'!$P$8), $AO3072, 0)","v":0},{"$f":"IF(OR(ISBLANK($U3072), $U3072>'DebitCard Rec '!$E$8), $AO3072, 0)","v":0},0,{"$f":"IF(AND($A3072<'P&L'!$P$8, $X3072='P&L'!$G$6), $AR3072, 0)","v":0},0,{"$f":"IF(AND($A3072<'P&L'!$P$8, $X3072='P&L'!$G$6), $AT3072, 0)","v":0}," "," "," "]
[null,null,null,null,null,null,null,null,null,null,null,null,null,null,null,null,null,null,null,null,null,null,"Jan-00",1900,{"$f":"IF(AND($A3080<'P&L'!$P$8, YEAR($A3080)=Master!$C$6), $K3080, 0)","v":0},0,{"$f":"IF(AND(NOT(ISBLANK($O3080)), $O3080<'P&L'!$P$8), Z3080, 0)","v":0},{"$f":"IF(OR(ISBLANK($O3080), $O3080>'BankRec Main Acct'!$E$8), Z3080, 0)","v":0},0,{"$f":"IF(AND(NOT(ISBLANK($O3080)), $O3080<'P&L'!$P$8), AC3080, 0)","v":0},{"$f":"IF(OR(ISBLANK($O3080), $O3080>'BankRec Main Acct'!$E$8), AC3080, 0)","v":0},0,{"$f":"IF(AND(NOT(ISBLANK($S3080)), $S3080<'P&L'!$P$8), AF3080, 0)","v":0},{"$f":"IF(OR(ISBLANK($S3080), $S3080>'BankRec Main Acct'!$E$8), AF3080, 0)","v":0},0,{"$f":"IF(AND(NOT(ISBLANK($S3080)), $S3080<'P&L'!$P$8), AI3080, 0)","v":0},{"$f":"IF(OR(ISBLANK($S3080), $S3080>'BankRec Main Acct'!$E$8), AI3080, 0)","v":0},0,{"$f":"IF(AND(NOT(ISBLANK($U3080)), $U3080<'P&L'!$P$8), $AL3080, 0)","v":0},{"$f":"IF(OR(ISBLANK($U3080), $U3080>'DebitCard Rec '!$E$8), $AL3080, 0)","v":0},0,{"$f":"IF(AND(NOT(ISBLANK($U3080)), $U3080<'P&L'!$P$8), $AO3080, 0)","v":0},{"$f":"IF(OR(ISBLANK($U3080), $U3080>'DebitCard Rec '!$E$8), $AO3080, 0)","v":0},0,{"$f":"IF(AND($A3080<'P&L'!$P$8, $X3080='P&L'!$G$6), $AR3080, 0)","v":0},0,{"$f":"IF(AND($A3080<'P&L'!$P$8, $X3080='P&L'!$G$6), $AT3080, 0)","v":0}," "," "," "]
[null,null,null,null,null,null,null,null,null,null,null,null,null,null,null,null,null,null,null,null,null,null,"Jan-00",1900,{"$f":"IF(AND($A3090<'P&L'!$P$8, YEAR($A3090)=Master!$C$6), $K3090, 0)","v":0},0,{"$f":"IF(AND(NOT(ISBLANK($O3090)), $O3090<'P&L'!$P$8), Z3090, 0)","v":0},{"$f":"IF(OR(ISBLANK($O3090), $O3090>'BankRec Main Acct'!$E$8), Z3090, 0)","v":0},0,{"$f":"IF(AND(NOT(ISBLANK($O3090)), $O3090<'P&L'!$P$8), AC3090, 0)","v":0},{"$f":"IF(OR(ISBLANK($O3090), $O3090>'BankRec Main Acct'!$E$8), AC3090, 0)","v":0},0,{"$f":"IF(AND(NOT(ISBLANK($S3090)), $S3090<'P&L'!$P$8), AF3090, 0)","v":0},{"$f":"IF(OR(ISBLANK($S3090), $S3090>'BankRec Main Acct'!$E$8), AF3090, 0)","v":0},0,{"$f":"IF(AND(NOT(ISBLANK($S3090)), $S3090<'P&L'!$P$8), AI3090, 0)","v":0},{"$f":"IF(OR(ISBLANK($S3090), $S3090>'BankRec Main Acct'!$E$8), AI3090, 0)","v":0},0,{"$f":"IF(AND(NOT(ISBLANK($U3090)), $U3090<'P&L'!$P$8), $AL3090, 0)","v":0},{"$f":"IF(OR(ISBLANK($U3090), $U3090>'DebitCard Rec '!$E$8), $AL3090, 0)","v":0},0,{"$f":"IF(AND(NOT(ISBLANK($U3090)), $U3090<'P&L'!$P$8), $AO3090, 0)","v":0},{"$f":"IF(OR(ISBLANK($U3090), $U3090>'DebitCard Rec '!$E$8), $AO3090, 0)","v":0},0,{"$f":"IF(AND($A3090<'P&L'!$P$8, $X3090='P&L'!$G$6), $AR3090, 0)","v":0},0,{"$f":"IF(AND($A3090<'P&L'!$P$8, $X3090='P&L'!$G$6), $AT3090, 0)","v":0}," "," "," "]
[null,null,null,null,null,null,null,null,null,null,null,null,null,null,null,null,null,null,null,null,null,null,"Jan-00",1900,{"$f":"IF(AND($A3093<'P&L'!$P$8, YEAR($A3093)=Master!$C$6), $K3093, 0)","v":0},0,{"$f":"IF(AND(NOT(ISBLANK($O3093)), $O3093<'P&L'!$P$8), Z3093, 0)","v":0},{"$f":"IF(OR(ISBLANK($O3093), $O3093>'BankRec Main Acct'!$E$8), Z3093, 0)","v":0},0,{"$f":"IF(AND(NOT(ISBLANK($O3093)), $O3093<'P&L'!$P$8), AC3093, 0)","v":0},{"$f":"IF(OR(ISBLANK($O3093), $O3093>'BankRec Main Acct'!$E$8), AC3093, 0)","v":0},0,{"$f":"IF(AND(NOT(ISBLANK($S3093)), $S3093<'P&L'!$P$8), AF3093, 0)","v":0},{"$f":"IF(OR(ISBLANK($S3093), $S3093>'BankRec Main Acct'!$E$8), AF3093, 0)","v":0},0,{"$f":"IF(AND(NOT(ISBLANK($S3093)), $S3093<'P&L'!$P$8), AI3093, 0)","v":0},{"$f":"IF(OR(ISBLANK($S3093), $S3093>'BankRec Main Acct'!$E$8), AI3093, 0)","v":0},0,{"$f":"IF(AND(NOT(ISBLANK($U3093)), $U3093<'P&L'!$P$8), $AL3093, 0)","v":0},{"$f":"IF(OR(ISBLANK($U3093), $U3093>'DebitCard Rec '!$E$8), $AL3093, 0)","v":0},0,{"$f":"IF(AND(NOT(ISBLANK($U3093)), $U3093<'P&L'!$P$8), $AO3093, 0)","v":0},{"$f":"IF(OR(ISBLANK($U3093), $U3093>'DebitCard Rec '!$E$8), $AO3093, 0)","v":0},0,{"$f":"IF(AND($A3093<'P&L'!$P$8, $X3093='P&L'!$G$6), $AR3093, 0)","v":0},0,{"$f":"IF(AND($A3093<'P&L'!$P$8, $X3093='P&L'!$G$6), $AT3093, 0)","v":0}," "," "," "]
[null,null,null,null,null,null,null,null,null,null,null,null,null,null,null,null,null,null,null,null,null,null,"Jan-00",1900,{"$f":"IF(AND($A3100<'P&L'!$P$8, YEAR($A3100)=Master!$C$6), $K3100, 0)","v":0},0,{"$f":"IF(AND(NOT(ISBLANK($O3100)), $O3100<'P&L'!$P$8), Z3100, 0)","v":0},{"$f":"IF(OR(ISBLANK($O3100), $O3100>'BankRec Main Acct'!$E$8), Z3100, 0)","v":0},0,{"$f":"IF(AND(NOT(ISBLANK($O3100)), $O3100<'P&L'!$P$8), AC3100, 0)","v":0},{"$f":"IF(OR(ISBLANK($O3100), $O3100>'BankRec Main Acct'!$E$8), AC3100, 0)","v":0},0,{"$f":"IF(AND(NOT(ISBLANK($S3100)), $S3100<'P&L'!$P$8), AF3100, 0)","v":0},{"$f":"IF(OR(ISBLANK($S3100), $S3100>'BankRec Main Acct'!$E$8), AF3100, 0)","v":0},0,{"$f":"IF(AND(NOT(ISBLANK($S3100)), $S3100<'P&L'!$P$8), AI3100, 0)","v":0},{"$f":"IF(OR(ISBLANK($S3100), $S3100>'BankRec Main Acct'!$E$8), AI3100, 0)","v":0},0,{"$f":"IF(AND(NOT(ISBLANK($U3100)), $U3100<'P&L'!$P$8), $AL3100, 0)","v":0},{"$f":"IF(OR(ISBLANK($U3100), $U3100>'DebitCard Rec '!$E$8), $AL3100, 0)","v":0},0,{"$f":"IF(AND(NOT(ISBLANK($U3100)), $U3100<'P&L'!$P$8), $AO3100, 0)","v":0},{"$f":"IF(OR(ISBLANK($U3100), $U3100>'DebitCard Rec '!$E$8), $AO3100, 0)","v":0},0,{"$f":"IF(AND($A3100<'P&L'!$P$8, $X3100='P&L'!$G$6), $AR3100, 0)","v":0},0,{"$f":"IF(AND($A3100<'P&L'!$P$8, $X3100='P&L'!$G$6), $AT3100, 0)","v":0}," "," "," "]
[null,null,null,null,null,null,null,null,null,null,null,null,null,null,null,null,null,null,null,null,null,null,"Jan-00",1900,{"$f":"IF(AND($A3112<'P&L'!$P$8, YEAR($A3112)=Master!$C$6), $K3112, 0)","v":0},0,{"$f":"IF(AND(NOT(ISBLANK($O3112)), $O3112<'P&L'!$P$8), Z3112, 0)","v":0},{"$f":"IF(OR(ISBLANK($O3112), $O3112>'BankRec Main Acct'!$E$8), Z3112, 0)","v":0},0,{"$f":"IF(AND(NOT(ISBLANK($O3112)), $O3112<'P&L'!$P$8), AC3112, 0)","v":0},{"$f":"IF(OR(ISBLANK($O3112), $O3112>'BankRec Main Acct'!$E$8), AC3112, 0)","v":0},0,{"$f":"IF(AND(NOT(ISBLANK($S3112)), $S3112<'P&L'!$P$8), AF3112, 0)","v":0},{"$f":"IF(OR(ISBLANK($S3112), $S3112>'BankRec Main Acct'!$E$8), AF3112, 0)","v":0},0,{"$f":"IF(AND(NOT(ISBLANK($S3112)), $S3112<'P&L'!$P$8), AI3112, 0)","v":0},{"$f":"IF(OR(ISBLANK($S3112), $S3112>'BankRec Main Acct'!$E$8), AI3112, 0)","v":0},0,{"$f":"IF(AND(NOT(ISBLANK($U3112)), $U3112<'P&L'!$P$8), $AL3112, 0)","v":0},{"$f":"IF(OR(ISBLANK($U3112), $U3112>'DebitCard Rec '!$E$8), $AL3112, 0)","v":0},0,{"$f":"IF(AND(NOT(ISBLANK($U3112)), $U3112<'P&L'!$P$8), $AO3112, 0)","v":0},{"$f":"IF(OR(ISBLANK($U3112), $U3112>'DebitCard Rec '!$E$8), $AO3112, 0)","v":0},0,{"$f":"IF(AND($A3112<'P&L'!$P$8, $X3112='P&L'!$G$6), $AR3112, 0)","v":0},0,{"$f":"IF(AND($A3112<'P&L'!$P$8, $X3112='P&L'!$G$6), $AT3112, 0)","v":0}," "," "," "]
[null,null,null,null,null,null,null,null,null,null,null,null,null,null,null,null,null,null,null,null,null,null,"Jan-00",1900,{"$f":"IF(AND($A3121<'P&L'!$P$8, YEAR($A3121)=Master!$C$6), $K3121, 0)","v":0},0,{"$f":"IF(AND(NOT(ISBLANK($O3121)), $O3121<'P&L'!$P$8), Z3121, 0)","v":0},{"$f":"IF(OR(ISBLANK($O3121), $O3121>'BankRec Main Acct'!$E$8), Z3121, 0)","v":0},0,{"$f":"IF(AND(NOT(ISBLANK($O3121)), $O3121<'P&L'!$P$8), AC3121, 0)","v":0},{"$f":"IF(OR(ISBLANK($O3121), $O3121>'BankRec Main Acct'!$E$8), AC3121, 0)","v":0},0,{"$f":"IF(AND(NOT(ISBLANK($S3121)), $S3121<'P&L'!$P$8), AF3121, 0)","v":0},{"$f":"IF(OR(ISBLANK($S3121), $S3121>'BankRec Main Acct'!$E$8), AF3121, 0)","v":0},0,{"$f":"IF(AND(NOT(ISBLANK($S3121)), $S3121<'P&L'!$P$8), AI3121, 0)","v":0},{"$f":"IF(OR(ISBLANK($S3121), $S3121>'BankRec Main Acct'!$E$8), AI3121, 0)","v":0},0,{"$f":"IF(AND(NOT(ISBLANK($U3121)), $U3121<'P&L'!$P$8), $AL3121, 0)","v":0},{"$f":"IF(OR(ISBLANK($U3121), $U3121>'DebitCard Rec '!$E$8), $AL3121, 0)","v":0},0,{"$f":"IF(AND(NOT(ISBLANK($U3121)), $U3121<'P&L'!$P$8), $AO3121, 0)","v":0},{"$f":"IF(OR(ISBLANK($U3121), $U3121>'DebitCard Rec '!$E$8), $AO3121, 0)","v":0},0,{"$f":"IF(AND($A3121<'P&L'!$P$8, $X3121='P&L'!$G$6), $AR3121, 0)","v":0},0,{"$f":"IF(AND($A3121<'P&L'!$P$8, $X3121='P&L'!$G$6), $AT3121, 0)","v":0}," "," "," "]
[null,null,null,null,null,null,null,null,null,null,null,null,null,null,null,null,null,null,null,null,null,null,"Jan-00",1900,{"$f":"IF(AND($A3130<'P&L'!$P$8, YEAR($A3130)=Master!$C$6), $K3130, 0)","v":0},0,{"$f":"IF(AND(NOT(ISBLANK($O3130)), $O3130<'P&L'!$P$8), Z3130, 0)","v":0},{"$f":"IF(OR(ISBLANK($O3130), $O3130>'BankRec Main Acct'!$E$8), Z3130, 0)","v":0},0,{"$f":"IF(AND(NOT(ISBLANK($O3130)), $O3130<'P&L'!$P$8), AC3130, 0)","v":0},{"$f":"IF(OR(ISBLANK($O3130), $O3130>'BankRec Main Acct'!$E$8), AC3130, 0)","v":0},0,{"$f":"IF(AND(NOT(ISBLANK($S3130)), $S3130<'P&L'!$P$8), AF3130, 0)","v":0},{"$f":"IF(OR(ISBLANK($S3130), $S3130>'BankRec Main Acct'!$E$8), AF3130, 0)","v":0},0,{"$f":"IF(AND(NOT(ISBLANK($S3130)), $S3130<'P&L'!$P$8), AI3130, 0)","v":0},{"$f":"IF(OR(ISBLANK($S3130), $S3130>'BankRec Main Acct'!$E$8), AI3130, 0)","v":0},0,{"$f":"IF(AND(NOT(ISBLANK($U3130)), $U3130<'P&L'!$P$8), $AL3130, 0)","v":0},{"$f":"IF(OR(ISBLANK($U3130), $U3130>'DebitCard Rec '!$E$8), $AL3130, 0)","v":0},0,{"$f":"IF(AND(NOT(ISBLANK($U3130)), $U3130<'P&L'!$P$8), $AO3130, 0)","v":0},{"$f":"IF(OR(ISBLANK($U3130), $U3130>'DebitCard Rec '!$E$8), $AO3130, 0)","v":0},0,{"$f":"IF(AND($A3130<'P&L'!$P$8, $X3130='P&L'!$G$6), $AR3130, 0)","v":0},0,{"$f":"IF(AND($A3130<'P&L'!$P$8, $X3130='P&L'!$G$6), $AT3130, 0)","v":0}," "," "," "]
[null,null,null,null,null,null,null,null,null,null,null,null,null,null,null,null,null,null,null,null,null,null,"Jan-00",1900,{"$f":"IF(AND($A3142<'P&L'!$P$8, YEAR($A3142)=Master!$C$6), $K3142, 0)","v":0},0,{"$f":"IF(AND(NOT(ISBLANK($O3142)), $O3142<'P&L'!$P$8), Z3142, 0)","v":0},{"$f":"IF(OR(ISBLANK($O3142), $O3142>'BankRec Main Acct'!$E$8), Z3142, 0)","v":0},0,{"$f":"IF(AND(NOT(ISBLANK($O3142)), $O3142<'P&L'!$P$8), AC3142, 0)","v":0},{"$f":"IF(OR(ISBLANK($O3142), $O3142>'BankRec Main Acct'!$E$8), AC3142, 0)","v":0},0,{"$f":"IF(AND(NOT(ISBLANK($S3142)), $S3142<'P&L'!$P$8), AF3142, 0)","v":0},{"$f":"IF(OR(ISBLANK($S3142), $S3142>'BankRec Main Acct'!$E$8), AF3142, 0)","v":0},0,{"$f":"IF(AND(NOT(ISBLANK($S3142)), $S3142<'P&L'!$P$8), AI3142, 0)","v":0},{"$f":"IF(OR(ISBLANK($S3142), $S3142>'BankRec Main Acct'!$E$8), AI3142, 0)","v":0},0,{"$f":"IF(AND(NOT(ISBLANK($U3142)), $U3142<'P&L'!$P$8), $AL3142, 0)","v":0},{"$f":"IF(OR(ISBLANK($U3142), $U3142>'DebitCard Rec '!$E$8), $AL3142, 0)","v":0},0,{"$f":"IF(AND(NOT(ISBLANK($U3142)), $U3142<'P&L'!$P$8), $AO3142, 0)","v":0},{"$f":"IF(OR(ISBLANK($U3142), $U3142>'DebitCard Rec '!$E$8), $AO3142, 0)","v":0},0,{"$f":"IF(AND($A3142<'P&L'!$P$8, $X3142='P&L'!$G$6), $AR3142, 0)","v":0},0,{"$f":"IF(AND($A3142<'P&L'!$P$8, $X3142='P&L'!$G$6), $AT3142, 0)","v":0}," "," "," "]
[null,null,null,null,null,null,null,null,null,null,null,null,null,null,null,null,null,null,null,null,null,null,"Jan-00",1900,{"$f":"IF(AND($A3145<'P&L'!$P$8, YEAR($A3145)=Master!$C$6), $K3145, 0)","v":0},0,{"$f":"IF(AND(NOT(ISBLANK($O3145)), $O3145<'P&L'!$P$8), Z3145, 0)","v":0},{"$f":"IF(OR(ISBLANK($O3145), $O3145>'BankRec Main Acct'!$E$8), Z3145, 0)","v":0},0,{"$f":"IF(AND(NOT(ISBLANK($O3145)), $O3145<'P&L'!$P$8), AC3145, 0)","v":0},{"$f":"IF(OR(ISBLANK($O3145), $O3145>'BankRec Main Acct'!$E$8), AC3145, 0)","v":0},0,{"$f":"IF(AND(NOT(ISBLANK($S3145)), $S3145<'P&L'!$P$8), AF3145, 0)","v":0},{"$f":"IF(OR(ISBLANK($S3145), $S3145>'BankRec Main Acct'!$E$8), AF3145, 0)","v":0},0,{"$f":"IF(AND(NOT(ISBLANK($S3145)), $S3145<'P&L'!$P$8), AI3145, 0)","v":0},{"$f":"IF(OR(ISBLANK($S3145), $S3145>'BankRec Main Acct'!$E$8), AI3145, 0)","v":0},0,{"$f":"IF(AND(NOT(ISBLANK($U3145)), $U3145<'P&L'!$P$8), $AL3145, 0)","v":0},{"$f":"IF(OR(ISBLANK($U3145), $U3145>'DebitCard Rec '!$E$8), $AL3145, 0)","v":0},0,{"$f":"IF(AND(NOT(ISBLANK($U3145)), $U3145<'P&L'!$P$8), $AO3145, 0)","v":0},{"$f":"IF(OR(ISBLANK($U3145), $U3145>'DebitCard Rec '!$E$8), $AO3145, 0)","v":0},0,{"$f":"IF(AND($A3145<'P&L'!$P$8, $X3145='P&L'!$G$6), $AR3145, 0)","v":0},0,{"$f":"IF(AND($A3145<'P&L'!$P$8, $X3145='P&L'!$G$6), $AT3145, 0)","v":0}," "," "," "]
[null,null,null,null,null,null,null,null,null,null,null,null,null,null,null,null,null,null,null,null,null,null,"Jan-00",1900,{"$f":"IF(AND($A3160<'P&L'!$P$8, YEAR($A3160)=Master!$C$6), $K3160, 0)","v":0},0,{"$f":"IF(AND(NOT(ISBLANK($O3160)), $O3160<'P&L'!$P$8), Z3160, 0)","v":0},{"$f":"IF(OR(ISBLANK($O3160), $O3160>'BankRec Main Acct'!$E$8), Z3160, 0)","v":0},0,{"$f":"IF(AND(NOT(ISBLANK($O3160)), $O3160<'P&L'!$P$8), AC3160, 0)","v":0},{"$f":"IF(OR(ISBLANK($O3160), $O3160>'BankRec Main Acct'!$E$8), AC3160, 0)","v":0},0,{"$f":"IF(AND(NOT(ISBLANK($S3160)), $S3160<'P&L'!$P$8), AF3160, 0)","v":0},{"$f":"IF(OR(ISBLANK($S3160), $S3160>'BankRec Main Acct'!$E$8), AF3160, 0)","v":0},0,{"$f":"IF(AND(NOT(ISBLANK($S3160)), $S3160<'P&L'!$P$8), AI3160, 0)","v":0},{"$f":"IF(OR(ISBLANK($S3160), $S3160>'BankRec Main Acct'!$E$8), AI3160, 0)","v":0},0,{"$f":"IF(AND(NOT(ISBLANK($U3160)), $U3160<'P&L'!$P$8), $AL3160, 0)","v":0},{"$f":"IF(OR(ISBLANK($U3160), $U3160>'DebitCard Rec '!$E$8), $AL3160, 0)","v":0},0,{"$f":"IF(AND(NOT(ISBLANK($U3160)), $U3160<'P&L'!$P$8), $AO3160, 0)","v":0},{"$f":"IF(OR(ISBLANK($U3160), $U3160>'DebitCard Rec '!$E$8), $AO3160, 0)","v":0},0,{"$f":"IF(AND($A3160<'P&L'!$P$8, $X3160='P&L'!$G$6), $AR3160, 0)","v":0},0,{"$f":"IF(AND($A3160<'P&L'!$P$8, $X3160='P&L'!$G$6), $AT3160, 0)","v":0}," "," "," "]
[null,null,null,null,null,null,null,null,null,null,null,null,null,null,null,null,null,null,null,null,null,null,"Jan-00",1900,{"$f":"IF(AND($A3163<'P&L'!$P$8, YEAR($A3163)=Master!$C$6), $K3163, 0)","v":0},0,{"$f":"IF(AND(NOT(ISBLANK($O3163)), $O3163<'P&L'!$P$8), Z3163, 0)","v":0},{"$f":"IF(OR(ISBLANK($O3163), $O3163>'BankRec Main Acct'!$E$8), Z3163, 0)","v":0},0,{"$f":"IF(AND(NOT(ISBLANK($O3163)), $O3163<'P&L'!$P$8), AC3163, 0)","v":0},{"$f":"IF(OR(ISBLANK($O3163), $O3163>'BankRec Main Acct'!$E$8), AC3163, 0)","v":0},0,{"$f":"IF(AND(NOT(ISBLANK($S3163)), $S3163<'P&L'!$P$8), AF3163, 0)","v":0},{"$f":"IF(OR(ISBLANK($S3163), $S3163>'BankRec Main Acct'!$E$8), AF3163, 0)","v":0},0,{"$f":"IF(AND(NOT(ISBLANK($S3163)), $S3163<'P&L'!$P$8), AI3163, 0)","v":0},{"$f":"IF(OR(ISBLANK($S3163), $S3163>'BankRec Main Acct'!$E$8), AI3163, 0)","v":0},0,{"$f":"IF(AND(NOT(ISBLANK($U3163)), $U3163<'P&L'!$P$8), $AL3163, 0)","v":0},{"$f":"IF(OR(ISBLANK($U3163), $U3163>'DebitCard Rec '!$E$8), $AL3163, 0)","v":0},0,{"$f":"IF(AND(NOT(ISBLANK($U3163)), $U3163<'P&L'!$P$8), $AO3163, 0)","v":0},{"$f":"IF(OR(ISBLANK($U3163), $U3163>'DebitCard Rec '!$E$8), $AO3163, 0)","v":0},0,{"$f":"IF(AND($A3163<'P&L'!$P$8, $X3163='P&L'!$G$6), $AR3163, 0)","v":0},0,{"$f":"IF(AND($A3163<'P&L'!$P$8, $X3163='P&L'!$G$6), $AT3163, 0)","v":0}," "," "," "]
[null,null,null,null,null,null,null,null,null,null,null,null,null,null,null,null,null,null,null,null,null,null,"Jan-00",1900,{"$f":"IF(AND($A3170<'P&L'!$P$8, YEAR($A3170)=Master!$C$6), $K3170, 0)","v":0},0,{"$f":"IF(AND(NOT(ISBLANK($O3170)), $O3170<'P&L'!$P$8), Z3170, 0)","v":0},{"$f":"IF(OR(ISBLANK($O3170), $O3170>'BankRec Main Acct'!$E$8), Z3170, 0)","v":0},0,{"$f":"IF(AND(NOT(ISBLANK($O3170)), $O3170<'P&L'!$P$8), AC3170, 0)","v":0},{"$f":"IF(OR(ISBLANK($O3170), $O3170>'BankRec Main Acct'!$E$8), AC3170, 0)","v":0},0,{"$f":"IF(AND(NOT(ISBLANK($S3170)), $S3170<'P&L'!$P$8), AF3170, 0)","v":0},{"$f":"IF(OR(ISBLANK($S3170), $S3170>'BankRec Main Acct'!$E$8), AF3170, 0)","v":0},0,{"$f":"IF(AND(NOT(ISBLANK($S3170)), $S3170<'P&L'!$P$8), AI3170, 0)","v":0},{"$f":"IF(OR(ISBLANK($S3170), $S3170>'BankRec Main Acct'!$E$8), AI3170, 0)","v":0},0,{"$f":"IF(AND(NOT(ISBLANK($U3170)), $U3170<'P&L'!$P$8), $AL3170, 0)","v":0},{"$f":"IF(OR(ISBLANK($U3170), $U3170>'DebitCard Rec '!$E$8), $AL3170, 0)","v":0},0,{"$f":"IF(AND(NOT(ISBLANK($U3170)), $U3170<'P&L'!$P$8), $AO3170, 0)","v":0},{"$f":"IF(OR(ISBLANK($U3170), $U3170>'DebitCard Rec '!$E$8), $AO3170, 0)","v":0},0,{"$f":"IF(AND($A3170<'P&L'!$P$8, $X3170='P&L'!$G$6), $AR3170, 0)","v":0},0,{"$f":"IF(AND($A3170<'P&L'!$P$8, $X3170='P&L'!$G$6), $AT3170, 0)","v":0}," "," "," "]
[null,null,null,null,null,null,null,null,null,null,null,null,null,null,null,null,null,null,null,null,null,null,"Jan-00",1900,{"$f":"IF(AND($A3182<'P&L'!$P$8, YEAR($A3182)=Master!$C$6), $K3182, 0)","v":0},0,{"$f":"IF(AND(NOT(ISBLANK($O3182)), $O3182<'P&L'!$P$8), Z3182, 0)","v":0},{"$f":"IF(OR(ISBLANK($O3182), $O3182>'BankRec Main Acct'!$E$8), Z3182, 0)","v":0},0,{"$f":"IF(AND(NOT(ISBLANK($O3182)), $O3182<'P&L'!$P$8), AC3182, 0)","v":0},{"$f":"IF(OR(ISBLANK($O3182), $O3182>'BankRec Main Acct'!$E$8), AC3182, 0)","v":0},0,{"$f":"IF(AND(NOT(ISBLANK($S3182)), $S3182<'P&L'!$P$8), AF3182, 0)","v":0},{"$f":"IF(OR(ISBLANK($S3182), $S3182>'BankRec Main Acct'!$E$8), AF3182, 0)","v":0},0,{"$f":"IF(AND(NOT(ISBLANK($S3182)), $S3182<'P&L'!$P$8), AI3182, 0)","v":0},{"$f":"IF(OR(ISBLANK($S3182), $S3182>'BankRec Main Acct'!$E$8), AI3182, 0)","v":0},0,{"$f":"IF(AND(NOT(ISBLANK($U3182)), $U3182<'P&L'!$P$8), $AL3182, 0)","v":0},{"$f":"IF(OR(ISBLANK($U3182), $U3182>'DebitCard Rec '!$E$8), $AL3182, 0)","v":0},0,{"$f":"IF(AND(NOT(ISBLANK($U3182)), $U3182<'P&L'!$P$8), $AO3182, 0)","v":0},{"$f":"IF(OR(ISBLANK($U3182), $U3182>'DebitCard Rec '!$E$8), $AO3182, 0)","v":0},0,{"$f":"IF(AND($A3182<'P&L'!$P$8, $X3182='P&L'!$G$6), $AR3182, 0)","v":0},0,{"$f":"IF(AND($A3182<'P&L'!$P$8, $X3182='P&L'!$G$6), $AT3182, 0)","v":0}," "," "," "]
[null,null,null,null,null,null,null,null,null,null,null,null,null,null,null,null,null,null,null,null,null,null,"Jan-00",1900,{"$f":"IF(AND($A3194<'P&L'!$P$8, YEAR($A3194)=Master!$C$6), $K3194, 0)","v":0},0,{"$f":"IF(AND(NOT(ISBLANK($O3194)), $O3194<'P&L'!$P$8), Z3194, 0)","v":0},{"$f":"IF(OR(ISBLANK($O3194), $O3194>'BankRec Main Acct'!$E$8), Z3194, 0)","v":0},0,{"$f":"IF(AND(NOT(ISBLANK($O3194)), $O3194<'P&L'!$P$8), AC3194, 0)","v":0},{"$f":"IF(OR(ISBLANK($O3194), $O3194>'BankRec Main Acct'!$E$8), AC3194, 0)","v":0},0,{"$f":"IF(AND(NOT(ISBLANK($S3194)), $S3194<'P&L'!$P$8), AF3194, 0)","v":0},{"$f":"IF(OR(ISBLANK($S3194), $S3194>'BankRec Main Acct'!$E$8), AF3194, 0)","v":0},0,{"$f":"IF(AND(NOT(ISBLANK($S3194)), $S3194<'P&L'!$P$8), AI3194, 0)","v":0},{"$f":"IF(OR(ISBLANK($S3194), $S3194>'BankRec Main Acct'!$E$8), AI3194, 0)","v":0},0,{"$f":"IF(AND(NOT(ISBLANK($U3194)), $U3194<'P&L'!$P$8), $AL3194, 0)","v":0},{"$f":"IF(OR(ISBLANK($U3194), $U3194>'DebitCard Rec '!$E$8), $AL3194, 0)","v":0},0,{"$f":"IF(AND(NOT(ISBLANK($U3194)), $U3194<'P&L'!$P$8), $AO3194, 0)","v":0},{"$f":"IF(OR(ISBLANK($U3194), $U3194>'DebitCard Rec '!$E$8), $AO3194, 0)","v":0},0,{"$f":"IF(AND($A3194<'P&L'!$P$8, $X3194='P&L'!$G$6), $AR3194, 0)","v":0},0,{"$f":"IF(AND($A3194<'P&L'!$P$8, $X3194='P&L'!$G$6), $AT3194, 0)","v":0}," "," "," "]
[null,null,null,null,null,null,null,null,null,null,null,null,null,null,null,null,null,null,null,null,null,null,"Jan-00",1900,{"$f":"IF(AND($A3201<'P&L'!$P$8, YEAR($A3201)=Master!$C$6), $K3201, 0)","v":0},0,{"$f":"IF(AND(NOT(ISBLANK($O3201)), $O3201<'P&L'!$P$8), Z3201, 0)","v":0},{"$f":"IF(OR(ISBLANK($O3201), $O3201>'BankRec Main Acct'!$E$8), Z3201, 0)","v":0},0,{"$f":"IF(AND(NOT(ISBLANK($O3201)), $O3201<'P&L'!$P$8), AC3201, 0)","v":0},{"$f":"IF(OR(ISBLANK($O3201), $O3201>'BankRec Main Acct'!$E$8), AC3201, 0)","v":0},0,{"$f":"IF(AND(NOT(ISBLANK($S3201)), $S3201<'P&L'!$P$8), AF3201, 0)","v":0},{"$f":"IF(OR(ISBLANK($S3201), $S3201>'BankRec Main Acct'!$E$8), AF3201, 0)","v":0},0,{"$f":"IF(AND(NOT(ISBLANK($S3201)), $S3201<'P&L'!$P$8), AI3201, 0)","v":0},{"$f":"IF(OR(ISBLANK($S3201), $S3201>'BankRec Main Acct'!$E$8), AI3201, 0)","v":0},0,{"$f":"IF(AND(NOT(ISBLANK($U3201)), $U3201<'P&L'!$P$8), $AL3201, 0)","v":0},{"$f":"IF(OR(ISBLANK($U3201), $U3201>'DebitCard Rec '!$E$8), $AL3201, 0)","v":0},0,{"$f":"IF(AND(NOT(ISBLANK($U3201)), $U3201<'P&L'!$P$8), $AO3201, 0)","v":0},{"$f":"IF(OR(ISBLANK($U3201), $U3201>'DebitCard Rec '!$E$8), $AO3201, 0)","v":0},0,{"$f":"IF(AND($A3201<'P&L'!$P$8, $X3201='P&L'!$G$6), $AR3201, 0)","v":0},0,{"$f":"IF(AND($A3201<'P&L'!$P$8, $X3201='P&L'!$G$6), $AT3201, 0)","v":0}," "," "," "]
[null,null,null,null,null,null,null,null,null,null,null,null,null,null,null,null,null,null,null,null,null,null,"Jan-00",1900,{"$f":"IF(AND($A3212<'P&L'!$P$8, YEAR($A3212)=Master!$C$6), $K3212, 0)","v":0},0,{"$f":"IF(AND(NOT(ISBLANK($O3212)), $O3212<'P&L'!$P$8), Z3212, 0)","v":0},{"$f":"IF(OR(ISBLANK($O3212), $O3212>'BankRec Main Acct'!$E$8), Z3212, 0)","v":0},0,{"$f":"IF(AND(NOT(ISBLANK($O3212)), $O3212<'P&L'!$P$8), AC3212, 0)","v":0},{"$f":"IF(OR(ISBLANK($O3212), $O3212>'BankRec Main Acct'!$E$8), AC3212, 0)","v":0},0,{"$f":"IF(AND(NOT(ISBLANK($S3212)), $S3212<'P&L'!$P$8), AF3212, 0)","v":0},{"$f":"IF(OR(ISBLANK($S3212), $S3212>'BankRec Main Acct'!$E$8), AF3212, 0)","v":0},0,{"$f":"IF(AND(NOT(ISBLANK($S3212)), $S3212<'P&L'!$P$8), AI3212, 0)","v":0},{"$f":"IF(OR(ISBLANK($S3212), $S3212>'BankRec Main Acct'!$E$8), AI3212, 0)","v":0},0,{"$f":"IF(AND(NOT(ISBLANK($U3212)), $U3212<'P&L'!$P$8), $AL3212, 0)","v":0},{"$f":"IF(OR(ISBLANK($U3212), $U3212>'DebitCard Rec '!$E$8), $AL3212, 0)","v":0},0,{"$f":"IF(AND(NOT(ISBLANK($U3212)), $U3212<'P&L'!$P$8), $AO3212, 0)","v":0},{"$f":"IF(OR(ISBLANK($U3212), $U3212>'DebitCard Rec '!$E$8), $AO3212, 0)","v":0},0,{"$f":"IF(AND($A3212<'P&L'!$P$8, $X3212='P&L'!$G$6), $AR3212, 0)","v":0},0,{"$f":"IF(AND($A3212<'P&L'!$P$8, $X3212='P&L'!$G$6), $AT3212, 0)","v":0}," "," "," "]
[null,null,null,null,null,null,null,null,null,null,null,null,null,null,null,null,null,null,null,null,null,null,"Jan-00",1900,{"$f":"IF(AND($A3219<'P&L'!$P$8, YEAR($A3219)=Master!$C$6), $K3219, 0)","v":0},0,{"$f":"IF(AND(NOT(ISBLANK($O3219)), $O3219<'P&L'!$P$8), Z3219, 0)","v":0},{"$f":"IF(OR(ISBLANK($O3219), $O3219>'BankRec Main Acct'!$E$8), Z3219, 0)","v":0},0,{"$f":"IF(AND(NOT(ISBLANK($O3219)), $O3219<'P&L'!$P$8), AC3219, 0)","v":0},{"$f":"IF(OR(ISBLANK($O3219), $O3219>'BankRec Main Acct'!$E$8), AC3219, 0)","v":0},0,{"$f":"IF(AND(NOT(ISBLANK($S3219)), $S3219<'P&L'!$P$8), AF3219, 0)","v":0},{"$f":"IF(OR(ISBLANK($S3219), $S3219>'BankRec Main Acct'!$E$8), AF3219, 0)","v":0},0,{"$f":"IF(AND(NOT(ISBLANK($S3219)), $S3219<'P&L'!$P$8), AI3219, 0)","v":0},{"$f":"IF(OR(ISBLANK($S3219), $S3219>'BankRec Main Acct'!$E$8), AI3219, 0)","v":0},0,{"$f":"IF(AND(NOT(ISBLANK($U3219)), $U3219<'P&L'!$P$8), $AL3219, 0)","v":0},{"$f":"IF(OR(ISBLANK($U3219), $U3219>'DebitCard Rec '!$E$8), $AL3219, 0)","v":0},0,{"$f":"IF(AND(NOT(ISBLANK($U3219)), $U3219<'P&L'!$P$8), $AO3219, 0)","v":0},{"$f":"IF(OR(ISBLANK($U3219), $U3219>'DebitCard Rec '!$E$8), $AO3219, 0)","v":0},0,{"$f":"IF(AND($A3219<'P&L'!$P$8, $X3219='P&L'!$G$6), $AR3219, 0)","v":0},0,{"$f":"IF(AND($A3219<'P&L'!$P$8, $X3219='P&L'!$G$6), $AT3219, 0)","v":0}," "," "," "]
[null,null,null,null,null,null,null,null,null,null,null,null,null,null,null,null,null,null,null,null,null,null,"Jan-00",1900,{"$f":"IF(AND($A3231<'P&L'!$P$8, YEAR($A3231)=Master!$C$6), $K3231, 0)","v":0},0,{"$f":"IF(AND(NOT(ISBLANK($O3231)), $O3231<'P&L'!$P$8), Z3231, 0)","v":0},{"$f":"IF(OR(ISBLANK($O3231), $O3231>'BankRec Main Acct'!$E$8), Z3231, 0)","v":0},0,{"$f":"IF(AND(NOT(ISBLANK($O3231)), $O3231<'P&L'!$P$8), AC3231, 0)","v":0},{"$f":"IF(OR(ISBLANK($O3231), $O3231>'BankRec Main Acct'!$E$8), AC3231, 0)","v":0},0,{"$f":"IF(AND(NOT(ISBLANK($S3231)), $S3231<'P&L'!$P$8), AF3231, 0)","v":0},{"$f":"IF(OR(ISBLANK($S3231), $S3231>'BankRec Main Acct'!$E$8), AF3231, 0)","v":0},0,{"$f":"IF(AND(NOT(ISBLANK($S3231)), $S3231<'P&L'!$P$8), AI3231, 0)","v":0},{"$f":"IF(OR(ISBLANK($S3231), $S3231>'BankRec Main Acct'!$E$8), AI3231, 0)","v":0},0,{"$f":"IF(AND(NOT(ISBLANK($U3231)), $U3231<'P&L'!$P$8), $AL3231, 0)","v":0},{"$f":"IF(OR(ISBLANK($U3231), $U3231>'DebitCard Rec '!$E$8), $AL3231, 0)","v":0},0,{"$f":"IF(AND(NOT(ISBLANK($U3231)), $U3231<'P&L'!$P$8), $AO3231, 0)","v":0},{"$f":"IF(OR(ISBLANK($U3231), $U3231>'DebitCard Rec '!$E$8), $AO3231, 0)","v":0},0,{"$f":"IF(AND($A3231<'P&L'!$P$8, $X3231='P&L'!$G$6), $AR3231, 0)","v":0},0,{"$f":"IF(AND($A3231<'P&L'!$P$8, $X3231='P&L'!$G$6), $AT3231, 0)","v":0}," "," "," "]
[null,null,null,null,null,null,null,null,null,null,null,null,null,null,null,null,null,null,null,null,null,null,"Jan-00",1900,{"$f":"IF(AND($A3232<'P&L'!$P$8, YEAR($A3232)=Master!$C$6), $K3232, 0)","v":0},0,{"$f":"IF(AND(NOT(ISBLANK($O3232)), $O3232<'P&L'!$P$8), Z3232, 0)","v":0},{"$f":"IF(OR(ISBLANK($O3232), $O3232>'BankRec Main Acct'!$E$8), Z3232, 0)","v":0},0,{"$f":"IF(AND(NOT(ISBLANK($O3232)), $O3232<'P&L'!$P$8), AC3232, 0)","v":0},{"$f":"IF(OR(ISBLANK($O3232), $O3232>'BankRec Main Acct'!$E$8), AC3232, 0)","v":0},0,{"$f":"IF(AND(NOT(ISBLANK($S3232)), $S3232<'P&L'!$P$8), AF3232, 0)","v":0},{"$f":"IF(OR(ISBLANK($S3232), $S3232>'BankRec Main Acct'!$E$8), AF3232, 0)","v":0},0,{"$f":"IF(AND(NOT(ISBLANK($S3232)), $S3232<'P&L'!$P$8), AI3232, 0)","v":0},{"$f":"IF(OR(ISBLANK($S3232), $S3232>'BankRec Main Acct'!$E$8), AI3232, 0)","v":0},0,{"$f":"IF(AND(NOT(ISBLANK($U3232)), $U3232<'P&L'!$P$8), $AL3232, 0)","v":0},{"$f":"IF(OR(ISBLANK($U3232), $U3232>'DebitCard Rec '!$E$8), $AL3232, 0)","v":0},0,{"$f":"IF(AND(NOT(ISBLANK($U3232)), $U3232<'P&L'!$P$8), $AO3232, 0)","v":0},{"$f":"IF(OR(ISBLANK($U3232), $U3232>'DebitCard Rec '!$E$8), $AO3232, 0)","v":0},0,{"$f":"IF(AND($A3232<'P&L'!$P$8, $X3232='P&L'!$G$6), $AR3232, 0)","v":0},0,{"$f":"IF(AND($A3232<'P&L'!$P$8, $X3232='P&L'!$G$6), $AT3232, 0)","v":0}," "," "," "]
[null,null,null,null,null,null,null,null,null,null,null,null,null,null,null,null,null,null,null,null,null,null,"Jan-00",1900,{"$f":"IF(AND($A3240<'P&L'!$P$8, YEAR($A3240)=Master!$C$6), $K3240, 0)","v":0},0,{"$f":"IF(AND(NOT(ISBLANK($O3240)), $O3240<'P&L'!$P$8), Z3240, 0)","v":0},{"$f":"IF(OR(ISBLANK($O3240), $O3240>'BankRec Main Acct'!$E$8), Z3240, 0)","v":0},0,{"$f":"IF(AND(NOT(ISBLANK($O3240)), $O3240<'P&L'!$P$8), AC3240, 0)","v":0},{"$f":"IF(OR(ISBLANK($O3240), $O3240>'BankRec Main Acct'!$E$8), AC3240, 0)","v":0},0,{"$f":"IF(AND(NOT(ISBLANK($S3240)), $S3240<'P&L'!$P$8), AF3240, 0)","v":0},{"$f":"IF(OR(ISBLANK($S3240), $S3240>'BankRec Main Acct'!$E$8), AF3240, 0)","v":0},0,{"$f":"IF(AND(NOT(ISBLANK($S3240)), $S3240<'P&L'!$P$8), AI3240, 0)","v":0},{"$f":"IF(OR(ISBLANK($S3240), $S3240>'BankRec Main Acct'!$E$8), AI3240, 0)","v":0},0,{"$f":"IF(AND(NOT(ISBLANK($U3240)), $U3240<'P&L'!$P$8), $AL3240, 0)","v":0},{"$f":"IF(OR(ISBLANK($U3240), $U3240>'DebitCard Rec '!$E$8), $AL3240, 0)","v":0},0,{"$f":"IF(AND(NOT(ISBLANK($U3240)), $U3240<'P&L'!$P$8), $AO3240, 0)","v":0},{"$f":"IF(OR(ISBLANK($U3240), $U3240>'DebitCard Rec '!$E$8), $AO3240, 0)","v":0},0,{"$f":"IF(AND($A3240<'P&L'!$P$8, $X3240='P&L'!$G$6), $AR3240, 0)","v":0},0,{"$f":"IF(AND($A3240<'P&L'!$P$8, $X3240='P&L'!$G$6), $AT3240, 0)","v":0}," "," "," "]
[null,null,null,null,null,null,null,null,null,null,null,null,null,null,null,null,null,null,null,null,null,null,"Jan-00",1900,{"$f":"IF(AND($A3252<'P&L'!$P$8, YEAR($A3252)=Master!$C$6), $K3252, 0)","v":0},0,{"$f":"IF(AND(NOT(ISBLANK($O3252)), $O3252<'P&L'!$P$8), Z3252, 0)","v":0},{"$f":"IF(OR(ISBLANK($O3252), $O3252>'BankRec Main Acct'!$E$8), Z3252, 0)","v":0},0,{"$f":"IF(AND(NOT(ISBLANK($O3252)), $O3252<'P&L'!$P$8), AC3252, 0)","v":0},{"$f":"IF(OR(ISBLANK($O3252), $O3252>'BankRec Main Acct'!$E$8), AC3252, 0)","v":0},0,{"$f":"IF(AND(NOT(ISBLANK($S3252)), $S3252<'P&L'!$P$8), AF3252, 0)","v":0},{"$f":"IF(OR(ISBLANK($S3252), $S3252>'BankRec Main Acct'!$E$8), AF3252, 0)","v":0},0,{"$f":"IF(AND(NOT(ISBLANK($S3252)), $S3252<'P&L'!$P$8), AI3252, 0)","v":0},{"$f":"IF(OR(ISBLANK($S3252), $S3252>'BankRec Main Acct'!$E$8), AI3252, 0)","v":0},0,{"$f":"IF(AND(NOT(ISBLANK($U3252)), $U3252<'P&L'!$P$8), $AL3252, 0)","v":0},{"$f":"IF(OR(ISBLANK($U3252), $U3252>'DebitCard Rec '!$E$8), $AL3252, 0)","v":0},0,{"$f":"IF(AND(NOT(ISBLANK($U3252)), $U3252<'P&L'!$P$8), $AO3252, 0)","v":0},{"$f":"IF(OR(ISBLANK($U3252), $U3252>'DebitCard Rec '!$E$8), $AO3252, 0)","v":0},0,{"$f":"IF(AND($A3252<'P&L'!$P$8, $X3252='P&L'!$G$6), $AR3252, 0)","v":0},0,{"$f":"IF(AND($A3252<'P&L'!$P$8, $X3252='P&L'!$G$6), $AT3252, 0)","v":0}," "," "," "]
[null,null,null,null,null,null,null,null,null,null,null,null,null,null,null,null,null,null,null,null,null,null,"Jan-00",1900,{"$f":"IF(AND($A3264<'P&L'!$P$8, YEAR($A3264)=Master!$C$6), $K3264, 0)","v":0},0,{"$f":"IF(AND(NOT(ISBLANK($O3264)), $O3264<'P&L'!$P$8), Z3264, 0)","v":0},{"$f":"IF(OR(ISBLANK($O3264), $O3264>'BankRec Main Acct'!$E$8), Z3264, 0)","v":0},0,{"$f":"IF(AND(NOT(ISBLANK($O3264)), $O3264<'P&L'!$P$8), AC3264, 0)","v":0},{"$f":"IF(OR(ISBLANK($O3264), $O3264>'BankRec Main Acct'!$E$8), AC3264, 0)","v":0},0,{"$f":"IF(AND(NOT(ISBLANK($S3264)), $S3264<'P&L'!$P$8), AF3264, 0)","v":0},{"$f":"IF(OR(ISBLANK($S3264), $S3264>'BankRec Main Acct'!$E$8), AF3264, 0)","v":0},0,{"$f":"IF(AND(NOT(ISBLANK($S3264)), $S3264<'P&L'!$P$8), AI3264, 0)","v":0},{"$f":"IF(OR(ISBLANK($S3264), $S3264>'BankRec Main Acct'!$E$8), AI3264, 0)","v":0},0,{"$f":"IF(AND(NOT(ISBLANK($U3264)), $U3264<'P&L'!$P$8), $AL3264, 0)","v":0},{"$f":"IF(OR(ISBLANK($U3264), $U3264>'DebitCard Rec '!$E$8), $AL3264, 0)","v":0},0,{"$f":"IF(AND(NOT(ISBLANK($U3264)), $U3264<'P&L'!$P$8), $AO3264, 0)","v":0},{"$f":"IF(OR(ISBLANK($U3264), $U3264>'DebitCard Rec '!$E$8), $AO3264, 0)","v":0},0,{"$f":"IF(AND($A3264<'P&L'!$P$8, $X3264='P&L'!$G$6), $AR3264, 0)","v":0},0,{"$f":"IF(AND($A3264<'P&L'!$P$8, $X3264='P&L'!$G$6), $AT3264, 0)","v":0}," "," "," "]
[null,null,null,null,null,null,null,null,null,null,null,null,null,null,null,null,null,null,null,null,null,null,"Jan-00",1900,{"$f":"IF(AND($A3271<'P&L'!$P$8, YEAR($A3271)=Master!$C$6), $K3271, 0)","v":0},0,{"$f":"IF(AND(NOT(ISBLANK($O3271)), $O3271<'P&L'!$P$8), Z3271, 0)","v":0},{"$f":"IF(OR(ISBLANK($O3271), $O3271>'BankRec Main Acct'!$E$8), Z3271, 0)","v":0},0,{"$f":"IF(AND(NOT(ISBLANK($O3271)), $O3271<'P&L'!$P$8), AC3271, 0)","v":0},{"$f":"IF(OR(ISBLANK($O3271), $O3271>'BankRec Main Acct'!$E$8), AC3271, 0)","v":0},0,{"$f":"IF(AND(NOT(ISBLANK($S3271)), $S3271<'P&L'!$P$8), AF3271, 0)","v":0},{"$f":"IF(OR(ISBLANK($S3271), $S3271>'BankRec Main Acct'!$E$8), AF3271, 0)","v":0},0,{"$f":"IF(AND(NOT(ISBLANK($S3271)), $S3271<'P&L'!$P$8), AI3271, 0)","v":0},{"$f":"IF(OR(ISBLANK($S3271), $S3271>'BankRec Main Acct'!$E$8), AI3271, 0)","v":0},0,{"$f":"IF(AND(NOT(ISBLANK($U3271)), $U3271<'P&L'!$P$8), $AL3271, 0)","v":0},{"$f":"IF(OR(ISBLANK($U3271), $U3271>'DebitCard Rec '!$E$8), $AL3271, 0)","v":0},0,{"$f":"IF(AND(NOT(ISBLANK($U3271)), $U3271<'P&L'!$P$8), $AO3271, 0)","v":0},{"$f":"IF(OR(ISBLANK($U3271), $U3271>'DebitCard Rec '!$E$8), $AO3271, 0)","v":0},0,{"$f":"IF(AND($A3271<'P&L'!$P$8, $X3271='P&L'!$G$6), $AR3271, 0)","v":0},0,{"$f":"IF(AND($A3271<'P&L'!$P$8, $X3271='P&L'!$G$6), $AT3271, 0)","v":0}," "," "," "]
[null,null,null,null,null,null,null,null,null,null,null,null,null,null,null,null,null,null,null,null,null,null,"Jan-00",1900,{"$f":"IF(AND($A3281<'P&L'!$P$8, YEAR($A3281)=Master!$C$6), $K3281, 0)","v":0},0,{"$f":"IF(AND(NOT(ISBLANK($O3281)), $O3281<'P&L'!$P$8), Z3281, 0)","v":0},{"$f":"IF(OR(ISBLANK($O3281), $O3281>'BankRec Main Acct'!$E$8), Z3281, 0)","v":0},0,{"$f":"IF(AND(NOT(ISBLANK($O3281)), $O3281<'P&L'!$P$8), AC3281, 0)","v":0},{"$f":"IF(OR(ISBLANK($O3281), $O3281>'BankRec Main Acct'!$E$8), AC3281, 0)","v":0},0,{"$f":"IF(AND(NOT(ISBLANK($S3281)), $S3281<'P&L'!$P$8), AF3281, 0)","v":0},{"$f":"IF(OR(ISBLANK($S3281), $S3281>'BankRec Main Acct'!$E$8), AF3281, 0)","v":0},0,{"$f":"IF(AND(NOT(ISBLANK($S3281)), $S3281<'P&L'!$P$8), AI3281, 0)","v":0},{"$f":"IF(OR(ISBLANK($S3281), $S3281>'BankRec Main Acct'!$E$8), AI3281, 0)","v":0},0,{"$f":"IF(AND(NOT(ISBLANK($U3281)), $U3281<'P&L'!$P$8), $AL3281, 0)","v":0},{"$f":"IF(OR(ISBLANK($U3281), $U3281>'DebitCard Rec '!$E$8), $AL3281, 0)","v":0},0,{"$f":"IF(AND(NOT(ISBLANK($U3281)), $U3281<'P&L'!$P$8), $AO3281, 0)","v":0},{"$f":"IF(OR(ISBLANK($U3281), $U3281>'DebitCard Rec '!$E$8), $AO3281, 0)","v":0},0,{"$f":"IF(AND($A3281<'P&L'!$P$8, $X3281='P&L'!$G$6), $AR3281, 0)","v":0},0,{"$f":"IF(AND($A3281<'P&L'!$P$8, $X3281='P&L'!$G$6), $AT3281, 0)","v":0}," "," "," "]
[null,null,null,null,null,null,null,null,null,null,null,null,null,null,null,null,null,null,null,null,null,null,"Jan-00",1900,{"$f":"IF(AND($A3289<'P&L'!$P$8, YEAR($A3289)=Master!$C$6), $K3289, 0)","v":0},0,{"$f":"IF(AND(NOT(ISBLANK($O3289)), $O3289<'P&L'!$P$8), Z3289, 0)","v":0},{"$f":"IF(OR(ISBLANK($O3289), $O3289>'BankRec Main Acct'!$E$8), Z3289, 0)","v":0},0,{"$f":"IF(AND(NOT(ISBLANK($O3289)), $O3289<'P&L'!$P$8), AC3289, 0)","v":0},{"$f":"IF(OR(ISBLANK($O3289), $O3289>'BankRec Main Acct'!$E$8), AC3289, 0)","v":0},0,{"$f":"IF(AND(NOT(ISBLANK($S3289)), $S3289<'P&L'!$P$8), AF3289, 0)","v":0},{"$f":"IF(OR(ISBLANK($S3289), $S3289>'BankRec Main Acct'!$E$8), AF3289, 0)","v":0},0,{"$f":"IF(AND(NOT(ISBLANK($S3289)), $S3289<'P&L'!$P$8), AI3289, 0)","v":0},{"$f":"IF(OR(ISBLANK($S3289), $S3289>'BankRec Main Acct'!$E$8), AI3289, 0)","v":0},0,{"$f":"IF(AND(NOT(ISBLANK($U3289)), $U3289<'P&L'!$P$8), $AL3289, 0)","v":0},{"$f":"IF(OR(ISBLANK($U3289), $U3289>'DebitCard Rec '!$E$8), $AL3289, 0)","v":0},0,{"$f":"IF(AND(NOT(ISBLANK($U3289)), $U3289<'P&L'!$P$8), $AO3289, 0)","v":0},{"$f":"IF(OR(ISBLANK($U3289), $U3289>'DebitCard Rec '!$E$8), $AO3289, 0)","v":0},0,{"$f":"IF(AND($A3289<'P&L'!$P$8, $X3289='P&L'!$G$6), $AR3289, 0)","v":0},0,{"$f":"IF(AND($A3289<'P&L'!$P$8, $X3289='P&L'!$G$6), $AT3289, 0)","v":0}," "," "," "]
[null,null,null,null,null,null,null,null,null,null,null,null,null,null,null,null,null,null,null,null,null,null,"Jan-00",1900,{"$f":"IF(AND($A3301<'P&L'!$P$8, YEAR($A3301)=Master!$C$6), $K3301, 0)","v":0},0,{"$f":"IF(AND(NOT(ISBLANK($O3301)), $O3301<'P&L'!$P$8), Z3301, 0)","v":0},{"$f":"IF(OR(ISBLANK($O3301), $O3301>'BankRec Main Acct'!$E$8), Z3301, 0)","v":0},0,{"$f":"IF(AND(NOT(ISBLANK($O3301)), $O3301<'P&L'!$P$8), AC3301, 0)","v":0},{"$f":"IF(OR(ISBLANK($O3301), $O3301>'BankRec Main Acct'!$E$8), AC3301, 0)","v":0},0,{"$f":"IF(AND(NOT(ISBLANK($S3301)), $S3301<'P&L'!$P$8), AF3301, 0)","v":0},{"$f":"IF(OR(ISBLANK($S3301), $S3301>'BankRec Main Acct'!$E$8), AF3301, 0)","v":0},0,{"$f":"IF(AND(NOT(ISBLANK($S3301)), $S3301<'P&L'!$P$8), AI3301, 0)","v":0},{"$f":"IF(OR(ISBLANK($S3301), $S3301>'BankRec Main Acct'!$E$8), AI3301, 0)","v":0},0,{"$f":"IF(AND(NOT(ISBLANK($U3301)), $U3301<'P&L'!$P$8), $AL3301, 0)","v":0},{"$f":"IF(OR(ISBLANK($U3301), $U3301>'DebitCard Rec '!$E$8), $AL3301, 0)","v":0},0,{"$f":"IF(AND(NOT(ISBLANK($U3301)), $U3301<'P&L'!$P$8), $AO3301, 0)","v":0},{"$f":"IF(OR(ISBLANK($U3301), $U3301>'DebitCard Rec '!$E$8), $AO3301, 0)","v":0},0,{"$f":"IF(AND($A3301<'P&L'!$P$8, $X3301='P&L'!$G$6), $AR3301, 0)","v":0},0,{"$f":"IF(AND($A3301<'P&L'!$P$8, $X3301='P&L'!$G$6), $AT3301, 0)","v":0}," "," "," "]
[null,null,null,null,null,null,null,null,null,null,null,null,null,null,null,null,null,null,null,null,null,null,"Jan-00",1900,{"$f":"IF(AND($A3304<'P&L'!$P$8, YEAR($A3304)=Master!$C$6), $K3304, 0)","v":0},0,{"$f":"IF(AND(NOT(ISBLANK($O3304)), $O3304<'P&L'!$P$8), Z3304, 0)","v":0},{"$f":"IF(OR(ISBLANK($O3304), $O3304>'BankRec Main Acct'!$E$8), Z3304, 0)","v":0},0,{"$f":"IF(AND(NOT(ISBLANK($O3304)), $O3304<'P&L'!$P$8), AC3304, 0)","v":0},{"$f":"IF(OR(ISBLANK($O3304), $O3304>'BankRec Main Acct'!$E$8), AC3304, 0)","v":0},0,{"$f":"IF(AND(NOT(ISBLANK($S3304)), $S3304<'P&L'!$P$8), AF3304, 0)","v":0},{"$f":"IF(OR(ISBLANK($S3304), $S3304>'BankRec Main Acct'!$E$8), AF3304, 0)","v":0},0,{"$f":"IF(AND(NOT(ISBLANK($S3304)), $S3304<'P&L'!$P$8), AI3304, 0)","v":0},{"$f":"IF(OR(ISBLANK($S3304), $S3304>'BankRec Main Acct'!$E$8), AI3304, 0)","v":0},0,{"$f":"IF(AND(NOT(ISBLANK($U3304)), $U3304<'P&L'!$P$8), $AL3304, 0)","v":0},{"$f":"IF(OR(ISBLANK($U3304), $U3304>'DebitCard Rec '!$E$8), $AL3304, 0)","v":0},0,{"$f":"IF(AND(NOT(ISBLANK($U3304)), $U3304<'P&L'!$P$8), $AO3304, 0)","v":0},{"$f":"IF(OR(ISBLANK($U3304), $U3304>'DebitCard Rec '!$E$8), $AO3304, 0)","v":0},0,{"$f":"IF(AND($A3304<'P&L'!$P$8, $X3304='P&L'!$G$6), $AR3304, 0)","v":0},0,{"$f":"IF(AND($A3304<'P&L'!$P$8, $X3304='P&L'!$G$6), $AT3304, 0)","v":0}," "," "," "]
[null,null,null,null,null,null,null,null,null,null,null,null,null,null,null,null,null,null,null,null,null,null,"Jan-00",1900,{"$f":"IF(AND($A3311<'P&L'!$P$8, YEAR($A3311)=Master!$C$6), $K3311, 0)","v":0},0,{"$f":"IF(AND(NOT(ISBLANK($O3311)), $O3311<'P&L'!$P$8), Z3311, 0)","v":0},{"$f":"IF(OR(ISBLANK($O3311), $O3311>'BankRec Main Acct'!$E$8), Z3311, 0)","v":0},0,{"$f":"IF(AND(NOT(ISBLANK($O3311)), $O3311<'P&L'!$P$8), AC3311, 0)","v":0},{"$f":"IF(OR(ISBLANK($O3311), $O3311>'BankRec Main Acct'!$E$8), AC3311, 0)","v":0},0,{"$f":"IF(AND(NOT(ISBLANK($S3311)), $S3311<'P&L'!$P$8), AF3311, 0)","v":0},{"$f":"IF(OR(ISBLANK($S3311), $S3311>'BankRec Main Acct'!$E$8), AF3311, 0)","v":0},0,{"$f":"IF(AND(NOT(ISBLANK($S3311)), $S3311<'P&L'!$P$8), AI3311, 0)","v":0},{"$f":"IF(OR(ISBLANK($S3311), $S3311>'BankRec Main Acct'!$E$8), AI3311, 0)","v":0},0,{"$f":"IF(AND(NOT(ISBLANK($U3311)), $U3311<'P&L'!$P$8), $AL3311, 0)","v":0},{"$f":"IF(OR(ISBLANK($U3311), $U3311>'DebitCard Rec '!$E$8), $AL3311, 0)","v":0},0,{"$f":"IF(AND(NOT(ISBLANK($U3311)), $U3311<'P&L'!$P$8), $AO3311, 0)","v":0},{"$f":"IF(OR(ISBLANK($U3311), $U3311>'DebitCard Rec '!$E$8), $AO3311, 0)","v":0},0,{"$f":"IF(AND($A3311<'P&L'!$P$8, $X3311='P&L'!$G$6), $AR3311, 0)","v":0},0,{"$f":"IF(AND($A3311<'P&L'!$P$8, $X3311='P&L'!$G$6), $AT3311, 0)","v":0}," "," "," "]
[null,null,null,null,null,null,null,null,null,null,null,null,null,null,null,null,null,null,null,null,null,null,"Jan-00",1900,{"$f":"IF(AND($A3322<'P&L'!$P$8, YEAR($A3322)=Master!$C$6), $K3322, 0)","v":0},0,{"$f":"IF(AND(NOT(ISBLANK($O3322)), $O3322<'P&L'!$P$8), Z3322, 0)","v":0},{"$f":"IF(OR(ISBLANK($O3322), $O3322>'BankRec Main Acct'!$E$8), Z3322, 0)","v":0},0,{"$f":"IF(AND(NOT(ISBLANK($O3322)), $O3322<'P&L'!$P$8), AC3322, 0)","v":0},{"$f":"IF(OR(ISBLANK($O3322), $O3322>'BankRec Main Acct'!$E$8), AC3322, 0)","v":0},0,{"$f":"IF(AND(NOT(ISBLANK($S3322)), $S3322<'P&L'!$P$8), AF3322, 0)","v":0},{"$f":"IF(OR(ISBLANK($S3322), $S3322>'BankRec Main Acct'!$E$8), AF3322, 0)","v":0},0,{"$f":"IF(AND(NOT(ISBLANK($S3322)), $S3322<'P&L'!$P$8), AI3322, 0)","v":0},{"$f":"IF(OR(ISBLANK($S3322), $S3322>'BankRec Main Acct'!$E$8), AI3322, 0)","v":0},0,{"$f":"IF(AND(NOT(ISBLANK($U3322)), $U3322<'P&L'!$P$8), $AL3322, 0)","v":0},{"$f":"IF(OR(ISBLANK($U3322), $U3322>'DebitCard Rec '!$E$8), $AL3322, 0)","v":0},0,{"$f":"IF(AND(NOT(ISBLANK($U3322)), $U3322<'P&L'!$P$8), $AO3322, 0)","v":0},{"$f":"IF(OR(ISBLANK($U3322), $U3322>'DebitCard Rec '!$E$8), $AO3322, 0)","v":0},0,{"$f":"IF(AND($A3322<'P&L'!$P$8, $X3322='P&L'!$G$6), $AR3322, 0)","v":0},0,{"$f":"IF(AND($A3322<'P&L'!$P$8, $X3322='P&L'!$G$6), $AT3322, 0)","v":0}," "," "," "]
[null,null,null,null,null,null,null,null,null,null,null,null,null,null,null,null,null,null,null,null,null,null,"Jan-00",1900,{"$f":"IF(AND($A3334<'P&L'!$P$8, YEAR($A3334)=Master!$C$6), $K3334, 0)","v":0},0,{"$f":"IF(AND(NOT(ISBLANK($O3334)), $O3334<'P&L'!$P$8), Z3334, 0)","v":0},{"$f":"IF(OR(ISBLANK($O3334), $O3334>'BankRec Main Acct'!$E$8), Z3334, 0)","v":0},0,{"$f":"IF(AND(NOT(ISBLANK($O3334)), $O3334<'P&L'!$P$8), AC3334, 0)","v":0},{"$f":"IF(OR(ISBLANK($O3334), $O3334>'BankRec Main Acct'!$E$8), AC3334, 0)","v":0},0,{"$f":"IF(AND(NOT(ISBLANK($S3334)), $S3334<'P&L'!$P$8), AF3334, 0)","v":0},{"$f":"IF(OR(ISBLANK($S3334), $S3334>'BankRec Main Acct'!$E$8), AF3334, 0)","v":0},0,{"$f":"IF(AND(NOT(ISBLANK($S3334)), $S3334<'P&L'!$P$8), AI3334, 0)","v":0},{"$f":"IF(OR(ISBLANK($S3334), $S3334>'BankRec Main Acct'!$E$8), AI3334, 0)","v":0},0,{"$f":"IF(AND(NOT(ISBLANK($U3334)), $U3334<'P&L'!$P$8), $AL3334, 0)","v":0},{"$f":"IF(OR(ISBLANK($U3334), $U3334>'DebitCard Rec '!$E$8), $AL3334, 0)","v":0},0,{"$f":"IF(AND(NOT(ISBLANK($U3334)), $U3334<'P&L'!$P$8), $AO3334, 0)","v":0},{"$f":"IF(OR(ISBLANK($U3334), $U3334>'DebitCard Rec '!$E$8), $AO3334, 0)","v":0},0,{"$f":"IF(AND($A3334<'P&L'!$P$8, $X3334='P&L'!$G$6), $AR3334, 0)","v":0},0,{"$f":"IF(AND($A3334<'P&L'!$P$8, $X3334='P&L'!$G$6), $AT3334, 0)","v":0}," "," "," "]
[null,null,null,null,null,null,null,null,null,null,null,null,null,null,null,null,null,null,null,null,null,null,"Jan-00",1900,{"$f":"IF(AND($A3341<'P&L'!$P$8, YEAR($A3341)=Master!$C$6), $K3341, 0)","v":0},0,{"$f":"IF(AND(NOT(ISBLANK($O3341)), $O3341<'P&L'!$P$8), Z3341, 0)","v":0},{"$f":"IF(OR(ISBLANK($O3341), $O3341>'BankRec Main Acct'!$E$8), Z3341, 0)","v":0},0,{"$f":"IF(AND(NOT(ISBLANK($O3341)), $O3341<'P&L'!$P$8), AC3341, 0)","v":0},{"$f":"IF(OR(ISBLANK($O3341), $O3341>'BankRec Main Acct'!$E$8), AC3341, 0)","v":0},0,{"$f":"IF(AND(NOT(ISBLANK($S3341)), $S3341<'P&L'!$P$8), AF3341, 0)","v":0},{"$f":"IF(OR(ISBLANK($S3341), $S3341>'BankRec Main Acct'!$E$8), AF3341, 0)","v":0},0,{"$f":"IF(AND(NOT(ISBLANK($S3341)), $S3341<'P&L'!$P$8), AI3341, 0)","v":0},{"$f":"IF(OR(ISBLANK($S3341), $S3341>'BankRec Main Acct'!$E$8), AI3341, 0)","v":0},0,{"$f":"IF(AND(NOT(ISBLANK($U3341)), $U3341<'P&L'!$P$8), $AL3341, 0)","v":0},{"$f":"IF(OR(ISBLANK($U3341), $U3341>'DebitCard Rec '!$E$8), $AL3341, 0)","v":0},0,{"$f":"IF(AND(NOT(ISBLANK($U3341)), $U3341<'P&L'!$P$8), $AO3341, 0)","v":0},{"$f":"IF(OR(ISBLANK($U3341), $U3341>'DebitCard Rec '!$E$8), $AO3341, 0)","v":0},0,{"$f":"IF(AND($A3341<'P&L'!$P$8, $X3341='P&L'!$G$6), $AR3341, 0)","v":0},0,{"$f":"IF(AND($A3341<'P&L'!$P$8, $X3341='P&L'!$G$6), $AT3341, 0)","v":0}," "," "," "]
[null,null,null,null,null,null,null,null,null,null,null,null,null,null,null,null,null,null,null,null,null,null,"Jan-00",1900,{"$f":"IF(AND($A3353<'P&L'!$P$8, YEAR($A3353)=Master!$C$6), $K3353, 0)","v":0},0,{"$f":"IF(AND(NOT(ISBLANK($O3353)), $O3353<'P&L'!$P$8), Z3353, 0)","v":0},{"$f":"IF(OR(ISBLANK($O3353), $O3353>'BankRec Main Acct'!$E$8), Z3353, 0)","v":0},0,{"$f":"IF(AND(NOT(ISBLANK($O3353)), $O3353<'P&L'!$P$8), AC3353, 0)","v":0},{"$f":"IF(OR(ISBLANK($O3353), $O3353>'BankRec Main Acct'!$E$8), AC3353, 0)","v":0},0,{"$f":"IF(AND(NOT(ISBLANK($S3353)), $S3353<'P&L'!$P$8), AF3353, 0)","v":0},{"$f":"IF(OR(ISBLANK($S3353), $S3353>'BankRec Main Acct'!$E$8), AF3353, 0)","v":0},0,{"$f":"IF(AND(NOT(ISBLANK($S3353)), $S3353<'P&L'!$P$8), AI3353, 0)","v":0},{"$f":"IF(OR(ISBLANK($S3353), $S3353>'BankRec Main Acct'!$E$8), AI3353, 0)","v":0},0,{"$f":"IF(AND(NOT(ISBLANK($U3353)), $U3353<'P&L'!$P$8), $AL3353, 0)","v":0},{"$f":"IF(OR(ISBLANK($U3353), $U3353>'DebitCard Rec '!$E$8), $AL3353, 0)","v":0},0,{"$f":"IF(AND(NOT(ISBLANK($U3353)), $U3353<'P&L'!$P$8), $AO3353, 0)","v":0},{"$f":"IF(OR(ISBLANK($U3353), $U3353>'DebitCard Rec '!$E$8), $AO3353, 0)","v":0},0,{"$f":"IF(AND($A3353<'P&L'!$P$8, $X3353='P&L'!$G$6), $AR3353, 0)","v":0},0,{"$f":"IF(AND($A3353<'P&L'!$P$8, $X3353='P&L'!$G$6), $AT3353, 0)","v":0}," "," "," "]
[null,null,null,null,null,null,null,null,null,null,null,null,null,null,null,null,null,null,null,null,null,null,"Jan-00",1900,{"$f":"IF(AND($A3361<'P&L'!$P$8, YEAR($A3361)=Master!$C$6), $K3361, 0)","v":0},0,{"$f":"IF(AND(NOT(ISBLANK($O3361)), $O3361<'P&L'!$P$8), Z3361, 0)","v":0},{"$f":"IF(OR(ISBLANK($O3361), $O3361>'BankRec Main Acct'!$E$8), Z3361, 0)","v":0},0,{"$f":"IF(AND(NOT(ISBLANK($O3361)), $O3361<'P&L'!$P$8), AC3361, 0)","v":0},{"$f":"IF(OR(ISBLANK($O3361), $O3361>'BankRec Main Acct'!$E$8), AC3361, 0)","v":0},0,{"$f":"IF(AND(NOT(ISBLANK($S3361)), $S3361<'P&L'!$P$8), AF3361, 0)","v":0},{"$f":"IF(OR(ISBLANK($S3361), $S3361>'BankRec Main Acct'!$E$8), AF3361, 0)","v":0},0,{"$f":"IF(AND(NOT(ISBLANK($S3361)), $S3361<'P&L'!$P$8), AI3361, 0)","v":0},{"$f":"IF(OR(ISBLANK($S3361), $S3361>'BankRec Main Acct'!$E$8), AI3361, 0)","v":0},0,{"$f":"IF(AND(NOT(ISBLANK($U3361)), $U3361<'P&L'!$P$8), $AL3361, 0)","v":0},{"$f":"IF(OR(ISBLANK($U3361), $U3361>'DebitCard Rec '!$E$8), $AL3361, 0)","v":0},0,{"$f":"IF(AND(NOT(ISBLANK($U3361)), $U3361<'P&L'!$P$8), $AO3361, 0)","v":0},{"$f":"IF(OR(ISBLANK($U3361), $U3361>'DebitCard Rec '!$E$8), $AO3361, 0)","v":0},0,{"$f":"IF(AND($A3361<'P&L'!$P$8, $X3361='P&L'!$G$6), $AR3361, 0)","v":0},0,{"$f":"IF(AND($A3361<'P&L'!$P$8, $X3361='P&L'!$G$6), $AT3361, 0)","v":0}," "," "," "]
[null,null,null,null,null,null,null,null,null,null,null,null,null,null,null,null,null,null,null,null,null,null,"Jan-00",1900,{"$f":"IF(AND($A3371<'P&L'!$P$8, YEAR($A3371)=Master!$C$6), $K3371, 0)","v":0},0,{"$f":"IF(AND(NOT(ISBLANK($O3371)), $O3371<'P&L'!$P$8), Z3371, 0)","v":0},{"$f":"IF(OR(ISBLANK($O3371), $O3371>'BankRec Main Acct'!$E$8), Z3371, 0)","v":0},0,{"$f":"IF(AND(NOT(ISBLANK($O3371)), $O3371<'P&L'!$P$8), AC3371, 0)","v":0},{"$f":"IF(OR(ISBLANK($O3371), $O3371>'BankRec Main Acct'!$E$8), AC3371, 0)","v":0},0,{"$f":"IF(AND(NOT(ISBLANK($S3371)), $S3371<'P&L'!$P$8), AF3371, 0)","v":0},{"$f":"IF(OR(ISBLANK($S3371), $S3371>'BankRec Main Acct'!$E$8), AF3371, 0)","v":0},0,{"$f":"IF(AND(NOT(ISBLANK($S3371)), $S3371<'P&L'!$P$8), AI3371, 0)","v":0},{"$f":"IF(OR(ISBLANK($S3371), $S3371>'BankRec Main Acct'!$E$8), AI3371, 0)","v":0},0,{"$f":"IF(AND(NOT(ISBLANK($U3371)), $U3371<'P&L'!$P$8), $AL3371, 0)","v":0},{"$f":"IF(OR(ISBLANK($U3371), $U3371>'DebitCard Rec '!$E$8), $AL3371, 0)","v":0},0,{"$f":"IF(AND(NOT(ISBLANK($U3371)), $U3371<'P&L'!$P$8), $AO3371, 0)","v":0},{"$f":"IF(OR(ISBLANK($U3371), $U3371>'DebitCard Rec '!$E$8), $AO3371, 0)","v":0},0,{"$f":"IF(AND($A3371<'P&L'!$P$8, $X3371='P&L'!$G$6), $AR3371, 0)","v":0},0,{"$f":"IF(AND($A3371<'P&L'!$P$8, $X3371='P&L'!$G$6), $AT3371, 0)","v":0}," "," "," "]
[null,null,null,null,null,null,null,null,null,null,null,null,null,null,null,null,null,null,null,null,null,null,"Jan-00",1900,{"$f":"IF(AND($A3374<'P&L'!$P$8, YEAR($A3374)=Master!$C$6), $K3374, 0)","v":0},0,{"$f":"IF(AND(NOT(ISBLANK($O3374)), $O3374<'P&L'!$P$8), Z3374, 0)","v":0},{"$f":"IF(OR(ISBLANK($O3374), $O3374>'BankRec Main Acct'!$E$8), Z3374, 0)","v":0},0,{"$f":"IF(AND(NOT(ISBLANK($O3374)), $O3374<'P&L'!$P$8), AC3374, 0)","v":0},{"$f":"IF(OR(ISBLANK($O3374), $O3374>'BankRec Main Acct'!$E$8), AC3374, 0)","v":0},0,{"$f":"IF(AND(NOT(ISBLANK($S3374)), $S3374<'P&L'!$P$8), AF3374, 0)","v":0},{"$f":"IF(OR(ISBLANK($S3374), $S3374>'BankRec Main Acct'!$E$8), AF3374, 0)","v":0},0,{"$f":"IF(AND(NOT(ISBLANK($S3374)), $S3374<'P&L'!$P$8), AI3374, 0)","v":0},{"$f":"IF(OR(ISBLANK($S3374), $S3374>'BankRec Main Acct'!$E$8), AI3374, 0)","v":0},0,{"$f":"IF(AND(NOT(ISBLANK($U3374)), $U3374<'P&L'!$P$8), $AL3374, 0)","v":0},{"$f":"IF(OR(ISBLANK($U3374), $U3374>'DebitCard Rec '!$E$8), $AL3374, 0)","v":0},0,{"$f":"IF(AND(NOT(ISBLANK($U3374)), $U3374<'P&L'!$P$8), $AO3374, 0)","v":0},{"$f":"IF(OR(ISBLANK($U3374), $U3374>'DebitCard Rec '!$E$8), $AO3374, 0)","v":0},0,{"$f":"IF(AND($A3374<'P&L'!$P$8, $X3374='P&L'!$G$6), $AR3374, 0)","v":0},0,{"$f":"IF(AND($A3374<'P&L'!$P$8, $X3374='P&L'!$G$6), $AT3374, 0)","v":0}," "," "," "]
[null,null,null,null,null,null,null,null,null,null,null,null,null,null,null,null,null,null,null,null,null,null,"Jan-00",1900,{"$f":"IF(AND($A3381<'P&L'!$P$8, YEAR($A3381)=Master!$C$6), $K3381, 0)","v":0},0,{"$f":"IF(AND(NOT(ISBLANK($O3381)), $O3381<'P&L'!$P$8), Z3381, 0)","v":0},{"$f":"IF(OR(ISBLANK($O3381), $O3381>'BankRec Main Acct'!$E$8), Z3381, 0)","v":0},0,{"$f":"IF(AND(NOT(ISBLANK($O3381)), $O3381<'P&L'!$P$8), AC3381, 0)","v":0},{"$f":"IF(OR(ISBLANK($O3381), $O3381>'BankRec Main Acct'!$E$8), AC3381, 0)","v":0},0,{"$f":"IF(AND(NOT(ISBLANK($S3381)), $S3381<'P&L'!$P$8), AF3381, 0)","v":0},{"$f":"IF(OR(ISBLANK($S3381), $S3381>'BankRec Main Acct'!$E$8), AF3381, 0)","v":0},0,{"$f":"IF(AND(NOT(ISBLANK($S3381)), $S3381<'P&L'!$P$8), AI3381, 0)","v":0},{"$f":"IF(OR(ISBLANK($S3381), $S3381>'BankRec Main Acct'!$E$8), AI3381, 0)","v":0},0,{"$f":"IF(AND(NOT(ISBLANK($U3381)), $U3381<'P&L'!$P$8), $AL3381, 0)","v":0},{"$f":"IF(OR(ISBLANK($U3381), $U3381>'DebitCard Rec '!$E$8), $AL3381, 0)","v":0},0,{"$f":"IF(AND(NOT(ISBLANK($U3381)), $U3381<'P&L'!$P$8), $AO3381, 0)","v":0},{"$f":"IF(OR(ISBLANK($U3381), $U3381>'DebitCard Rec '!$E$8), $AO3381, 0)","v":0},0,{"$f":"IF(AND($A3381<'P&L'!$P$8, $X3381='P&L'!$G$6), $AR3381, 0)","v":0},0,{"$f":"IF(AND($A3381<'P&L'!$P$8, $X3381='P&L'!$G$6), $AT3381, 0)","v":0}," "," "," "]
[null,null,null,null,null,null,null,null,null,null,null,null,null,null,null,null,null,null,null,null,null,null,"Jan-00",1900,{"$f":"IF(AND($A3393<'P&L'!$P$8, YEAR($A3393)=Master!$C$6), $K3393, 0)","v":0},0,{"$f":"IF(AND(NOT(ISBLANK($O3393)), $O3393<'P&L'!$P$8), Z3393, 0)","v":0},{"$f":"IF(OR(ISBLANK($O3393), $O3393>'BankRec Main Acct'!$E$8), Z3393, 0)","v":0},0,{"$f":"IF(AND(NOT(ISBLANK($O3393)), $O3393<'P&L'!$P$8), AC3393, 0)","v":0},{"$f":"IF(OR(ISBLANK($O3393), $O3393>'BankRec Main Acct'!$E$8), AC3393, 0)","v":0},0,{"$f":"IF(AND(NOT(ISBLANK($S3393)), $S3393<'P&L'!$P$8), AF3393, 0)","v":0},{"$f":"IF(OR(ISBLANK($S3393), $S3393>'BankRec Main Acct'!$E$8), AF3393, 0)","v":0},0,{"$f":"IF(AND(NOT(ISBLANK($S3393)), $S3393<'P&L'!$P$8), AI3393, 0)","v":0},{"$f":"IF(OR(ISBLANK($S3393), $S3393>'BankRec Main Acct'!$E$8), AI3393, 0)","v":0},0,{"$f":"IF(AND(NOT(ISBLANK($U3393)), $U3393<'P&L'!$P$8), $AL3393, 0)","v":0},{"$f":"IF(OR(ISBLANK($U3393), $U3393>'DebitCard Rec '!$E$8), $AL3393, 0)","v":0},0,{"$f":"IF(AND(NOT(ISBLANK($U3393)), $U3393<'P&L'!$P$8), $AO3393, 0)","v":0},{"$f":"IF(OR(ISBLANK($U3393), $U3393>'DebitCard Rec '!$E$8), $AO3393, 0)","v":0},0,{"$f":"IF(AND($A3393<'P&L'!$P$8, $X3393='P&L'!$G$6), $AR3393, 0)","v":0},0,{"$f":"IF(AND($A3393<'P&L'!$P$8, $X3393='P&L'!$G$6), $AT3393, 0)","v":0}," "," "," "]
[null,null,null,null,null,null,null,null,null,null,null,null,null,null,null,null,null,null,null,null,null,null,"Jan-00",1900,{"$f":"IF(AND($A3402<'P&L'!$P$8, YEAR($A3402)=Master!$C$6), $K3402, 0)","v":0},0,{"$f":"IF(AND(NOT(ISBLANK($O3402)), $O3402<'P&L'!$P$8), Z3402, 0)","v":0},{"$f":"IF(OR(ISBLANK($O3402), $O3402>'BankRec Main Acct'!$E$8), Z3402, 0)","v":0},0,{"$f":"IF(AND(NOT(ISBLANK($O3402)), $O3402<'P&L'!$P$8), AC3402, 0)","v":0},{"$f":"IF(OR(ISBLANK($O3402), $O3402>'BankRec Main Acct'!$E$8), AC3402, 0)","v":0},0,{"$f":"IF(AND(NOT(ISBLANK($S3402)), $S3402<'P&L'!$P$8), AF3402, 0)","v":0},{"$f":"IF(OR(ISBLANK($S3402), $S3402>'BankRec Main Acct'!$E$8), AF3402, 0)","v":0},0,{"$f":"IF(AND(NOT(ISBLANK($S3402)), $S3402<'P&L'!$P$8), AI3402, 0)","v":0},{"$f":"IF(OR(ISBLANK($S3402), $S3402>'BankRec Main Acct'!$E$8), AI3402, 0)","v":0},0,{"$f":"IF(AND(NOT(ISBLANK($U3402)), $U3402<'P&L'!$P$8), $AL3402, 0)","v":0},{"$f":"IF(OR(ISBLANK($U3402), $U3402>'DebitCard Rec '!$E$8), $AL3402, 0)","v":0},0,{"$f":"IF(AND(NOT(ISBLANK($U3402)), $U3402<'P&L'!$P$8), $AO3402, 0)","v":0},{"$f":"IF(OR(ISBLANK($U3402), $U3402>'DebitCard Rec '!$E$8), $AO3402, 0)","v":0},0,{"$f":"IF(AND($A3402<'P&L'!$P$8, $X3402='P&L'!$G$6), $AR3402, 0)","v":0},0,{"$f":"IF(AND($A3402<'P&L'!$P$8, $X3402='P&L'!$G$6), $AT3402, 0)","v":0}," "," "," "]
[null,null,null,null,null,null,null,null,null,null,null,null,null,null,null,null,null,null,null,null,null,null,"Jan-00",1900,{"$f":"IF(AND($A3411<'P&L'!$P$8, YEAR($A3411)=Master!$C$6), $K3411, 0)","v":0},0,{"$f":"IF(AND(NOT(ISBLANK($O3411)), $O3411<'P&L'!$P$8), Z3411, 0)","v":0},{"$f":"IF(OR(ISBLANK($O3411), $O3411>'BankRec Main Acct'!$E$8), Z3411, 0)","v":0},0,{"$f":"IF(AND(NOT(ISBLANK($O3411)), $O3411<'P&L'!$P$8), AC3411, 0)","v":0},{"$f":"IF(OR(ISBLANK($O3411), $O3411>'BankRec Main Acct'!$E$8), AC3411, 0)","v":0},0,{"$f":"IF(AND(NOT(ISBLANK($S3411)), $S3411<'P&L'!$P$8), AF3411, 0)","v":0},{"$f":"IF(OR(ISBLANK($S3411), $S3411>'BankRec Main Acct'!$E$8), AF3411, 0)","v":0},0,{"$f":"IF(AND(NOT(ISBLANK($S3411)), $S3411<'P&L'!$P$8), AI3411, 0)","v":0},{"$f":"IF(OR(ISBLANK($S3411), $S3411>'BankRec Main Acct'!$E$8), AI3411, 0)","v":0},0,{"$f":"IF(AND(NOT(ISBLANK($U3411)), $U3411<'P&L'!$P$8), $AL3411, 0)","v":0},{"$f":"IF(OR(ISBLANK($U3411), $U3411>'DebitCard Rec '!$E$8), $AL3411, 0)","v":0},0,{"$f":"IF(AND(NOT(ISBLANK($U3411)), $U3411<'P&L'!$P$8), $AO3411, 0)","v":0},{"$f":"IF(OR(ISBLANK($U3411), $U3411>'DebitCard Rec '!$E$8), $AO3411, 0)","v":0},0,{"$f":"IF(AND($A3411<'P&L'!$P$8, $X3411='P&L'!$G$6), $AR3411, 0)","v":0},0,{"$f":"IF(AND($A3411<'P&L'!$P$8, $X3411='P&L'!$G$6), $AT3411, 0)","v":0}," "," "," "]
[null,null,null,null,null,null,null,null,null,null,null,null,null,null,null,null,null,null,null,null,null,null,"Jan-00",1900,{"$f":"IF(AND($A3423<'P&L'!$P$8, YEAR($A3423)=Master!$C$6), $K3423, 0)","v":0},0,{"$f":"IF(AND(NOT(ISBLANK($O3423)), $O3423<'P&L'!$P$8), Z3423, 0)","v":0},{"$f":"IF(OR(ISBLANK($O3423), $O3423>'BankRec Main Acct'!$E$8), Z3423, 0)","v":0},0,{"$f":"IF(AND(NOT(ISBLANK($O3423)), $O3423<'P&L'!$P$8), AC3423, 0)","v":0},{"$f":"IF(OR(ISBLANK($O3423), $O3423>'BankRec Main Acct'!$E$8), AC3423, 0)","v":0},0,{"$f":"IF(AND(NOT(ISBLANK($S3423)), $S3423<'P&L'!$P$8), AF3423, 0)","v":0},{"$f":"IF(OR(ISBLANK($S3423), $S3423>'BankRec Main Acct'!$E$8), AF3423, 0)","v":0},0,{"$f":"IF(AND(NOT(ISBLANK($S3423)), $S3423<'P&L'!$P$8), AI3423, 0)","v":0},{"$f":"IF(OR(ISBLANK($S3423), $S3423>'BankRec Main Acct'!$E$8), AI3423, 0)","v":0},0,{"$f":"IF(AND(NOT(ISBLANK($U3423)), $U3423<'P&L'!$P$8), $AL3423, 0)","v":0},{"$f":"IF(OR(ISBLANK($U3423), $U3423>'DebitCard Rec '!$E$8), $AL3423, 0)","v":0},0,{"$f":"IF(AND(NOT(ISBLANK($U3423)), $U3423<'P&L'!$P$8), $AO3423, 0)","v":0},{"$f":"IF(OR(ISBLANK($U3423), $U3423>'DebitCard Rec '!$E$8), $AO3423, 0)","v":0},0,{"$f":"IF(AND($A3423<'P&L'!$P$8, $X3423='P&L'!$G$6), $AR3423, 0)","v":0},0,{"$f":"IF(AND($A3423<'P&L'!$P$8, $X3423='P&L'!$G$6), $AT3423, 0)","v":0}," "," "," "]
[null,null,null,null,null,null,null,null,null,null,null,null,null,null,null,null,null,null,null,null,null,null,"Jan-00",1900,{"$f":"IF(AND($A3430<'P&L'!$P$8, YEAR($A3430)=Master!$C$6), $K3430, 0)","v":0},0,{"$f":"IF(AND(NOT(ISBLANK($O3430)), $O3430<'P&L'!$P$8), Z3430, 0)","v":0},{"$f":"IF(OR(ISBLANK($O3430), $O3430>'BankRec Main Acct'!$E$8), Z3430, 0)","v":0},0,{"$f":"IF(AND(NOT(ISBLANK($O3430)), $O3430<'P&L'!$P$8), AC3430, 0)","v":0},{"$f":"IF(OR(ISBLANK($O3430), $O3430>'BankRec Main Acct'!$E$8), AC3430, 0)","v":0},0,{"$f":"IF(AND(NOT(ISBLANK($S3430)), $S3430<'P&L'!$P$8), AF3430, 0)","v":0},{"$f":"IF(OR(ISBLANK($S3430), $S3430>'BankRec Main Acct'!$E$8), AF3430, 0)","v":0},0,{"$f":"IF(AND(NOT(ISBLANK($S3430)), $S3430<'P&L'!$P$8), AI3430, 0)","v":0},{"$f":"IF(OR(ISBLANK($S3430), $S3430>'BankRec Main Acct'!$E$8), AI3430, 0)","v":0},0,{"$f":"IF(AND(NOT(ISBLANK($U3430)), $U3430<'P&L'!$P$8), $AL3430, 0)","v":0},{"$f":"IF(OR(ISBLANK($U3430), $U3430>'DebitCard Rec '!$E$8), $AL3430, 0)","v":0},0,{"$f":"IF(AND(NOT(ISBLANK($U3430)), $U3430<'P&L'!$P$8), $AO3430, 0)","v":0},{"$f":"IF(OR(ISBLANK($U3430), $U3430>'DebitCard Rec '!$E$8), $AO3430, 0)","v":0},0,{"$f":"IF(AND($A3430<'P&L'!$P$8, $X3430='P&L'!$G$6), $AR3430, 0)","v":0},0,{"$f":"IF(AND($A3430<'P&L'!$P$8, $X3430='P&L'!$G$6), $AT3430, 0)","v":0}," "," "," "]
[null,null,null,null,null,null,null,null,null,null,null,null,null,null,null,null,null,null,null,null,null,null,"Jan-00",1900,{"$f":"IF(AND($A3441<'P&L'!$P$8, YEAR($A3441)=Master!$C$6), $K3441, 0)","v":0},0,{"$f":"IF(AND(NOT(ISBLANK($O3441)), $O3441<'P&L'!$P$8), Z3441, 0)","v":0},{"$f":"IF(OR(ISBLANK($O3441), $O3441>'BankRec Main Acct'!$E$8), Z3441, 0)","v":0},0,{"$f":"IF(AND(NOT(ISBLANK($O3441)), $O3441<'P&L'!$P$8), AC3441, 0)","v":0},{"$f":"IF(OR(ISBLANK($O3441), $O3441>'BankRec Main Acct'!$E$8), AC3441, 0)","v":0},0,{"$f":"IF(AND(NOT(ISBLANK($S3441)), $S3441<'P&L'!$P$8), AF3441, 0)","v":0},{"$f":"IF(OR(ISBLANK($S3441), $S3441>'BankRec Main Acct'!$E$8), AF3441, 0)","v":0},0,{"$f":"IF(AND(NOT(ISBLANK($S3441)), $S3441<'P&L'!$P$8), AI3441, 0)","v":0},{"$f":"IF(OR(ISBLANK($S3441), $S3441>'BankRec Main Acct'!$E$8), AI3441, 0)","v":0},0,{"$f":"IF(AND(NOT(ISBLANK($U3441)), $U3441<'P&L'!$P$8), $AL3441, 0)","v":0},{"$f":"IF(OR(ISBLANK($U3441), $U3441>'DebitCard Rec '!$E$8), $AL3441, 0)","v":0},0,{"$f":"IF(AND(NOT(ISBLANK($U3441)), $U3441<'P&L'!$P$8), $AO3441, 0)","v":0},{"$f":"IF(OR(ISBLANK($U3441), $U3441>'DebitCard Rec '!$E$8), $AO3441, 0)","v":0},0,{"$f":"IF(AND($A3441<'P&L'!$P$8, $X3441='P&L'!$G$6), $AR3441, 0)","v":0},0,{"$f":"IF(AND($A3441<'P&L'!$P$8, $X3441='P&L'!$G$6), $AT3441, 0)","v":0}," "," "," "]
[null,null,null,null,null,null,null,null,null,null,null,null,null,null,null,null,null,null,null,null,null,null,"Jan-00",1900,{"$f":"IF(AND($A3444<'P&L'!$P$8, YEAR($A3444)=Master!$C$6), $K3444, 0)","v":0},0,{"$f":"IF(AND(NOT(ISBLANK($O3444)), $O3444<'P&L'!$P$8), Z3444, 0)","v":0},{"$f":"IF(OR(ISBLANK($O3444), $O3444>'BankRec Main Acct'!$E$8), Z3444, 0)","v":0},0,{"$f":"IF(AND(NOT(ISBLANK($O3444)), $O3444<'P&L'!$P$8), AC3444, 0)","v":0},{"$f":"IF(OR(ISBLANK($O3444), $O3444>'BankRec Main Acct'!$E$8), AC3444, 0)","v":0},0,{"$f":"IF(AND(NOT(ISBLANK($S3444)), $S3444<'P&L'!$P$8), AF3444, 0)","v":0},{"$f":"IF(OR(ISBLANK($S3444), $S3444>'BankRec Main Acct'!$E$8), AF3444, 0)","v":0},0,{"$f":"IF(AND(NOT(ISBLANK($S3444)), $S3444<'P&L'!$P$8), AI3444, 0)","v":0},{"$f":"IF(OR(ISBLANK($S3444), $S3444>'BankRec Main Acct'!$E$8), AI3444, 0)","v":0},0,{"$f":"IF(AND(NOT(ISBLANK($U3444)), $U3444<'P&L'!$P$8), $AL3444, 0)","v":0},{"$f":"IF(OR(ISBLANK($U3444), $U3444>'DebitCard Rec '!$E$8), $AL3444, 0)","v":0},0,{"$f":"IF(AND(NOT(ISBLANK($U3444)), $U3444<'P&L'!$P$8), $AO3444, 0)","v":0},{"$f":"IF(OR(ISBLANK($U3444), $U3444>'DebitCard Rec '!$E$8), $AO3444, 0)","v":0},0,{"$f":"IF(AND($A3444<'P&L'!$P$8, $X3444='P&L'!$G$6), $AR3444, 0)","v":0},0,{"$f":"IF(AND($A3444<'P&L'!$P$8, $X3444='P&L'!$G$6), $AT3444, 0)","v":0}," "," "," "]
[null,null,null,null,null,null,null,null,null,null,null,null,null,null,null,null,null,null,null,null,null,null,"Jan-00",1900,{"$f":"IF(AND($A3451<'P&L'!$P$8, YEAR($A3451)=Master!$C$6), $K3451, 0)","v":0},0,{"$f":"IF(AND(NOT(ISBLANK($O3451)), $O3451<'P&L'!$P$8), Z3451, 0)","v":0},{"$f":"IF(OR(ISBLANK($O3451), $O3451>'BankRec Main Acct'!$E$8), Z3451, 0)","v":0},0,{"$f":"IF(AND(NOT(ISBLANK($O3451)), $O3451<'P&L'!$P$8), AC3451, 0)","v":0},{"$f":"IF(OR(ISBLANK($O3451), $O3451>'BankRec Main Acct'!$E$8), AC3451, 0)","v":0},0,{"$f":"IF(AND(NOT(ISBLANK($S3451)), $S3451<'P&L'!$P$8), AF3451, 0)","v":0},{"$f":"IF(OR(ISBLANK($S3451), $S3451>'BankRec Main Acct'!$E$8), AF3451, 0)","v":0},0,{"$f":"IF(AND(NOT(ISBLANK($S3451)), $S3451<'P&L'!$P$8), AI3451, 0)","v":0},{"$f":"IF(OR(ISBLANK($S3451), $S3451>'BankRec Main Acct'!$E$8), AI3451, 0)","v":0},0,{"$f":"IF(AND(NOT(ISBLANK($U3451)), $U3451<'P&L'!$P$8), $AL3451, 0)","v":0},{"$f":"IF(OR(ISBLANK($U3451), $U3451>'DebitCard Rec '!$E$8), $AL3451, 0)","v":0},0,{"$f":"IF(AND(NOT(ISBLANK($U3451)), $U3451<'P&L'!$P$8), $AO3451, 0)","v":0},{"$f":"IF(OR(ISBLANK($U3451), $U3451>'DebitCard Rec '!$E$8), $AO3451, 0)","v":0},0,{"$f":"IF(AND($A3451<'P&L'!$P$8, $X3451='P&L'!$G$6), $AR3451, 0)","v":0},0,{"$f":"IF(AND($A3451<'P&L'!$P$8, $X3451='P&L'!$G$6), $AT3451, 0)","v":0}," "," "," "]
[null,null,null,null,null,null,null,null,null,null,null,null,null,null,null,null,null,null,null,null,null,null,"Jan-00",1900,{"$f":"IF(AND($A3463<'P&L'!$P$8, YEAR($A3463)=Master!$C$6), $K3463, 0)","v":0},0,{"$f":"IF(AND(NOT(ISBLANK($O3463)), $O3463<'P&L'!$P$8), Z3463, 0)","v":0},{"$f":"IF(OR(ISBLANK($O3463), $O3463>'BankRec Main Acct'!$E$8), Z3463, 0)","v":0},0,{"$f":"IF(AND(NOT(ISBLANK($O3463)), $O3463<'P&L'!$P$8), AC3463, 0)","v":0},{"$f":"IF(OR(ISBLANK($O3463), $O3463>'BankRec Main Acct'!$E$8), AC3463, 0)","v":0},0,{"$f":"IF(AND(NOT(ISBLANK($S3463)), $S3463<'P&L'!$P$8), AF3463, 0)","v":0},{"$f":"IF(OR(ISBLANK($S3463), $S3463>'BankRec Main Acct'!$E$8), AF3463, 0)","v":0},0,{"$f":"IF(AND(NOT(ISBLANK($S3463)), $S3463<'P&L'!$P$8), AI3463, 0)","v":0},{"$f":"IF(OR(ISBLANK($S3463), $S3463>'BankRec Main Acct'!$E$8), AI3463, 0)","v":0},0,{"$f":"IF(AND(NOT(ISBLANK($U3463)), $U3463<'P&L'!$P$8), $AL3463, 0)","v":0},{"$f":"IF(OR(ISBLANK($U3463), $U3463>'DebitCard Rec '!$E$8), $AL3463, 0)","v":0},0,{"$f":"IF(AND(NOT(ISBLANK($U3463)), $U3463<'P&L'!$P$8), $AO3463, 0)","v":0},{"$f":"IF(OR(ISBLANK($U3463), $U3463>'DebitCard Rec '!$E$8), $AO3463, 0)","v":0},0,{"$f":"IF(AND($A3463<'P&L'!$P$8, $X3463='P&L'!$G$6), $AR3463, 0)","v":0},0,{"$f":"IF(AND($A3463<'P&L'!$P$8, $X3463='P&L'!$G$6), $AT3463, 0)","v":0}," "," "," "]
[null,null,null,null,null,null,null,null,null,null,null,null,null,null,null,null,null,null,null,null,null,null,"Jan-00",1900,{"$f":"IF(AND($A3470<'P&L'!$P$8, YEAR($A3470)=Master!$C$6), $K3470, 0)","v":0},0,{"$f":"IF(AND(NOT(ISBLANK($O3470)), $O3470<'P&L'!$P$8), Z3470, 0)","v":0},{"$f":"IF(OR(ISBLANK($O3470), $O3470>'BankRec Main Acct'!$E$8), Z3470, 0)","v":0},0,{"$f":"IF(AND(NOT(ISBLANK($O3470)), $O3470<'P&L'!$P$8), AC3470, 0)","v":0},{"$f":"IF(OR(ISBLANK($O3470), $O3470>'BankRec Main Acct'!$E$8), AC3470, 0)","v":0},0,{"$f":"IF(AND(NOT(ISBLANK($S3470)), $S3470<'P&L'!$P$8), AF3470, 0)","v":0},{"$f":"IF(OR(ISBLANK($S3470), $S3470>'BankRec Main Acct'!$E$8), AF3470, 0)","v":0},0,{"$f":"IF(AND(NOT(ISBLANK($S3470)), $S3470<'P&L'!$P$8), AI3470, 0)","v":0},{"$f":"IF(OR(ISBLANK($S3470), $S3470>'BankRec Main Acct'!$E$8), AI3470, 0)","v":0},0,{"$f":"IF(AND(NOT(ISBLANK($U3470)), $U3470<'P&L'!$P$8), $AL3470, 0)","v":0},{"$f":"IF(OR(ISBLANK($U3470), $U3470>'DebitCard Rec '!$E$8), $AL3470, 0)","v":0},0,{"$f":"IF(AND(NOT(ISBLANK($U3470)), $U3470<'P&L'!$P$8), $AO3470, 0)","v":0},{"$f":"IF(OR(ISBLANK($U3470), $U3470>'DebitCard Rec '!$E$8), $AO3470, 0)","v":0},0,{"$f":"IF(AND($A3470<'P&L'!$P$8, $X3470='P&L'!$G$6), $AR3470, 0)","v":0},0,{"$f":"IF(AND($A3470<'P&L'!$P$8, $X3470='P&L'!$G$6), $AT3470, 0)","v":0}," "," "," "]
[null,null,null,null,null,null,null,null,null,null,null,null,null,null,null,null,null,null,null,null,null,null,"Jan-00",1900,{"$f":"IF(AND($A3482<'P&L'!$P$8, YEAR($A3482)=Master!$C$6), $K3482, 0)","v":0},0,{"$f":"IF(AND(NOT(ISBLANK($O3482)), $O3482<'P&L'!$P$8), Z3482, 0)","v":0},{"$f":"IF(OR(ISBLANK($O3482), $O3482>'BankRec Main Acct'!$E$8), Z3482, 0)","v":0},0,{"$f":"IF(AND(NOT(ISBLANK($O3482)), $O3482<'P&L'!$P$8), AC3482, 0)","v":0},{"$f":"IF(OR(ISBLANK($O3482), $O3482>'BankRec Main Acct'!$E$8), AC3482, 0)","v":0},0,{"$f":"IF(AND(NOT(ISBLANK($S3482)), $S3482<'P&L'!$P$8), AF3482, 0)","v":0},{"$f":"IF(OR(ISBLANK($S3482), $S3482>'BankRec Main Acct'!$E$8), AF3482, 0)","v":0},0,{"$f":"IF(AND(NOT(ISBLANK($S3482)), $S3482<'P&L'!$P$8), AI3482, 0)","v":0},{"$f":"IF(OR(ISBLANK($S3482), $S3482>'BankRec Main Acct'!$E$8), AI3482, 0)","v":0},0,{"$f":"IF(AND(NOT(ISBLANK($U3482)), $U3482<'P&L'!$P$8), $AL3482, 0)","v":0},{"$f":"IF(OR(ISBLANK($U3482), $U3482>'DebitCard Rec '!$E$8), $AL3482, 0)","v":0},0,{"$f":"IF(AND(NOT(ISBLANK($U3482)), $U3482<'P&L'!$P$8), $AO3482, 0)","v":0},{"$f":"IF(OR(ISBLANK($U3482), $U3482>'DebitCard Rec '!$E$8), $AO3482, 0)","v":0},0,{"$f":"IF(AND($A3482<'P&L'!$P$8, $X3482='P&L'!$G$6), $AR3482, 0)","v":0},0,{"$f":"IF(AND($A3482<'P&L'!$P$8, $X3482='P&L'!$G$6), $AT3482, 0)","v":0}," "," "," "]
[null,null,null,null,null,null,null,null,null,null,null,null,null,null,null,null,null,null,null,null,null,null,"Jan-00",1900,{"$f":"IF(AND($A3493<'P&L'!$P$8, YEAR($A3493)=Master!$C$6), $K3493, 0)","v":0},0,{"$f":"IF(AND(NOT(ISBLANK($O3493)), $O3493<'P&L'!$P$8), Z3493, 0)","v":0},{"$f":"IF(OR(ISBLANK($O3493), $O3493>'BankRec Main Acct'!$E$8), Z3493, 0)","v":0},0,{"$f":"IF(AND(NOT(ISBLANK($O3493)), $O3493<'P&L'!$P$8), AC3493, 0)","v":0},{"$f":"IF(OR(ISBLANK($O3493), $O3493>'BankRec Main Acct'!$E$8), AC3493, 0)","v":0},0,{"$f":"IF(AND(NOT(ISBLANK($S3493)), $S3493<'P&L'!$P$8), AF3493, 0)","v":0},{"$f":"IF(OR(ISBLANK($S3493), $S3493>'BankRec Main Acct'!$E$8), AF3493, 0)","v":0},0,{"$f":"IF(AND(NOT(ISBLANK($S3493)), $S3493<'P&L'!$P$8), AI3493, 0)","v":0},{"$f":"IF(OR(ISBLANK($S3493), $S3493>'BankRec Main Acct'!$E$8), AI3493, 0)","v":0},0,{"$f":"IF(AND(NOT(ISBLANK($U3493)), $U3493<'P&L'!$P$8), $AL3493, 0)","v":0},{"$f":"IF(OR(ISBLANK($U3493), $U3493>'DebitCard Rec '!$E$8), $AL3493, 0)","v":0},0,{"$f":"IF(AND(NOT(ISBLANK($U3493)), $U3493<'P&L'!$P$8), $AO3493, 0)","v":0},{"$f":"IF(OR(ISBLANK($U3493), $U3493>'DebitCard Rec '!$E$8), $AO3493, 0)","v":0},0,{"$f":"IF(AND($A3493<'P&L'!$P$8, $X3493='P&L'!$G$6), $AR3493, 0)","v":0},0,{"$f":"IF(AND($A3493<'P&L'!$P$8, $X3493='P&L'!$G$6), $AT3493, 0)","v":0}," "," "," "]
[null,null,null,null,null,null,null,null,null,null,null,null,null,null,null,null,null,null,null,null,null,null,"Jan-00",1900,{"$f":"IF(AND($A3500<'P&L'!$P$8, YEAR($A3500)=Master!$C$6), $K3500, 0)","v":0},0,{"$f":"IF(AND(NOT(ISBLANK($O3500)), $O3500<'P&L'!$P$8), Z3500, 0)","v":0},{"$f":"IF(OR(ISBLANK($O3500), $O3500>'BankRec Main Acct'!$E$8), Z3500, 0)","v":0},0,{"$f":"IF(AND(NOT(ISBLANK($O3500)), $O3500<'P&L'!$P$8), AC3500, 0)","v":0},{"$f":"IF(OR(ISBLANK($O3500), $O3500>'BankRec Main Acct'!$E$8), AC3500, 0)","v":0},0,{"$f":"IF(AND(NOT(ISBLANK($S3500)), $S3500<'P&L'!$P$8), AF3500, 0)","v":0},{"$f":"IF(OR(ISBLANK($S3500), $S3500>'BankRec Main Acct'!$E$8), AF3500, 0)","v":0},0,{"$f":"IF(AND(NOT(ISBLANK($S3500)), $S3500<'P&L'!$P$8), AI3500, 0)","v":0},{"$f":"IF(OR(ISBLANK($S3500), $S3500>'BankRec Main Acct'!$E$8), AI3500, 0)","v":0},0,{"$f":"IF(AND(NOT(ISBLANK($U3500)), $U3500<'P&L'!$P$8), $AL3500, 0)","v":0},{"$f":"IF(OR(ISBLANK($U3500), $U3500>'DebitCard Rec '!$E$8), $AL3500, 0)","v":0},0,{"$f":"IF(AND(NOT(ISBLANK($U3500)), $U3500<'P&L'!$P$8), $AO3500, 0)","v":0},{"$f":"IF(OR(ISBLANK($U3500), $U3500>'DebitCard Rec '!$E$8), $AO3500, 0)","v":0},0,{"$f":"IF(AND($A3500<'P&L'!$P$8, $X3500='P&L'!$G$6), $AR3500, 0)","v":0},0,{"$f":"IF(AND($A3500<'P&L'!$P$8, $X3500='P&L'!$G$6), $AT3500, 0)","v":0}," "," "," "]
[null,null,null,null,null,null,null,null,null,null,null,null,null,null,null,null,null,null,null,null,null,null,"Jan-00",1900,{"$f":"IF(AND($A3512<'P&L'!$P$8, YEAR($A3512)=Master!$C$6), $K3512, 0)","v":0},0,{"$f":"IF(AND(NOT(ISBLANK($O3512)), $O3512<'P&L'!$P$8), Z3512, 0)","v":0},{"$f":"IF(OR(ISBLANK($O3512), $O3512>'BankRec Main Acct'!$E$8), Z3512, 0)","v":0},0,{"$f":"IF(AND(NOT(ISBLANK($O3512)), $O3512<'P&L'!$P$8), AC3512, 0)","v":0},{"$f":"IF(OR(ISBLANK($O3512), $O3512>'BankRec Main Acct'!$E$8), AC3512, 0)","v":0},0,{"$f":"IF(AND(NOT(ISBLANK($S3512)), $S3512<'P&L'!$P$8), AF3512, 0)","v":0},{"$f":"IF(OR(ISBLANK($S3512), $S3512>'BankRec Main Acct'!$E$8), AF3512, 0)","v":0},0,{"$f":"IF(AND(NOT(ISBLANK($S3512)), $S3512<'P&L'!$P$8), AI3512, 0)","v":0},{"$f":"IF(OR(ISBLANK($S3512), $S3512>'BankRec Main Acct'!$E$8), AI3512, 0)","v":0},0,{"$f":"IF(AND(NOT(ISBLANK($U3512)), $U3512<'P&L'!$P$8), $AL3512, 0)","v":0},{"$f":"IF(OR(ISBLANK($U3512), $U3512>'DebitCard Rec '!$E$8), $AL3512, 0)","v":0},0,{"$f":"IF(AND(NOT(ISBLANK($U3512)), $U3512<'P&L'!$P$8), $AO3512, 0)","v":0},{"$f":"IF(OR(ISBLANK($U3512), $U3512>'DebitCard Rec '!$E$8), $AO3512, 0)","v":0},0,{"$f":"IF(AND($A3512<'P&L'!$P$8, $X3512='P&L'!$G$6), $AR3512, 0)","v":0},0,{"$f":"IF(AND($A3512<'P&L'!$P$8, $X3512='P&L'!$G$6), $AT3512, 0)","v":0}," "," "," "]
[null,null,null,null,null,null,null,null,null,null,null,null,null,null,null,null,null,null,null,null,null,null,"Jan-00",1900,{"$f":"IF(AND($A3519<'P&L'!$P$8, YEAR($A3519)=Master!$C$6), $K3519, 0)","v":0},0,{"$f":"IF(AND(NOT(ISBLANK($O3519)), $O3519<'P&L'!$P$8), Z3519, 0)","v":0},{"$f":"IF(OR(ISBLANK($O3519), $O3519>'BankRec Main Acct'!$E$8), Z3519, 0)","v":0},0,{"$f":"IF(AND(NOT(ISBLANK($O3519)), $O3519<'P&L'!$P$8), AC3519, 0)","v":0},{"$f":"IF(OR(ISBLANK($O3519), $O3519>'BankRec Main Acct'!$E$8), AC3519, 0)","v":0},0,{"$f":"IF(AND(NOT(ISBLANK($S3519)), $S3519<'P&L'!$P$8), AF3519, 0)","v":0},{"$f":"IF(OR(ISBLANK($S3519), $S3519>'BankRec Main Acct'!$E$8), AF3519, 0)","v":0},0,{"$f":"IF(AND(NOT(ISBLANK($S3519)), $S3519<'P&L'!$P$8), AI3519, 0)","v":0},{"$f":"IF(OR(ISBLANK($S3519), $S3519>'BankRec Main Acct'!$E$8), AI3519, 0)","v":0},0,{"$f":"IF(AND(NOT(ISBLANK($U3519)), $U3519<'P&L'!$P$8), $AL3519, 0)","v":0},{"$f":"IF(OR(ISBLANK($U3519), $U3519>'DebitCard Rec '!$E$8), $AL3519, 0)","v":0},0,{"$f":"IF(AND(NOT(ISBLANK($U3519)), $U3519<'P&L'!$P$8), $AO3519, 0)","v":0},{"$f":"IF(OR(ISBLANK($U3519), $U3519>'DebitCard Rec '!$E$8), $AO3519, 0)","v":0},0,{"$f":"IF(AND($A3519<'P&L'!$P$8, $X3519='P&L'!$G$6), $AR3519, 0)","v":0},0,{"$f":"IF(AND($A3519<'P&L'!$P$8, $X3519='P&L'!$G$6), $AT3519, 0)","v":0}," "," "," "]
[null,null,null,null,null,null,null,null,null,null,null,null,null,null,null,null,null,null,null,null,null,null,"Jan-00",1900,{"$f":"IF(AND($A3523<'P&L'!$P$8, YEAR($A3523)=Master!$C$6), $K3523, 0)","v":0},0,{"$f":"IF(AND(NOT(ISBLANK($O3523)), $O3523<'P&L'!$P$8), Z3523, 0)","v":0},{"$f":"IF(OR(ISBLANK($O3523), $O3523>'BankRec Main Acct'!$E$8), Z3523, 0)","v":0},0,{"$f":"IF(AND(NOT(ISBLANK($O3523)), $O3523<'P&L'!$P$8), AC3523, 0)","v":0},{"$f":"IF(OR(ISBLANK($O3523), $O3523>'BankRec Main Acct'!$E$8), AC3523, 0)","v":0},0,{"$f":"IF(AND(NOT(ISBLANK($S3523)), $S3523<'P&L'!$P$8), AF3523, 0)","v":0},{"$f":"IF(OR(ISBLANK($S3523), $S3523>'BankRec Main Acct'!$E$8), AF3523, 0)","v":0},0,{"$f":"IF(AND(NOT(ISBLANK($S3523)), $S3523<'P&L'!$P$8), AI3523, 0)","v":0},{"$f":"IF(OR(ISBLANK($S3523), $S3523>'BankRec Main Acct'!$E$8), AI3523, 0)","v":0},0,{"$f":"IF(AND(NOT(ISBLANK($U3523)), $U3523<'P&L'!$P$8), $AL3523, 0)","v":0},{"$f":"IF(OR(ISBLANK($U3523), $U3523>'DebitCard Rec '!$E$8), $AL3523, 0)","v":0},0,{"$f":"IF(AND(NOT(ISBLANK($U3523)), $U3523<'P&L'!$P$8), $AO3523, 0)","v":0},{"$f":"IF(OR(ISBLANK($U3523), $U3523>'DebitCard Rec '!$E$8), $AO3523, 0)","v":0},0,{"$f":"IF(AND($A3523<'P&L'!$P$8, $X3523='P&L'!$G$6), $AR3523, 0)","v":0},0,{"$f":"IF(AND($A3523<'P&L'!$P$8, $X3523='P&L'!$G$6), $AT3523, 0)","v":0}," "," "," "]
[null,null,null,null,null,null,null,null,null,null,null,null,null,null,null,null,null,null,null,null,null,null,"Jan-00",1900,{"$f":"IF(AND($A3533<'P&L'!$P$8, YEAR($A3533)=Master!$C$6), $K3533, 0)","v":0},0,{"$f":"IF(AND(NOT(ISBLANK($O3533)), $O3533<'P&L'!$P$8), Z3533, 0)","v":0},{"$f":"IF(OR(ISBLANK($O3533), $O3533>'BankRec Main Acct'!$E$8), Z3533, 0)","v":0},0,{"$f":"IF(AND(NOT(ISBLANK($O3533)), $O3533<'P&L'!$P$8), AC3533, 0)","v":0},{"$f":"IF(OR(ISBLANK($O3533), $O3533>'BankRec Main Acct'!$E$8), AC3533, 0)","v":0},0,{"$f":"IF(AND(NOT(ISBLANK($S3533)), $S3533<'P&L'!$P$8), AF3533, 0)","v":0},{"$f":"IF(OR(ISBLANK($S3533), $S3533>'BankRec Main Acct'!$E$8), AF3533, 0)","v":0},0,{"$f":"IF(AND(NOT(ISBLANK($S3533)), $S3533<'P&L'!$P$8), AI3533, 0)","v":0},{"$f":"IF(OR(ISBLANK($S3533), $S3533>'BankRec Main Acct'!$E$8), AI3533, 0)","v":0},0,{"$f":"IF(AND(NOT(ISBLANK($U3533)), $U3533<'P&L'!$P$8), $AL3533, 0)","v":0},{"$f":"IF(OR(ISBLANK($U3533), $U3533>'DebitCard Rec '!$E$8), $AL3533, 0)","v":0},0,{"$f":"IF(AND(NOT(ISBLANK($U3533)), $U3533<'P&L'!$P$8), $AO3533, 0)","v":0},{"$f":"IF(OR(ISBLANK($U3533), $U3533>'DebitCard Rec '!$E$8), $AO3533, 0)","v":0},0,{"$f":"IF(AND($A3533<'P&L'!$P$8, $X3533='P&L'!$G$6), $AR3533, 0)","v":0},0,{"$f":"IF(AND($A3533<'P&L'!$P$8, $X3533='P&L'!$G$6), $AT3533, 0)","v":0}," "," "," "]
[null,null,null,null,null,null,null,null,null,null,null,null,null,null,null,null,null,null,null,null,null,null,{"$f":"TEXT($A3540, \"mmm-yy\")","v":"Jan-00"},{"$f":"YEAR($A3540)","v":1900},{"$f":"IF(AND($A3540<'P&L'!$P$8, YEAR($A3540)=Master!$C$6), $K3540, 0)","v":0},0,{"$f":"IF(AND(NOT(ISBLANK($O3540)), $O3540<'P&L'!$P$8), Z3540, 0)","v":0},{"$f":"IF(OR(ISBLANK($O3540), $O3540>'BankRec Main Acct'!$E$8), Z3540, 0)","v":0},0,{"$f":"IF(AND(NOT(ISBLANK($O3540)), $O3540<'P&L'!$P$8), AC3540, 0)","v":0},{"$f":"IF(OR(ISBLANK($O3540), $O3540>'BankRec Main Acct'!$E$8), AC3540, 0)","v":0},0,{"$f":"IF(AND(NOT(ISBLANK($S3540)), $S3540<'P&L'!$P$8), AF3540, 0)","v":0},{"$f":"IF(OR(ISBLANK($S3540), $S3540>'BankRec Main Acct'!$E$8), AF3540, 0)","v":0},0,{"$f":"IF(AND(NOT(ISBLANK($S3540)), $S3540<'P&L'!$P$8), AI3540, 0)","v":0},{"$f":"IF(OR(ISBLANK($S3540), $S3540>'BankRec Main Acct'!$E$8), AI3540, 0)","v":0},{"$f":"IF(AND($C3540=\"Receipt\",$B3540=\"Debit card\"),$K3540,0)","v":0},{"$f":"IF(AND(NOT(ISBLANK($U3540)), $U3540<'P&L'!$P$8), $AL3540, 0)","v":0},{"$f":"IF(OR(ISBLANK($U3540), $U3540>'DebitCard Rec '!$E$8), $AL3540, 0)","v":0},{"$f":"IF(AND($C3540=\"Payment\",$B3540=\"Debit card\"),$K3540,0)","v":0},{"$f":"IF(AND(NOT(ISBLANK($U3540)), $U3540<'P&L'!$P$8), $AO3540, 0)","v":0},{"$f":"IF(OR(ISBLANK($U3540), $U3540>'DebitCard Rec '!$E$8), $AO3540, 0)","v":0},0,{"$f":"IF(AND($A3540<'P&L'!$P$8, $X3540='P&L'!$G$6), $AR3540, 0)","v":0},0,{"$f":"IF(AND($A3540<'P&L'!$P$8, $X3540='P&L'!$G$6), $AT3540, 0)","v":0}," "," "," "]
[null,null,null,null,null,null,null,null,null,null,null,null,null,null,null,null,null,null,null,null,null,null,"Jan-00",1900,{"$f":"IF(AND($A3552<'P&L'!$P$8, YEAR($A3552)=Master!$C$6), $K3552, 0)","v":0},0,{"$f":"IF(AND(NOT(ISBLANK($O3552)), $O3552<'P&L'!$P$8), Z3552, 0)","v":0},{"$f":"IF(OR(ISBLANK($O3552), $O3552>'BankRec Main Acct'!$E$8), Z3552, 0)","v":0},0,{"$f":"IF(AND(NOT(ISBLANK($O3552)), $O3552<'P&L'!$P$8), AC3552, 0)","v":0},{"$f":"IF(OR(ISBLANK($O3552), $O3552>'BankRec Main Acct'!$E$8), AC3552, 0)","v":0},0,{"$f":"IF(AND(NOT(ISBLANK($S3552)), $S3552<'P&L'!$P$8), AF3552, 0)","v":0},{"$f":"IF(OR(ISBLANK($S3552), $S3552>'BankRec Main Acct'!$E$8), AF3552, 0)","v":0},0,{"$f":"IF(AND(NOT(ISBLANK($S3552)), $S3552<'P&L'!$P$8), AI3552, 0)","v":0},{"$f":"IF(OR(ISBLANK($S3552), $S3552>'BankRec Main Acct'!$E$8), AI3552, 0)","v":0},0,{"$f":"IF(AND(NOT(ISBLANK($U3552)), $U3552<'P&L'!$P$8), $AL3552, 0)","v":0},{"$f":"IF(OR(ISBLANK($U3552), $U3552>'DebitCard Rec '!$E$8), $AL3552, 0)","v":0},0,{"$f":"IF(AND(NOT(ISBLANK($U3552)), $U3552<'P&L'!$P$8), $AO3552, 0)","v":0},{"$f":"IF(OR(ISBLANK($U3552), $U3552>'DebitCard Rec '!$E$8), $AO3552, 0)","v":0},0,{"$f":"IF(AND($A3552<'P&L'!$P$8, $X3552='P&L'!$G$6), $AR3552, 0)","v":0},0,{"$f":"IF(AND($A3552<'P&L'!$P$8, $X3552='P&L'!$G$6), $AT3552, 0)","v":0}," "," "," "]
[null,null,null,null,null,null,null,null,null,null,null,null,null,null,null,null,null,null,null,null,null,null,"Jan-00",1900,{"$f":"IF(AND($A3562<'P&L'!$P$8, YEAR($A3562)=Master!$C$6), $K3562, 0)","v":0},0,{"$f":"IF(AND(NOT(ISBLANK($O3562)), $O3562<'P&L'!$P$8), Z3562, 0)","v":0},{"$f":"IF(OR(ISBLANK($O3562), $O3562>'BankRec Main Acct'!$E$8), Z3562, 0)","v":0},0,{"$f":"IF(AND(NOT(ISBLANK($O3562)), $O3562<'P&L'!$P$8), AC3562, 0)","v":0},{"$f":"IF(OR(ISBLANK($O3562), $O3562>'BankRec Main Acct'!$E$8), AC3562, 0)","v":0},0,{"$f":"IF(AND(NOT(ISBLANK($S3562)), $S3562<'P&L'!$P$8), AF3562, 0)","v":0},{"$f":"IF(OR(ISBLANK($S3562), $S3562>'BankRec Main Acct'!$E$8), AF3562, 0)","v":0},0,{"$f":"IF(AND(NOT(ISBLANK($S3562)), $S3562<'P&L'!$P$8), AI3562, 0)","v":0},{"$f":"IF(OR(ISBLANK($S3562), $S3562>'BankRec Main Acct'!$E$8), AI3562, 0)","v":0},0,{"$f":"IF(AND(NOT(ISBLANK($U3562)), $U3562<'P&L'!$P$8), $AL3562, 0)","v":0},{"$f":"IF(OR(ISBLANK($U3562), $U3562>'DebitCard Rec '!$E$8), $AL3562, 0)","v":0},0,{"$f":"IF(AND(NOT(ISBLANK($U3562)), $U3562<'P&L'!$P$8), $AO3562, 0)","v":0},{"$f":"IF(OR(ISBLANK($U3562), $U3562>'DebitCard Rec '!$E$8), $AO3562, 0)","v":0},0,{"$f":"IF(AND($A3562<'P&L'!$P$8, $X3562='P&L'!$G$6), $AR3562, 0)","v":0},0,{"$f":"IF(AND($A3562<'P&L'!$P$8, $X3562='P&L'!$G$6), $AT3562, 0)","v":0}," "," "," "]
[null,null,null,null,null,null,null,null,null,null,null,null,null,null,null,null,null,null,null,null,null,null,"Jan-00",1900,{"$f":"IF(AND($A3570<'P&L'!$P$8, YEAR($A3570)=Master!$C$6), $K3570, 0)","v":0},0,{"$f":"IF(AND(NOT(ISBLANK($O3570)), $O3570<'P&L'!$P$8), Z3570, 0)","v":0},{"$f":"IF(OR(ISBLANK($O3570), $O3570>'BankRec Main Acct'!$E$8), Z3570, 0)","v":0},0,{"$f":"IF(AND(NOT(ISBLANK($O3570)), $O3570<'P&L'!$P$8), AC3570, 0)","v":0},{"$f":"IF(OR(ISBLANK($O3570), $O3570>'BankRec Main Acct'!$E$8), AC3570, 0)","v":0},0,{"$f":"IF(AND(NOT(ISBLANK($S3570)), $S3570<'P&L'!$P$8), AF3570, 0)","v":0},{"$f":"IF(OR(ISBLANK($S3570), $S3570>'BankRec Main Acct'!$E$8), AF3570, 0)","v":0},0,{"$f":"IF(AND(NOT(ISBLANK($S3570)), $S3570<'P&L'!$P$8), AI3570, 0)","v":0},{"$f":"IF(OR(ISBLANK($S3570), $S3570>'BankRec Main Acct'!$E$8), AI3570, 0)","v":0},0,{"$f":"IF(AND(NOT(ISBLANK($U3570)), $U3570<'P&L'!$P$8), $AL3570, 0)","v":0},{"$f":"IF(OR(ISBLANK($U3570), $U3570>'DebitCard Rec '!$E$8), $AL3570, 0)","v":0},0,{"$f":"IF(AND(NOT(ISBLANK($U3570)), $U3570<'P&L'!$P$8), $AO3570, 0)","v":0},{"$f":"IF(OR(ISBLANK($U3570), $U3570>'DebitCard Rec '!$E$8), $AO3570, 0)","v":0},0,{"$f":"IF(AND($A3570<'P&L'!$P$8, $X3570='P&L'!$G$6), $AR3570, 0)","v":0},0,{"$f":"IF(AND($A3570<'P&L'!$P$8, $X3570='P&L'!$G$6), $AT3570, 0)","v":0}," "," "," "]
[null,null,null,null,null,null,null,null,null,null,null,null,null,null,null,null,null,null,null,null,null,null,"Jan-00",1900,{"$f":"IF(AND($A3582<'P&L'!$P$8, YEAR($A3582)=Master!$C$6), $K3582, 0)","v":0},0,{"$f":"IF(AND(NOT(ISBLANK($O3582)), $O3582<'P&L'!$P$8), Z3582, 0)","v":0},{"$f":"IF(OR(ISBLANK($O3582), $O3582>'BankRec Main Acct'!$E$8), Z3582, 0)","v":0},0,{"$f":"IF(AND(NOT(ISBLANK($O3582)), $O3582<'P&L'!$P$8), AC3582, 0)","v":0},{"$f":"IF(OR(ISBLANK($O3582), $O3582>'BankRec Main Acct'!$E$8), AC3582, 0)","v":0},0,{"$f":"IF(AND(NOT(ISBLANK($S3582)), $S3582<'P&L'!$P$8), AF3582, 0)","v":0},{"$f":"IF(OR(ISBLANK($S3582), $S3582>'BankRec Main Acct'!$E$8), AF3582, 0)","v":0},0,{"$f":"IF(AND(NOT(ISBLANK($S3582)), $S3582<'P&L'!$P$8), AI3582, 0)","v":0},{"$f":"IF(OR(ISBLANK($S3582), $S3582>'BankRec Main Acct'!$E$8), AI3582, 0)","v":0},0,{"$f":"IF(AND(NOT(ISBLANK($U3582)), $U3582<'P&L'!$P$8), $AL3582, 0)","v":0},{"$f":"IF(OR(ISBLANK($U3582), $U3582>'DebitCard Rec '!$E$8), $AL3582, 0)","v":0},0,{"$f":"IF(AND(NOT(ISBLANK($U3582)), $U3582<'P&L'!$P$8), $AO3582, 0)","v":0},{"$f":"IF(OR(ISBLANK($U3582), $U3582>'DebitCard Rec '!$E$8), $AO3582, 0)","v":0},0,{"$f":"IF(AND($A3582<'P&L'!$P$8, $X3582='P&L'!$G$6), $AR3582, 0)","v":0},0,{"$f":"IF(AND($A3582<'P&L'!$P$8, $X3582='P&L'!$G$6), $AT3582, 0)","v":0}," "," "," "]
[null,null,null,null,null,null,null,null,null,null,null,null,null,null,null,null,null,null,null,null,null,null,"Jan-00",1900,{"$f":"IF(AND($A3589<'P&L'!$P$8, YEAR($A3589)=Master!$C$6), $K3589, 0)","v":0},{"$f":"IF(AND($C3589=\"Receipt\",$B3589<>\"debit card\",$B3589<>\"petty cash\",$B3589<>\"Cash_Sub\",$B3589<>\"Cheque_Sub\", $B3589<>\"EFT_Sub\"),$K3589,0)","v":0},{"$f":"IF(AND(NOT(ISBLANK($O3589)), $O3589<'P&L'!$P$8), Z3589, 0)","v":0},{"$f":"IF(OR(ISBLANK($O3589), $O3589>'BankRec Main Acct'!$E$8), Z3589, 0)","v":0},{"$f":"IF(AND($C3589=\"Payment\", $B3589<>\"debit card\", $B3589<>\"petty cash\", $B3589<>\"Cash_Sub\", $B3589<>\"Cheque_Sub\", $B3589<>\"EFT_Sub\"), $K3589, 0)","v":0},{"$f":"IF(AND(NOT(ISBLANK($O3589)), $O3589<'P&L'!$P$8), AC3589, 0)","v":0},{"$f":"IF(OR(ISBLANK($O3589), $O3589>'BankRec Main Acct'!$E$8), AC3589, 0)","v":0},{"$f":"IF(AND($C3589=\"Receipt\",$B3589<>\"debit card\",$B3589<>\"petty cash\",$B3589<>\"Cash_Main\",$B3589<>\"Cheque_Main\", $B3589<>\"EFT_Main\"),$K3589,0)","v":0},{"$f":"IF(AND(NOT(ISBLANK($S3589)), $S3589<'P&L'!$P$8), AF3589, 0)","v":0},{"$f":"IF(OR(ISBLANK($S3589), $S3589>'BankRec Main Acct'!$E$8), AF3589, 0)","v":0},{"$f":"IF(AND($C3589=\"Payment\", $B3589<>\"debit card\", $B3589<>\"petty cash\", $B3589<>\"Cash_Main\", $B3589<>\"Cheque_Main\", $B3589<>\"EFT_Main\"), $K3589, 0)","v":0},{"$f":"IF(AND(NOT(ISBLANK($S3589)), $S3589<'P&L'!$P$8), AI3589, 0)","v":0},{"$f":"IF(OR(ISBLANK($S3589), $S3589>'BankRec Main Acct'!$E$8), AI3589, 0)","v":0},0,{"$f":"IF(AND(NOT(ISBLANK($U3589)), $U3589<'P&L'!$P$8), $AL3589, 0)","v":0},{"$f":"IF(OR(ISBLANK($U3589), $U3589>'DebitCard Rec '!$E$8), $AL3589, 0)","v":0},0,{"$f":"IF(AND(NOT(ISBLANK($U3589)), $U3589<'P&L'!$P$8), $AO3589, 0)","v":0},{"$f":"IF(OR(ISBLANK($U3589), $U3589>'DebitCard Rec '!$E$8), $AO3589, 0)","v":0},0,{"$f":"IF(AND($A3589<'P&L'!$P$8, $X3589='P&L'!$G$6), $AR3589, 0)","v":0},0,{"$f":"IF(AND($A3589<'P&L'!$P$8, $X3589='P&L'!$G$6), $AT3589, 0)","v":0}," "," "," "]
[null,null,null,null,null,null,null,null,null,null,null,null,null,null,null,null,null,null,null,null,null,null,"Jan-00",1900,{"$f":"IF(AND($A3592<'P&L'!$P$8, YEAR($A3592)=Master!$C$6), $K3592, 0)","v":0},0,{"$f":"IF(AND(NOT(ISBLANK($O3592)), $O3592<'P&L'!$P$8), Z3592, 0)","v":0},{"$f":"IF(OR(ISBLANK($O3592), $O3592>'BankRec Main Acct'!$E$8), Z3592, 0)","v":0},0,{"$f":"IF(AND(NOT(ISBLANK($O3592)), $O3592<'P&L'!$P$8), AC3592, 0)","v":0},{"$f":"IF(OR(ISBLANK($O3592), $O3592>'BankRec Main Acct'!$E$8), AC3592, 0)","v":0},0,{"$f":"IF(AND(NOT(ISBLANK($S3592)), $S3592<'P&L'!$P$8), AF3592, 0)","v":0},{"$f":"IF(OR(ISBLANK($S3592), $S3592>'BankRec Main Acct'!$E$8), AF3592, 0)","v":0},0,{"$f":"IF(AND(NOT(ISBLANK($S3592)), $S3592<'P&L'!$P$8), AI3592, 0)","v":0},{"$f":"IF(OR(ISBLANK($S3592), $S3592>'BankRec Main Acct'!$E$8), AI3592, 0)","v":0},0,{"$f":"IF(AND(NOT(ISBLANK($U3592)), $U3592<'P&L'!$P$8), $AL3592, 0)","v":0},{"$f":"IF(OR(ISBLANK($U3592), $U3592>'DebitCard Rec '!$E$8), $AL3592, 0)","v":0},0,{"$f":"IF(AND(NOT(ISBLANK($U3592)), $U3592<'P&L'!$P$8), $AO3592, 0)","v":0},{"$f":"IF(OR(ISBLANK($U3592), $U3592>'DebitCard Rec '!$E$8), $AO3592, 0)","v":0},0,{"$f":"IF(AND($A3592<'P&L'!$P$8, $X3592='P&L'!$G$6), $AR3592, 0)","v":0},0,{"$f":"IF(AND($A3592<'P&L'!$P$8, $X3592='P&L'!$G$6), $AT3592, 0)","v":0}," "," "," "]
[null,null,null,null,null,null,null,null,null,null,null,null,null,null,null,null,null,null,null,null,null,null,"Jan-00",1900,{"$f":"IF(AND($A3603<'P&L'!$P$8, YEAR($A3603)=Master!$C$6), $K3603, 0)","v":0},0,{"$f":"IF(AND(NOT(ISBLANK($O3603)), $O3603<'P&L'!$P$8), Z3603, 0)","v":0},{"$f":"IF(OR(ISBLANK($O3603), $O3603>'BankRec Main Acct'!$E$8), Z3603, 0)","v":0},0,{"$f":"IF(AND(NOT(ISBLANK($O3603)), $O3603<'P&L'!$P$8), AC3603, 0)","v":0},{"$f":"IF(OR(ISBLANK($O3603), $O3603>'BankRec Main Acct'!$E$8), AC3603, 0)","v":0},0,{"$f":"IF(AND(NOT(ISBLANK($S3603)), $S3603<'P&L'!$P$8), AF3603, 0)","v":0},{"$f":"IF(OR(ISBLANK($S3603), $S3603>'BankRec Main Acct'!$E$8), AF3603, 0)","v":0},0,{"$f":"IF(AND(NOT(ISBLANK($S3603)), $S3603<'P&L'!$P$8), AI3603, 0)","v":0},{"$f":"IF(OR(ISBLANK($S3603), $S3603>'BankRec Main Acct'!$E$8), AI3603, 0)","v":0},0,{"$f":"IF(AND(NOT(ISBLANK($U3603)), $U3603<'P&L'!$P$8), $AL3603, 0)","v":0},{"$f":"IF(OR(ISBLANK($U3603), $U3603>'DebitCard Rec '!$E$8), $AL3603, 0)","v":0},0,{"$f":"IF(AND(NOT(ISBLANK($U3603)), $U3603<'P&L'!$P$8), $AO3603, 0)","v":0},{"$f":"IF(OR(ISBLANK($U3603), $U3603>'DebitCard Rec '!$E$8), $AO3603, 0)","v":0},0,{"$f":"IF(AND($A3603<'P&L'!$P$8, $X3603='P&L'!$G$6), $AR3603, 0)","v":0},0,{"$f":"IF(AND($A3603<'P&L'!$P$8, $X3603='P&L'!$G$6), $AT3603, 0)","v":0}," "," "," "]
[null,null,null,null,null,null,null,null,null,null,null,null,null,null,null,null,null,null,null,null,null,null,"Jan-00",1900,{"$f":"IF(AND($A3610<'P&L'!$P$8, YEAR($A3610)=Master!$C$6), $K3610, 0)","v":0},0,{"$f":"IF(AND(NOT(ISBLANK($O3610)), $O3610<'P&L'!$P$8), Z3610, 0)","v":0},{"$f":"IF(OR(ISBLANK($O3610), $O3610>'BankRec Main Acct'!$E$8), Z3610, 0)","v":0},0,{"$f":"IF(AND(NOT(ISBLANK($O3610)), $O3610<'P&L'!$P$8), AC3610, 0)","v":0},{"$f":"IF(OR(ISBLANK($O3610), $O3610>'BankRec Main Acct'!$E$8), AC3610, 0)","v":0},0,{"$f":"IF(AND(NOT(ISBLANK($S3610)), $S3610<'P&L'!$P$8), AF3610, 0)","v":0},{"$f":"IF(OR(ISBLANK($S3610), $S3610>'BankRec Main Acct'!$E$8), AF3610, 0)","v":0},0,{"$f":"IF(AND(NOT(ISBLANK($S3610)), $S3610<'P&L'!$P$8), AI3610, 0)","v":0},{"$f":"IF(OR(ISBLANK($S3610), $S3610>'BankRec Main Acct'!$E$8), AI3610, 0)","v":0},0,{"$f":"IF(AND(NOT(ISBLANK($U3610)), $U3610<'P&L'!$P$8), $AL3610, 0)","v":0},{"$f":"IF(OR(ISBLANK($U3610), $U3610>'DebitCard Rec '!$E$8), $AL3610, 0)","v":0},0,{"$f":"IF(AND(NOT(ISBLANK($U3610)), $U3610<'P&L'!$P$8), $AO3610, 0)","v":0},{"$f":"IF(OR(ISBLANK($U3610), $U3610>'DebitCard Rec '!$E$8), $AO3610, 0)","v":0},0,{"$f":"IF(AND($A3610<'P&L'!$P$8, $X3610='P&L'!$G$6), $AR3610, 0)","v":0},0,{"$f":"IF(AND($A3610<'P&L'!$P$8, $X3610='P&L'!$G$6), $AT3610, 0)","v":0}," "," "," "]
[null,null,null,null,null,null,null,null,null,null,null,null,null,null,null,null,null,null,null,null,null,null,"Jan-00",1900,{"$f":"IF(AND($A3622<'P&L'!$P$8, YEAR($A3622)=Master!$C$6), $K3622, 0)","v":0},0,{"$f":"IF(AND(NOT(ISBLANK($O3622)), $O3622<'P&L'!$P$8), Z3622, 0)","v":0},{"$f":"IF(OR(ISBLANK($O3622), $O3622>'BankRec Main Acct'!$E$8), Z3622, 0)","v":0},0,{"$f":"IF(AND(NOT(ISBLANK($O3622)), $O3622<'P&L'!$P$8), AC3622, 0)","v":0},{"$f":"IF(OR(ISBLANK($O3622), $O3622>'BankRec Main Acct'!$E$8), AC3622, 0)","v":0},0,{"$f":"IF(AND(NOT(ISBLANK($S3622)), $S3622<'P&L'!$P$8), AF3622, 0)","v":0},{"$f":"IF(OR(ISBLANK($S3622), $S3622>'BankRec Main Acct'!$E$8), AF3622, 0)","v":0},0,{"$f":"IF(AND(NOT(ISBLANK($S3622)), $S3622<'P&L'!$P$8), AI3622, 0)","v":0},{"$f":"IF(OR(ISBLANK($S3622), $S3622>'BankRec Main Acct'!$E$8), AI3622, 0)","v":0},0,{"$f":"IF(AND(NOT(ISBLANK($U3622)), $U3622<'P&L'!$P$8), $AL3622, 0)","v":0},{"$f":"IF(OR(ISBLANK($U3622), $U3622>'DebitCard Rec '!$E$8), $AL3622, 0)","v":0},0,{"$f":"IF(AND(NOT(ISBLANK($U3622)), $U3622<'P&L'!$P$8), $AO3622, 0)","v":0},{"$f":"IF(OR(ISBLANK($U3622), $U3622>'DebitCard Rec '!$E$8), $AO3622, 0)","v":0},0,{"$f":"IF(AND($A3622<'P&L'!$P$8, $X3622='P&L'!$G$6), $AR3622, 0)","v":0},0,{"$f":"IF(AND($A3622<'P&L'!$P$8, $X3622='P&L'!$G$6), $AT3622, 0)","v":0}," "," "," "]
[null,null,null,null,null,null,null,null,null,null,null,null,null,null,null,null,null,null,null,null,null,null,"Jan-00",1900,{"$f":"IF(AND($A3634<'P&L'!$P$8, YEAR($A3634)=Master!$C$6), $K3634, 0)","v":0},0,{"$f":"IF(AND(NOT(ISBLANK($O3634)), $O3634<'P&L'!$P$8), Z3634, 0)","v":0},{"$f":"IF(OR(ISBLANK($O3634), $O3634>'BankRec Main Acct'!$E$8), Z3634, 0)","v":0},0,{"$f":"IF(AND(NOT(ISBLANK($O3634)), $O3634<'P&L'!$P$8), AC3634, 0)","v":0},{"$f":"IF(OR(ISBLANK($O3634), $O3634>'BankRec Main Acct'!$E$8), AC3634, 0)","v":0},0,{"$f":"IF(AND(NOT(ISBLANK($S3634)), $S3634<'P&L'!$P$8), AF3634, 0)","v":0},{"$f":"IF(OR(ISBLANK($S3634), $S3634>'BankRec Main Acct'!$E$8), AF3634, 0)","v":0},0,{"$f":"IF(AND(NOT(ISBLANK($S3634)), $S3634<'P&L'!$P$8), AI3634, 0)","v":0},{"$f":"IF(OR(ISBLANK($S3634), $S3634>'BankRec Main Acct'!$E$8), AI3634, 0)","v":0},0,{"$f":"IF(AND(NOT(ISBLANK($U3634)), $U3634<'P&L'!$P$8), $AL3634, 0)","v":0},{"$f":"IF(OR(ISBLANK($U3634), $U3634>'DebitCard Rec '!$E$8), $AL3634, 0)","v":0},0,{"$f":"IF(AND(NOT(ISBLANK($U3634)), $U3634<'P&L'!$P$8), $AO3634, 0)","v":0},{"$f":"IF(OR(ISBLANK($U3634), $U3634>'DebitCard Rec '!$E$8), $AO3634, 0)","v":0},0,{"$f":"IF(AND($A3634<'P&L'!$P$8, $X3634='P&L'!$G$6), $AR3634, 0)","v":0},0,{"$f":"IF(AND($A3634<'P&L'!$P$8, $X3634='P&L'!$G$6), $AT3634, 0)","v":0}," "," "," "]
[null,null,null,null,null,null,null,null,null,null,null,null,null,null,null,null,null,null,null,null,null,null,"Jan-00",1900,{"$f":"IF(AND($A3642<'P&L'!$P$8, YEAR($A3642)=Master!$C$6), $K3642, 0)","v":0},0,{"$f":"IF(AND(NOT(ISBLANK($O3642)), $O3642<'P&L'!$P$8), Z3642, 0)","v":0},{"$f":"IF(OR(ISBLANK($O3642), $O3642>'BankRec Main Acct'!$E$8), Z3642, 0)","v":0},0,{"$f":"IF(AND(NOT(ISBLANK($O3642)), $O3642<'P&L'!$P$8), AC3642, 0)","v":0},{"$f":"IF(OR(ISBLANK($O3642), $O3642>'BankRec Main Acct'!$E$8), AC3642, 0)","v":0},0,{"$f":"IF(AND(NOT(ISBLANK($S3642)), $S3642<'P&L'!$P$8), AF3642, 0)","v":0},{"$f":"IF(OR(ISBLANK($S3642), $S3642>'BankRec Main Acct'!$E$8), AF3642, 0)","v":0},0,{"$f":"IF(AND(NOT(ISBLANK($S3642)), $S3642<'P&L'!$P$8), AI3642, 0)","v":0},{"$f":"IF(OR(ISBLANK($S3642), $S3642>'BankRec Main Acct'!$E$8), AI3642, 0)","v":0},0,{"$f":"IF(AND(NOT(ISBLANK($U3642)), $U3642<'P&L'!$P$8), $AL3642, 0)","v":0},{"$f":"IF(OR(ISBLANK($U3642), $U3642>'DebitCard Rec '!$E$8), $AL3642, 0)","v":0},0,{"$f":"IF(AND(NOT(ISBLANK($U3642)), $U3642<'P&L'!$P$8), $AO3642, 0)","v":0},{"$f":"IF(OR(ISBLANK($U3642), $U3642>'DebitCard Rec '!$E$8), $AO3642, 0)","v":0},0,{"$f":"IF(AND($A3642<'P&L'!$P$8, $X3642='P&L'!$G$6), $AR3642, 0)","v":0},0,{"$f":"IF(AND($A3642<'P&L'!$P$8, $X3642='P&L'!$G$6), $AT3642, 0)","v":0}," "," "," "]
[null,null,null,null,null,null,null,null,null,null,null,null,null,null,null,null,null,null,null,null,null,null,"Jan-00",1900,{"$f":"IF(AND($A3652<'P&L'!$P$8, YEAR($A3652)=Master!$C$6), $K3652, 0)","v":0},0,{"$f":"IF(AND(NOT(ISBLANK($O3652)), $O3652<'P&L'!$P$8), Z3652, 0)","v":0},{"$f":"IF(OR(ISBLANK($O3652), $O3652>'BankRec Main Acct'!$E$8), Z3652, 0)","v":0},0,{"$f":"IF(AND(NOT(ISBLANK($O3652)), $O3652<'P&L'!$P$8), AC3652, 0)","v":0},{"$f":"IF(OR(ISBLANK($O3652), $O3652>'BankRec Main Acct'!$E$8), AC3652, 0)","v":0},0,{"$f":"IF(AND(NOT(ISBLANK($S3652)), $S3652<'P&L'!$P$8), AF3652, 0)","v":0},{"$f":"IF(OR(ISBLANK($S3652), $S3652>'BankRec Main Acct'!$E$8), AF3652, 0)","v":0},0,{"$f":"IF(AND(NOT(ISBLANK($S3652)), $S3652<'P&L'!$P$8), AI3652, 0)","v":0},{"$f":"IF(OR(ISBLANK($S3652), $S3652>'BankRec Main Acct'!$E$8), AI3652, 0)","v":0},0,{"$f":"IF(AND(NOT(ISBLANK($U3652)), $U3652<'P&L'!$P$8), $AL3652, 0)","v":0},{"$f":"IF(OR(ISBLANK($U3652), $U3652>'DebitCard Rec '!$E$8), $AL3652, 0)","v":0},0,{"$f":"IF(AND(NOT(ISBLANK($U3652)), $U3652<'P&L'!$P$8), $AO3652, 0)","v":0},{"$f":"IF(OR(ISBLANK($U3652), $U3652>'DebitCard Rec '!$E$8), $AO3652, 0)","v":0},{"$f":"IF($AV3652=\"Petty cash Receipt\", $K3652, 0)","v":0},{"$f":"IF(AND($A3652<'P&L'!$P$8, $X3652='P&L'!$G$6), $AR3652, 0)","v":0},{"$f":"IF($AV3652=\"Petty cash Payment\", $K3652, 0)","v":0},{"$f":"IF(AND($A3652<'P&L'!$P$8, $X3652='P&L'!$G$6), $AT3652, 0)","v":0}," ",{"$f":"IF(C3652=\"Receipt\",CONCATENATE(D3652,\" \", F3652), \" \")","v":" "},{"$f":"IF(C3652= \"Payment\", CONCATENATE(F3652,\" \",E3652), \" \")","v":" "}]
[null,null,null,null,null,null,null,null,null,null,null,null,null,null,null,null,null,null,null,null,null,null,"Jan-00",1900,{"$f":"IF(AND($A3659<'P&L'!$P$8, YEAR($A3659)=Master!$C$6), $K3659, 0)","v":0},0,{"$f":"IF(AND(NOT(ISBLANK($O3659)), $O3659<'P&L'!$P$8), Z3659, 0)","v":0},{"$f":"IF(OR(ISBLANK($O3659), $O3659>'BankRec Main Acct'!$E$8), Z3659, 0)","v":0},0,{"$f":"IF(AND(NOT(ISBLANK($O3659)), $O3659<'P&L'!$P$8), AC3659, 0)","v":0},{"$f":"IF(OR(ISBLANK($O3659), $O3659>'BankRec Main Acct'!$E$8), AC3659, 0)","v":0},0,{"$f":"IF(AND(NOT(ISBLANK($S3659)), $S3659<'P&L'!$P$8), AF3659, 0)","v":0},{"$f":"IF(OR(ISBLANK($S3659), $S3659>'BankRec Main Acct'!$E$8), AF3659, 0)","v":0},0,{"$f":"IF(AND(NOT(ISBLANK($S3659)), $S3659<'P&L'!$P$8), AI3659, 0)","v":0},{"$f":"IF(OR(ISBLANK($S3659), $S3659>'BankRec Main Acct'!$E$8), AI3659, 0)","v":0},0,{"$f":"IF(AND(NOT(ISBLANK($U3659)), $U3659<'P&L'!$P$8), $AL3659, 0)","v":0},{"$f":"IF(OR(ISBLANK($U3659), $U3659>'DebitCard Rec '!$E$8), $AL3659, 0)","v":0},0,{"$f":"IF(AND(NOT(ISBLANK($U3659)), $U3659<'P&L'!$P$8), $AO3659, 0)","v":0},{"$f":"IF(OR(ISBLANK($U3659), $U3659>'DebitCard Rec '!$E$8), $AO3659, 0)","v":0},0,{"$f":"IF(AND($A3659<'P&L'!$P$8, $X3659='P&L'!$G$6), $AR3659, 0)","v":0},0,{"$f":"IF(AND($A3659<'P&L'!$P$8, $X3659='P&L'!$G$6), $AT3659, 0)","v":0},{"$f":"CONCATENATE(B3659,\" \",C3659)","v":" "}," "," "]
[null,null,null,null,null,null,null,null,null,null,null,null,null,null,null,null,null,null,null,null,null,null,"Jan-00",1900,{"$f":"IF(AND($A3662<'P&L'!$P$8, YEAR($A3662)=Master!$C$6), $K3662, 0)","v":0},0,{"$f":"IF(AND(NOT(ISBLANK($O3662)), $O3662<'P&L'!$P$8), Z3662, 0)","v":0},{"$f":"IF(OR(ISBLANK($O3662), $O3662>'BankRec Main Acct'!$E$8), Z3662, 0)","v":0},0,{"$f":"IF(AND(NOT(ISBLANK($O3662)), $O3662<'P&L'!$P$8), AC3662, 0)","v":0},{"$f":"IF(OR(ISBLANK($O3662), $O3662>'BankRec Main Acct'!$E$8), AC3662, 0)","v":0},0,{"$f":"IF(AND(NOT(ISBLANK($S3662)), $S3662<'P&L'!$P$8), AF3662, 0)","v":0},{"$f":"IF(OR(ISBLANK($S3662), $S3662>'BankRec Main Acct'!$E$8), AF3662, 0)","v":0},0,{"$f":"IF(AND(NOT(ISBLANK($S3662)), $S3662<'P&L'!$P$8), AI3662, 0)","v":0},{"$f":"IF(OR(ISBLANK($S3662), $S3662>'BankRec Main Acct'!$E$8), AI3662, 0)","v":0},0,{"$f":"IF(AND(NOT(ISBLANK($U3662)), $U3662<'P&L'!$P$8), $AL3662, 0)","v":0},{"$f":"IF(OR(ISBLANK($U3662), $U3662>'DebitCard Rec '!$E$8), $AL3662, 0)","v":0},0,{"$f":"IF(AND(NOT(ISBLANK($U3662)), $U3662<'P&L'!$P$8), $AO3662, 0)","v":0},{"$f":"IF(OR(ISBLANK($U3662), $U3662>'DebitCard Rec '!$E$8), $AO3662, 0)","v":0},0,{"$f":"IF(AND($A3662<'P&L'!$P$8, $X3662='P&L'!$G$6), $AR3662, 0)","v":0},0,{"$f":"IF(AND($A3662<'P&L'!$P$8, $X3662='P&L'!$G$6), $AT3662, 0)","v":0}," "," "," "]
[null,null,null,null,null,null,null,null,null,null,null,null,null,null,null,null,null,null,null,null,null,null,"Jan-00",1900,{"$f":"IF(AND($A3674<'P&L'!$P$8, YEAR($A3674)=Master!$C$6), $K3674, 0)","v":0},0,{"$f":"IF(AND(NOT(ISBLANK($O3674)), $O3674<'P&L'!$P$8), Z3674, 0)","v":0},{"$f":"IF(OR(ISBLANK($O3674), $O3674>'BankRec Main Acct'!$E$8), Z3674, 0)","v":0},0,{"$f":"IF(AND(NOT(ISBLANK($O3674)), $O3674<'P&L'!$P$8), AC3674, 0)","v":0},{"$f":"IF(OR(ISBLANK($O3674), $O3674>'BankRec Main Acct'!$E$8), AC3674, 0)","v":0},0,{"$f":"IF(AND(NOT(ISBLANK($S3674)), $S3674<'P&L'!$P$8), AF3674, 0)","v":0},{"$f":"IF(OR(ISBLANK($S3674), $S3674>'BankRec Main Acct'!$E$8), AF3674, 0)","v":0},0,{"$f":"IF(AND(NOT(ISBLANK($S3674)), $S3674<'P&L'!$P$8), AI3674, 0)","v":0},{"$f":"IF(OR(ISBLANK($S3674), $S3674>'BankRec Main Acct'!$E$8), AI3674, 0)","v":0},0,{"$f":"IF(AND(NOT(ISBLANK($U3674)), $U3674<'P&L'!$P$8), $AL3674, 0)","v":0},{"$f":"IF(OR(ISBLANK($U3674), $U3674>'DebitCard Rec '!$E$8), $AL3674, 0)","v":0},0,{"$f":"IF(AND(NOT(ISBLANK($U3674)), $U3674<'P&L'!$P$8), $AO3674, 0)","v":0},{"$f":"IF(OR(ISBLANK($U3674), $U3674>'DebitCard Rec '!$E$8), $AO3674, 0)","v":0},0,{"$f":"IF(AND($A3674<'P&L'!$P$8, $X3674='P&L'!$G$6), $AR3674, 0)","v":0},0,{"$f":"IF(AND($A3674<'P&L'!$P$8, $X3674='P&L'!$G$6), $AT3674, 0)","v":0}," "," "," "]
[null,null,null,null,null,null,null,null,null,null,null,null,null,null,null,null,null,null,null,null,null,null,"Jan-00",1900,{"$f":"IF(AND($A3683<'P&L'!$P$8, YEAR($A3683)=Master!$C$6), $K3683, 0)","v":0},0,{"$f":"IF(AND(NOT(ISBLANK($O3683)), $O3683<'P&L'!$P$8), Z3683, 0)","v":0},{"$f":"IF(OR(ISBLANK($O3683), $O3683>'BankRec Main Acct'!$E$8), Z3683, 0)","v":0},0,{"$f":"IF(AND(NOT(ISBLANK($O3683)), $O3683<'P&L'!$P$8), AC3683, 0)","v":0},{"$f":"IF(OR(ISBLANK($O3683), $O3683>'BankRec Main Acct'!$E$8), AC3683, 0)","v":0},0,{"$f":"IF(AND(NOT(ISBLANK($S3683)), $S3683<'P&L'!$P$8), AF3683, 0)","v":0},{"$f":"IF(OR(ISBLANK($S3683), $S3683>'BankRec Main Acct'!$E$8), AF3683, 0)","v":0},0,{"$f":"IF(AND(NOT(ISBLANK($S3683)), $S3683<'P&L'!$P$8), AI3683, 0)","v":0},{"$f":"IF(OR(ISBLANK($S3683), $S3683>'BankRec Main Acct'!$E$8), AI3683, 0)","v":0},0,{"$f":"IF(AND(NOT(ISBLANK($U3683)), $U3683<'P&L'!$P$8), $AL3683, 0)","v":0},{"$f":"IF(OR(ISBLANK($U3683), $U3683>'DebitCard Rec '!$E$8), $AL3683, 0)","v":0},0,{"$f":"IF(AND(NOT(ISBLANK($U3683)), $U3683<'P&L'!$P$8), $AO3683, 0)","v":0},{"$f":"IF(OR(ISBLANK($U3683), $U3683>'DebitCard Rec '!$E$8), $AO3683, 0)","v":0},0,{"$f":"IF(AND($A3683<'P&L'!$P$8, $X3683='P&L'!$G$6), $AR3683, 0)","v":0},0,{"$f":"IF(AND($A3683<'P&L'!$P$8, $X3683='P&L'!$G$6), $AT3683, 0)","v":0}," "," "," "]
[null,null,null,null,null,null,null,null,null,null,null,null,null,null,null,null,null,null,null,null,null,null,"Jan-00",1900,{"$f":"IF(AND($A3692<'P&L'!$P$8, YEAR($A3692)=Master!$C$6), $K3692, 0)","v":0},0,{"$f":"IF(AND(NOT(ISBLANK($O3692)), $O3692<'P&L'!$P$8), Z3692, 0)","v":0},{"$f":"IF(OR(ISBLANK($O3692), $O3692>'BankRec Main Acct'!$E$8), Z3692, 0)","v":0},0,{"$f":"IF(AND(NOT(ISBLANK($O3692)), $O3692<'P&L'!$P$8), AC3692, 0)","v":0},{"$f":"IF(OR(ISBLANK($O3692), $O3692>'BankRec Main Acct'!$E$8), AC3692, 0)","v":0},0,{"$f":"IF(AND(NOT(ISBLANK($S3692)), $S3692<'P&L'!$P$8), AF3692, 0)","v":0},{"$f":"IF(OR(ISBLANK($S3692), $S3692>'BankRec Main Acct'!$E$8), AF3692, 0)","v":0},0,{"$f":"IF(AND(NOT(ISBLANK($S3692)), $S3692<'P&L'!$P$8), AI3692, 0)","v":0},{"$f":"IF(OR(ISBLANK($S3692), $S3692>'BankRec Main Acct'!$E$8), AI3692, 0)","v":0},0,{"$f":"IF(AND(NOT(ISBLANK($U3692)), $U3692<'P&L'!$P$8), $AL3692, 0)","v":0},{"$f":"IF(OR(ISBLANK($U3692), $U3692>'DebitCard Rec '!$E$8), $AL3692, 0)","v":0},0,{"$f":"IF(AND(NOT(ISBLANK($U3692)), $U3692<'P&L'!$P$8), $AO3692, 0)","v":0},{"$f":"IF(OR(ISBLANK($U3692), $U3692>'DebitCard Rec '!$E$8), $AO3692, 0)","v":0},0,{"$f":"IF(AND($A3692<'P&L'!$P$8, $X3692='P&L'!$G$6), $AR3692, 0)","v":0},0,{"$f":"IF(AND($A3692<'P&L'!$P$8, $X3692='P&L'!$G$6), $AT3692, 0)","v":0}," "," "," "]
[null,null,null,null,null,null,null,null,null,null,null,null,null,null,null,null,null,null,null,null,null,null,"Jan-00",1900,{"$f":"IF(AND($A3699<'P&L'!$P$8, YEAR($A3699)=Master!$C$6), $K3699, 0)","v":0},0,{"$f":"IF(AND(NOT(ISBLANK($O3699)), $O3699<'P&L'!$P$8), Z3699, 0)","v":0},{"$f":"IF(OR(ISBLANK($O3699), $O3699>'BankRec Main Acct'!$E$8), Z3699, 0)","v":0},0,{"$f":"IF(AND(NOT(ISBLANK($O3699)), $O3699<'P&L'!$P$8), AC3699, 0)","v":0},{"$f":"IF(OR(ISBLANK($O3699), $O3699>'BankRec Main Acct'!$E$8), AC3699, 0)","v":0},0,{"$f":"IF(AND(NOT(ISBLANK($S3699)), $S3699<'P&L'!$P$8), AF3699, 0)","v":0},{"$f":"IF(OR(ISBLANK($S3699), $S3699>'BankRec Main Acct'!$E$8), AF3699, 0)","v":0},0,{"$f":"IF(AND(NOT(ISBLANK($S3699)), $S3699<'P&L'!$P$8), AI3699, 0)","v":0},{"$f":"IF(OR(ISBLANK($S3699), $S3699>'BankRec Main Acct'!$E$8), AI3699, 0)","v":0},0,{"$f":"IF(AND(NOT(ISBLANK($U3699)), $U3699<'P&L'!$P$8), $AL3699, 0)","v":0},{"$f":"IF(OR(ISBLANK($U3699), $U3699>'DebitCard Rec '!$E$8), $AL3699, 0)","v":0},0,{"$f":"IF(AND(NOT(ISBLANK($U3699)), $U3699<'P&L'!$P$8), $AO3699, 0)","v":0},{"$f":"IF(OR(ISBLANK($U3699), $U3699>'DebitCard Rec '!$E$8), $AO3699, 0)","v":0},0,{"$f":"IF(AND($A3699<'P&L'!$P$8, $X3699='P&L'!$G$6), $AR3699, 0)","v":0},0,{"$f":"IF(AND($A3699<'P&L'!$P$8, $X3699='P&L'!$G$6), $AT3699, 0)","v":0}," "," "," "]
[null,null,null,null,null,null,null,null,null,null,null,null,null,null,null,null,null,null,null,null,null,null,"Jan-00",1900,{"$f":"IF(AND($A3711<'P&L'!$P$8, YEAR($A3711)=Master!$C$6), $K3711, 0)","v":0},0,{"$f":"IF(AND(NOT(ISBLANK($O3711)), $O3711<'P&L'!$P$8), Z3711, 0)","v":0},{"$f":"IF(OR(ISBLANK($O3711), $O3711>'BankRec Main Acct'!$E$8), Z3711, 0)","v":0},0,{"$f":"IF(AND(NOT(ISBLANK($O3711)), $O3711<'P&L'!$P$8), AC3711, 0)","v":0},{"$f":"IF(OR(ISBLANK($O3711), $O3711>'BankRec Main Acct'!$E$8), AC3711, 0)","v":0},0,{"$f":"IF(AND(NOT(ISBLANK($S3711)), $S3711<'P&L'!$P$8), AF3711, 0)","v":0},{"$f":"IF(OR(ISBLANK($S3711), $S3711>'BankRec Main Acct'!$E$8), AF3711, 0)","v":0},0,{"$f":"IF(AND(NOT(ISBLANK($S3711)), $S3711<'P&L'!$P$8), AI3711, 0)","v":0},{"$f":"IF(OR(ISBLANK($S3711), $S3711>'BankRec Main Acct'!$E$8), AI3711, 0)","v":0},0,{"$f":"IF(AND(NOT(ISBLANK($U3711)), $U3711<'P&L'!$P$8), $AL3711, 0)","v":0},{"$f":"IF(OR(ISBLANK($U3711), $U3711>'DebitCard Rec '!$E$8), $AL3711, 0)","v":0},0,{"$f":"IF(AND(NOT(ISBLANK($U3711)), $U3711<'P&L'!$P$8), $AO3711, 0)","v":0},{"$f":"IF(OR(ISBLANK($U3711), $U3711>'DebitCard Rec '!$E$8), $AO3711, 0)","v":0},0,{"$f":"IF(AND($A3711<'P&L'!$P$8, $X3711='P&L'!$G$6), $AR3711, 0)","v":0},0,{"$f":"IF(AND($A3711<'P&L'!$P$8, $X3711='P&L'!$G$6), $AT3711, 0)","v":0}," "," "," "]
[null,null,null,null,null,null,null,null,null,null,null,null,null,null,null,null,null,null,null,null,null,null,"Jan-00",1900,{"$f":"IF(AND($A3722<'P&L'!$P$8, YEAR($A3722)=Master!$C$6), $K3722, 0)","v":0},0,{"$f":"IF(AND(NOT(ISBLANK($O3722)), $O3722<'P&L'!$P$8), Z3722, 0)","v":0},{"$f":"IF(OR(ISBLANK($O3722), $O3722>'BankRec Main Acct'!$E$8), Z3722, 0)","v":0},0,{"$f":"IF(AND(NOT(ISBLANK($O3722)), $O3722<'P&L'!$P$8), AC3722, 0)","v":0},{"$f":"IF(OR(ISBLANK($O3722), $O3722>'BankRec Main Acct'!$E$8), AC3722, 0)","v":0},0,{"$f":"IF(AND(NOT(ISBLANK($S3722)), $S3722<'P&L'!$P$8), AF3722, 0)","v":0},{"$f":"IF(OR(ISBLANK($S3722), $S3722>'BankRec Main Acct'!$E$8), AF3722, 0)","v":0},0,{"$f":"IF(AND(NOT(ISBLANK($S3722)), $S3722<'P&L'!$P$8), AI3722, 0)","v":0},{"$f":"IF(OR(ISBLANK($S3722), $S3722>'BankRec Main Acct'!$E$8), AI3722, 0)","v":0},0,{"$f":"IF(AND(NOT(ISBLANK($U3722)), $U3722<'P&L'!$P$8), $AL3722, 0)","v":0},{"$f":"IF(OR(ISBLANK($U3722), $U3722>'DebitCard Rec '!$E$8), $AL3722, 0)","v":0},0,{"$f":"IF(AND(NOT(ISBLANK($U3722)), $U3722<'P&L'!$P$8), $AO3722, 0)","v":0},{"$f":"IF(OR(ISBLANK($U3722), $U3722>'DebitCard Rec '!$E$8), $AO3722, 0)","v":0},0,{"$f":"IF(AND($A3722<'P&L'!$P$8, $X3722='P&L'!$G$6), $AR3722, 0)","v":0},0,{"$f":"IF(AND($A3722<'P&L'!$P$8, $X3722='P&L'!$G$6), $AT3722, 0)","v":0}," "," "," "]
[null,null,null,null,null,null,null,null,null,null,null,null,null,null,null,null,null,null,null,null,null,null,"Jan-00",1900,{"$f":"IF(AND($A3729<'P&L'!$P$8, YEAR($A3729)=Master!$C$6), $K3729, 0)","v":0},0,{"$f":"IF(AND(NOT(ISBLANK($O3729)), $O3729<'P&L'!$P$8), Z3729, 0)","v":0},{"$f":"IF(OR(ISBLANK($O3729), $O3729>'BankRec Main Acct'!$E$8), Z3729, 0)","v":0},0,{"$f":"IF(AND(NOT(ISBLANK($O3729)), $O3729<'P&L'!$P$8), AC3729, 0)","v":0},{"$f":"IF(OR(ISBLANK($O3729), $O3729>'BankRec Main Acct'!$E$8), AC3729, 0)","v":0},0,{"$f":"IF(AND(NOT(ISBLANK($S3729)), $S3729<'P&L'!$P$8), AF3729, 0)","v":0},{"$f":"IF(OR(ISBLANK($S3729), $S3729>'BankRec Main Acct'!$E$8), AF3729, 0)","v":0},0,{"$f":"IF(AND(NOT(ISBLANK($S3729)), $S3729<'P&L'!$P$8), AI3729, 0)","v":0},{"$f":"IF(OR(ISBLANK($S3729), $S3729>'BankRec Main Acct'!$E$8), AI3729, 0)","v":0},0,{"$f":"IF(AND(NOT(ISBLANK($U3729)), $U3729<'P&L'!$P$8), $AL3729, 0)","v":0},{"$f":"IF(OR(ISBLANK($U3729), $U3729>'DebitCard Rec '!$E$8), $AL3729, 0)","v":0},0,{"$f":"IF(AND(NOT(ISBLANK($U3729)), $U3729<'P&L'!$P$8), $AO3729, 0)","v":0},{"$f":"IF(OR(ISBLANK($U3729), $U3729>'DebitCard Rec '!$E$8), $AO3729, 0)","v":0},0,{"$f":"IF(AND($A3729<'P&L'!$P$8, $X3729='P&L'!$G$6), $AR3729, 0)","v":0},0,{"$f":"IF(AND($A3729<'P&L'!$P$8, $X3729='P&L'!$G$6), $AT3729, 0)","v":0}," "," "," "]
[null,null,null,null,null,null,null,null,null,null,null,null,null,null,null,null,null,null,null,null,null,null,{"$f":"TEXT($A3732, \"mmm-yy\")","v":"Jan-00"},{"$f":"YEAR($A3732)","v":1900},{"$f":"IF(AND($A3732<'P&L'!$P$8, YEAR($A3732)=Master!$C$6), $K3732, 0)","v":0},0,{"$f":"IF(AND(NOT(ISBLANK($O3732)), $O3732<'P&L'!$P$8), Z3732, 0)","v":0},{"$f":"IF(OR(ISBLANK($O3732), $O3732>'BankRec Main Acct'!$E$8), Z3732, 0)","v":0},0,{"$f":"IF(AND(NOT(ISBLANK($O3732)), $O3732<'P&L'!$P$8), AC3732, 0)","v":0},{"$f":"IF(OR(ISBLANK($O3732), $O3732>'BankRec Main Acct'!$E$8), AC3732, 0)","v":0},0,{"$f":"IF(AND(NOT(ISBLANK($S3732)), $S3732<'P&L'!$P$8), AF3732, 0)","v":0},{"$f":"IF(OR(ISBLANK($S3732), $S3732>'BankRec Main Acct'!$E$8), AF3732, 0)","v":0},0,{"$f":"IF(AND(NOT(ISBLANK($S3732)), $S3732<'P&L'!$P$8), AI3732, 0)","v":0},{"$f":"IF(OR(ISBLANK($S3732), $S3732>'BankRec Main Acct'!$E$8), AI3732, 0)","v":0},{"$f":"IF(AND($C3732=\"Receipt\",$B3732=\"Debit card\"),$K3732,0)","v":0},{"$f":"IF(AND(NOT(ISBLANK($U3732)), $U3732<'P&L'!$P$8), $AL3732, 0)","v":0},{"$f":"IF(OR(ISBLANK($U3732), $U3732>'DebitCard Rec '!$E$8), $AL3732, 0)","v":0},{"$f":"IF(AND($C3732=\"Payment\",$B3732=\"Debit card\"),$K3732,0)","v":0},{"$f":"IF(AND(NOT(ISBLANK($U3732)), $U3732<'P&L'!$P$8), $AO3732, 0)","v":0},{"$f":"IF(OR(ISBLANK($U3732), $U3732>'DebitCard Rec '!$E$8), $AO3732, 0)","v":0},0,{"$f":"IF(AND($A3732<'P&L'!$P$8, $X3732='P&L'!$G$6), $AR3732, 0)","v":0},0,{"$f":"IF(AND($A3732<'P&L'!$P$8, $X3732='P&L'!$G$6), $AT3732, 0)","v":0}," "," "," "]
[null,null,null,null,null,null,null,null,null,null,null,null,null,null,null,null,null,null,null,null,null,null,"Jan-00",1900,{"$f":"IF(AND($A3744<'P&L'!$P$8, YEAR($A3744)=Master!$C$6), $K3744, 0)","v":0},0,{"$f":"IF(AND(NOT(ISBLANK($O3744)), $O3744<'P&L'!$P$8), Z3744, 0)","v":0},{"$f":"IF(OR(ISBLANK($O3744), $O3744>'BankRec Main Acct'!$E$8), Z3744, 0)","v":0},0,{"$f":"IF(AND(NOT(ISBLANK($O3744)), $O3744<'P&L'!$P$8), AC3744, 0)","v":0},{"$f":"IF(OR(ISBLANK($O3744), $O3744>'BankRec Main Acct'!$E$8), AC3744, 0)","v":0},0,{"$f":"IF(AND(NOT(ISBLANK($S3744)), $S3744<'P&L'!$P$8), AF3744, 0)","v":0},{"$f":"IF(OR(ISBLANK($S3744), $S3744>'BankRec Main Acct'!$E$8), AF3744, 0)","v":0},0,{"$f":"IF(AND(NOT(ISBLANK($S3744)), $S3744<'P&L'!$P$8), AI3744, 0)","v":0},{"$f":"IF(OR(ISBLANK($S3744), $S3744>'BankRec Main Acct'!$E$8), AI3744, 0)","v":0},0,{"$f":"IF(AND(NOT(ISBLANK($U3744)), $U3744<'P&L'!$P$8), $AL3744, 0)","v":0},{"$f":"IF(OR(ISBLANK($U3744), $U3744>'DebitCard Rec '!$E$8), $AL3744, 0)","v":0},0,{"$f":"IF(AND(NOT(ISBLANK($U3744)), $U3744<'P&L'!$P$8), $AO3744, 0)","v":0},{"$f":"IF(OR(ISBLANK($U3744), $U3744>'DebitCard Rec '!$E$8), $AO3744, 0)","v":0},0,{"$f":"IF(AND($A3744<'P&L'!$P$8, $X3744='P&L'!$G$6), $AR3744, 0)","v":0},0,{"$f":"IF(AND($A3744<'P&L'!$P$8, $X3744='P&L'!$G$6), $AT3744, 0)","v":0}," "," "," "]
[null,null,null,null,null,null,null,null,null,null,null,null,null,null,null,null,null,null,null,null,null,null,"Jan-00",1900,{"$f":"IF(AND($A3751<'P&L'!$P$8, YEAR($A3751)=Master!$C$6), $K3751, 0)","v":0},0,{"$f":"IF(AND(NOT(ISBLANK($O3751)), $O3751<'P&L'!$P$8), Z3751, 0)","v":0},{"$f":"IF(OR(ISBLANK($O3751), $O3751>'BankRec Main Acct'!$E$8), Z3751, 0)","v":0},0,{"$f":"IF(AND(NOT(ISBLANK($O3751)), $O3751<'P&L'!$P$8), AC3751, 0)","v":0},{"$f":"IF(OR(ISBLANK($O3751), $O3751>'BankRec Main Acct'!$E$8), AC3751, 0)","v":0},0,{"$f":"IF(AND(NOT(ISBLANK($S3751)), $S3751<'P&L'!$P$8), AF3751, 0)","v":0},{"$f":"IF(OR(ISBLANK($S3751), $S3751>'BankRec Main Acct'!$E$8), AF3751, 0)","v":0},0,{"$f":"IF(AND(NOT(ISBLANK($S3751)), $S3751<'P&L'!$P$8), AI3751, 0)","v":0},{"$f":"IF(OR(ISBLANK($S3751), $S3751>'BankRec Main Acct'!$E$8), AI3751, 0)","v":0},0,{"$f":"IF(AND(NOT(ISBLANK($U3751)), $U3751<'P&L'!$P$8), $AL3751, 0)","v":0},{"$f":"IF(OR(ISBLANK($U3751), $U3751>'DebitCard Rec '!$E$8), $AL3751, 0)","v":0},0,{"$f":"IF(AND(NOT(ISBLANK($U3751)), $U3751<'P&L'!$P$8), $AO3751, 0)","v":0},{"$f":"IF(OR(ISBLANK($U3751), $U3751>'DebitCard Rec '!$E$8), $AO3751, 0)","v":0},0,{"$f":"IF(AND($A3751<'P&L'!$P$8, $X3751='P&L'!$G$6), $AR3751, 0)","v":0},0,{"$f":"IF(AND($A3751<'P&L'!$P$8, $X3751='P&L'!$G$6), $AT3751, 0)","v":0}," "," "," "]
[null,null,null,null,null,null,null,null,null,null,null,null,null,null,null,null,null,null,null,null,null,null,"Jan-00",1900,{"$f":"IF(AND($A3763<'P&L'!$P$8, YEAR($A3763)=Master!$C$6), $K3763, 0)","v":0},0,{"$f":"IF(AND(NOT(ISBLANK($O3763)), $O3763<'P&L'!$P$8), Z3763, 0)","v":0},{"$f":"IF(OR(ISBLANK($O3763), $O3763>'BankRec Main Acct'!$E$8), Z3763, 0)","v":0},0,{"$f":"IF(AND(NOT(ISBLANK($O3763)), $O3763<'P&L'!$P$8), AC3763, 0)","v":0},{"$f":"IF(OR(ISBLANK($O3763), $O3763>'BankRec Main Acct'!$E$8), AC3763, 0)","v":0},0,{"$f":"IF(AND(NOT(ISBLANK($S3763)), $S3763<'P&L'!$P$8), AF3763, 0)","v":0},{"$f":"IF(OR(ISBLANK($S3763), $S3763>'BankRec Main Acct'!$E$8), AF3763, 0)","v":0},0,{"$f":"IF(AND(NOT(ISBLANK($S3763)), $S3763<'P&L'!$P$8), AI3763, 0)","v":0},{"$f":"IF(OR(ISBLANK($S3763), $S3763>'BankRec Main Acct'!$E$8), AI3763, 0)","v":0},0,{"$f":"IF(AND(NOT(ISBLANK($U3763)), $U3763<'P&L'!$P$8), $AL3763, 0)","v":0},{"$f":"IF(OR(ISBLANK($U3763), $U3763>'DebitCard Rec '!$E$8), $AL3763, 0)","v":0},0,{"$f":"IF(AND(NOT(ISBLANK($U3763)), $U3763<'P&L'!$P$8), $AO3763, 0)","v":0},{"$f":"IF(OR(ISBLANK($U3763), $U3763>'DebitCard Rec '!$E$8), $AO3763, 0)","v":0},0,{"$f":"IF(AND($A3763<'P&L'!$P$8, $X3763='P&L'!$G$6), $AR3763, 0)","v":0},0,{"$f":"IF(AND($A3763<'P&L'!$P$8, $X3763='P&L'!$G$6), $AT3763, 0)","v":0}," "," "," "]
[null,null,null,null,null,null,null,null,null,null,null,null,null,null,null,null,null,null,null,null,null,null,"Jan-00",1900,{"$f":"IF(AND($A3769<'P&L'!$P$8, YEAR($A3769)=Master!$C$6), $K3769, 0)","v":0},0,{"$f":"IF(AND(NOT(ISBLANK($O3769)), $O3769<'P&L'!$P$8), Z3769, 0)","v":0},{"$f":"IF(OR(ISBLANK($O3769), $O3769>'BankRec Main Acct'!$E$8), Z3769, 0)","v":0},0,{"$f":"IF(AND(NOT(ISBLANK($O3769)), $O3769<'P&L'!$P$8), AC3769, 0)","v":0},{"$f":"IF(OR(ISBLANK($O3769), $O3769>'BankRec Main Acct'!$E$8), AC3769, 0)","v":0},0,{"$f":"IF(AND(NOT(ISBLANK($S3769)), $S3769<'P&L'!$P$8), AF3769, 0)","v":0},{"$f":"IF(OR(ISBLANK($S3769), $S3769>'BankRec Main Acct'!$E$8), AF3769, 0)","v":0},0,{"$f":"IF(AND(NOT(ISBLANK($S3769)), $S3769<'P&L'!$P$8), AI3769, 0)","v":0},{"$f":"IF(OR(ISBLANK($S3769), $S3769>'BankRec Main Acct'!$E$8), AI3769, 0)","v":0},0,{"$f":"IF(AND(NOT(ISBLANK($U3769)), $U3769<'P&L'!$P$8), $AL3769, 0)","v":0},{"$f":"IF(OR(ISBLANK($U3769), $U3769>'DebitCard Rec '!$E$8), $AL3769, 0)","v":0},0,{"$f":"IF(AND(NOT(ISBLANK($U3769)), $U3769<'P&L'!$P$8), $AO3769, 0)","v":0},{"$f":"IF(OR(ISBLANK($U3769), $U3769>'DebitCard Rec '!$E$8), $AO3769, 0)","v":0},0,{"$f":"IF(AND($A3769<'P&L'!$P$8, $X3769='P&L'!$G$6), $AR3769, 0)","v":0},0,{"$f":"IF(AND($A3769<'P&L'!$P$8, $X3769='P&L'!$G$6), $AT3769, 0)","v":0}," "," "," "]
[null,null,null,null,null,null,null,null,null,null,null,null,null,null,null,null,null,null,null,null,null,null,"Jan-00",1900,{"$f":"IF(AND($A3781<'P&L'!$P$8, YEAR($A3781)=Master!$C$6), $K3781, 0)","v":0},{"$f":"IF(AND($C3781=\"Receipt\",$B3781<>\"debit card\",$B3781<>\"petty cash\",$B3781<>\"Cash_Sub\",$B3781<>\"Cheque_Sub\", $B3781<>\"EFT_Sub\"),$K3781,0)","v":0},{"$f":"IF(AND(NOT(ISBLANK($O3781)), $O3781<'P&L'!$P$8), Z3781, 0)","v":0},{"$f":"IF(OR(ISBLANK($O3781), $O3781>'BankRec Main Acct'!$E$8), Z3781, 0)","v":0},{"$f":"IF(AND($C3781=\"Payment\", $B3781<>\"debit card\", $B3781<>\"petty cash\", $B3781<>\"Cash_Sub\", $B3781<>\"Cheque_Sub\", $B3781<>\"EFT_Sub\"), $K3781, 0)","v":0},{"$f":"IF(AND(NOT(ISBLANK($O3781)), $O3781<'P&L'!$P$8), AC3781, 0)","v":0},{"$f":"IF(OR(ISBLANK($O3781), $O3781>'BankRec Main Acct'!$E$8), AC3781, 0)","v":0},{"$f":"IF(AND($C3781=\"Receipt\",$B3781<>\"debit card\",$B3781<>\"petty cash\",$B3781<>\"Cash_Main\",$B3781<>\"Cheque_Main\", $B3781<>\"EFT_Main\"),$K3781,0)","v":0},{"$f":"IF(AND(NOT(ISBLANK($S3781)), $S3781<'P&L'!$P$8), AF3781, 0)","v":0},{"$f":"IF(OR(ISBLANK($S3781), $S3781>'BankRec Main Acct'!$E$8), AF3781, 0)","v":0},{"$f":"IF(AND($C3781=\"Payment\", $B3781<>\"debit card\", $B3781<>\"petty cash\", $B3781<>\"Cash_Main\", $B3781<>\"Cheque_Main\", $B3781<>\"EFT_Main\"), $K3781, 0)","v":0},{"$f":"IF(AND(NOT(ISBLANK($S3781)), $S3781<'P&L'!$P$8), AI3781, 0)","v":0},{"$f":"IF(OR(ISBLANK($S3781), $S3781>'BankRec Main Acct'!$E$8), AI3781, 0)","v":0},0,{"$f":"IF(AND(NOT(ISBLANK($U3781)), $U3781<'P&L'!$P$8), $AL3781, 0)","v":0},{"$f":"IF(OR(ISBLANK($U3781), $U3781>'DebitCard Rec '!$E$8), $AL3781, 0)","v":0},0,{"$f":"IF(AND(NOT(ISBLANK($U3781)), $U3781<'P&L'!$P$8), $AO3781, 0)","v":0},{"$f":"IF(OR(ISBLANK($U3781), $U3781>'DebitCard Rec '!$E$8), $AO3781, 0)","v":0},0,{"$f":"IF(AND($A3781<'P&L'!$P$8, $X3781='P&L'!$G$6), $AR3781, 0)","v":0},0,{"$f":"IF(AND($A3781<'P&L'!$P$8, $X3781='P&L'!$G$6), $AT3781, 0)","v":0}," "," "," "]
[null,null,null,null,null,null,null,null,null,null,null,null,null,null,null,null,null,null,null,null,null,null,"Jan-00",1900,{"$f":"IF(AND($A3793<'P&L'!$P$8, YEAR($A3793)=Master!$C$6), $K3793, 0)","v":0},0,{"$f":"IF(AND(NOT(ISBLANK($O3793)), $O3793<'P&L'!$P$8), Z3793, 0)","v":0},{"$f":"IF(OR(ISBLANK($O3793), $O3793>'BankRec Main Acct'!$E$8), Z3793, 0)","v":0},0,{"$f":"IF(AND(NOT(ISBLANK($O3793)), $O3793<'P&L'!$P$8), AC3793, 0)","v":0},{"$f":"IF(OR(ISBLANK($O3793), $O3793>'BankRec Main Acct'!$E$8), AC3793, 0)","v":0},0,{"$f":"IF(AND(NOT(ISBLANK($S3793)), $S3793<'P&L'!$P$8), AF3793, 0)","v":0},{"$f":"IF(OR(ISBLANK($S3793), $S3793>'BankRec Main Acct'!$E$8), AF3793, 0)","v":0},0,{"$f":"IF(AND(NOT(ISBLANK($S3793)), $S3793<'P&L'!$P$8), AI3793, 0)","v":0},{"$f":"IF(OR(ISBLANK($S3793), $S3793>'BankRec Main Acct'!$E$8), AI3793, 0)","v":0},0,{"$f":"IF(AND(NOT(ISBLANK($U3793)), $U3793<'P&L'!$P$8), $AL3793, 0)","v":0},{"$f":"IF(OR(ISBLANK($U3793), $U3793>'DebitCard Rec '!$E$8), $AL3793, 0)","v":0},0,{"$f":"IF(AND(NOT(ISBLANK($U3793)), $U3793<'P&L'!$P$8), $AO3793, 0)","v":0},{"$f":"IF(OR(ISBLANK($U3793), $U3793>'DebitCard Rec '!$E$8), $AO3793, 0)","v":0},0,{"$f":"IF(AND($A3793<'P&L'!$P$8, $X3793='P&L'!$G$6), $AR3793, 0)","v":0},0,{"$f":"IF(AND($A3793<'P&L'!$P$8, $X3793='P&L'!$G$6), $AT3793, 0)","v":0}," "," "," "]
[null,null,null,null,null,null,null,null,null,null,null,null,null,null,null,null,null,null,null,null,null,null,"Jan-00",1900,{"$f":"IF(AND($A3800<'P&L'!$P$8, YEAR($A3800)=Master!$C$6), $K3800, 0)","v":0},0,{"$f":"IF(AND(NOT(ISBLANK($O3800)), $O3800<'P&L'!$P$8), Z3800, 0)","v":0},{"$f":"IF(OR(ISBLANK($O3800), $O3800>'BankRec Main Acct'!$E$8), Z3800, 0)","v":0},0,{"$f":"IF(AND(NOT(ISBLANK($O3800)), $O3800<'P&L'!$P$8), AC3800, 0)","v":0},{"$f":"IF(OR(ISBLANK($O3800), $O3800>'BankRec Main Acct'!$E$8), AC3800, 0)","v":0},0,{"$f":"IF(AND(NOT(ISBLANK($S3800)), $S3800<'P&L'!$P$8), AF3800, 0)","v":0},{"$f":"IF(OR(ISBLANK($S3800), $S3800>'BankRec Main Acct'!$E$8), AF3800, 0)","v":0},0,{"$f":"IF(AND(NOT(ISBLANK($S3800)), $S3800<'P&L'!$P$8), AI3800, 0)","v":0},{"$f":"IF(OR(ISBLANK($S3800), $S3800>'BankRec Main Acct'!$E$8), AI3800, 0)","v":0},0,{"$f":"IF(AND(NOT(ISBLANK($U3800)), $U3800<'P&L'!$P$8), $AL3800, 0)","v":0},{"$f":"IF(OR(ISBLANK($U3800), $U3800>'DebitCard Rec '!$E$8), $AL3800, 0)","v":0},0,{"$f":"IF(AND(NOT(ISBLANK($U3800)), $U3800<'P&L'!$P$8), $AO3800, 0)","v":0},{"$f":"IF(OR(ISBLANK($U3800), $U3800>'DebitCard Rec '!$E$8), $AO3800, 0)","v":0},0,{"$f":"IF(AND($A3800<'P&L'!$P$8, $X3800='P&L'!$G$6), $AR3800, 0)","v":0},0,{"$f":"IF(AND($A3800<'P&L'!$P$8, $X3800='P&L'!$G$6), $AT3800, 0)","v":0}," "," "," "]
[null,null,null,null,null,null,null,null,null,null,null,null,null,null,null,null,null,null,null,null,null,null,"Jan-00",1900,{"$f":"IF(AND($A3804<'P&L'!$P$8, YEAR($A3804)=Master!$C$6), $K3804, 0)","v":0},0,{"$f":"IF(AND(NOT(ISBLANK($O3804)), $O3804<'P&L'!$P$8), Z3804, 0)","v":0},{"$f":"IF(OR(ISBLANK($O3804), $O3804>'BankRec Main Acct'!$E$8), Z3804, 0)","v":0},0,{"$f":"IF(AND(NOT(ISBLANK($O3804)), $O3804<'P&L'!$P$8), AC3804, 0)","v":0},{"$f":"IF(OR(ISBLANK($O3804), $O3804>'BankRec Main Acct'!$E$8), AC3804, 0)","v":0},0,{"$f":"IF(AND(NOT(ISBLANK($S3804)), $S3804<'P&L'!$P$8), AF3804, 0)","v":0},{"$f":"IF(OR(ISBLANK($S3804), $S3804>'BankRec Main Acct'!$E$8), AF3804, 0)","v":0},0,{"$f":"IF(AND(NOT(ISBLANK($S3804)), $S3804<'P&L'!$P$8), AI3804, 0)","v":0},{"$f":"IF(OR(ISBLANK($S3804), $S3804>'BankRec Main Acct'!$E$8), AI3804, 0)","v":0},0,{"$f":"IF(AND(NOT(ISBLANK($U3804)), $U3804<'P&L'!$P$8), $AL3804, 0)","v":0},{"$f":"IF(OR(ISBLANK($U3804), $U3804>'DebitCard Rec '!$E$8), $AL3804, 0)","v":0},0,{"$f":"IF(AND(NOT(ISBLANK($U3804)), $U3804<'P&L'!$P$8), $AO3804, 0)","v":0},{"$f":"IF(OR(ISBLANK($U3804), $U3804>'DebitCard Rec '!$E$8), $AO3804, 0)","v":0},0,{"$f":"IF(AND($A3804<'P&L'!$P$8, $X3804='P&L'!$G$6), $AR3804, 0)","v":0},0,{"$f":"IF(AND($A3804<'P&L'!$P$8, $X3804='P&L'!$G$6), $AT3804, 0)","v":0}," "," "," "]
[null,null,null,null,null,null,null,null,null,null,null,null,null,null,null,null,null,null,null,null,null,null,"Jan-00",1900,{"$f":"IF(AND($A3818<'P&L'!$P$8, YEAR($A3818)=Master!$C$6), $K3818, 0)","v":0},0,{"$f":"IF(AND(NOT(ISBLANK($O3818)), $O3818<'P&L'!$P$8), Z3818, 0)","v":0},{"$f":"IF(OR(ISBLANK($O3818), $O3818>'BankRec Main Acct'!$E$8), Z3818, 0)","v":0},0,{"$f":"IF(AND(NOT(ISBLANK($O3818)), $O3818<'P&L'!$P$8), AC3818, 0)","v":0},{"$f":"IF(OR(ISBLANK($O3818), $O3818>'BankRec Main Acct'!$E$8), AC3818, 0)","v":0},0,{"$f":"IF(AND(NOT(ISBLANK($S3818)), $S3818<'P&L'!$P$8), AF3818, 0)","v":0},{"$f":"IF(OR(ISBLANK($S3818), $S3818>'BankRec Main Acct'!$E$8), AF3818, 0)","v":0},0,{"$f":"IF(AND(NOT(ISBLANK($S3818)), $S3818<'P&L'!$P$8), AI3818, 0)","v":0},{"$f":"IF(OR(ISBLANK($S3818), $S3818>'BankRec Main Acct'!$E$8), AI3818, 0)","v":0},0,{"$f":"IF(AND(NOT(ISBLANK($U3818)), $U3818<'P&L'!$P$8), $AL3818, 0)","v":0},{"$f":"IF(OR(ISBLANK($U3818), $U3818>'DebitCard Rec '!$E$8), $AL3818, 0)","v":0},0,{"$f":"IF(AND(NOT(ISBLANK($U3818)), $U3818<'P&L'!$P$8), $AO3818, 0)","v":0},{"$f":"IF(OR(ISBLANK($U3818), $U3818>'DebitCard Rec '!$E$8), $AO3818, 0)","v":0},0,{"$f":"IF(AND($A3818<'P&L'!$P$8, $X3818='P&L'!$G$6), $AR3818, 0)","v":0},0,{"$f":"IF(AND($A3818<'P&L'!$P$8, $X3818='P&L'!$G$6), $AT3818, 0)","v":0}," "," "," "]
[null,null,null,null,null,null,null,null,null,null,null,null,null,null,null,null,null,null,null,null,null,null,"Jan-00",1900,{"$f":"IF(AND($A3821<'P&L'!$P$8, YEAR($A3821)=Master!$C$6), $K3821, 0)","v":0},0,{"$f":"IF(AND(NOT(ISBLANK($O3821)), $O3821<'P&L'!$P$8), Z3821, 0)","v":0},{"$f":"IF(OR(ISBLANK($O3821), $O3821>'BankRec Main Acct'!$E$8), Z3821, 0)","v":0},0,{"$f":"IF(AND(NOT(ISBLANK($O3821)), $O3821<'P&L'!$P$8), AC3821, 0)","v":0},{"$f":"IF(OR(ISBLANK($O3821), $O3821>'BankRec Main Acct'!$E$8), AC3821, 0)","v":0},0,{"$f":"IF(AND(NOT(ISBLANK($S3821)), $S3821<'P&L'!$P$8), AF3821, 0)","v":0},{"$f":"IF(OR(ISBLANK($S3821), $S3821>'BankRec Main Acct'!$E$8), AF3821, 0)","v":0},0,{"$f":"IF(AND(NOT(ISBLANK($S3821)), $S3821<'P&L'!$P$8), AI3821, 0)","v":0},{"$f":"IF(OR(ISBLANK($S3821), $S3821>'BankRec Main Acct'!$E$8), AI3821, 0)","v":0},0,{"$f":"IF(AND(NOT(ISBLANK($U3821)), $U3821<'P&L'!$P$8), $AL3821, 0)","v":0},{"$f":"IF(OR(ISBLANK($U3821), $U3821>'DebitCard Rec '!$E$8), $AL3821, 0)","v":0},0,{"$f":"IF(AND(NOT(ISBLANK($U3821)), $U3821<'P&L'!$P$8), $AO3821, 0)","v":0},{"$f":"IF(OR(ISBLANK($U3821), $U3821>'DebitCard Rec '!$E$8), $AO3821, 0)","v":0},0,{"$f":"IF(AND($A3821<'P&L'!$P$8, $X3821='P&L'!$G$6), $AR3821, 0)","v":0},0,{"$f":"IF(AND($A3821<'P&L'!$P$8, $X3821='P&L'!$G$6), $AT3821, 0)","v":0}," "," "," "]
[null,null,null,null,null,null,null,null,null,null,null,null,null,null,null,null,null,null,null,null,null,null,"Jan-00",1900,{"$f":"IF(AND($A3833<'P&L'!$P$8, YEAR($A3833)=Master!$C$6), $K3833, 0)","v":0},0,{"$f":"IF(AND(NOT(ISBLANK($O3833)), $O3833<'P&L'!$P$8), Z3833, 0)","v":0},{"$f":"IF(OR(ISBLANK($O3833), $O3833>'BankRec Main Acct'!$E$8), Z3833, 0)","v":0},0,{"$f":"IF(AND(NOT(ISBLANK($O3833)), $O3833<'P&L'!$P$8), AC3833, 0)","v":0},{"$f":"IF(OR(ISBLANK($O3833), $O3833>'BankRec Main Acct'!$E$8), AC3833, 0)","v":0},0,{"$f":"IF(AND(NOT(ISBLANK($S3833)), $S3833<'P&L'!$P$8), AF3833, 0)","v":0},{"$f":"IF(OR(ISBLANK($S3833), $S3833>'BankRec Main Acct'!$E$8), AF3833, 0)","v":0},0,{"$f":"IF(AND(NOT(ISBLANK($S3833)), $S3833<'P&L'!$P$8), AI3833, 0)","v":0},{"$f":"IF(OR(ISBLANK($S3833), $S3833>'BankRec Main Acct'!$E$8), AI3833, 0)","v":0},0,{"$f":"IF(AND(NOT(ISBLANK($U3833)), $U3833<'P&L'!$P$8), $AL3833, 0)","v":0},{"$f":"IF(OR(ISBLANK($U3833), $U3833>'DebitCard Rec '!$E$8), $AL3833, 0)","v":0},0,{"$f":"IF(AND(NOT(ISBLANK($U3833)), $U3833<'P&L'!$P$8), $AO3833, 0)","v":0},{"$f":"IF(OR(ISBLANK($U3833), $U3833>'DebitCard Rec '!$E$8), $AO3833, 0)","v":0},0,{"$f":"IF(AND($A3833<'P&L'!$P$8, $X3833='P&L'!$G$6), $AR3833, 0)","v":0},0,{"$f":"IF(AND($A3833<'P&L'!$P$8, $X3833='P&L'!$G$6), $AT3833, 0)","v":0}," "," "," "]
[null,null,null,null,null,null,null,null,null,null,null,null,null,null,null,null,null,null,null,null,null,null,"Jan-00",1900,{"$f":"IF(AND($A3843<'P&L'!$P$8, YEAR($A3843)=Master!$C$6), $K3843, 0)","v":0},0,{"$f":"IF(AND(NOT(ISBLANK($O3843)), $O3843<'P&L'!$P$8), Z3843, 0)","v":0},{"$f":"IF(OR(ISBLANK($O3843), $O3843>'BankRec Main Acct'!$E$8), Z3843, 0)","v":0},0,{"$f":"IF(AND(NOT(ISBLANK($O3843)), $O3843<'P&L'!$P$8), AC3843, 0)","v":0},{"$f":"IF(OR(ISBLANK($O3843), $O3843>'BankRec Main Acct'!$E$8), AC3843, 0)","v":0},0,{"$f":"IF(AND(NOT(ISBLANK($S3843)), $S3843<'P&L'!$P$8), AF3843, 0)","v":0},{"$f":"IF(OR(ISBLANK($S3843), $S3843>'BankRec Main Acct'!$E$8), AF3843, 0)","v":0},0,{"$f":"IF(AND(NOT(ISBLANK($S3843)), $S3843<'P&L'!$P$8), AI3843, 0)","v":0},{"$f":"IF(OR(ISBLANK($S3843), $S3843>'BankRec Main Acct'!$E$8), AI3843, 0)","v":0},0,{"$f":"IF(AND(NOT(ISBLANK($U3843)), $U3843<'P&L'!$P$8), $AL3843, 0)","v":0},{"$f":"IF(OR(ISBLANK($U3843), $U3843>'DebitCard Rec '!$E$8), $AL3843, 0)","v":0},0,{"$f":"IF(AND(NOT(ISBLANK($U3843)), $U3843<'P&L'!$P$8), $AO3843, 0)","v":0},{"$f":"IF(OR(ISBLANK($U3843), $U3843>'DebitCard Rec '!$E$8), $AO3843, 0)","v":0},0,{"$f":"IF(AND($A3843<'P&L'!$P$8, $X3843='P&L'!$G$6), $AR3843, 0)","v":0},0,{"$f":"IF(AND($A3843<'P&L'!$P$8, $X3843='P&L'!$G$6), $AT3843, 0)","v":0}," "," "," "]
[null,null,null,null,null,null,null,null,null,null,null,null,null,null,null,null,null,null,null,null,null,null,"Jan-00",1900,{"$f":"IF(AND($A3851<'P&L'!$P$8, YEAR($A3851)=Master!$C$6), $K3851, 0)","v":0},0,{"$f":"IF(AND(NOT(ISBLANK($O3851)), $O3851<'P&L'!$P$8), Z3851, 0)","v":0},{"$f":"IF(OR(ISBLANK($O3851), $O3851>'BankRec Main Acct'!$E$8), Z3851, 0)","v":0},0,{"$f":"IF(AND(NOT(ISBLANK($O3851)), $O3851<'P&L'!$P$8), AC3851, 0)","v":0},{"$f":"IF(OR(ISBLANK($O3851), $O3851>'BankRec Main Acct'!$E$8), AC3851, 0)","v":0},0,{"$f":"IF(AND(NOT(ISBLANK($S3851)), $S3851<'P&L'!$P$8), AF3851, 0)","v":0},{"$f":"IF(OR(ISBLANK($S3851), $S3851>'BankRec Main Acct'!$E$8), AF3851, 0)","v":0},0,{"$f":"IF(AND(NOT(ISBLANK($S3851)), $S3851<'P&L'!$P$8), AI3851, 0)","v":0},{"$f":"IF(OR(ISBLANK($S3851), $S3851>'BankRec Main Acct'!$E$8), AI3851, 0)","v":0},0,{"$f":"IF(AND(NOT(ISBLANK($U3851)), $U3851<'P&L'!$P$8), $AL3851, 0)","v":0},{"$f":"IF(OR(ISBLANK($U3851), $U3851>'DebitCard Rec '!$E$8), $AL3851, 0)","v":0},0,{"$f":"IF(AND(NOT(ISBLANK($U3851)), $U3851<'P&L'!$P$8), $AO3851, 0)","v":0},{"$f":"IF(OR(ISBLANK($U3851), $U3851>'DebitCard Rec '!$E$8), $AO3851, 0)","v":0},0,{"$f":"IF(AND($A3851<'P&L'!$P$8, $X3851='P&L'!$G$6), $AR3851, 0)","v":0},0,{"$f":"IF(AND($A3851<'P&L'!$P$8, $X3851='P&L'!$G$6), $AT3851, 0)","v":0},{"$f":"CONCATENATE(B3851,\" \",C3851)","v":" "}," "," "]
[null,null,null,null,null,null,null,null,null,null,null,null,null,null,null,null,null,null,null,null,null,null,"Jan-00",1900,{"$f":"IF(AND($A3863<'P&L'!$P$8, YEAR($A3863)=Master!$C$6), $K3863, 0)","v":0},0,{"$f":"IF(AND(NOT(ISBLANK($O3863)), $O3863<'P&L'!$P$8), Z3863, 0)","v":0},{"$f":"IF(OR(ISBLANK($O3863), $O3863>'BankRec Main Acct'!$E$8), Z3863, 0)","v":0},0,{"$f":"IF(AND(NOT(ISBLANK($O3863)), $O3863<'P&L'!$P$8), AC3863, 0)","v":0},{"$f":"IF(OR(ISBLANK($O3863), $O3863>'BankRec Main Acct'!$E$8), AC3863, 0)","v":0},0,{"$f":"IF(AND(NOT(ISBLANK($S3863)), $S3863<'P&L'!$P$8), AF3863, 0)","v":0},{"$f":"IF(OR(ISBLANK($S3863), $S3863>'BankRec Main Acct'!$E$8), AF3863, 0)","v":0},0,{"$f":"IF(AND(NOT(ISBLANK($S3863)), $S3863<'P&L'!$P$8), AI3863, 0)","v":0},{"$f":"IF(OR(ISBLANK($S3863), $S3863>'BankRec Main Acct'!$E$8), AI3863, 0)","v":0},0,{"$f":"IF(AND(NOT(ISBLANK($U3863)), $U3863<'P&L'!$P$8), $AL3863, 0)","v":0},{"$f":"IF(OR(ISBLANK($U3863), $U3863>'DebitCard Rec '!$E$8), $AL3863, 0)","v":0},0,{"$f":"IF(AND(NOT(ISBLANK($U3863)), $U3863<'P&L'!$P$8), $AO3863, 0)","v":0},{"$f":"IF(OR(ISBLANK($U3863), $U3863>'DebitCard Rec '!$E$8), $AO3863, 0)","v":0},0,{"$f":"IF(AND($A3863<'P&L'!$P$8, $X3863='P&L'!$G$6), $AR3863, 0)","v":0},0,{"$f":"IF(AND($A3863<'P&L'!$P$8, $X3863='P&L'!$G$6), $AT3863, 0)","v":0}," "," "," "]
[null,null,null,null,null,null,null,null,null,null,null,null,null,null,null,null,null,null,null,null,null,null,"Jan-00",1900,{"$f":"IF(AND($A3870<'P&L'!$P$8, YEAR($A3870)=Master!$C$6), $K3870, 0)","v":0},0,{"$f":"IF(AND(NOT(ISBLANK($O3870)), $O3870<'P&L'!$P$8), Z3870, 0)","v":0},{"$f":"IF(OR(ISBLANK($O3870), $O3870>'BankRec Main Acct'!$E$8), Z3870, 0)","v":0},0,{"$f":"IF(AND(NOT(ISBLANK($O3870)), $O3870<'P&L'!$P$8), AC3870, 0)","v":0},{"$f":"IF(OR(ISBLANK($O3870), $O3870>'BankRec Main Acct'!$E$8), AC3870, 0)","v":0},0,{"$f":"IF(AND(NOT(ISBLANK($S3870)), $S3870<'P&L'!$P$8), AF3870, 0)","v":0},{"$f":"IF(OR(ISBLANK($S3870), $S3870>'BankRec Main Acct'!$E$8), AF3870, 0)","v":0},0,{"$f":"IF(AND(NOT(ISBLANK($S3870)), $S3870<'P&L'!$P$8), AI3870, 0)","v":0},{"$f":"IF(OR(ISBLANK($S3870), $S3870>'BankRec Main Acct'!$E$8), AI3870, 0)","v":0},0,{"$f":"IF(AND(NOT(ISBLANK($U3870)), $U3870<'P&L'!$P$8), $AL3870, 0)","v":0},{"$f":"IF(OR(ISBLANK($U3870), $U3870>'DebitCard Rec '!$E$8), $AL3870, 0)","v":0},0,{"$f":"IF(AND(NOT(ISBLANK($U3870)), $U3870<'P&L'!$P$8), $AO3870, 0)","v":0},{"$f":"IF(OR(ISBLANK($U3870), $U3870>'DebitCard Rec '!$E$8), $AO3870, 0)","v":0},0,{"$f":"IF(AND($A3870<'P&L'!$P$8, $X3870='P&L'!$G$6), $AR3870, 0)","v":0},0,{"$f":"IF(AND($A3870<'P&L'!$P$8, $X3870='P&L'!$G$6), $AT3870, 0)","v":0}," "," "," "]
[null,null,null,null,null,null,null,null,null,null,null,null,null,null,null,null,null,null,null,null,null,null,"Jan-00",1900,{"$f":"IF(AND($A3873<'P&L'!$P$8, YEAR($A3873)=Master!$C$6), $K3873, 0)","v":0},0,{"$f":"IF(AND(NOT(ISBLANK($O3873)), $O3873<'P&L'!$P$8), Z3873, 0)","v":0},{"$f":"IF(OR(ISBLANK($O3873), $O3873>'BankRec Main Acct'!$E$8), Z3873, 0)","v":0},0,{"$f":"IF(AND(NOT(ISBLANK($O3873)), $O3873<'P&L'!$P$8), AC3873, 0)","v":0},{"$f":"IF(OR(ISBLANK($O3873), $O3873>'BankRec Main Acct'!$E$8), AC3873, 0)","v":0},0,{"$f":"IF(AND(NOT(ISBLANK($S3873)), $S3873<'P&L'!$P$8), AF3873, 0)","v":0},{"$f":"IF(OR(ISBLANK($S3873), $S3873>'BankRec Main Acct'!$E$8), AF3873, 0)","v":0},0,{"$f":"IF(AND(NOT(ISBLANK($S3873)), $S3873<'P&L'!$P$8), AI3873, 0)","v":0},{"$f":"IF(OR(ISBLANK($S3873), $S3873>'BankRec Main Acct'!$E$8), AI3873, 0)","v":0},0,{"$f":"IF(AND(NOT(ISBLANK($U3873)), $U3873<'P&L'!$P$8), $AL3873, 0)","v":0},{"$f":"IF(OR(ISBLANK($U3873), $U3873>'DebitCard Rec '!$E$8), $AL3873, 0)","v":0},0,{"$f":"IF(AND(NOT(ISBLANK($U3873)), $U3873<'P&L'!$P$8), $AO3873, 0)","v":0},{"$f":"IF(OR(ISBLANK($U3873), $U3873>'DebitCard Rec '!$E$8), $AO3873, 0)","v":0},0,{"$f":"IF(AND($A3873<'P&L'!$P$8, $X3873='P&L'!$G$6), $AR3873, 0)","v":0},0,{"$f":"IF(AND($A3873<'P&L'!$P$8, $X3873='P&L'!$G$6), $AT3873, 0)","v":0}," "," "," "]
[null,null,null,null,null,null,null,null,null,null,null,null,null,null,null,null,null,null,null,null,null,null,"Jan-00",1900,{"$f":"IF(AND($A3884<'P&L'!$P$8, YEAR($A3884)=Master!$C$6), $K3884, 0)","v":0},0,{"$f":"IF(AND(NOT(ISBLANK($O3884)), $O3884<'P&L'!$P$8), Z3884, 0)","v":0},{"$f":"IF(OR(ISBLANK($O3884), $O3884>'BankRec Main Acct'!$E$8), Z3884, 0)","v":0},0,{"$f":"IF(AND(NOT(ISBLANK($O3884)), $O3884<'P&L'!$P$8), AC3884, 0)","v":0},{"$f":"IF(OR(ISBLANK($O3884), $O3884>'BankRec Main Acct'!$E$8), AC3884, 0)","v":0},0,{"$f":"IF(AND(NOT(ISBLANK($S3884)), $S3884<'P&L'!$P$8), AF3884, 0)","v":0},{"$f":"IF(OR(ISBLANK($S3884), $S3884>'BankRec Main Acct'!$E$8), AF3884, 0)","v":0},0,{"$f":"IF(AND(NOT(ISBLANK($S3884)), $S3884<'P&L'!$P$8), AI3884, 0)","v":0},{"$f":"IF(OR(ISBLANK($S3884), $S3884>'BankRec Main Acct'!$E$8), AI3884, 0)","v":0},0,{"$f":"IF(AND(NOT(ISBLANK($U3884)), $U3884<'P&L'!$P$8), $AL3884, 0)","v":0},{"$f":"IF(OR(ISBLANK($U3884), $U3884>'DebitCard Rec '!$E$8), $AL3884, 0)","v":0},0,{"$f":"IF(AND(NOT(ISBLANK($U3884)), $U3884<'P&L'!$P$8), $AO3884, 0)","v":0},{"$f":"IF(OR(ISBLANK($U3884), $U3884>'DebitCard Rec '!$E$8), $AO3884, 0)","v":0},0,{"$f":"IF(AND($A3884<'P&L'!$P$8, $X3884='P&L'!$G$6), $AR3884, 0)","v":0},0,{"$f":"IF(AND($A3884<'P&L'!$P$8, $X3884='P&L'!$G$6), $AT3884, 0)","v":0}," "," "," "]
[null,null,null,null,null,null,null,null,null,null,null,null,null,null,null,null,null,null,null,null,null,null,"Jan-00",1900,{"$f":"IF(AND($A3891<'P&L'!$P$8, YEAR($A3891)=Master!$C$6), $K3891, 0)","v":0},0,{"$f":"IF(AND(NOT(ISBLANK($O3891)), $O3891<'P&L'!$P$8), Z3891, 0)","v":0},{"$f":"IF(OR(ISBLANK($O3891), $O3891>'BankRec Main Acct'!$E$8), Z3891, 0)","v":0},0,{"$f":"IF(AND(NOT(ISBLANK($O3891)), $O3891<'P&L'!$P$8), AC3891, 0)","v":0},{"$f":"IF(OR(ISBLANK($O3891), $O3891>'BankRec Main Acct'!$E$8), AC3891, 0)","v":0},0,{"$f":"IF(AND(NOT(ISBLANK($S3891)), $S3891<'P&L'!$P$8), AF3891, 0)","v":0},{"$f":"IF(OR(ISBLANK($S3891), $S3891>'BankRec Main Acct'!$E$8), AF3891, 0)","v":0},0,{"$f":"IF(AND(NOT(ISBLANK($S3891)), $S3891<'P&L'!$P$8), AI3891, 0)","v":0},{"$f":"IF(OR(ISBLANK($S3891), $S3891>'BankRec Main Acct'!$E$8), AI3891, 0)","v":0},0,{"$f":"IF(AND(NOT(ISBLANK($U3891)), $U3891<'P&L'!$P$8), $AL3891, 0)","v":0},{"$f":"IF(OR(ISBLANK($U3891), $U3891>'DebitCard Rec '!$E$8), $AL3891, 0)","v":0},0,{"$f":"IF(AND(NOT(ISBLANK($U3891)), $U3891<'P&L'!$P$8), $AO3891, 0)","v":0},{"$f":"IF(OR(ISBLANK($U3891), $U3891>'DebitCard Rec '!$E$8), $AO3891, 0)","v":0},0,{"$f":"IF(AND($A3891<'P&L'!$P$8, $X3891='P&L'!$G$6), $AR3891, 0)","v":0},0,{"$f":"IF(AND($A3891<'P&L'!$P$8, $X3891='P&L'!$G$6), $AT3891, 0)","v":0}," "," "," "]
[null,null,null,null,null,null,null,null,null,null,null,null,null,null,null,null,null,null,null,null,null,null,"Jan-00",1900,{"$f":"IF(AND($A3903<'P&L'!$P$8, YEAR($A3903)=Master!$C$6), $K3903, 0)","v":0},0,{"$f":"IF(AND(NOT(ISBLANK($O3903)), $O3903<'P&L'!$P$8), Z3903, 0)","v":0},{"$f":"IF(OR(ISBLANK($O3903), $O3903>'BankRec Main Acct'!$E$8), Z3903, 0)","v":0},0,{"$f":"IF(AND(NOT(ISBLANK($O3903)), $O3903<'P&L'!$P$8), AC3903, 0)","v":0},{"$f":"IF(OR(ISBLANK($O3903), $O3903>'BankRec Main Acct'!$E$8), AC3903, 0)","v":0},0,{"$f":"IF(AND(NOT(ISBLANK($S3903)), $S3903<'P&L'!$P$8), AF3903, 0)","v":0},{"$f":"IF(OR(ISBLANK($S3903), $S3903>'BankRec Main Acct'!$E$8), AF3903, 0)","v":0},0,{"$f":"IF(AND(NOT(ISBLANK($S3903)), $S3903<'P&L'!$P$8), AI3903, 0)","v":0},{"$f":"IF(OR(ISBLANK($S3903), $S3903>'BankRec Main Acct'!$E$8), AI3903, 0)","v":0},0,{"$f":"IF(AND(NOT(ISBLANK($U3903)), $U3903<'P&L'!$P$8), $AL3903, 0)","v":0},{"$f":"IF(OR(ISBLANK($U3903), $U3903>'DebitCard Rec '!$E$8), $AL3903, 0)","v":0},0,{"$f":"IF(AND(NOT(ISBLANK($U3903)), $U3903<'P&L'!$P$8), $AO3903, 0)","v":0},{"$f":"IF(OR(ISBLANK($U3903), $U3903>'DebitCard Rec '!$E$8), $AO3903, 0)","v":0},0,{"$f":"IF(AND($A3903<'P&L'!$P$8, $X3903='P&L'!$G$6), $AR3903, 0)","v":0},0,{"$f":"IF(AND($A3903<'P&L'!$P$8, $X3903='P&L'!$G$6), $AT3903, 0)","v":0}," "," "," "]
[null,null,null,null,null,null,null,null,null,null,null,null,null,null,null,null,null,null,null,null,null,null,"Jan-00",1900,{"$f":"IF(AND($A3910<'P&L'!$P$8, YEAR($A3910)=Master!$C$6), $K3910, 0)","v":0},0,{"$f":"IF(AND(NOT(ISBLANK($O3910)), $O3910<'P&L'!$P$8), Z3910, 0)","v":0},{"$f":"IF(OR(ISBLANK($O3910), $O3910>'BankRec Main Acct'!$E$8), Z3910, 0)","v":0},0,{"$f":"IF(AND(NOT(ISBLANK($O3910)), $O3910<'P&L'!$P$8), AC3910, 0)","v":0},{"$f":"IF(OR(ISBLANK($O3910), $O3910>'BankRec Main Acct'!$E$8), AC3910, 0)","v":0},0,{"$f":"IF(AND(NOT(ISBLANK($S3910)), $S3910<'P&L'!$P$8), AF3910, 0)","v":0},{"$f":"IF(OR(ISBLANK($S3910), $S3910>'BankRec Main Acct'!$E$8), AF3910, 0)","v":0},0,{"$f":"IF(AND(NOT(ISBLANK($S3910)), $S3910<'P&L'!$P$8), AI3910, 0)","v":0},{"$f":"IF(OR(ISBLANK($S3910), $S3910>'BankRec Main Acct'!$E$8), AI3910, 0)","v":0},0,{"$f":"IF(AND(NOT(ISBLANK($U3910)), $U3910<'P&L'!$P$8), $AL3910, 0)","v":0},{"$f":"IF(OR(ISBLANK($U3910), $U3910>'DebitCard Rec '!$E$8), $AL3910, 0)","v":0},0,{"$f":"IF(AND(NOT(ISBLANK($U3910)), $U3910<'P&L'!$P$8), $AO3910, 0)","v":0},{"$f":"IF(OR(ISBLANK($U3910), $U3910>'DebitCard Rec '!$E$8), $AO3910, 0)","v":0},0,{"$f":"IF(AND($A3910<'P&L'!$P$8, $X3910='P&L'!$G$6), $AR3910, 0)","v":0},0,{"$f":"IF(AND($A3910<'P&L'!$P$8, $X3910='P&L'!$G$6), $AT3910, 0)","v":0}," "," "," "]
[null,null,null,null,null,null,null,null,null,null,null,null,null,null,null,null,null,null,null,null,null,null,"Jan-00",1900,{"$f":"IF(AND($A3923<'P&L'!$P$8, YEAR($A3923)=Master!$C$6), $K3923, 0)","v":0},0,{"$f":"IF(AND(NOT(ISBLANK($O3923)), $O3923<'P&L'!$P$8), Z3923, 0)","v":0},{"$f":"IF(OR(ISBLANK($O3923), $O3923>'BankRec Main Acct'!$E$8), Z3923, 0)","v":0},0,{"$f":"IF(AND(NOT(ISBLANK($O3923)), $O3923<'P&L'!$P$8), AC3923, 0)","v":0},{"$f":"IF(OR(ISBLANK($O3923), $O3923>'BankRec Main Acct'!$E$8), AC3923, 0)","v":0},0,{"$f":"IF(AND(NOT(ISBLANK($S3923)), $S3923<'P&L'!$P$8), AF3923, 0)","v":0},{"$f":"IF(OR(ISBLANK($S3923), $S3923>'BankRec Main Acct'!$E$8), AF3923, 0)","v":0},0,{"$f":"IF(AND(NOT(ISBLANK($S3923)), $S3923<'P&L'!$P$8), AI3923, 0)","v":0},{"$f":"IF(OR(ISBLANK($S3923), $S3923>'BankRec Main Acct'!$E$8), AI3923, 0)","v":0},0,{"$f":"IF(AND(NOT(ISBLANK($U3923)), $U3923<'P&L'!$P$8), $AL3923, 0)","v":0},{"$f":"IF(OR(ISBLANK($U3923), $U3923>'DebitCard Rec '!$E$8), $AL3923, 0)","v":0},0,{"$f":"IF(AND(NOT(ISBLANK($U3923)), $U3923<'P&L'!$P$8), $AO3923, 0)","v":0},{"$f":"IF(OR(ISBLANK($U3923), $U3923>'DebitCard Rec '!$E$8), $AO3923, 0)","v":0},0,{"$f":"IF(AND($A3923<'P&L'!$P$8, $X3923='P&L'!$G$6), $AR3923, 0)","v":0},0,{"$f":"IF(AND($A3923<'P&L'!$P$8, $X3923='P&L'!$G$6), $AT3923, 0)","v":0}," "," "," "]
[null,null,null,null,null,null,null,null,null,null,null,null,null,null,null,null,null,null,null,null,null,null,"Jan-00",1900,{"$f":"IF(AND($A3933<'P&L'!$P$8, YEAR($A3933)=Master!$C$6), $K3933, 0)","v":0},0,{"$f":"IF(AND(NOT(ISBLANK($O3933)), $O3933<'P&L'!$P$8), Z3933, 0)","v":0},{"$f":"IF(OR(ISBLANK($O3933), $O3933>'BankRec Main Acct'!$E$8), Z3933, 0)","v":0},0,{"$f":"IF(AND(NOT(ISBLANK($O3933)), $O3933<'P&L'!$P$8), AC3933, 0)","v":0},{"$f":"IF(OR(ISBLANK($O3933), $O3933>'BankRec Main Acct'!$E$8), AC3933, 0)","v":0},0,{"$f":"IF(AND(NOT(ISBLANK($S3933)), $S3933<'P&L'!$P$8), AF3933, 0)","v":0},{"$f":"IF(OR(ISBLANK($S3933), $S3933>'BankRec Main Acct'!$E$8), AF3933, 0)","v":0},0,{"$f":"IF(AND(NOT(ISBLANK($S3933)), $S3933<'P&L'!$P$8), AI3933, 0)","v":0},{"$f":"IF(OR(ISBLANK($S3933), $S3933>'BankRec Main Acct'!$E$8), AI3933, 0)","v":0},0,{"$f":"IF(AND(NOT(ISBLANK($U3933)), $U3933<'P&L'!$P$8), $AL3933, 0)","v":0},{"$f":"IF(OR(ISBLANK($U3933), $U3933>'DebitCard Rec '!$E$8), $AL3933, 0)","v":0},0,{"$f":"IF(AND(NOT(ISBLANK($U3933)), $U3933<'P&L'!$P$8), $AO3933, 0)","v":0},{"$f":"IF(OR(ISBLANK($U3933), $U3933>'DebitCard Rec '!$E$8), $AO3933, 0)","v":0},0,{"$f":"IF(AND($A3933<'P&L'!$P$8, $X3933='P&L'!$G$6), $AR3933, 0)","v":0},0,{"$f":"IF(AND($A3933<'P&L'!$P$8, $X3933='P&L'!$G$6), $AT3933, 0)","v":0}," "," "," "]
[null,null,null,null,null,null,null,null,null,null,null,null,null,null,null,null,null,null,null,null,null,null,"Jan-00",1900,{"$f":"IF(AND($A3940<'P&L'!$P$8, YEAR($A3940)=Master!$C$6), $K3940, 0)","v":0},0,{"$f":"IF(AND(NOT(ISBLANK($O3940)), $O3940<'P&L'!$P$8), Z3940, 0)","v":0},{"$f":"IF(OR(ISBLANK($O3940), $O3940>'BankRec Main Acct'!$E$8), Z3940, 0)","v":0},0,{"$f":"IF(AND(NOT(ISBLANK($O3940)), $O3940<'P&L'!$P$8), AC3940, 0)","v":0},{"$f":"IF(OR(ISBLANK($O3940), $O3940>'BankRec Main Acct'!$E$8), AC3940, 0)","v":0},0,{"$f":"IF(AND(NOT(ISBLANK($S3940)), $S3940<'P&L'!$P$8), AF3940, 0)","v":0},{"$f":"IF(OR(ISBLANK($S3940), $S3940>'BankRec Main Acct'!$E$8), AF3940, 0)","v":0},0,{"$f":"IF(AND(NOT(ISBLANK($S3940)), $S3940<'P&L'!$P$8), AI3940, 0)","v":0},{"$f":"IF(OR(ISBLANK($S3940), $S3940>'BankRec Main Acct'!$E$8), AI3940, 0)","v":0},0,{"$f":"IF(AND(NOT(ISBLANK($U3940)), $U3940<'P&L'!$P$8), $AL3940, 0)","v":0},{"$f":"IF(OR(ISBLANK($U3940), $U3940>'DebitCard Rec '!$E$8), $AL3940, 0)","v":0},0,{"$f":"IF(AND(NOT(ISBLANK($U3940)), $U3940<'P&L'!$P$8), $AO3940, 0)","v":0},{"$f":"IF(OR(ISBLANK($U3940), $U3940>'DebitCard Rec '!$E$8), $AO3940, 0)","v":0},0,{"$f":"IF(AND($A3940<'P&L'!$P$8, $X3940='P&L'!$G$6), $AR3940, 0)","v":0},0,{"$f":"IF(AND($A3940<'P&L'!$P$8, $X3940='P&L'!$G$6), $AT3940, 0)","v":0}," "," "," "]
[null,null,null,null,null,null,null,null,null,null,null,null,null,null,null,null,null,null,null,null,null,null,"Jan-00",1900,{"$f":"IF(AND($A3943<'P&L'!$P$8, YEAR($A3943)=Master!$C$6), $K3943, 0)","v":0},0,{"$f":"IF(AND(NOT(ISBLANK($O3943)), $O3943<'P&L'!$P$8), Z3943, 0)","v":0},{"$f":"IF(OR(ISBLANK($O3943), $O3943>'BankRec Main Acct'!$E$8), Z3943, 0)","v":0},0,{"$f":"IF(AND(NOT(ISBLANK($O3943)), $O3943<'P&L'!$P$8), AC3943, 0)","v":0},{"$f":"IF(OR(ISBLANK($O3943), $O3943>'BankRec Main Acct'!$E$8), AC3943, 0)","v":0},0,{"$f":"IF(AND(NOT(ISBLANK($S3943)), $S3943<'P&L'!$P$8), AF3943, 0)","v":0},{"$f":"IF(OR(ISBLANK($S3943), $S3943>'BankRec Main Acct'!$E$8), AF3943, 0)","v":0},0,{"$f":"IF(AND(NOT(ISBLANK($S3943)), $S3943<'P&L'!$P$8), AI3943, 0)","v":0},{"$f":"IF(OR(ISBLANK($S3943), $S3943>'BankRec Main Acct'!$E$8), AI3943, 0)","v":0},0,{"$f":"IF(AND(NOT(ISBLANK($U3943)), $U3943<'P&L'!$P$8), $AL3943, 0)","v":0},{"$f":"IF(OR(ISBLANK($U3943), $U3943>'DebitCard Rec '!$E$8), $AL3943, 0)","v":0},0,{"$f":"IF(AND(NOT(ISBLANK($U3943)), $U3943<'P&L'!$P$8), $AO3943, 0)","v":0},{"$f":"IF(OR(ISBLANK($U3943), $U3943>'DebitCard Rec '!$E$8), $AO3943, 0)","v":0},0,{"$f":"IF(AND($A3943<'P&L'!$P$8, $X3943='P&L'!$G$6), $AR3943, 0)","v":0},0,{"$f":"IF(AND($A3943<'P&L'!$P$8, $X3943='P&L'!$G$6), $AT3943, 0)","v":0}," "," "," "]
[null,null,null,null,null,null,null,null,null,null,null,null,null,null,null,null,null,null,null,null,null,null,"Jan-00",1900,{"$f":"IF(AND($A3959<'P&L'!$P$8, YEAR($A3959)=Master!$C$6), $K3959, 0)","v":0},0,{"$f":"IF(AND(NOT(ISBLANK($O3959)), $O3959<'P&L'!$P$8), Z3959, 0)","v":0},{"$f":"IF(OR(ISBLANK($O3959), $O3959>'BankRec Main Acct'!$E$8), Z3959, 0)","v":0},0,{"$f":"IF(AND(NOT(ISBLANK($O3959)), $O3959<'P&L'!$P$8), AC3959, 0)","v":0},{"$f":"IF(OR(ISBLANK($O3959), $O3959>'BankRec Main Acct'!$E$8), AC3959, 0)","v":0},0,{"$f":"IF(AND(NOT(ISBLANK($S3959)), $S3959<'P&L'!$P$8), AF3959, 0)","v":0},{"$f":"IF(OR(ISBLANK($S3959), $S3959>'BankRec Main Acct'!$E$8), AF3959, 0)","v":0},0,{"$f":"IF(AND(NOT(ISBLANK($S3959)), $S3959<'P&L'!$P$8), AI3959, 0)","v":0},{"$f":"IF(OR(ISBLANK($S3959), $S3959>'BankRec Main Acct'!$E$8), AI3959, 0)","v":0},0,{"$f":"IF(AND(NOT(ISBLANK($U3959)), $U3959<'P&L'!$P$8), $AL3959, 0)","v":0},{"$f":"IF(OR(ISBLANK($U3959), $U3959>'DebitCard Rec '!$E$8), $AL3959, 0)","v":0},0,{"$f":"IF(AND(NOT(ISBLANK($U3959)), $U3959<'P&L'!$P$8), $AO3959, 0)","v":0},{"$f":"IF(OR(ISBLANK($U3959), $U3959>'DebitCard Rec '!$E$8), $AO3959, 0)","v":0},0,{"$f":"IF(AND($A3959<'P&L'!$P$8, $X3959='P&L'!$G$6), $AR3959, 0)","v":0},0,{"$f":"IF(AND($A3959<'P&L'!$P$8, $X3959='P&L'!$G$6), $AT3959, 0)","v":0}," "," "," "]
[null,null,null,null,null,null,null,null,null,null,null,null,null,null,null,null,null,null,null,null,null,null,"Jan-00",1900,{"$f":"IF(AND($A3964<'P&L'!$P$8, YEAR($A3964)=Master!$C$6), $K3964, 0)","v":0},0,{"$f":"IF(AND(NOT(ISBLANK($O3964)), $O3964<'P&L'!$P$8), Z3964, 0)","v":0},{"$f":"IF(OR(ISBLANK($O3964), $O3964>'BankRec Main Acct'!$E$8), Z3964, 0)","v":0},0,{"$f":"IF(AND(NOT(ISBLANK($O3964)), $O3964<'P&L'!$P$8), AC3964, 0)","v":0},{"$f":"IF(OR(ISBLANK($O3964), $O3964>'BankRec Main Acct'!$E$8), AC3964, 0)","v":0},0,{"$f":"IF(AND(NOT(ISBLANK($S3964)), $S3964<'P&L'!$P$8), AF3964, 0)","v":0},{"$f":"IF(OR(ISBLANK($S3964), $S3964>'BankRec Main Acct'!$E$8), AF3964, 0)","v":0},0,{"$f":"IF(AND(NOT(ISBLANK($S3964)), $S3964<'P&L'!$P$8), AI3964, 0)","v":0},{"$f":"IF(OR(ISBLANK($S3964), $S3964>'BankRec Main Acct'!$E$8), AI3964, 0)","v":0},0,{"$f":"IF(AND(NOT(ISBLANK($U3964)), $U3964<'P&L'!$P$8), $AL3964, 0)","v":0},{"$f":"IF(OR(ISBLANK($U3964), $U3964>'DebitCard Rec '!$E$8), $AL3964, 0)","v":0},0,{"$f":"IF(AND(NOT(ISBLANK($U3964)), $U3964<'P&L'!$P$8), $AO3964, 0)","v":0},{"$f":"IF(OR(ISBLANK($U3964), $U3964>'DebitCard Rec '!$E$8), $AO3964, 0)","v":0},0,{"$f":"IF(AND($A3964<'P&L'!$P$8, $X3964='P&L'!$G$6), $AR3964, 0)","v":0},0,{"$f":"IF(AND($A3964<'P&L'!$P$8, $X3964='P&L'!$G$6), $AT3964, 0)","v":0}," "," "," "]
[null,null,null,null,null,null,null,null,null,null,null,null,null,null,null,null,null,null,null,null,null,null,"Jan-00",1900,{"$f":"IF(AND($A3973<'P&L'!$P$8, YEAR($A3973)=Master!$C$6), $K3973, 0)","v":0},{"$f":"IF(AND($C3973=\"Receipt\",$B3973<>\"debit card\",$B3973<>\"petty cash\",$B3973<>\"Cash_Sub\",$B3973<>\"Cheque_Sub\", $B3973<>\"EFT_Sub\"),$K3973,0)","v":0},{"$f":"IF(AND(NOT(ISBLANK($O3973)), $O3973<'P&L'!$P$8), Z3973, 0)","v":0},{"$f":"IF(OR(ISBLANK($O3973), $O3973>'BankRec Main Acct'!$E$8), Z3973, 0)","v":0},{"$f":"IF(AND($C3973=\"Payment\", $B3973<>\"debit card\", $B3973<>\"petty cash\", $B3973<>\"Cash_Sub\", $B3973<>\"Cheque_Sub\", $B3973<>\"EFT_Sub\"), $K3973, 0)","v":0},{"$f":"IF(AND(NOT(ISBLANK($O3973)), $O3973<'P&L'!$P$8), AC3973, 0)","v":0},{"$f":"IF(OR(ISBLANK($O3973), $O3973>'BankRec Main Acct'!$E$8), AC3973, 0)","v":0},{"$f":"IF(AND($C3973=\"Receipt\",$B3973<>\"debit card\",$B3973<>\"petty cash\",$B3973<>\"Cash_Main\",$B3973<>\"Cheque_Main\", $B3973<>\"EFT_Main\"),$K3973,0)","v":0},{"$f":"IF(AND(NOT(ISBLANK($S3973)), $S3973<'P&L'!$P$8), AF3973, 0)","v":0},{"$f":"IF(OR(ISBLANK($S3973), $S3973>'BankRec Main Acct'!$E$8), AF3973, 0)","v":0},{"$f":"IF(AND($C3973=\"Payment\", $B3973<>\"debit card\", $B3973<>\"petty cash\", $B3973<>\"Cash_Main\", $B3973<>\"Cheque_Main\", $B3973<>\"EFT_Main\"), $K3973, 0)","v":0},{"$f":"IF(AND(NOT(ISBLANK($S3973)), $S3973<'P&L'!$P$8), AI3973, 0)","v":0},{"$f":"IF(OR(ISBLANK($S3973), $S3973>'BankRec Main Acct'!$E$8), AI3973, 0)","v":0},0,{"$f":"IF(AND(NOT(ISBLANK($U3973)), $U3973<'P&L'!$P$8), $AL3973, 0)","v":0},{"$f":"IF(OR(ISBLANK($U3973), $U3973>'DebitCard Rec '!$E$8), $AL3973, 0)","v":0},0,{"$f":"IF(AND(NOT(ISBLANK($U3973)), $U3973<'P&L'!$P$8), $AO3973, 0)","v":0},{"$f":"IF(OR(ISBLANK($U3973), $U3973>'DebitCard Rec '!$E$8), $AO3973, 0)","v":0},0,{"$f":"IF(AND($A3973<'P&L'!$P$8, $X3973='P&L'!$G$6), $AR3973, 0)","v":0},0,{"$f":"IF(AND($A3973<'P&L'!$P$8, $X3973='P&L'!$G$6), $AT3973, 0)","v":0}," "," "," "]
[null,null,null,null,null,null,null,null,null,null,null,null,null,null,null,null,null,null,null,null,null,null,"Jan-00",1900,{"$f":"IF(AND($A3980<'P&L'!$P$8, YEAR($A3980)=Master!$C$6), $K3980, 0)","v":0},0,{"$f":"IF(AND(NOT(ISBLANK($O3980)), $O3980<'P&L'!$P$8), Z3980, 0)","v":0},{"$f":"IF(OR(ISBLANK($O3980), $O3980>'BankRec Main Acct'!$E$8), Z3980, 0)","v":0},0,{"$f":"IF(AND(NOT(ISBLANK($O3980)), $O3980<'P&L'!$P$8), AC3980, 0)","v":0},{"$f":"IF(OR(ISBLANK($O3980), $O3980>'BankRec Main Acct'!$E$8), AC3980, 0)","v":0},0,{"$f":"IF(AND(NOT(ISBLANK($S3980)), $S3980<'P&L'!$P$8), AF3980, 0)","v":0},{"$f":"IF(OR(ISBLANK($S3980), $S3980>'BankRec Main Acct'!$E$8), AF3980, 0)","v":0},0,{"$f":"IF(AND(NOT(ISBLANK($S3980)), $S3980<'P&L'!$P$8), AI3980, 0)","v":0},{"$f":"IF(OR(ISBLANK($S3980), $S3980>'BankRec Main Acct'!$E$8), AI3980, 0)","v":0},0,{"$f":"IF(AND(NOT(ISBLANK($U3980)), $U3980<'P&L'!$P$8), $AL3980, 0)","v":0},{"$f":"IF(OR(ISBLANK($U3980), $U3980>'DebitCard Rec '!$E$8), $AL3980, 0)","v":0},0,{"$f":"IF(AND(NOT(ISBLANK($U3980)), $U3980<'P&L'!$P$8), $AO3980, 0)","v":0},{"$f":"IF(OR(ISBLANK($U3980), $U3980>'DebitCard Rec '!$E$8), $AO3980, 0)","v":0},0,{"$f":"IF(AND($A3980<'P&L'!$P$8, $X3980='P&L'!$G$6), $AR3980, 0)","v":0},0,{"$f":"IF(AND($A3980<'P&L'!$P$8, $X3980='P&L'!$G$6), $AT3980, 0)","v":0}," "," "," "]
[null,null,null,null,null,null,null,null,null,null,null,null,null,null,null,null,null,null,null,null,null,null,"Jan-00",1900,{"$f":"IF(AND($A3992<'P&L'!$P$8, YEAR($A3992)=Master!$C$6), $K3992, 0)","v":0},0,{"$f":"IF(AND(NOT(ISBLANK($O3992)), $O3992<'P&L'!$P$8), Z3992, 0)","v":0},{"$f":"IF(OR(ISBLANK($O3992), $O3992>'BankRec Main Acct'!$E$8), Z3992, 0)","v":0},0,{"$f":"IF(AND(NOT(ISBLANK($O3992)), $O3992<'P&L'!$P$8), AC3992, 0)","v":0},{"$f":"IF(OR(ISBLANK($O3992), $O3992>'BankRec Main Acct'!$E$8), AC3992, 0)","v":0},0,{"$f":"IF(AND(NOT(ISBLANK($S3992)), $S3992<'P&L'!$P$8), AF3992, 0)","v":0},{"$f":"IF(OR(ISBLANK($S3992), $S3992>'BankRec Main Acct'!$E$8), AF3992, 0)","v":0},0,{"$f":"IF(AND(NOT(ISBLANK($S3992)), $S3992<'P&L'!$P$8), AI3992, 0)","v":0},{"$f":"IF(OR(ISBLANK($S3992), $S3992>'BankRec Main Acct'!$E$8), AI3992, 0)","v":0},0,{"$f":"IF(AND(NOT(ISBLANK($U3992)), $U3992<'P&L'!$P$8), $AL3992, 0)","v":0},{"$f":"IF(OR(ISBLANK($U3992), $U3992>'DebitCard Rec '!$E$8), $AL3992, 0)","v":0},0,{"$f":"IF(AND(NOT(ISBLANK($U3992)), $U3992<'P&L'!$P$8), $AO3992, 0)","v":0},{"$f":"IF(OR(ISBLANK($U3992), $U3992>'DebitCard Rec '!$E$8), $AO3992, 0)","v":0},0,{"$f":"IF(AND($A3992<'P&L'!$P$8, $X3992='P&L'!$G$6), $AR3992, 0)","v":0},0,{"$f":"IF(AND($A3992<'P&L'!$P$8, $X3992='P&L'!$G$6), $AT3992, 0)","v":0}," "," "," "]
[null,null,null,null,null,null,null,null,null,null,null,null,null,null,null,null,null,null,null,null,null,null,"Jan-00",1900,{"$f":"IF(AND($A3999<'P&L'!$P$8, YEAR($A3999)=Master!$C$6), $K3999, 0)","v":0},0,{"$f":"IF(AND(NOT(ISBLANK($O3999)), $O3999<'P&L'!$P$8), Z3999, 0)","v":0},{"$f":"IF(OR(ISBLANK($O3999), $O3999>'BankRec Main Acct'!$E$8), Z3999, 0)","v":0},0,{"$f":"IF(AND(NOT(ISBLANK($O3999)), $O3999<'P&L'!$P$8), AC3999, 0)","v":0},{"$f":"IF(OR(ISBLANK($O3999), $O3999>'BankRec Main Acct'!$E$8), AC3999, 0)","v":0},0,{"$f":"IF(AND(NOT(ISBLANK($S3999)), $S3999<'P&L'!$P$8), AF3999, 0)","v":0},{"$f":"IF(OR(ISBLANK($S3999), $S3999>'BankRec Main Acct'!$E$8), AF3999, 0)","v":0},0,{"$f":"IF(AND(NOT(ISBLANK($S3999)), $S3999<'P&L'!$P$8), AI3999, 0)","v":0},{"$f":"IF(OR(ISBLANK($S3999), $S3999>'BankRec Main Acct'!$E$8), AI3999, 0)","v":0},0,{"$f":"IF(AND(NOT(ISBLANK($U3999)), $U3999<'P&L'!$P$8), $AL3999, 0)","v":0},{"$f":"IF(OR(ISBLANK($U3999), $U3999>'DebitCard Rec '!$E$8), $AL3999, 0)","v":0},0,{"$f":"IF(AND(NOT(ISBLANK($U3999)), $U3999<'P&L'!$P$8), $AO3999, 0)","v":0},{"$f":"IF(OR(ISBLANK($U3999), $U3999>'DebitCard Rec '!$E$8), $AO3999, 0)","v":0},0,{"$f":"IF(AND($A3999<'P&L'!$P$8, $X3999='P&L'!$G$6), $AR3999, 0)","v":0},0,{"$f":"IF(AND($A3999<'P&L'!$P$8, $X3999='P&L'!$G$6), $AT3999, 0)","v":0}," "," "," "]
[null,null,null,null,null,null,null,null,null,null,null,null,null,null,null,null,null,null,null,null,null,null,"Jan-00",1900,{"$f":"IF(AND($A4005<'P&L'!$P$8, YEAR($A4005)=Master!$C$6), $K4005, 0)","v":0},0,{"$f":"IF(AND(NOT(ISBLANK($O4005)), $O4005<'P&L'!$P$8), Z4005, 0)","v":0},{"$f":"IF(OR(ISBLANK($O4005), $O4005>'BankRec Main Acct'!$E$8), Z4005, 0)","v":0},0,{"$f":"IF(AND(NOT(ISBLANK($O4005)), $O4005<'P&L'!$P$8), AC4005, 0)","v":0},{"$f":"IF(OR(ISBLANK($O4005), $O4005>'BankRec Main Acct'!$E$8), AC4005, 0)","v":0},0,{"$f":"IF(AND(NOT(ISBLANK($S4005)), $S4005<'P&L'!$P$8), AF4005, 0)","v":0},{"$f":"IF(OR(ISBLANK($S4005), $S4005>'BankRec Main Acct'!$E$8), AF4005, 0)","v":0},0,{"$f":"IF(AND(NOT(ISBLANK($S4005)), $S4005<'P&L'!$P$8), AI4005, 0)","v":0},{"$f":"IF(OR(ISBLANK($S4005), $S4005>'BankRec Main Acct'!$E$8), AI4005, 0)","v":0},0,{"$f":"IF(AND(NOT(ISBLANK($U4005)), $U4005<'P&L'!$P$8), $AL4005, 0)","v":0},{"$f":"IF(OR(ISBLANK($U4005), $U4005>'DebitCard Rec '!$E$8), $AL4005, 0)","v":0},0,{"$f":"IF(AND(NOT(ISBLANK($U4005)), $U4005<'P&L'!$P$8), $AO4005, 0)","v":0},{"$f":"IF(OR(ISBLANK($U4005), $U4005>'DebitCard Rec '!$E$8), $AO4005, 0)","v":0},0,{"$f":"IF(AND($A4005<'P&L'!$P$8, $X4005='P&L'!$G$6), $AR4005, 0)","v":0},0,{"$f":"IF(AND($A4005<'P&L'!$P$8, $X4005='P&L'!$G$6), $AT4005, 0)","v":0}," "," "," "]
[null,null,null,null,null,null,null,null,null,null,null,null,null,null,null,null,null,null,null,null,null,null,"Jan-00",1900,{"$f":"IF(AND($A4013<'P&L'!$P$8, YEAR($A4013)=Master!$C$6), $K4013, 0)","v":0},0,{"$f":"IF(AND(NOT(ISBLANK($O4013)), $O4013<'P&L'!$P$8), Z4013, 0)","v":0},{"$f":"IF(OR(ISBLANK($O4013), $O4013>'BankRec Main Acct'!$E$8), Z4013, 0)","v":0},0,{"$f":"IF(AND(NOT(ISBLANK($O4013)), $O4013<'P&L'!$P$8), AC4013, 0)","v":0},{"$f":"IF(OR(ISBLANK($O4013), $O4013>'BankRec Main Acct'!$E$8), AC4013, 0)","v":0},0,{"$f":"IF(AND(NOT(ISBLANK($S4013)), $S4013<'P&L'!$P$8), AF4013, 0)","v":0},{"$f":"IF(OR(ISBLANK($S4013), $S4013>'BankRec Main Acct'!$E$8), AF4013, 0)","v":0},0,{"$f":"IF(AND(NOT(ISBLANK($S4013)), $S4013<'P&L'!$P$8), AI4013, 0)","v":0},{"$f":"IF(OR(ISBLANK($S4013), $S4013>'BankRec Main Acct'!$E$8), AI4013, 0)","v":0},0,{"$f":"IF(AND(NOT(ISBLANK($U4013)), $U4013<'P&L'!$P$8), $AL4013, 0)","v":0},{"$f":"IF(OR(ISBLANK($U4013), $U4013>'DebitCard Rec '!$E$8), $AL4013, 0)","v":0},0,{"$f":"IF(AND(NOT(ISBLANK($U4013)), $U4013<'P&L'!$P$8), $AO4013, 0)","v":0},{"$f":"IF(OR(ISBLANK($U4013), $U4013>'DebitCard Rec '!$E$8), $AO4013, 0)","v":0},0,{"$f":"IF(AND($A4013<'P&L'!$P$8, $X4013='P&L'!$G$6), $AR4013, 0)","v":0},0,{"$f":"IF(AND($A4013<'P&L'!$P$8, $X4013='P&L'!$G$6), $AT4013, 0)","v":0}," "," "," "]
[null,null,null,null,null,null,null,null,null,null,null,null,null,null,null,null,null,null,null,null,null,null,"Jan-00",1900,{"$f":"IF(AND($A4029<'P&L'!$P$8, YEAR($A4029)=Master!$C$6), $K4029, 0)","v":0},0,{"$f":"IF(AND(NOT(ISBLANK($O4029)), $O4029<'P&L'!$P$8), Z4029, 0)","v":0},{"$f":"IF(OR(ISBLANK($O4029), $O4029>'BankRec Main Acct'!$E$8), Z4029, 0)","v":0},0,{"$f":"IF(AND(NOT(ISBLANK($O4029)), $O4029<'P&L'!$P$8), AC4029, 0)","v":0},{"$f":"IF(OR(ISBLANK($O4029), $O4029>'BankRec Main Acct'!$E$8), AC4029, 0)","v":0},0,{"$f":"IF(AND(NOT(ISBLANK($S4029)), $S4029<'P&L'!$P$8), AF4029, 0)","v":0},{"$f":"IF(OR(ISBLANK($S4029), $S4029>'BankRec Main Acct'!$E$8), AF4029, 0)","v":0},0,{"$f":"IF(AND(NOT(ISBLANK($S4029)), $S4029<'P&L'!$P$8), AI4029, 0)","v":0},{"$f":"IF(OR(ISBLANK($S4029), $S4029>'BankRec Main Acct'!$E$8), AI4029, 0)","v":0},0,{"$f":"IF(AND(NOT(ISBLANK($U4029)), $U4029<'P&L'!$P$8), $AL4029, 0)","v":0},{"$f":"IF(OR(ISBLANK($U4029), $U4029>'DebitCard Rec '!$E$8), $AL4029, 0)","v":0},0,{"$f":"IF(AND(NOT(ISBLANK($U4029)), $U4029<'P&L'!$P$8), $AO4029, 0)","v":0},{"$f":"IF(OR(ISBLANK($U4029), $U4029>'DebitCard Rec '!$E$8), $AO4029, 0)","v":0},0,{"$f":"IF(AND($A4029<'P&L'!$P$8, $X4029='P&L'!$G$6), $AR4029, 0)","v":0},0,{"$f":"IF(AND($A4029<'P&L'!$P$8, $X4029='P&L'!$G$6), $AT4029, 0)","v":0}," "," "," "]
[null,null,null,null,null,null,null,null,null,null,null,null,null,null,null,null,null,null,null,null,null,null,"Jan-00",1900,{"$f":"IF(AND($A4032<'P&L'!$P$8, YEAR($A4032)=Master!$C$6), $K4032, 0)","v":0},0,{"$f":"IF(AND(NOT(ISBLANK($O4032)), $O4032<'P&L'!$P$8), Z4032, 0)","v":0},{"$f":"IF(OR(ISBLANK($O4032), $O4032>'BankRec Main Acct'!$E$8), Z4032, 0)","v":0},0,{"$f":"IF(AND(NOT(ISBLANK($O4032)), $O4032<'P&L'!$P$8), AC4032, 0)","v":0},{"$f":"IF(OR(ISBLANK($O4032), $O4032>'BankRec Main Acct'!$E$8), AC4032, 0)","v":0},0,{"$f":"IF(AND(NOT(ISBLANK($S4032)), $S4032<'P&L'!$P$8), AF4032, 0)","v":0},{"$f":"IF(OR(ISBLANK($S4032), $S4032>'BankRec Main Acct'!$E$8), AF4032, 0)","v":0},0,{"$f":"IF(AND(NOT(ISBLANK($S4032)), $S4032<'P&L'!$P$8), AI4032, 0)","v":0},{"$f":"IF(OR(ISBLANK($S4032), $S4032>'BankRec Main Acct'!$E$8), AI4032, 0)","v":0},0,{"$f":"IF(AND(NOT(ISBLANK($U4032)), $U4032<'P&L'!$P$8), $AL4032, 0)","v":0},{"$f":"IF(OR(ISBLANK($U4032), $U4032>'DebitCard Rec '!$E$8), $AL4032, 0)","v":0},0,{"$f":"IF(AND(NOT(ISBLANK($U4032)), $U4032<'P&L'!$P$8), $AO4032, 0)","v":0},{"$f":"IF(OR(ISBLANK($U4032), $U4032>'DebitCard Rec '!$E$8), $AO4032, 0)","v":0},0,{"$f":"IF(AND($A4032<'P&L'!$P$8, $X4032='P&L'!$G$6), $AR4032, 0)","v":0},0,{"$f":"IF(AND($A4032<'P&L'!$P$8, $X4032='P&L'!$G$6), $AT4032, 0)","v":0}," "," "," "]
[null,null,null,null,null,null,null,null,null,null,null,null,null,null,null,null,null,null,null,null,null,null,"Jan-00",1900,{"$f":"IF(AND($A4044<'P&L'!$P$8, YEAR($A4044)=Master!$C$6), $K4044, 0)","v":0},0,{"$f":"IF(AND(NOT(ISBLANK($O4044)), $O4044<'P&L'!$P$8), Z4044, 0)","v":0},{"$f":"IF(OR(ISBLANK($O4044), $O4044>'BankRec Main Acct'!$E$8), Z4044, 0)","v":0},0,{"$f":"IF(AND(NOT(ISBLANK($O4044)), $O4044<'P&L'!$P$8), AC4044, 0)","v":0},{"$f":"IF(OR(ISBLANK($O4044), $O4044>'BankRec Main Acct'!$E$8), AC4044, 0)","v":0},0,{"$f":"IF(AND(NOT(ISBLANK($S4044)), $S4044<'P&L'!$P$8), AF4044, 0)","v":0},{"$f":"IF(OR(ISBLANK($S4044), $S4044>'BankRec Main Acct'!$E$8), AF4044, 0)","v":0},0,{"$f":"IF(AND(NOT(ISBLANK($S4044)), $S4044<'P&L'!$P$8), AI4044, 0)","v":0},{"$f":"IF(OR(ISBLANK($S4044), $S4044>'BankRec Main Acct'!$E$8), AI4044, 0)","v":0},0,{"$f":"IF(AND(NOT(ISBLANK($U4044)), $U4044<'P&L'!$P$8), $AL4044, 0)","v":0},{"$f":"IF(OR(ISBLANK($U4044), $U4044>'DebitCard Rec '!$E$8), $AL4044, 0)","v":0},0,{"$f":"IF(AND(NOT(ISBLANK($U4044)), $U4044<'P&L'!$P$8), $AO4044, 0)","v":0},{"$f":"IF(OR(ISBLANK($U4044), $U4044>'DebitCard Rec '!$E$8), $AO4044, 0)","v":0},0,{"$f":"IF(AND($A4044<'P&L'!$P$8, $X4044='P&L'!$G$6), $AR4044, 0)","v":0},0,{"$f":"IF(AND($A4044<'P&L'!$P$8, $X4044='P&L'!$G$6), $AT4044, 0)","v":0}," "," "," "]
[null,null,null,null,null,null,null,null,null,null,null,null,null,null,null,null,null,null,null,null,null,null,"Jan-00",1900,{"$f":"IF(AND($A4050<'P&L'!$P$8, YEAR($A4050)=Master!$C$6), $K4050, 0)","v":0},0,{"$f":"IF(AND(NOT(ISBLANK($O4050)), $O4050<'P&L'!$P$8), Z4050, 0)","v":0},{"$f":"IF(OR(ISBLANK($O4050), $O4050>'BankRec Main Acct'!$E$8), Z4050, 0)","v":0},0,{"$f":"IF(AND(NOT(ISBLANK($O4050)), $O4050<'P&L'!$P$8), AC4050, 0)","v":0},{"$f":"IF(OR(ISBLANK($O4050), $O4050>'BankRec Main Acct'!$E$8), AC4050, 0)","v":0},0,{"$f":"IF(AND(NOT(ISBLANK($S4050)), $S4050<'P&L'!$P$8), AF4050, 0)","v":0},{"$f":"IF(OR(ISBLANK($S4050), $S4050>'BankRec Main Acct'!$E$8), AF4050, 0)","v":0},0,{"$f":"IF(AND(NOT(ISBLANK($S4050)), $S4050<'P&L'!$P$8), AI4050, 0)","v":0},{"$f":"IF(OR(ISBLANK($S4050), $S4050>'BankRec Main Acct'!$E$8), AI4050, 0)","v":0},0,{"$f":"IF(AND(NOT(ISBLANK($U4050)), $U4050<'P&L'!$P$8), $AL4050, 0)","v":0},{"$f":"IF(OR(ISBLANK($U4050), $U4050>'DebitCard Rec '!$E$8), $AL4050, 0)","v":0},0,{"$f":"IF(AND(NOT(ISBLANK($U4050)), $U4050<'P&L'!$P$8), $AO4050, 0)","v":0},{"$f":"IF(OR(ISBLANK($U4050), $U4050>'DebitCard Rec '!$E$8), $AO4050, 0)","v":0},0,{"$f":"IF(AND($A4050<'P&L'!$P$8, $X4050='P&L'!$G$6), $AR4050, 0)","v":0},0,{"$f":"IF(AND($A4050<'P&L'!$P$8, $X4050='P&L'!$G$6), $AT4050, 0)","v":0}," "," "," "]
[null,null,null,null,null,null,null,null,null,null,null,null,null,null,null,null,null,null,null,null,null,null,"Jan-00",1900,{"$f":"IF(AND($A4062<'P&L'!$P$8, YEAR($A4062)=Master!$C$6), $K4062, 0)","v":0},0,{"$f":"IF(AND(NOT(ISBLANK($O4062)), $O4062<'P&L'!$P$8), Z4062, 0)","v":0},{"$f":"IF(OR(ISBLANK($O4062), $O4062>'BankRec Main Acct'!$E$8), Z4062, 0)","v":0},0,{"$f":"IF(AND(NOT(ISBLANK($O4062)), $O4062<'P&L'!$P$8), AC4062, 0)","v":0},{"$f":"IF(OR(ISBLANK($O4062), $O4062>'BankRec Main Acct'!$E$8), AC4062, 0)","v":0},0,{"$f":"IF(AND(NOT(ISBLANK($S4062)), $S4062<'P&L'!$P$8), AF4062, 0)","v":0},{"$f":"IF(OR(ISBLANK($S4062), $S4062>'BankRec Main Acct'!$E$8), AF4062, 0)","v":0},0,{"$f":"IF(AND(NOT(ISBLANK($S4062)), $S4062<'P&L'!$P$8), AI4062, 0)","v":0},{"$f":"IF(OR(ISBLANK($S4062), $S4062>'BankRec Main Acct'!$E$8), AI4062, 0)","v":0},0,{"$f":"IF(AND(NOT(ISBLANK($U4062)), $U4062<'P&L'!$P$8), $AL4062, 0)","v":0},{"$f":"IF(OR(ISBLANK($U4062), $U4062>'DebitCard Rec '!$E$8), $AL4062, 0)","v":0},0,{"$f":"IF(AND(NOT(ISBLANK($U4062)), $U4062<'P&L'!$P$8), $AO4062, 0)","v":0},{"$f":"IF(OR(ISBLANK($U4062), $U4062>'DebitCard Rec '!$E$8), $AO4062, 0)","v":0},0,{"$f":"IF(AND($A4062<'P&L'!$P$8, $X4062='P&L'!$G$6), $AR4062, 0)","v":0},0,{"$f":"IF(AND($A4062<'P&L'!$P$8, $X4062='P&L'!$G$6), $AT4062, 0)","v":0}," "," "," "]
[null,null,null,null,null,null,null,null,null,null,null,null,null,null,null,null,null,null,null,null,null,null,"Jan-00",1900,{"$f":"IF(AND($A4069<'P&L'!$P$8, YEAR($A4069)=Master!$C$6), $K4069, 0)","v":0},0,{"$f":"IF(AND(NOT(ISBLANK($O4069)), $O4069<'P&L'!$P$8), Z4069, 0)","v":0},{"$f":"IF(OR(ISBLANK($O4069), $O4069>'BankRec Main Acct'!$E$8), Z4069, 0)","v":0},0,{"$f":"IF(AND(NOT(ISBLANK($O4069)), $O4069<'P&L'!$P$8), AC4069, 0)","v":0},{"$f":"IF(OR(ISBLANK($O4069), $O4069>'BankRec Main Acct'!$E$8), AC4069, 0)","v":0},0,{"$f":"IF(AND(NOT(ISBLANK($S4069)), $S4069<'P&L'!$P$8), AF4069, 0)","v":0},{"$f":"IF(OR(ISBLANK($S4069), $S4069>'BankRec Main Acct'!$E$8), AF4069, 0)","v":0},0,{"$f":"IF(AND(NOT(ISBLANK($S4069)), $S4069<'P&L'!$P$8), AI4069, 0)","v":0},{"$f":"IF(OR(ISBLANK($S4069), $S4069>'BankRec Main Acct'!$E$8), AI4069, 0)","v":0},0,{"$f":"IF(AND(NOT(ISBLANK($U4069)), $U4069<'P&L'!$P$8), $AL4069, 0)","v":0},{"$f":"IF(OR(ISBLANK($U4069), $U4069>'DebitCard Rec '!$E$8), $AL4069, 0)","v":0},0,{"$f":"IF(AND(NOT(ISBLANK($U4069)), $U4069<'P&L'!$P$8), $AO4069, 0)","v":0},{"$f":"IF(OR(ISBLANK($U4069), $U4069>'DebitCard Rec '!$E$8), $AO4069, 0)","v":0},0,{"$f":"IF(AND($A4069<'P&L'!$P$8, $X4069='P&L'!$G$6), $AR4069, 0)","v":0},0,{"$f":"IF(AND($A4069<'P&L'!$P$8, $X4069='P&L'!$G$6), $AT4069, 0)","v":0}," "," "," "]
[null,null,null,null,null,null,null,null,null,null,null,null,null,null,null,null,null,null,null,null,null,null,"Jan-00",1900,{"$f":"IF(AND($A4081<'P&L'!$P$8, YEAR($A4081)=Master!$C$6), $K4081, 0)","v":0},0,{"$f":"IF(AND(NOT(ISBLANK($O4081)), $O4081<'P&L'!$P$8), Z4081, 0)","v":0},{"$f":"IF(OR(ISBLANK($O4081), $O4081>'BankRec Main Acct'!$E$8), Z4081, 0)","v":0},0,{"$f":"IF(AND(NOT(ISBLANK($O4081)), $O4081<'P&L'!$P$8), AC4081, 0)","v":0},{"$f":"IF(OR(ISBLANK($O4081), $O4081>'BankRec Main Acct'!$E$8), AC4081, 0)","v":0},0,{"$f":"IF(AND(NOT(ISBLANK($S4081)), $S4081<'P&L'!$P$8), AF4081, 0)","v":0},{"$f":"IF(OR(ISBLANK($S4081), $S4081>'BankRec Main Acct'!$E$8), AF4081, 0)","v":0},0,{"$f":"IF(AND(NOT(ISBLANK($S4081)), $S4081<'P&L'!$P$8), AI4081, 0)","v":0},{"$f":"IF(OR(ISBLANK($S4081), $S4081>'BankRec Main Acct'!$E$8), AI4081, 0)","v":0},0,{"$f":"IF(AND(NOT(ISBLANK($U4081)), $U4081<'P&L'!$P$8), $AL4081, 0)","v":0},{"$f":"IF(OR(ISBLANK($U4081), $U4081>'DebitCard Rec '!$E$8), $AL4081, 0)","v":0},0,{"$f":"IF(AND(NOT(ISBLANK($U4081)), $U4081<'P&L'!$P$8), $AO4081, 0)","v":0},{"$f":"IF(OR(ISBLANK($U4081), $U4081>'DebitCard Rec '!$E$8), $AO4081, 0)","v":0},0,{"$f":"IF(AND($A4081<'P&L'!$P$8, $X4081='P&L'!$G$6), $AR4081, 0)","v":0},0,{"$f":"IF(AND($A4081<'P&L'!$P$8, $X4081='P&L'!$G$6), $AT4081, 0)","v":0}," "," "," "]
[null,null,null,null,null,null,null,null,null,null,null,null,null,null,null,null,null,null,null,null,null,null,"Jan-00",1900,{"$f":"IF(AND($A4085<'P&L'!$P$8, YEAR($A4085)=Master!$C$6), $K4085, 0)","v":0},0,{"$f":"IF(AND(NOT(ISBLANK($O4085)), $O4085<'P&L'!$P$8), Z4085, 0)","v":0},{"$f":"IF(OR(ISBLANK($O4085), $O4085>'BankRec Main Acct'!$E$8), Z4085, 0)","v":0},0,{"$f":"IF(AND(NOT(ISBLANK($O4085)), $O4085<'P&L'!$P$8), AC4085, 0)","v":0},{"$f":"IF(OR(ISBLANK($O4085), $O4085>'BankRec Main Acct'!$E$8), AC4085, 0)","v":0},0,{"$f":"IF(AND(NOT(ISBLANK($S4085)), $S4085<'P&L'!$P$8), AF4085, 0)","v":0},{"$f":"IF(OR(ISBLANK($S4085), $S4085>'BankRec Main Acct'!$E$8), AF4085, 0)","v":0},0,{"$f":"IF(AND(NOT(ISBLANK($S4085)), $S4085<'P&L'!$P$8), AI4085, 0)","v":0},{"$f":"IF(OR(ISBLANK($S4085), $S4085>'BankRec Main Acct'!$E$8), AI4085, 0)","v":0},0,{"$f":"IF(AND(NOT(ISBLANK($U4085)), $U4085<'P&L'!$P$8), $AL4085, 0)","v":0},{"$f":"IF(OR(ISBLANK($U4085), $U4085>'DebitCard Rec '!$E$8), $AL4085, 0)","v":0},0,{"$f":"IF(AND(NOT(ISBLANK($U4085)), $U4085<'P&L'!$P$8), $AO4085, 0)","v":0},{"$f":"IF(OR(ISBLANK($U4085), $U4085>'DebitCard Rec '!$E$8), $AO4085, 0)","v":0},0,{"$f":"IF(AND($A4085<'P&L'!$P$8, $X4085='P&L'!$G$6), $AR4085, 0)","v":0},0,{"$f":"IF(AND($A4085<'P&L'!$P$8, $X4085='P&L'!$G$6), $AT4085, 0)","v":0}," "," "," "]
[null,null,null,null,null,null,null,null,null,null,null,null,null,null,null,null,null,null,null,null,null,null,"Jan-00",1900,{"$f":"IF(AND($A4099<'P&L'!$P$8, YEAR($A4099)=Master!$C$6), $K4099, 0)","v":0},0,{"$f":"IF(AND(NOT(ISBLANK($O4099)), $O4099<'P&L'!$P$8), Z4099, 0)","v":0},{"$f":"IF(OR(ISBLANK($O4099), $O4099>'BankRec Main Acct'!$E$8), Z4099, 0)","v":0},0,{"$f":"IF(AND(NOT(ISBLANK($O4099)), $O4099<'P&L'!$P$8), AC4099, 0)","v":0},{"$f":"IF(OR(ISBLANK($O4099), $O4099>'BankRec Main Acct'!$E$8), AC4099, 0)","v":0},0,{"$f":"IF(AND(NOT(ISBLANK($S4099)), $S4099<'P&L'!$P$8), AF4099, 0)","v":0},{"$f":"IF(OR(ISBLANK($S4099), $S4099>'BankRec Main Acct'!$E$8), AF4099, 0)","v":0},0,{"$f":"IF(AND(NOT(ISBLANK($S4099)), $S4099<'P&L'!$P$8), AI4099, 0)","v":0},{"$f":"IF(OR(ISBLANK($S4099), $S4099>'BankRec Main Acct'!$E$8), AI4099, 0)","v":0},0,{"$f":"IF(AND(NOT(ISBLANK($U4099)), $U4099<'P&L'!$P$8), $AL4099, 0)","v":0},{"$f":"IF(OR(ISBLANK($U4099), $U4099>'DebitCard Rec '!$E$8), $AL4099, 0)","v":0},0,{"$f":"IF(AND(NOT(ISBLANK($U4099)), $U4099<'P&L'!$P$8), $AO4099, 0)","v":0},{"$f":"IF(OR(ISBLANK($U4099), $U4099>'DebitCard Rec '!$E$8), $AO4099, 0)","v":0},0,{"$f":"IF(AND($A4099<'P&L'!$P$8, $X4099='P&L'!$G$6), $AR4099, 0)","v":0},0,{"$f":"IF(AND($A4099<'P&L'!$P$8, $X4099='P&L'!$G$6), $AT4099, 0)","v":0}," "," "," "]
[null,null,null,null,null,null,null,null,null,null,null,null,null,null,null,null,null,null,null,null,null,null,"Jan-00",1900,{"$f":"IF(AND($A4102<'P&L'!$P$8, YEAR($A4102)=Master!$C$6), $K4102, 0)","v":0},0,{"$f":"IF(AND(NOT(ISBLANK($O4102)), $O4102<'P&L'!$P$8), Z4102, 0)","v":0},{"$f":"IF(OR(ISBLANK($O4102), $O4102>'BankRec Main Acct'!$E$8), Z4102, 0)","v":0},0,{"$f":"IF(AND(NOT(ISBLANK($O4102)), $O4102<'P&L'!$P$8), AC4102, 0)","v":0},{"$f":"IF(OR(ISBLANK($O4102), $O4102>'BankRec Main Acct'!$E$8), AC4102, 0)","v":0},0,{"$f":"IF(AND(NOT(ISBLANK($S4102)), $S4102<'P&L'!$P$8), AF4102, 0)","v":0},{"$f":"IF(OR(ISBLANK($S4102), $S4102>'BankRec Main Acct'!$E$8), AF4102, 0)","v":0},0,{"$f":"IF(AND(NOT(ISBLANK($S4102)), $S4102<'P&L'!$P$8), AI4102, 0)","v":0},{"$f":"IF(OR(ISBLANK($S4102), $S4102>'BankRec Main Acct'!$E$8), AI4102, 0)","v":0},0,{"$f":"IF(AND(NOT(ISBLANK($U4102)), $U4102<'P&L'!$P$8), $AL4102, 0)","v":0},{"$f":"IF(OR(ISBLANK($U4102), $U4102>'DebitCard Rec '!$E$8), $AL4102, 0)","v":0},0,{"$f":"IF(AND(NOT(ISBLANK($U4102)), $U4102<'P&L'!$P$8), $AO4102, 0)","v":0},{"$f":"IF(OR(ISBLANK($U4102), $U4102>'DebitCard Rec '!$E$8), $AO4102, 0)","v":0},0,{"$f":"IF(AND($A4102<'P&L'!$P$8, $X4102='P&L'!$G$6), $AR4102, 0)","v":0},0,{"$f":"IF(AND($A4102<'P&L'!$P$8, $X4102='P&L'!$G$6), $AT4102, 0)","v":0}," "," "," "]
[null,null,null,null,null,null,null,null,null,null,null,null,null,null,null,null,null,null,null,null,null,null,"Jan-00",1900,{"$f":"IF(AND($A4114<'P&L'!$P$8, YEAR($A4114)=Master!$C$6), $K4114, 0)","v":0},0,{"$f":"IF(AND(NOT(ISBLANK($O4114)), $O4114<'P&L'!$P$8), Z4114, 0)","v":0},{"$f":"IF(OR(ISBLANK($O4114), $O4114>'BankRec Main Acct'!$E$8), Z4114, 0)","v":0},0,{"$f":"IF(AND(NOT(ISBLANK($O4114)), $O4114<'P&L'!$P$8), AC4114, 0)","v":0},{"$f":"IF(OR(ISBLANK($O4114), $O4114>'BankRec Main Acct'!$E$8), AC4114, 0)","v":0},0,{"$f":"IF(AND(NOT(ISBLANK($S4114)), $S4114<'P&L'!$P$8), AF4114, 0)","v":0},{"$f":"IF(OR(ISBLANK($S4114), $S4114>'BankRec Main Acct'!$E$8), AF4114, 0)","v":0},0,{"$f":"IF(AND(NOT(ISBLANK($S4114)), $S4114<'P&L'!$P$8), AI4114, 0)","v":0},{"$f":"IF(OR(ISBLANK($S4114), $S4114>'BankRec Main Acct'!$E$8), AI4114, 0)","v":0},0,{"$f":"IF(AND(NOT(ISBLANK($U4114)), $U4114<'P&L'!$P$8), $AL4114, 0)","v":0},{"$f":"IF(OR(ISBLANK($U4114), $U4114>'DebitCard Rec '!$E$8), $AL4114, 0)","v":0},0,{"$f":"IF(AND(NOT(ISBLANK($U4114)), $U4114<'P&L'!$P$8), $AO4114, 0)","v":0},{"$f":"IF(OR(ISBLANK($U4114), $U4114>'DebitCard Rec '!$E$8), $AO4114, 0)","v":0},0,{"$f":"IF(AND($A4114<'P&L'!$P$8, $X4114='P&L'!$G$6), $AR4114, 0)","v":0},0,{"$f":"IF(AND($A4114<'P&L'!$P$8, $X4114='P&L'!$G$6), $AT4114, 0)","v":0}," "," "," "]
[null,null,null,null,null,null,null,null,null,null,null,null,null,null,null,null,null,null,null,null,null,null,"Jan-00",1900,{"$f":"IF(AND($A4124<'P&L'!$P$8, YEAR($A4124)=Master!$C$6), $K4124, 0)","v":0},0,{"$f":"IF(AND(NOT(ISBLANK($O4124)), $O4124<'P&L'!$P$8), Z4124, 0)","v":0},{"$f":"IF(OR(ISBLANK($O4124), $O4124>'BankRec Main Acct'!$E$8), Z4124, 0)","v":0},0,{"$f":"IF(AND(NOT(ISBLANK($O4124)), $O4124<'P&L'!$P$8), AC4124, 0)","v":0},{"$f":"IF(OR(ISBLANK($O4124), $O4124>'BankRec Main Acct'!$E$8), AC4124, 0)","v":0},0,{"$f":"IF(AND(NOT(ISBLANK($S4124)), $S4124<'P&L'!$P$8), AF4124, 0)","v":0},{"$f":"IF(OR(ISBLANK($S4124), $S4124>'BankRec Main Acct'!$E$8), AF4124, 0)","v":0},0,{"$f":"IF(AND(NOT(ISBLANK($S4124)), $S4124<'P&L'!$P$8), AI4124, 0)","v":0},{"$f":"IF(OR(ISBLANK($S4124), $S4124>'BankRec Main Acct'!$E$8), AI4124, 0)","v":0},0,{"$f":"IF(AND(NOT(ISBLANK($U4124)), $U4124<'P&L'!$P$8), $AL4124, 0)","v":0},{"$f":"IF(OR(ISBLANK($U4124), $U4124>'DebitCard Rec '!$E$8), $AL4124, 0)","v":0},0,{"$f":"IF(AND(NOT(ISBLANK($U4124)), $U4124<'P&L'!$P$8), $AO4124, 0)","v":0},{"$f":"IF(OR(ISBLANK($U4124), $U4124>'DebitCard Rec '!$E$8), $AO4124, 0)","v":0},0,{"$f":"IF(AND($A4124<'P&L'!$P$8, $X4124='P&L'!$G$6), $AR4124, 0)","v":0},0,{"$f":"IF(AND($A4124<'P&L'!$P$8, $X4124='P&L'!$G$6), $AT4124, 0)","v":0}," "," "," "]
[null,null,null,null,null,null,null,null,null,null,null,null,null,null,null,null,null,null,null,null,null,null,"Jan-00",1900,{"$f":"IF(AND($A4132<'P&L'!$P$8, YEAR($A4132)=Master!$C$6), $K4132, 0)","v":0},0,{"$f":"IF(AND(NOT(ISBLANK($O4132)), $O4132<'P&L'!$P$8), Z4132, 0)","v":0},{"$f":"IF(OR(ISBLANK($O4132), $O4132>'BankRec Main Acct'!$E$8), Z4132, 0)","v":0},0,{"$f":"IF(AND(NOT(ISBLANK($O4132)), $O4132<'P&L'!$P$8), AC4132, 0)","v":0},{"$f":"IF(OR(ISBLANK($O4132), $O4132>'BankRec Main Acct'!$E$8), AC4132, 0)","v":0},0,{"$f":"IF(AND(NOT(ISBLANK($S4132)), $S4132<'P&L'!$P$8), AF4132, 0)","v":0},{"$f":"IF(OR(ISBLANK($S4132), $S4132>'BankRec Main Acct'!$E$8), AF4132, 0)","v":0},0,{"$f":"IF(AND(NOT(ISBLANK($S4132)), $S4132<'P&L'!$P$8), AI4132, 0)","v":0},{"$f":"IF(OR(ISBLANK($S4132), $S4132>'BankRec Main Acct'!$E$8), AI4132, 0)","v":0},0,{"$f":"IF(AND(NOT(ISBLANK($U4132)), $U4132<'P&L'!$P$8), $AL4132, 0)","v":0},{"$f":"IF(OR(ISBLANK($U4132), $U4132>'DebitCard Rec '!$E$8), $AL4132, 0)","v":0},0,{"$f":"IF(AND(NOT(ISBLANK($U4132)), $U4132<'P&L'!$P$8), $AO4132, 0)","v":0},{"$f":"IF(OR(ISBLANK($U4132), $U4132>'DebitCard Rec '!$E$8), $AO4132, 0)","v":0},0,{"$f":"IF(AND($A4132<'P&L'!$P$8, $X4132='P&L'!$G$6), $AR4132, 0)","v":0},0,{"$f":"IF(AND($A4132<'P&L'!$P$8, $X4132='P&L'!$G$6), $AT4132, 0)","v":0}," "," "," "]
[null,null,null,null,null,null,null,null,null,null,null,null,null,null,null,null,null,null,null,null,null,null,"Jan-00",1900,{"$f":"IF(AND($A4139<'P&L'!$P$8, YEAR($A4139)=Master!$C$6), $K4139, 0)","v":0},0,{"$f":"IF(AND(NOT(ISBLANK($O4139)), $O4139<'P&L'!$P$8), Z4139, 0)","v":0},{"$f":"IF(OR(ISBLANK($O4139), $O4139>'BankRec Main Acct'!$E$8), Z4139, 0)","v":0},0,{"$f":"IF(AND(NOT(ISBLANK($O4139)), $O4139<'P&L'!$P$8), AC4139, 0)","v":0},{"$f":"IF(OR(ISBLANK($O4139), $O4139>'BankRec Main Acct'!$E$8), AC4139, 0)","v":0},0,{"$f":"IF(AND(NOT(ISBLANK($S4139)), $S4139<'P&L'!$P$8), AF4139, 0)","v":0},{"$f":"IF(OR(ISBLANK($S4139), $S4139>'BankRec Main Acct'!$E$8), AF4139, 0)","v":0},0,{"$f":"IF(AND(NOT(ISBLANK($S4139)), $S4139<'P&L'!$P$8), AI4139, 0)","v":0},{"$f":"IF(OR(ISBLANK($S4139), $S4139>'BankRec Main Acct'!$E$8), AI4139, 0)","v":0},0,{"$f":"IF(AND(NOT(ISBLANK($U4139)), $U4139<'P&L'!$P$8), $AL4139, 0)","v":0},{"$f":"IF(OR(ISBLANK($U4139), $U4139>'DebitCard Rec '!$E$8), $AL4139, 0)","v":0},0,{"$f":"IF(AND(NOT(ISBLANK($U4139)), $U4139<'P&L'!$P$8), $AO4139, 0)","v":0},{"$f":"IF(OR(ISBLANK($U4139), $U4139>'DebitCard Rec '!$E$8), $AO4139, 0)","v":0},0,{"$f":"IF(AND($A4139<'P&L'!$P$8, $X4139='P&L'!$G$6), $AR4139, 0)","v":0},0,{"$f":"IF(AND($A4139<'P&L'!$P$8, $X4139='P&L'!$G$6), $AT4139, 0)","v":0}," "," "," "]
[null,null,null,null,null,null,null,null,null,null,null,null,null,null,null,null,null,null,null,null,null,null,"Jan-00",1900,{"$f":"IF(AND($A4151<'P&L'!$P$8, YEAR($A4151)=Master!$C$6), $K4151, 0)","v":0},0,{"$f":"IF(AND(NOT(ISBLANK($O4151)), $O4151<'P&L'!$P$8), Z4151, 0)","v":0},{"$f":"IF(OR(ISBLANK($O4151), $O4151>'BankRec Main Acct'!$E$8), Z4151, 0)","v":0},0,{"$f":"IF(AND(NOT(ISBLANK($O4151)), $O4151<'P&L'!$P$8), AC4151, 0)","v":0},{"$f":"IF(OR(ISBLANK($O4151), $O4151>'BankRec Main Acct'!$E$8), AC4151, 0)","v":0},0,{"$f":"IF(AND(NOT(ISBLANK($S4151)), $S4151<'P&L'!$P$8), AF4151, 0)","v":0},{"$f":"IF(OR(ISBLANK($S4151), $S4151>'BankRec Main Acct'!$E$8), AF4151, 0)","v":0},0,{"$f":"IF(AND(NOT(ISBLANK($S4151)), $S4151<'P&L'!$P$8), AI4151, 0)","v":0},{"$f":"IF(OR(ISBLANK($S4151), $S4151>'BankRec Main Acct'!$E$8), AI4151, 0)","v":0},0,{"$f":"IF(AND(NOT(ISBLANK($U4151)), $U4151<'P&L'!$P$8), $AL4151, 0)","v":0},{"$f":"IF(OR(ISBLANK($U4151), $U4151>'DebitCard Rec '!$E$8), $AL4151, 0)","v":0},0,{"$f":"IF(AND(NOT(ISBLANK($U4151)), $U4151<'P&L'!$P$8), $AO4151, 0)","v":0},{"$f":"IF(OR(ISBLANK($U4151), $U4151>'DebitCard Rec '!$E$8), $AO4151, 0)","v":0},0,{"$f":"IF(AND($A4151<'P&L'!$P$8, $X4151='P&L'!$G$6), $AR4151, 0)","v":0},0,{"$f":"IF(AND($A4151<'P&L'!$P$8, $X4151='P&L'!$G$6), $AT4151, 0)","v":0}," "," "," "]
[null,null,null,null,null,null,null,null,null,null,null,null,null,null,null,null,null,null,null,null,null,null,"Jan-00",1900,{"$f":"IF(AND($A4154<'P&L'!$P$8, YEAR($A4154)=Master!$C$6), $K4154, 0)","v":0},0,{"$f":"IF(AND(NOT(ISBLANK($O4154)), $O4154<'P&L'!$P$8), Z4154, 0)","v":0},{"$f":"IF(OR(ISBLANK($O4154), $O4154>'BankRec Main Acct'!$E$8), Z4154, 0)","v":0},0,{"$f":"IF(AND(NOT(ISBLANK($O4154)), $O4154<'P&L'!$P$8), AC4154, 0)","v":0},{"$f":"IF(OR(ISBLANK($O4154), $O4154>'BankRec Main Acct'!$E$8), AC4154, 0)","v":0},0,{"$f":"IF(AND(NOT(ISBLANK($S4154)), $S4154<'P&L'!$P$8), AF4154, 0)","v":0},{"$f":"IF(OR(ISBLANK($S4154), $S4154>'BankRec Main Acct'!$E$8), AF4154, 0)","v":0},0,{"$f":"IF(AND(NOT(ISBLANK($S4154)), $S4154<'P&L'!$P$8), AI4154, 0)","v":0},{"$f":"IF(OR(ISBLANK($S4154), $S4154>'BankRec Main Acct'!$E$8), AI4154, 0)","v":0},0,{"$f":"IF(AND(NOT(ISBLANK($U4154)), $U4154<'P&L'!$P$8), $AL4154, 0)","v":0},{"$f":"IF(OR(ISBLANK($U4154), $U4154>'DebitCard Rec '!$E$8), $AL4154, 0)","v":0},0,{"$f":"IF(AND(NOT(ISBLANK($U4154)), $U4154<'P&L'!$P$8), $AO4154, 0)","v":0},{"$f":"IF(OR(ISBLANK($U4154), $U4154>'DebitCard Rec '!$E$8), $AO4154, 0)","v":0},0,{"$f":"IF(AND($A4154<'P&L'!$P$8, $X4154='P&L'!$G$6), $AR4154, 0)","v":0},0,{"$f":"IF(AND($A4154<'P&L'!$P$8, $X4154='P&L'!$G$6), $AT4154, 0)","v":0}," "," "," "]
[null,null,null,null,null,null,null,null,null,null,null,null,null,null,null,null,null,null,null,null,null,null,"Jan-00",1900,{"$f":"IF(AND($A4165<'P&L'!$P$8, YEAR($A4165)=Master!$C$6), $K4165, 0)","v":0},{"$f":"IF(AND($C4165=\"Receipt\",$B4165<>\"debit card\",$B4165<>\"petty cash\",$B4165<>\"Cash_Sub\",$B4165<>\"Cheque_Sub\", $B4165<>\"EFT_Sub\"),$K4165,0)","v":0},{"$f":"IF(AND(NOT(ISBLANK($O4165)), $O4165<'P&L'!$P$8), Z4165, 0)","v":0},{"$f":"IF(OR(ISBLANK($O4165), $O4165>'BankRec Main Acct'!$E$8), Z4165, 0)","v":0},{"$f":"IF(AND($C4165=\"Payment\", $B4165<>\"debit card\", $B4165<>\"petty cash\", $B4165<>\"Cash_Sub\", $B4165<>\"Cheque_Sub\", $B4165<>\"EFT_Sub\"), $K4165, 0)","v":0},{"$f":"IF(AND(NOT(ISBLANK($O4165)), $O4165<'P&L'!$P$8), AC4165, 0)","v":0},{"$f":"IF(OR(ISBLANK($O4165), $O4165>'BankRec Main Acct'!$E$8), AC4165, 0)","v":0},{"$f":"IF(AND($C4165=\"Receipt\",$B4165<>\"debit card\",$B4165<>\"petty cash\",$B4165<>\"Cash_Main\",$B4165<>\"Cheque_Main\", $B4165<>\"EFT_Main\"),$K4165,0)","v":0},{"$f":"IF(AND(NOT(ISBLANK($S4165)), $S4165<'P&L'!$P$8), AF4165, 0)","v":0},{"$f":"IF(OR(ISBLANK($S4165), $S4165>'BankRec Main Acct'!$E$8), AF4165, 0)","v":0},{"$f":"IF(AND($C4165=\"Payment\", $B4165<>\"debit card\", $B4165<>\"petty cash\", $B4165<>\"Cash_Main\", $B4165<>\"Cheque_Main\", $B4165<>\"EFT_Main\"), $K4165, 0)","v":0},{"$f":"IF(AND(NOT(ISBLANK($S4165)), $S4165<'P&L'!$P$8), AI4165, 0)","v":0},{"$f":"IF(OR(ISBLANK($S4165), $S4165>'BankRec Main Acct'!$E$8), AI4165, 0)","v":0},0,{"$f":"IF(AND(NOT(ISBLANK($U4165)), $U4165<'P&L'!$P$8), $AL4165, 0)","v":0},{"$f":"IF(OR(ISBLANK($U4165), $U4165>'DebitCard Rec '!$E$8), $AL4165, 0)","v":0},0,{"$f":"IF(AND(NOT(ISBLANK($U4165)), $U4165<'P&L'!$P$8), $AO4165, 0)","v":0},{"$f":"IF(OR(ISBLANK($U4165), $U4165>'DebitCard Rec '!$E$8), $AO4165, 0)","v":0},0,{"$f":"IF(AND($A4165<'P&L'!$P$8, $X4165='P&L'!$G$6), $AR4165, 0)","v":0},0,{"$f":"IF(AND($A4165<'P&L'!$P$8, $X4165='P&L'!$G$6), $AT4165, 0)","v":0}," "," "," "]
[null,null,null,null,null,null,null,null,null,null,null,null,null,null,null,null,null,null,null,null,null,null,"Jan-00",1900,{"$f":"IF(AND($A4172<'P&L'!$P$8, YEAR($A4172)=Master!$C$6), $K4172, 0)","v":0},0,{"$f":"IF(AND(NOT(ISBLANK($O4172)), $O4172<'P&L'!$P$8), Z4172, 0)","v":0},{"$f":"IF(OR(ISBLANK($O4172), $O4172>'BankRec Main Acct'!$E$8), Z4172, 0)","v":0},0,{"$f":"IF(AND(NOT(ISBLANK($O4172)), $O4172<'P&L'!$P$8), AC4172, 0)","v":0},{"$f":"IF(OR(ISBLANK($O4172), $O4172>'BankRec Main Acct'!$E$8), AC4172, 0)","v":0},0,{"$f":"IF(AND(NOT(ISBLANK($S4172)), $S4172<'P&L'!$P$8), AF4172, 0)","v":0},{"$f":"IF(OR(ISBLANK($S4172), $S4172>'BankRec Main Acct'!$E$8), AF4172, 0)","v":0},0,{"$f":"IF(AND(NOT(ISBLANK($S4172)), $S4172<'P&L'!$P$8), AI4172, 0)","v":0},{"$f":"IF(OR(ISBLANK($S4172), $S4172>'BankRec Main Acct'!$E$8), AI4172, 0)","v":0},0,{"$f":"IF(AND(NOT(ISBLANK($U4172)), $U4172<'P&L'!$P$8), $AL4172, 0)","v":0},{"$f":"IF(OR(ISBLANK($U4172), $U4172>'DebitCard Rec '!$E$8), $AL4172, 0)","v":0},0,{"$f":"IF(AND(NOT(ISBLANK($U4172)), $U4172<'P&L'!$P$8), $AO4172, 0)","v":0},{"$f":"IF(OR(ISBLANK($U4172), $U4172>'DebitCard Rec '!$E$8), $AO4172, 0)","v":0},0,{"$f":"IF(AND($A4172<'P&L'!$P$8, $X4172='P&L'!$G$6), $AR4172, 0)","v":0},0,{"$f":"IF(AND($A4172<'P&L'!$P$8, $X4172='P&L'!$G$6), $AT4172, 0)","v":0}," "," "," "]
[null,null,null,null,null,null,null,null,null,null,null,null,null,null,null,null,null,null,null,null,null,null,"Jan-00",1900,{"$f":"IF(AND($A4188<'P&L'!$P$8, YEAR($A4188)=Master!$C$6), $K4188, 0)","v":0},0,{"$f":"IF(AND(NOT(ISBLANK($O4188)), $O4188<'P&L'!$P$8), Z4188, 0)","v":0},{"$f":"IF(OR(ISBLANK($O4188), $O4188>'BankRec Main Acct'!$E$8), Z4188, 0)","v":0},0,{"$f":"IF(AND(NOT(ISBLANK($O4188)), $O4188<'P&L'!$P$8), AC4188, 0)","v":0},{"$f":"IF(OR(ISBLANK($O4188), $O4188>'BankRec Main Acct'!$E$8), AC4188, 0)","v":0},0,{"$f":"IF(AND(NOT(ISBLANK($S4188)), $S4188<'P&L'!$P$8), AF4188, 0)","v":0},{"$f":"IF(OR(ISBLANK($S4188), $S4188>'BankRec Main Acct'!$E$8), AF4188, 0)","v":0},0,{"$f":"IF(AND(NOT(ISBLANK($S4188)), $S4188<'P&L'!$P$8), AI4188, 0)","v":0},{"$f":"IF(OR(ISBLANK($S4188), $S4188>'BankRec Main Acct'!$E$8), AI4188, 0)","v":0},0,{"$f":"IF(AND(NOT(ISBLANK($U4188)), $U4188<'P&L'!$P$8), $AL4188, 0)","v":0},{"$f":"IF(OR(ISBLANK($U4188), $U4188>'DebitCard Rec '!$E$8), $AL4188, 0)","v":0},0,{"$f":"IF(AND(NOT(ISBLANK($U4188)), $U4188<'P&L'!$P$8), $AO4188, 0)","v":0},{"$f":"IF(OR(ISBLANK($U4188), $U4188>'DebitCard Rec '!$E$8), $AO4188, 0)","v":0},0,{"$f":"IF(AND($A4188<'P&L'!$P$8, $X4188='P&L'!$G$6), $AR4188, 0)","v":0},0,{"$f":"IF(AND($A4188<'P&L'!$P$8, $X4188='P&L'!$G$6), $AT4188, 0)","v":0}," "," "," "]
[null,null,null,null,null,null,null,null,null,null,null,null,null,null,null,null,null,null,null,null,null,null,"Jan-00",1900,{"$f":"IF(AND($A4191<'P&L'!$P$8, YEAR($A4191)=Master!$C$6), $K4191, 0)","v":0},0,{"$f":"IF(AND(NOT(ISBLANK($O4191)), $O4191<'P&L'!$P$8), Z4191, 0)","v":0},{"$f":"IF(OR(ISBLANK($O4191), $O4191>'BankRec Main Acct'!$E$8), Z4191, 0)","v":0},0,{"$f":"IF(AND(NOT(ISBLANK($O4191)), $O4191<'P&L'!$P$8), AC4191, 0)","v":0},{"$f":"IF(OR(ISBLANK($O4191), $O4191>'BankRec Main Acct'!$E$8), AC4191, 0)","v":0},0,{"$f":"IF(AND(NOT(ISBLANK($S4191)), $S4191<'P&L'!$P$8), AF4191, 0)","v":0},{"$f":"IF(OR(ISBLANK($S4191), $S4191>'BankRec Main Acct'!$E$8), AF4191, 0)","v":0},0,{"$f":"IF(AND(NOT(ISBLANK($S4191)), $S4191<'P&L'!$P$8), AI4191, 0)","v":0},{"$f":"IF(OR(ISBLANK($S4191), $S4191>'BankRec Main Acct'!$E$8), AI4191, 0)","v":0},0,{"$f":"IF(AND(NOT(ISBLANK($U4191)), $U4191<'P&L'!$P$8), $AL4191, 0)","v":0},{"$f":"IF(OR(ISBLANK($U4191), $U4191>'DebitCard Rec '!$E$8), $AL4191, 0)","v":0},0,{"$f":"IF(AND(NOT(ISBLANK($U4191)), $U4191<'P&L'!$P$8), $AO4191, 0)","v":0},{"$f":"IF(OR(ISBLANK($U4191), $U4191>'DebitCard Rec '!$E$8), $AO4191, 0)","v":0},0,{"$f":"IF(AND($A4191<'P&L'!$P$8, $X4191='P&L'!$G$6), $AR4191, 0)","v":0},0,{"$f":"IF(AND($A4191<'P&L'!$P$8, $X4191='P&L'!$G$6), $AT4191, 0)","v":0}," "," "," "]
[null,null,null,null,null,null,null,null,null,null,null,null,null,null,null,null,null,null,null,null,null,null,"Jan-00",1900,{"$f":"IF(AND($A4203<'P&L'!$P$8, YEAR($A4203)=Master!$C$6), $K4203, 0)","v":0},0,{"$f":"IF(AND(NOT(ISBLANK($O4203)), $O4203<'P&L'!$P$8), Z4203, 0)","v":0},{"$f":"IF(OR(ISBLANK($O4203), $O4203>'BankRec Main Acct'!$E$8), Z4203, 0)","v":0},0,{"$f":"IF(AND(NOT(ISBLANK($O4203)), $O4203<'P&L'!$P$8), AC4203, 0)","v":0},{"$f":"IF(OR(ISBLANK($O4203), $O4203>'BankRec Main Acct'!$E$8), AC4203, 0)","v":0},0,{"$f":"IF(AND(NOT(ISBLANK($S4203)), $S4203<'P&L'!$P$8), AF4203, 0)","v":0},{"$f":"IF(OR(ISBLANK($S4203), $S4203>'BankRec Main Acct'!$E$8), AF4203, 0)","v":0},0,{"$f":"IF(AND(NOT(ISBLANK($S4203)), $S4203<'P&L'!$P$8), AI4203, 0)","v":0},{"$f":"IF(OR(ISBLANK($S4203), $S4203>'BankRec Main Acct'!$E$8), AI4203, 0)","v":0},0,{"$f":"IF(AND(NOT(ISBLANK($U4203)), $U4203<'P&L'!$P$8), $AL4203, 0)","v":0},{"$f":"IF(OR(ISBLANK($U4203), $U4203>'DebitCard Rec '!$E$8), $AL4203, 0)","v":0},0,{"$f":"IF(AND(NOT(ISBLANK($U4203)), $U4203<'P&L'!$P$8), $AO4203, 0)","v":0},{"$f":"IF(OR(ISBLANK($U4203), $U4203>'DebitCard Rec '!$E$8), $AO4203, 0)","v":0},0,{"$f":"IF(AND($A4203<'P&L'!$P$8, $X4203='P&L'!$G$6), $AR4203, 0)","v":0},0,{"$f":"IF(AND($A4203<'P&L'!$P$8, $X4203='P&L'!$G$6), $AT4203, 0)","v":0}," "," "," "]
[null,null,null,null,null,null,null,null,null,null,null,null,null,null,null,null,null,null,null,null,null,null,"Jan-00",1900,{"$f":"IF(AND($A4214<'P&L'!$P$8, YEAR($A4214)=Master!$C$6), $K4214, 0)","v":0},0,{"$f":"IF(AND(NOT(ISBLANK($O4214)), $O4214<'P&L'!$P$8), Z4214, 0)","v":0},{"$f":"IF(OR(ISBLANK($O4214), $O4214>'BankRec Main Acct'!$E$8), Z4214, 0)","v":0},0,{"$f":"IF(AND(NOT(ISBLANK($O4214)), $O4214<'P&L'!$P$8), AC4214, 0)","v":0},{"$f":"IF(OR(ISBLANK($O4214), $O4214>'BankRec Main Acct'!$E$8), AC4214, 0)","v":0},0,{"$f":"IF(AND(NOT(ISBLANK($S4214)), $S4214<'P&L'!$P$8), AF4214, 0)","v":0},{"$f":"IF(OR(ISBLANK($S4214), $S4214>'BankRec Main Acct'!$E$8), AF4214, 0)","v":0},0,{"$f":"IF(AND(NOT(ISBLANK($S4214)), $S4214<'P&L'!$P$8), AI4214, 0)","v":0},{"$f":"IF(OR(ISBLANK($S4214), $S4214>'BankRec Main Acct'!$E$8), AI4214, 0)","v":0},0,{"$f":"IF(AND(NOT(ISBLANK($U4214)), $U4214<'P&L'!$P$8), $AL4214, 0)","v":0},{"$f":"IF(OR(ISBLANK($U4214), $U4214>'DebitCard Rec '!$E$8), $AL4214, 0)","v":0},0,{"$f":"IF(AND(NOT(ISBLANK($U4214)), $U4214<'P&L'!$P$8), $AO4214, 0)","v":0},{"$f":"IF(OR(ISBLANK($U4214), $U4214>'DebitCard Rec '!$E$8), $AO4214, 0)","v":0},0,{"$f":"IF(AND($A4214<'P&L'!$P$8, $X4214='P&L'!$G$6), $AR4214, 0)","v":0},0,{"$f":"IF(AND($A4214<'P&L'!$P$8, $X4214='P&L'!$G$6), $AT4214, 0)","v":0}," "," "," "]
[null,null,null,null,null,null,null,null,null,null,null,null,null,null,null,null,null,null,null,null,null,null,"Jan-00",1900,{"$f":"IF(AND($A4221<'P&L'!$P$8, YEAR($A4221)=Master!$C$6), $K4221, 0)","v":0},0,{"$f":"IF(AND(NOT(ISBLANK($O4221)), $O4221<'P&L'!$P$8), Z4221, 0)","v":0},{"$f":"IF(OR(ISBLANK($O4221), $O4221>'BankRec Main Acct'!$E$8), Z4221, 0)","v":0},0,{"$f":"IF(AND(NOT(ISBLANK($O4221)), $O4221<'P&L'!$P$8), AC4221, 0)","v":0},{"$f":"IF(OR(ISBLANK($O4221), $O4221>'BankRec Main Acct'!$E$8), AC4221, 0)","v":0},0,{"$f":"IF(AND(NOT(ISBLANK($S4221)), $S4221<'P&L'!$P$8), AF4221, 0)","v":0},{"$f":"IF(OR(ISBLANK($S4221), $S4221>'BankRec Main Acct'!$E$8), AF4221, 0)","v":0},0,{"$f":"IF(AND(NOT(ISBLANK($S4221)), $S4221<'P&L'!$P$8), AI4221, 0)","v":0},{"$f":"IF(OR(ISBLANK($S4221), $S4221>'BankRec Main Acct'!$E$8), AI4221, 0)","v":0},0,{"$f":"IF(AND(NOT(ISBLANK($U4221)), $U4221<'P&L'!$P$8), $AL4221, 0)","v":0},{"$f":"IF(OR(ISBLANK($U4221), $U4221>'DebitCard Rec '!$E$8), $AL4221, 0)","v":0},0,{"$f":"IF(AND(NOT(ISBLANK($U4221)), $U4221<'P&L'!$P$8), $AO4221, 0)","v":0},{"$f":"IF(OR(ISBLANK($U4221), $U4221>'DebitCard Rec '!$E$8), $AO4221, 0)","v":0},0,{"$f":"IF(AND($A4221<'P&L'!$P$8, $X4221='P&L'!$G$6), $AR4221, 0)","v":0},0,{"$f":"IF(AND($A4221<'P&L'!$P$8, $X4221='P&L'!$G$6), $AT4221, 0)","v":0}," "," "," "]
[null,null,null,null,null,null,null,null,null,null,null,null,null,null,null,null,null,null,null,null,null,null,"Jan-00",1900,{"$f":"IF(AND($A4224<'P&L'!$P$8, YEAR($A4224)=Master!$C$6), $K4224, 0)","v":0},0,{"$f":"IF(AND(NOT(ISBLANK($O4224)), $O4224<'P&L'!$P$8), Z4224, 0)","v":0},{"$f":"IF(OR(ISBLANK($O4224), $O4224>'BankRec Main Acct'!$E$8), Z4224, 0)","v":0},0,{"$f":"IF(AND(NOT(ISBLANK($O4224)), $O4224<'P&L'!$P$8), AC4224, 0)","v":0},{"$f":"IF(OR(ISBLANK($O4224), $O4224>'BankRec Main Acct'!$E$8), AC4224, 0)","v":0},0,{"$f":"IF(AND(NOT(ISBLANK($S4224)), $S4224<'P&L'!$P$8), AF4224, 0)","v":0},{"$f":"IF(OR(ISBLANK($S4224), $S4224>'BankRec Main Acct'!$E$8), AF4224, 0)","v":0},0,{"$f":"IF(AND(NOT(ISBLANK($S4224)), $S4224<'P&L'!$P$8), AI4224, 0)","v":0},{"$f":"IF(OR(ISBLANK($S4224), $S4224>'BankRec Main Acct'!$E$8), AI4224, 0)","v":0},0,{"$f":"IF(AND(NOT(ISBLANK($U4224)), $U4224<'P&L'!$P$8), $AL4224, 0)","v":0},{"$f":"IF(OR(ISBLANK($U4224), $U4224>'DebitCard Rec '!$E$8), $AL4224, 0)","v":0},0,{"$f":"IF(AND(NOT(ISBLANK($U4224)), $U4224<'P&L'!$P$8), $AO4224, 0)","v":0},{"$f":"IF(OR(ISBLANK($U4224), $U4224>'DebitCard Rec '!$E$8), $AO4224, 0)","v":0},0,{"$f":"IF(AND($A4224<'P&L'!$P$8, $X4224='P&L'!$G$6), $AR4224, 0)","v":0},0,{"$f":"IF(AND($A4224<'P&L'!$P$8, $X4224='P&L'!$G$6), $AT4224, 0)","v":0}," "," "," "]
[null,null,null,null,null,null,null,null,null,null,null,null,null,null,null,null,null,null,null,null,null,null,"Jan-00",1900,{"$f":"IF(AND($A4240<'P&L'!$P$8, YEAR($A4240)=Master!$C$6), $K4240, 0)","v":0},0,{"$f":"IF(AND(NOT(ISBLANK($O4240)), $O4240<'P&L'!$P$8), Z4240, 0)","v":0},{"$f":"IF(OR(ISBLANK($O4240), $O4240>'BankRec Main Acct'!$E$8), Z4240, 0)","v":0},0,{"$f":"IF(AND(NOT(ISBLANK($O4240)), $O4240<'P&L'!$P$8), AC4240, 0)","v":0},{"$f":"IF(OR(ISBLANK($O4240), $O4240>'BankRec Main Acct'!$E$8), AC4240, 0)","v":0},0,{"$f":"IF(AND(NOT(ISBLANK($S4240)), $S4240<'P&L'!$P$8), AF4240, 0)","v":0},{"$f":"IF(OR(ISBLANK($S4240), $S4240>'BankRec Main Acct'!$E$8), AF4240, 0)","v":0},0,{"$f":"IF(AND(NOT(ISBLANK($S4240)), $S4240<'P&L'!$P$8), AI4240, 0)","v":0},{"$f":"IF(OR(ISBLANK($S4240), $S4240>'BankRec Main Acct'!$E$8), AI4240, 0)","v":0},0,{"$f":"IF(AND(NOT(ISBLANK($U4240)), $U4240<'P&L'!$P$8), $AL4240, 0)","v":0},{"$f":"IF(OR(ISBLANK($U4240), $U4240>'DebitCard Rec '!$E$8), $AL4240, 0)","v":0},0,{"$f":"IF(AND(NOT(ISBLANK($U4240)), $U4240<'P&L'!$P$8), $AO4240, 0)","v":0},{"$f":"IF(OR(ISBLANK($U4240), $U4240>'DebitCard Rec '!$E$8), $AO4240, 0)","v":0},0,{"$f":"IF(AND($A4240<'P&L'!$P$8, $X4240='P&L'!$G$6), $AR4240, 0)","v":0},0,{"$f":"IF(AND($A4240<'P&L'!$P$8, $X4240='P&L'!$G$6), $AT4240, 0)","v":0}," "," "," "]
[null,null,null,null,null,null,null,null,null,null,null,null,null,null,null,null,null,null,null,null,null,null,"Jan-00",1900,{"$f":"IF(AND($A4245<'P&L'!$P$8, YEAR($A4245)=Master!$C$6), $K4245, 0)","v":0},0,{"$f":"IF(AND(NOT(ISBLANK($O4245)), $O4245<'P&L'!$P$8), Z4245, 0)","v":0},{"$f":"IF(OR(ISBLANK($O4245), $O4245>'BankRec Main Acct'!$E$8), Z4245, 0)","v":0},0,{"$f":"IF(AND(NOT(ISBLANK($O4245)), $O4245<'P&L'!$P$8), AC4245, 0)","v":0},{"$f":"IF(OR(ISBLANK($O4245), $O4245>'BankRec Main Acct'!$E$8), AC4245, 0)","v":0},0,{"$f":"IF(AND(NOT(ISBLANK($S4245)), $S4245<'P&L'!$P$8), AF4245, 0)","v":0},{"$f":"IF(OR(ISBLANK($S4245), $S4245>'BankRec Main Acct'!$E$8), AF4245, 0)","v":0},0,{"$f":"IF(AND(NOT(ISBLANK($S4245)), $S4245<'P&L'!$P$8), AI4245, 0)","v":0},{"$f":"IF(OR(ISBLANK($S4245), $S4245>'BankRec Main Acct'!$E$8), AI4245, 0)","v":0},0,{"$f":"IF(AND(NOT(ISBLANK($U4245)), $U4245<'P&L'!$P$8), $AL4245, 0)","v":0},{"$f":"IF(OR(ISBLANK($U4245), $U4245>'DebitCard Rec '!$E$8), $AL4245, 0)","v":0},0,{"$f":"IF(AND(NOT(ISBLANK($U4245)), $U4245<'P&L'!$P$8), $AO4245, 0)","v":0},{"$f":"IF(OR(ISBLANK($U4245), $U4245>'DebitCard Rec '!$E$8), $AO4245, 0)","v":0},0,{"$f":"IF(AND($A4245<'P&L'!$P$8, $X4245='P&L'!$G$6), $AR4245, 0)","v":0},0,{"$f":"IF(AND($A4245<'P&L'!$P$8, $X4245='P&L'!$G$6), $AT4245, 0)","v":0}," "," "," "]
[null,null,null,null,null,null,null,null,null,null,null,null,null,null,null,null,null,null,null,null,null,null,"Jan-00",1900,{"$f":"IF(AND($A4258<'P&L'!$P$8, YEAR($A4258)=Master!$C$6), $K4258, 0)","v":0},0,{"$f":"IF(AND(NOT(ISBLANK($O4258)), $O4258<'P&L'!$P$8), Z4258, 0)","v":0},{"$f":"IF(OR(ISBLANK($O4258), $O4258>'BankRec Main Acct'!$E$8), Z4258, 0)","v":0},0,{"$f":"IF(AND(NOT(ISBLANK($O4258)), $O4258<'P&L'!$P$8), AC4258, 0)","v":0},{"$f":"IF(OR(ISBLANK($O4258), $O4258>'BankRec Main Acct'!$E$8), AC4258, 0)","v":0},0,{"$f":"IF(AND(NOT(ISBLANK($S4258)), $S4258<'P&L'!$P$8), AF4258, 0)","v":0},{"$f":"IF(OR(ISBLANK($S4258), $S4258>'BankRec Main Acct'!$E$8), AF4258, 0)","v":0},0,{"$f":"IF(AND(NOT(ISBLANK($S4258)), $S4258<'P&L'!$P$8), AI4258, 0)","v":0},{"$f":"IF(OR(ISBLANK($S4258), $S4258>'BankRec Main Acct'!$E$8), AI4258, 0)","v":0},0,{"$f":"IF(AND(NOT(ISBLANK($U4258)), $U4258<'P&L'!$P$8), $AL4258, 0)","v":0},{"$f":"IF(OR(ISBLANK($U4258), $U4258>'DebitCard Rec '!$E$8), $AL4258, 0)","v":0},0,{"$f":"IF(AND(NOT(ISBLANK($U4258)), $U4258<'P&L'!$P$8), $AO4258, 0)","v":0},{"$f":"IF(OR(ISBLANK($U4258), $U4258>'DebitCard Rec '!$E$8), $AO4258, 0)","v":0},0,{"$f":"IF(AND($A4258<'P&L'!$P$8, $X4258='P&L'!$G$6), $AR4258, 0)","v":0},0,{"$f":"IF(AND($A4258<'P&L'!$P$8, $X4258='P&L'!$G$6), $AT4258, 0)","v":0}," "," "," "]
[null,null,null,null,null,null,null,null,null,null,null,null,null,null,null,null,null,null,null,null,null,null,"Jan-00",1900,{"$f":"IF(AND($A4261<'P&L'!$P$8, YEAR($A4261)=Master!$C$6), $K4261, 0)","v":0},0,{"$f":"IF(AND(NOT(ISBLANK($O4261)), $O4261<'P&L'!$P$8), Z4261, 0)","v":0},{"$f":"IF(OR(ISBLANK($O4261), $O4261>'BankRec Main Acct'!$E$8), Z4261, 0)","v":0},0,{"$f":"IF(AND(NOT(ISBLANK($O4261)), $O4261<'P&L'!$P$8), AC4261, 0)","v":0},{"$f":"IF(OR(ISBLANK($O4261), $O4261>'BankRec Main Acct'!$E$8), AC4261, 0)","v":0},0,{"$f":"IF(AND(NOT(ISBLANK($S4261)), $S4261<'P&L'!$P$8), AF4261, 0)","v":0},{"$f":"IF(OR(ISBLANK($S4261), $S4261>'BankRec Main Acct'!$E$8), AF4261, 0)","v":0},0,{"$f":"IF(AND(NOT(ISBLANK($S4261)), $S4261<'P&L'!$P$8), AI4261, 0)","v":0},{"$f":"IF(OR(ISBLANK($S4261), $S4261>'BankRec Main Acct'!$E$8), AI4261, 0)","v":0},0,{"$f":"IF(AND(NOT(ISBLANK($U4261)), $U4261<'P&L'!$P$8), $AL4261, 0)","v":0},{"$f":"IF(OR(ISBLANK($U4261), $U4261>'DebitCard Rec '!$E$8), $AL4261, 0)","v":0},0,{"$f":"IF(AND(NOT(ISBLANK($U4261)), $U4261<'P&L'!$P$8), $AO4261, 0)","v":0},{"$f":"IF(OR(ISBLANK($U4261), $U4261>'DebitCard Rec '!$E$8), $AO4261, 0)","v":0},0,{"$f":"IF(AND($A4261<'P&L'!$P$8, $X4261='P&L'!$G$6), $AR4261, 0)","v":0},0,{"$f":"IF(AND($A4261<'P&L'!$P$8, $X4261='P&L'!$G$6), $AT4261, 0)","v":0}," "," "," "]
[null,null,null,null,null,null,null,null,null,null,null,null,null,null,null,null,null,null,null,null,null,null,"Jan-00",1900,{"$f":"IF(AND($A4273<'P&L'!$P$8, YEAR($A4273)=Master!$C$6), $K4273, 0)","v":0},0,{"$f":"IF(AND(NOT(ISBLANK($O4273)), $O4273<'P&L'!$P$8), Z4273, 0)","v":0},{"$f":"IF(OR(ISBLANK($O4273), $O4273>'BankRec Main Acct'!$E$8), Z4273, 0)","v":0},0,{"$f":"IF(AND(NOT(ISBLANK($O4273)), $O4273<'P&L'!$P$8), AC4273, 0)","v":0},{"$f":"IF(OR(ISBLANK($O4273), $O4273>'BankRec Main Acct'!$E$8), AC4273, 0)","v":0},0,{"$f":"IF(AND(NOT(ISBLANK($S4273)), $S4273<'P&L'!$P$8), AF4273, 0)","v":0},{"$f":"IF(OR(ISBLANK($S4273), $S4273>'BankRec Main Acct'!$E$8), AF4273, 0)","v":0},0,{"$f":"IF(AND(NOT(ISBLANK($S4273)), $S4273<'P&L'!$P$8), AI4273, 0)","v":0},{"$f":"IF(OR(ISBLANK($S4273), $S4273>'BankRec Main Acct'!$E$8), AI4273, 0)","v":0},0,{"$f":"IF(AND(NOT(ISBLANK($U4273)), $U4273<'P&L'!$P$8), $AL4273, 0)","v":0},{"$f":"IF(OR(ISBLANK($U4273), $U4273>'DebitCard Rec '!$E$8), $AL4273, 0)","v":0},0,{"$f":"IF(AND(NOT(ISBLANK($U4273)), $U4273<'P&L'!$P$8), $AO4273, 0)","v":0},{"$f":"IF(OR(ISBLANK($U4273), $U4273>'DebitCard Rec '!$E$8), $AO4273, 0)","v":0},0,{"$f":"IF(AND($A4273<'P&L'!$P$8, $X4273='P&L'!$G$6), $AR4273, 0)","v":0},0,{"$f":"IF(AND($A4273<'P&L'!$P$8, $X4273='P&L'!$G$6), $AT4273, 0)","v":0}," "," "," "]
[null,null,null,null,null,null,null,null,null,null,null,null,null,null,null,null,null,null,null,null,null,null,"Jan-00",1900,{"$f":"IF(AND($A4280<'P&L'!$P$8, YEAR($A4280)=Master!$C$6), $K4280, 0)","v":0},0,{"$f":"IF(AND(NOT(ISBLANK($O4280)), $O4280<'P&L'!$P$8), Z4280, 0)","v":0},{"$f":"IF(OR(ISBLANK($O4280), $O4280>'BankRec Main Acct'!$E$8), Z4280, 0)","v":0},0,{"$f":"IF(AND(NOT(ISBLANK($O4280)), $O4280<'P&L'!$P$8), AC4280, 0)","v":0},{"$f":"IF(OR(ISBLANK($O4280), $O4280>'BankRec Main Acct'!$E$8), AC4280, 0)","v":0},0,{"$f":"IF(AND(NOT(ISBLANK($S4280)), $S4280<'P&L'!$P$8), AF4280, 0)","v":0},{"$f":"IF(OR(ISBLANK($S4280), $S4280>'BankRec Main Acct'!$E$8), AF4280, 0)","v":0},0,{"$f":"IF(AND(NOT(ISBLANK($S4280)), $S4280<'P&L'!$P$8), AI4280, 0)","v":0},{"$f":"IF(OR(ISBLANK($S4280), $S4280>'BankRec Main Acct'!$E$8), AI4280, 0)","v":0},0,{"$f":"IF(AND(NOT(ISBLANK($U4280)), $U4280<'P&L'!$P$8), $AL4280, 0)","v":0},{"$f":"IF(OR(ISBLANK($U4280), $U4280>'DebitCard Rec '!$E$8), $AL4280, 0)","v":0},0,{"$f":"IF(AND(NOT(ISBLANK($U4280)), $U4280<'P&L'!$P$8), $AO4280, 0)","v":0},{"$f":"IF(OR(ISBLANK($U4280), $U4280>'DebitCard Rec '!$E$8), $AO4280, 0)","v":0},0,{"$f":"IF(AND($A4280<'P&L'!$P$8, $X4280='P&L'!$G$6), $AR4280, 0)","v":0},0,{"$f":"IF(AND($A4280<'P&L'!$P$8, $X4280='P&L'!$G$6), $AT4280, 0)","v":0}," "," "," "]
[null,null,null,null,null,null,null,null,null,null,null,null,null,null,null,null,null,null,null,null,null,null,"Jan-00",1900,{"$f":"IF(AND($A4286<'P&L'!$P$8, YEAR($A4286)=Master!$C$6), $K4286, 0)","v":0},0,{"$f":"IF(AND(NOT(ISBLANK($O4286)), $O4286<'P&L'!$P$8), Z4286, 0)","v":0},{"$f":"IF(OR(ISBLANK($O4286), $O4286>'BankRec Main Acct'!$E$8), Z4286, 0)","v":0},0,{"$f":"IF(AND(NOT(ISBLANK($O4286)), $O4286<'P&L'!$P$8), AC4286, 0)","v":0},{"$f":"IF(OR(ISBLANK($O4286), $O4286>'BankRec Main Acct'!$E$8), AC4286, 0)","v":0},0,{"$f":"IF(AND(NOT(ISBLANK($S4286)), $S4286<'P&L'!$P$8), AF4286, 0)","v":0},{"$f":"IF(OR(ISBLANK($S4286), $S4286>'BankRec Main Acct'!$E$8), AF4286, 0)","v":0},0,{"$f":"IF(AND(NOT(ISBLANK($S4286)), $S4286<'P&L'!$P$8), AI4286, 0)","v":0},{"$f":"IF(OR(ISBLANK($S4286), $S4286>'BankRec Main Acct'!$E$8), AI4286, 0)","v":0},0,{"$f":"IF(AND(NOT(ISBLANK($U4286)), $U4286<'P&L'!$P$8), $AL4286, 0)","v":0},{"$f":"IF(OR(ISBLANK($U4286), $U4286>'DebitCard Rec '!$E$8), $AL4286, 0)","v":0},0,{"$f":"IF(AND(NOT(ISBLANK($U4286)), $U4286<'P&L'!$P$8), $AO4286, 0)","v":0},{"$f":"IF(OR(ISBLANK($U4286), $U4286>'DebitCard Rec '!$E$8), $AO4286, 0)","v":0},0,{"$f":"IF(AND($A4286<'P&L'!$P$8, $X4286='P&L'!$G$6), $AR4286, 0)","v":0},0,{"$f":"IF(AND($A4286<'P&L'!$P$8, $X4286='P&L'!$G$6), $AT4286, 0)","v":0}," "," "," "]
[null,null,null,null,null,null,null,null,null,null,null,null,null,null,null,null,null,null,null,null,null,null,"Jan-00",1900,{"$f":"IF(AND($A4298<'P&L'!$P$8, YEAR($A4298)=Master!$C$6), $K4298, 0)","v":0},0,{"$f":"IF(AND(NOT(ISBLANK($O4298)), $O4298<'P&L'!$P$8), Z4298, 0)","v":0},{"$f":"IF(OR(ISBLANK($O4298), $O4298>'BankRec Main Acct'!$E$8), Z4298, 0)","v":0},0,{"$f":"IF(AND(NOT(ISBLANK($O4298)), $O4298<'P&L'!$P$8), AC4298, 0)","v":0},{"$f":"IF(OR(ISBLANK($O4298), $O4298>'BankRec Main Acct'!$E$8), AC4298, 0)","v":0},0,{"$f":"IF(AND(NOT(ISBLANK($S4298)), $S4298<'P&L'!$P$8), AF4298, 0)","v":0},{"$f":"IF(OR(ISBLANK($S4298), $S4298>'BankRec Main Acct'!$E$8), AF4298, 0)","v":0},0,{"$f":"IF(AND(NOT(ISBLANK($S4298)), $S4298<'P&L'!$P$8), AI4298, 0)","v":0},{"$f":"IF(OR(ISBLANK($S4298), $S4298>'BankRec Main Acct'!$E$8), AI4298, 0)","v":0},0,{"$f":"IF(AND(NOT(ISBLANK($U4298)), $U4298<'P&L'!$P$8), $AL4298, 0)","v":0},{"$f":"IF(OR(ISBLANK($U4298), $U4298>'DebitCard Rec '!$E$8), $AL4298, 0)","v":0},0,{"$f":"IF(AND(NOT(ISBLANK($U4298)), $U4298<'P&L'!$P$8), $AO4298, 0)","v":0},{"$f":"IF(OR(ISBLANK($U4298), $U4298>'DebitCard Rec '!$E$8), $AO4298, 0)","v":0},0,{"$f":"IF(AND($A4298<'P&L'!$P$8, $X4298='P&L'!$G$6), $AR4298, 0)","v":0},0,{"$f":"IF(AND($A4298<'P&L'!$P$8, $X4298='P&L'!$G$6), $AT4298, 0)","v":0}," "," "," "]
[null,null,null,null,null,null,null,null,null,null,null,null,null,null,null,null,null,null,null,null,null,null,"Jan-00",1900,{"$f":"IF(AND($A4310<'P&L'!$P$8, YEAR($A4310)=Master!$C$6), $K4310, 0)","v":0},0,{"$f":"IF(AND(NOT(ISBLANK($O4310)), $O4310<'P&L'!$P$8), Z4310, 0)","v":0},{"$f":"IF(OR(ISBLANK($O4310), $O4310>'BankRec Main Acct'!$E$8), Z4310, 0)","v":0},0,{"$f":"IF(AND(NOT(ISBLANK($O4310)), $O4310<'P&L'!$P$8), AC4310, 0)","v":0},{"$f":"IF(OR(ISBLANK($O4310), $O4310>'BankRec Main Acct'!$E$8), AC4310, 0)","v":0},0,{"$f":"IF(AND(NOT(ISBLANK($S4310)), $S4310<'P&L'!$P$8), AF4310, 0)","v":0},{"$f":"IF(OR(ISBLANK($S4310), $S4310>'BankRec Main Acct'!$E$8), AF4310, 0)","v":0},0,{"$f":"IF(AND(NOT(ISBLANK($S4310)), $S4310<'P&L'!$P$8), AI4310, 0)","v":0},{"$f":"IF(OR(ISBLANK($S4310), $S4310>'BankRec Main Acct'!$E$8), AI4310, 0)","v":0},0,{"$f":"IF(AND(NOT(ISBLANK($U4310)), $U4310<'P&L'!$P$8), $AL4310, 0)","v":0},{"$f":"IF(OR(ISBLANK($U4310), $U4310>'DebitCard Rec '!$E$8), $AL4310, 0)","v":0},0,{"$f":"IF(AND(NOT(ISBLANK($U4310)), $U4310<'P&L'!$P$8), $AO4310, 0)","v":0},{"$f":"IF(OR(ISBLANK($U4310), $U4310>'DebitCard Rec '!$E$8), $AO4310, 0)","v":0},0,{"$f":"IF(AND($A4310<'P&L'!$P$8, $X4310='P&L'!$G$6), $AR4310, 0)","v":0},0,{"$f":"IF(AND($A4310<'P&L'!$P$8, $X4310='P&L'!$G$6), $AT4310, 0)","v":0}," "," "," "]
[null,null,null,null,null,null,null,null,null,null,null,null,null,null,null,null,null,null,null,null,null,null,"Jan-00",1900,{"$f":"IF(AND($A4313<'P&L'!$P$8, YEAR($A4313)=Master!$C$6), $K4313, 0)","v":0},0,{"$f":"IF(AND(NOT(ISBLANK($O4313)), $O4313<'P&L'!$P$8), Z4313, 0)","v":0},{"$f":"IF(OR(ISBLANK($O4313), $O4313>'BankRec Main Acct'!$E$8), Z4313, 0)","v":0},0,{"$f":"IF(AND(NOT(ISBLANK($O4313)), $O4313<'P&L'!$P$8), AC4313, 0)","v":0},{"$f":"IF(OR(ISBLANK($O4313), $O4313>'BankRec Main Acct'!$E$8), AC4313, 0)","v":0},0,{"$f":"IF(AND(NOT(ISBLANK($S4313)), $S4313<'P&L'!$P$8), AF4313, 0)","v":0},{"$f":"IF(OR(ISBLANK($S4313), $S4313>'BankRec Main Acct'!$E$8), AF4313, 0)","v":0},0,{"$f":"IF(AND(NOT(ISBLANK($S4313)), $S4313<'P&L'!$P$8), AI4313, 0)","v":0},{"$f":"IF(OR(ISBLANK($S4313), $S4313>'BankRec Main Acct'!$E$8), AI4313, 0)","v":0},0,{"$f":"IF(AND(NOT(ISBLANK($U4313)), $U4313<'P&L'!$P$8), $AL4313, 0)","v":0},{"$f":"IF(OR(ISBLANK($U4313), $U4313>'DebitCard Rec '!$E$8), $AL4313, 0)","v":0},0,{"$f":"IF(AND(NOT(ISBLANK($U4313)), $U4313<'P&L'!$P$8), $AO4313, 0)","v":0},{"$f":"IF(OR(ISBLANK($U4313), $U4313>'DebitCard Rec '!$E$8), $AO4313, 0)","v":0},0,{"$f":"IF(AND($A4313<'P&L'!$P$8, $X4313='P&L'!$G$6), $AR4313, 0)","v":0},0,{"$f":"IF(AND($A4313<'P&L'!$P$8, $X4313='P&L'!$G$6), $AT4313, 0)","v":0}," "," "," "]
[null,null,null,null,null,null,null,null,null,null,null,null,null,null,null,null,null,null,null,null,null,null,"Jan-00",1900,{"$f":"IF(AND($A4325<'P&L'!$P$8, YEAR($A4325)=Master!$C$6), $K4325, 0)","v":0},0,{"$f":"IF(AND(NOT(ISBLANK($O4325)), $O4325<'P&L'!$P$8), Z4325, 0)","v":0},{"$f":"IF(OR(ISBLANK($O4325), $O4325>'BankRec Main Acct'!$E$8), Z4325, 0)","v":0},0,{"$f":"IF(AND(NOT(ISBLANK($O4325)), $O4325<'P&L'!$P$8), AC4325, 0)","v":0},{"$f":"IF(OR(ISBLANK($O4325), $O4325>'BankRec Main Acct'!$E$8), AC4325, 0)","v":0},0,{"$f":"IF(AND(NOT(ISBLANK($S4325)), $S4325<'P&L'!$P$8), AF4325, 0)","v":0},{"$f":"IF(OR(ISBLANK($S4325), $S4325>'BankRec Main Acct'!$E$8), AF4325, 0)","v":0},0,{"$f":"IF(AND(NOT(ISBLANK($S4325)), $S4325<'P&L'!$P$8), AI4325, 0)","v":0},{"$f":"IF(OR(ISBLANK($S4325), $S4325>'BankRec Main Acct'!$E$8), AI4325, 0)","v":0},0,{"$f":"IF(AND(NOT(ISBLANK($U4325)), $U4325<'P&L'!$P$8), $AL4325, 0)","v":0},{"$f":"IF(OR(ISBLANK($U4325), $U4325>'DebitCard Rec '!$E$8), $AL4325, 0)","v":0},0,{"$f":"IF(AND(NOT(ISBLANK($U4325)), $U4325<'P&L'!$P$8), $AO4325, 0)","v":0},{"$f":"IF(OR(ISBLANK($U4325), $U4325>'DebitCard Rec '!$E$8), $AO4325, 0)","v":0},0,{"$f":"IF(AND($A4325<'P&L'!$P$8, $X4325='P&L'!$G$6), $AR4325, 0)","v":0},0,{"$f":"IF(AND($A4325<'P&L'!$P$8, $X4325='P&L'!$G$6), $AT4325, 0)","v":0}," "," "," "]
[null,null,null,null,null,null,null,null,null,null,null,null,null,null,null,null,null,null,null,null,null,null,"Jan-00",1900,{"$f":"IF(AND($A4331<'P&L'!$P$8, YEAR($A4331)=Master!$C$6), $K4331, 0)","v":0},0,{"$f":"IF(AND(NOT(ISBLANK($O4331)), $O4331<'P&L'!$P$8), Z4331, 0)","v":0},{"$f":"IF(OR(ISBLANK($O4331), $O4331>'BankRec Main Acct'!$E$8), Z4331, 0)","v":0},0,{"$f":"IF(AND(NOT(ISBLANK($O4331)), $O4331<'P&L'!$P$8), AC4331, 0)","v":0},{"$f":"IF(OR(ISBLANK($O4331), $O4331>'BankRec Main Acct'!$E$8), AC4331, 0)","v":0},0,{"$f":"IF(AND(NOT(ISBLANK($S4331)), $S4331<'P&L'!$P$8), AF4331, 0)","v":0},{"$f":"IF(OR(ISBLANK($S4331), $S4331>'BankRec Main Acct'!$E$8), AF4331, 0)","v":0},0,{"$f":"IF(AND(NOT(ISBLANK($S4331)), $S4331<'P&L'!$P$8), AI4331, 0)","v":0},{"$f":"IF(OR(ISBLANK($S4331), $S4331>'BankRec Main Acct'!$E$8), AI4331, 0)","v":0},0,{"$f":"IF(AND(NOT(ISBLANK($U4331)), $U4331<'P&L'!$P$8), $AL4331, 0)","v":0},{"$f":"IF(OR(ISBLANK($U4331), $U4331>'DebitCard Rec '!$E$8), $AL4331, 0)","v":0},0,{"$f":"IF(AND(NOT(ISBLANK($U4331)), $U4331<'P&L'!$P$8), $AO4331, 0)","v":0},{"$f":"IF(OR(ISBLANK($U4331), $U4331>'DebitCard Rec '!$E$8), $AO4331, 0)","v":0},0,{"$f":"IF(AND($A4331<'P&L'!$P$8, $X4331='P&L'!$G$6), $AR4331, 0)","v":0},0,{"$f":"IF(AND($A4331<'P&L'!$P$8, $X4331='P&L'!$G$6), $AT4331, 0)","v":0}," "," "," "]
[null,null,null,null,null,null,null,null,null,null,null,null,null,null,null,null,null,null,null,null,null,null,"Jan-00",1900,{"$f":"IF(AND($A4343<'P&L'!$P$8, YEAR($A4343)=Master!$C$6), $K4343, 0)","v":0},0,{"$f":"IF(AND(NOT(ISBLANK($O4343)), $O4343<'P&L'!$P$8), Z4343, 0)","v":0},{"$f":"IF(OR(ISBLANK($O4343), $O4343>'BankRec Main Acct'!$E$8), Z4343, 0)","v":0},0,{"$f":"IF(AND(NOT(ISBLANK($O4343)), $O4343<'P&L'!$P$8), AC4343, 0)","v":0},{"$f":"IF(OR(ISBLANK($O4343), $O4343>'BankRec Main Acct'!$E$8), AC4343, 0)","v":0},0,{"$f":"IF(AND(NOT(ISBLANK($S4343)), $S4343<'P&L'!$P$8), AF4343, 0)","v":0},{"$f":"IF(OR(ISBLANK($S4343), $S4343>'BankRec Main Acct'!$E$8), AF4343, 0)","v":0},0,{"$f":"IF(AND(NOT(ISBLANK($S4343)), $S4343<'P&L'!$P$8), AI4343, 0)","v":0},{"$f":"IF(OR(ISBLANK($S4343), $S4343>'BankRec Main Acct'!$E$8), AI4343, 0)","v":0},0,{"$f":"IF(AND(NOT(ISBLANK($U4343)), $U4343<'P&L'!$P$8), $AL4343, 0)","v":0},{"$f":"IF(OR(ISBLANK($U4343), $U4343>'DebitCard Rec '!$E$8), $AL4343, 0)","v":0},0,{"$f":"IF(AND(NOT(ISBLANK($U4343)), $U4343<'P&L'!$P$8), $AO4343, 0)","v":0},{"$f":"IF(OR(ISBLANK($U4343), $U4343>'DebitCard Rec '!$E$8), $AO4343, 0)","v":0},0,{"$f":"IF(AND($A4343<'P&L'!$P$8, $X4343='P&L'!$G$6), $AR4343, 0)","v":0},0,{"$f":"IF(AND($A4343<'P&L'!$P$8, $X4343='P&L'!$G$6), $AT4343, 0)","v":0}," "," "," "]
[null,null,null,null,null,null,null,null,null,null,null,null,null,null,null,null,null,null,null,null,null,null,"Jan-00",1900,{"$f":"IF(AND($A4350<'P&L'!$P$8, YEAR($A4350)=Master!$C$6), $K4350, 0)","v":0},0,{"$f":"IF(AND(NOT(ISBLANK($O4350)), $O4350<'P&L'!$P$8), Z4350, 0)","v":0},{"$f":"IF(OR(ISBLANK($O4350), $O4350>'BankRec Main Acct'!$E$8), Z4350, 0)","v":0},0,{"$f":"IF(AND(NOT(ISBLANK($O4350)), $O4350<'P&L'!$P$8), AC4350, 0)","v":0},{"$f":"IF(OR(ISBLANK($O4350), $O4350>'BankRec Main Acct'!$E$8), AC4350, 0)","v":0},0,{"$f":"IF(AND(NOT(ISBLANK($S4350)), $S4350<'P&L'!$P$8), AF4350, 0)","v":0},{"$f":"IF(OR(ISBLANK($S4350), $S4350>'BankRec Main Acct'!$E$8), AF4350, 0)","v":0},0,{"$f":"IF(AND(NOT(ISBLANK($S4350)), $S4350<'P&L'!$P$8), AI4350, 0)","v":0},{"$f":"IF(OR(ISBLANK($S4350), $S4350>'BankRec Main Acct'!$E$8), AI4350, 0)","v":0},0,{"$f":"IF(AND(NOT(ISBLANK($U4350)), $U4350<'P&L'!$P$8), $AL4350, 0)","v":0},{"$f":"IF(OR(ISBLANK($U4350), $U4350>'DebitCard Rec '!$E$8), $AL4350, 0)","v":0},0,{"$f":"IF(AND(NOT(ISBLANK($U4350)), $U4350<'P&L'!$P$8), $AO4350, 0)","v":0},{"$f":"IF(OR(ISBLANK($U4350), $U4350>'DebitCard Rec '!$E$8), $AO4350, 0)","v":0},0,{"$f":"IF(AND($A4350<'P&L'!$P$8, $X4350='P&L'!$G$6), $AR4350, 0)","v":0},0,{"$f":"IF(AND($A4350<'P&L'!$P$8, $X4350='P&L'!$G$6), $AT4350, 0)","v":0}," "," "," "]
[null,null,null,null,null,null,null,null,null,null,null,null,null,null,null,null,null,null,null,null,null,null,"Jan-00",1900,{"$f":"IF(AND($A4362<'P&L'!$P$8, YEAR($A4362)=Master!$C$6), $K4362, 0)","v":0},0,{"$f":"IF(AND(NOT(ISBLANK($O4362)), $O4362<'P&L'!$P$8), Z4362, 0)","v":0},{"$f":"IF(OR(ISBLANK($O4362), $O4362>'BankRec Main Acct'!$E$8), Z4362, 0)","v":0},0,{"$f":"IF(AND(NOT(ISBLANK($O4362)), $O4362<'P&L'!$P$8), AC4362, 0)","v":0},{"$f":"IF(OR(ISBLANK($O4362), $O4362>'BankRec Main Acct'!$E$8), AC4362, 0)","v":0},0,{"$f":"IF(AND(NOT(ISBLANK($S4362)), $S4362<'P&L'!$P$8), AF4362, 0)","v":0},{"$f":"IF(OR(ISBLANK($S4362), $S4362>'BankRec Main Acct'!$E$8), AF4362, 0)","v":0},0,{"$f":"IF(AND(NOT(ISBLANK($S4362)), $S4362<'P&L'!$P$8), AI4362, 0)","v":0},{"$f":"IF(OR(ISBLANK($S4362), $S4362>'BankRec Main Acct'!$E$8), AI4362, 0)","v":0},0,{"$f":"IF(AND(NOT(ISBLANK($U4362)), $U4362<'P&L'!$P$8), $AL4362, 0)","v":0},{"$f":"IF(OR(ISBLANK($U4362), $U4362>'DebitCard Rec '!$E$8), $AL4362, 0)","v":0},0,{"$f":"IF(AND(NOT(ISBLANK($U4362)), $U4362<'P&L'!$P$8), $AO4362, 0)","v":0},{"$f":"IF(OR(ISBLANK($U4362), $U4362>'DebitCard Rec '!$E$8), $AO4362, 0)","v":0},0,{"$f":"IF(AND($A4362<'P&L'!$P$8, $X4362='P&L'!$G$6), $AR4362, 0)","v":0},0,{"$f":"IF(AND($A4362<'P&L'!$P$8, $X4362='P&L'!$G$6), $AT4362, 0)","v":0}," "," "," "]
[null,null,null,null,null,null,null,null,null,null,null,null,null,null,null,null,null,null,null,null,null,null,"Jan-00",1900,{"$f":"IF(AND($A4366<'P&L'!$P$8, YEAR($A4366)=Master!$C$6), $K4366, 0)","v":0},0,{"$f":"IF(AND(NOT(ISBLANK($O4366)), $O4366<'P&L'!$P$8), Z4366, 0)","v":0},{"$f":"IF(OR(ISBLANK($O4366), $O4366>'BankRec Main Acct'!$E$8), Z4366, 0)","v":0},0,{"$f":"IF(AND(NOT(ISBLANK($O4366)), $O4366<'P&L'!$P$8), AC4366, 0)","v":0},{"$f":"IF(OR(ISBLANK($O4366), $O4366>'BankRec Main Acct'!$E$8), AC4366, 0)","v":0},0,{"$f":"IF(AND(NOT(ISBLANK($S4366)), $S4366<'P&L'!$P$8), AF4366, 0)","v":0},{"$f":"IF(OR(ISBLANK($S4366), $S4366>'BankRec Main Acct'!$E$8), AF4366, 0)","v":0},0,{"$f":"IF(AND(NOT(ISBLANK($S4366)), $S4366<'P&L'!$P$8), AI4366, 0)","v":0},{"$f":"IF(OR(ISBLANK($S4366), $S4366>'BankRec Main Acct'!$E$8), AI4366, 0)","v":0},0,{"$f":"IF(AND(NOT(ISBLANK($U4366)), $U4366<'P&L'!$P$8), $AL4366, 0)","v":0},{"$f":"IF(OR(ISBLANK($U4366), $U4366>'DebitCard Rec '!$E$8), $AL4366, 0)","v":0},0,{"$f":"IF(AND(NOT(ISBLANK($U4366)), $U4366<'P&L'!$P$8), $AO4366, 0)","v":0},{"$f":"IF(OR(ISBLANK($U4366), $U4366>'DebitCard Rec '!$E$8), $AO4366, 0)","v":0},0,{"$f":"IF(AND($A4366<'P&L'!$P$8, $X4366='P&L'!$G$6), $AR4366, 0)","v":0},0,{"$f":"IF(AND($A4366<'P&L'!$P$8, $X4366='P&L'!$G$6), $AT4366, 0)","v":0}," "," "," "]
[null,null,null,null,null,null,null,null,null,null,null,null,null,null,null,null,null,null,null,null,null,null,"Jan-00",1900,{"$f":"IF(AND($A4380<'P&L'!$P$8, YEAR($A4380)=Master!$C$6), $K4380, 0)","v":0},0,{"$f":"IF(AND(NOT(ISBLANK($O4380)), $O4380<'P&L'!$P$8), Z4380, 0)","v":0},{"$f":"IF(OR(ISBLANK($O4380), $O4380>'BankRec Main Acct'!$E$8), Z4380, 0)","v":0},0,{"$f":"IF(AND(NOT(ISBLANK($O4380)), $O4380<'P&L'!$P$8), AC4380, 0)","v":0},{"$f":"IF(OR(ISBLANK($O4380), $O4380>'BankRec Main Acct'!$E$8), AC4380, 0)","v":0},0,{"$f":"IF(AND(NOT(ISBLANK($S4380)), $S4380<'P&L'!$P$8), AF4380, 0)","v":0},{"$f":"IF(OR(ISBLANK($S4380), $S4380>'BankRec Main Acct'!$E$8), AF4380, 0)","v":0},0,{"$f":"IF(AND(NOT(ISBLANK($S4380)), $S4380<'P&L'!$P$8), AI4380, 0)","v":0},{"$f":"IF(OR(ISBLANK($S4380), $S4380>'BankRec Main Acct'!$E$8), AI4380, 0)","v":0},0,{"$f":"IF(AND(NOT(ISBLANK($U4380)), $U4380<'P&L'!$P$8), $AL4380, 0)","v":0},{"$f":"IF(OR(ISBLANK($U4380), $U4380>'DebitCard Rec '!$E$8), $AL4380, 0)","v":0},0,{"$f":"IF(AND(NOT(ISBLANK($U4380)), $U4380<'P&L'!$P$8), $AO4380, 0)","v":0},{"$f":"IF(OR(ISBLANK($U4380), $U4380>'DebitCard Rec '!$E$8), $AO4380, 0)","v":0},0,{"$f":"IF(AND($A4380<'P&L'!$P$8, $X4380='P&L'!$G$6), $AR4380, 0)","v":0},0,{"$f":"IF(AND($A4380<'P&L'!$P$8, $X4380='P&L'!$G$6), $AT4380, 0)","v":0}," "," "," "]
[null,null,null,null,null,null,null,null,null,null,null,null,null,null,null,null,null,null,null,null,null,null,"Jan-00",1900,{"$f":"IF(AND($A4383<'P&L'!$P$8, YEAR($A4383)=Master!$C$6), $K4383, 0)","v":0},0,{"$f":"IF(AND(NOT(ISBLANK($O4383)), $O4383<'P&L'!$P$8), Z4383, 0)","v":0},{"$f":"IF(OR(ISBLANK($O4383), $O4383>'BankRec Main Acct'!$E$8), Z4383, 0)","v":0},0,{"$f":"IF(AND(NOT(ISBLANK($O4383)), $O4383<'P&L'!$P$8), AC4383, 0)","v":0},{"$f":"IF(OR(ISBLANK($O4383), $O4383>'BankRec Main Acct'!$E$8), AC4383, 0)","v":0},0,{"$f":"IF(AND(NOT(ISBLANK($S4383)), $S4383<'P&L'!$P$8), AF4383, 0)","v":0},{"$f":"IF(OR(ISBLANK($S4383), $S4383>'BankRec Main Acct'!$E$8), AF4383, 0)","v":0},0,{"$f":"IF(AND(NOT(ISBLANK($S4383)), $S4383<'P&L'!$P$8), AI4383, 0)","v":0},{"$f":"IF(OR(ISBLANK($S4383), $S4383>'BankRec Main Acct'!$E$8), AI4383, 0)","v":0},0,{"$f":"IF(AND(NOT(ISBLANK($U4383)), $U4383<'P&L'!$P$8), $AL4383, 0)","v":0},{"$f":"IF(OR(ISBLANK($U4383), $U4383>'DebitCard Rec '!$E$8), $AL4383, 0)","v":0},0,{"$f":"IF(AND(NOT(ISBLANK($U4383)), $U4383<'P&L'!$P$8), $AO4383, 0)","v":0},{"$f":"IF(OR(ISBLANK($U4383), $U4383>'DebitCard Rec '!$E$8), $AO4383, 0)","v":0},0,{"$f":"IF(AND($A4383<'P&L'!$P$8, $X4383='P&L'!$G$6), $AR4383, 0)","v":0},0,{"$f":"IF(AND($A4383<'P&L'!$P$8, $X4383='P&L'!$G$6), $AT4383, 0)","v":0}," "," "," "]
[null,null,null,null,null,null,null,null,null,null,null,null,null,null,null,null,null,null,null,null,null,null,"Jan-00",1900,{"$f":"IF(AND($A4399<'P&L'!$P$8, YEAR($A4399)=Master!$C$6), $K4399, 0)","v":0},0,{"$f":"IF(AND(NOT(ISBLANK($O4399)), $O4399<'P&L'!$P$8), Z4399, 0)","v":0},{"$f":"IF(OR(ISBLANK($O4399), $O4399>'BankRec Main Acct'!$E$8), Z4399, 0)","v":0},0,{"$f":"IF(AND(NOT(ISBLANK($O4399)), $O4399<'P&L'!$P$8), AC4399, 0)","v":0},{"$f":"IF(OR(ISBLANK($O4399), $O4399>'BankRec Main Acct'!$E$8), AC4399, 0)","v":0},0,{"$f":"IF(AND(NOT(ISBLANK($S4399)), $S4399<'P&L'!$P$8), AF4399, 0)","v":0},{"$f":"IF(OR(ISBLANK($S4399), $S4399>'BankRec Main Acct'!$E$8), AF4399, 0)","v":0},0,{"$f":"IF(AND(NOT(ISBLANK($S4399)), $S4399<'P&L'!$P$8), AI4399, 0)","v":0},{"$f":"IF(OR(ISBLANK($S4399), $S4399>'BankRec Main Acct'!$E$8), AI4399, 0)","v":0},0,{"$f":"IF(AND(NOT(ISBLANK($U4399)), $U4399<'P&L'!$P$8), $AL4399, 0)","v":0},{"$f":"IF(OR(ISBLANK($U4399), $U4399>'DebitCard Rec '!$E$8), $AL4399, 0)","v":0},0,{"$f":"IF(AND(NOT(ISBLANK($U4399)), $U4399<'P&L'!$P$8), $AO4399, 0)","v":0},{"$f":"IF(OR(ISBLANK($U4399), $U4399>'DebitCard Rec '!$E$8), $AO4399, 0)","v":0},0,{"$f":"IF(AND($A4399<'P&L'!$P$8, $X4399='P&L'!$G$6), $AR4399, 0)","v":0},0,{"$f":"IF(AND($A4399<'P&L'!$P$8, $X4399='P&L'!$G$6), $AT4399, 0)","v":0}," "," "," "]
[null,null,null,null,null,null,null,null,null,null,null,null,null,null,null,null,null,null,null,null,null,null,"Jan-00",1900,{"$f":"IF(AND($A4405<'P&L'!$P$8, YEAR($A4405)=Master!$C$6), $K4405, 0)","v":0},0,{"$f":"IF(AND(NOT(ISBLANK($O4405)), $O4405<'P&L'!$P$8), Z4405, 0)","v":0},{"$f":"IF(OR(ISBLANK($O4405), $O4405>'BankRec Main Acct'!$E$8), Z4405, 0)","v":0},0,{"$f":"IF(AND(NOT(ISBLANK($O4405)), $O4405<'P&L'!$P$8), AC4405, 0)","v":0},{"$f":"IF(OR(ISBLANK($O4405), $O4405>'BankRec Main Acct'!$E$8), AC4405, 0)","v":0},0,{"$f":"IF(AND(NOT(ISBLANK($S4405)), $S4405<'P&L'!$P$8), AF4405, 0)","v":0},{"$f":"IF(OR(ISBLANK($S4405), $S4405>'BankRec Main Acct'!$E$8), AF4405, 0)","v":0},0,{"$f":"IF(AND(NOT(ISBLANK($S4405)), $S4405<'P&L'!$P$8), AI4405, 0)","v":0},{"$f":"IF(OR(ISBLANK($S4405), $S4405>'BankRec Main Acct'!$E$8), AI4405, 0)","v":0},0,{"$f":"IF(AND(NOT(ISBLANK($U4405)), $U4405<'P&L'!$P$8), $AL4405, 0)","v":0},{"$f":"IF(OR(ISBLANK($U4405), $U4405>'DebitCard Rec '!$E$8), $AL4405, 0)","v":0},0,{"$f":"IF(AND(NOT(ISBLANK($U4405)), $U4405<'P&L'!$P$8), $AO4405, 0)","v":0},{"$f":"IF(OR(ISBLANK($U4405), $U4405>'DebitCard Rec '!$E$8), $AO4405, 0)","v":0},0,{"$f":"IF(AND($A4405<'P&L'!$P$8, $X4405='P&L'!$G$6), $AR4405, 0)","v":0},0,{"$f":"IF(AND($A4405<'P&L'!$P$8, $X4405='P&L'!$G$6), $AT4405, 0)","v":0}," "," "," "]
[null,null,null,null,null,null,null,null,null,null,null,null,null,null,null,null,null,null,null,null,null,null,"Jan-00",1900,{"$f":"IF(AND($A4413<'P&L'!$P$8, YEAR($A4413)=Master!$C$6), $K4413, 0)","v":0},0,{"$f":"IF(AND(NOT(ISBLANK($O4413)), $O4413<'P&L'!$P$8), Z4413, 0)","v":0},{"$f":"IF(OR(ISBLANK($O4413), $O4413>'BankRec Main Acct'!$E$8), Z4413, 0)","v":0},0,{"$f":"IF(AND(NOT(ISBLANK($O4413)), $O4413<'P&L'!$P$8), AC4413, 0)","v":0},{"$f":"IF(OR(ISBLANK($O4413), $O4413>'BankRec Main Acct'!$E$8), AC4413, 0)","v":0},0,{"$f":"IF(AND(NOT(ISBLANK($S4413)), $S4413<'P&L'!$P$8), AF4413, 0)","v":0},{"$f":"IF(OR(ISBLANK($S4413), $S4413>'BankRec Main Acct'!$E$8), AF4413, 0)","v":0},0,{"$f":"IF(AND(NOT(ISBLANK($S4413)), $S4413<'P&L'!$P$8), AI4413, 0)","v":0},{"$f":"IF(OR(ISBLANK($S4413), $S4413>'BankRec Main Acct'!$E$8), AI4413, 0)","v":0},0,{"$f":"IF(AND(NOT(ISBLANK($U4413)), $U4413<'P&L'!$P$8), $AL4413, 0)","v":0},{"$f":"IF(OR(ISBLANK($U4413), $U4413>'DebitCard Rec '!$E$8), $AL4413, 0)","v":0},0,{"$f":"IF(AND(NOT(ISBLANK($U4413)), $U4413<'P&L'!$P$8), $AO4413, 0)","v":0},{"$f":"IF(OR(ISBLANK($U4413), $U4413>'DebitCard Rec '!$E$8), $AO4413, 0)","v":0},0,{"$f":"IF(AND($A4413<'P&L'!$P$8, $X4413='P&L'!$G$6), $AR4413, 0)","v":0},0,{"$f":"IF(AND($A4413<'P&L'!$P$8, $X4413='P&L'!$G$6), $AT4413, 0)","v":0}," "," "," "]
[null,null,null,null,null,null,null,null,null,null,null,null,null,null,null,null,null,null,null,null,null,null,"Jan-00",1900,{"$f":"IF(AND($A4420<'P&L'!$P$8, YEAR($A4420)=Master!$C$6), $K4420, 0)","v":0},0,{"$f":"IF(AND(NOT(ISBLANK($O4420)), $O4420<'P&L'!$P$8), Z4420, 0)","v":0},{"$f":"IF(OR(ISBLANK($O4420), $O4420>'BankRec Main Acct'!$E$8), Z4420, 0)","v":0},0,{"$f":"IF(AND(NOT(ISBLANK($O4420)), $O4420<'P&L'!$P$8), AC4420, 0)","v":0},{"$f":"IF(OR(ISBLANK($O4420), $O4420>'BankRec Main Acct'!$E$8), AC4420, 0)","v":0},0,{"$f":"IF(AND(NOT(ISBLANK($S4420)), $S4420<'P&L'!$P$8), AF4420, 0)","v":0},{"$f":"IF(OR(ISBLANK($S4420), $S4420>'BankRec Main Acct'!$E$8), AF4420, 0)","v":0},0,{"$f":"IF(AND(NOT(ISBLANK($S4420)), $S4420<'P&L'!$P$8), AI4420, 0)","v":0},{"$f":"IF(OR(ISBLANK($S4420), $S4420>'BankRec Main Acct'!$E$8), AI4420, 0)","v":0},0,{"$f":"IF(AND(NOT(ISBLANK($U4420)), $U4420<'P&L'!$P$8), $AL4420, 0)","v":0},{"$f":"IF(OR(ISBLANK($U4420), $U4420>'DebitCard Rec '!$E$8), $AL4420, 0)","v":0},0,{"$f":"IF(AND(NOT(ISBLANK($U4420)), $U4420<'P&L'!$P$8), $AO4420, 0)","v":0},{"$f":"IF(OR(ISBLANK($U4420), $U4420>'DebitCard Rec '!$E$8), $AO4420, 0)","v":0},{"$f":"IF($AV4420=\"Petty cash Receipt\", $K4420, 0)","v":0},{"$f":"IF(AND($A4420<'P&L'!$P$8, $X4420='P&L'!$G$6), $AR4420, 0)","v":0},{"$f":"IF($AV4420=\"Petty cash Payment\", $K4420, 0)","v":0},{"$f":"IF(AND($A4420<'P&L'!$P$8, $X4420='P&L'!$G$6), $AT4420, 0)","v":0}," ",{"$f":"IF(C4420=\"Receipt\",CONCATENATE(D4420,\" \", F4420), \" \")","v":" "},{"$f":"IF(C4420= \"Payment\", CONCATENATE(F4420,\" \",E4420), \" \")","v":" "}]
[null,null,null,null,null,null,null,null,null,null,null,null,null,null,null,null,null,null,null,null,null,null,"Jan-00",1900,{"$f":"IF(AND($A4432<'P&L'!$P$8, YEAR($A4432)=Master!$C$6), $K4432, 0)","v":0},0,{"$f":"IF(AND(NOT(ISBLANK($O4432)), $O4432<'P&L'!$P$8), Z4432, 0)","v":0},{"$f":"IF(OR(ISBLANK($O4432), $O4432>'BankRec Main Acct'!$E$8), Z4432, 0)","v":0},0,{"$f":"IF(AND(NOT(ISBLANK($O4432)), $O4432<'P&L'!$P$8), AC4432, 0)","v":0},{"$f":"IF(OR(ISBLANK($O4432), $O4432>'BankRec Main Acct'!$E$8), AC4432, 0)","v":0},0,{"$f":"IF(AND(NOT(ISBLANK($S4432)), $S4432<'P&L'!$P$8), AF4432, 0)","v":0},{"$f":"IF(OR(ISBLANK($S4432), $S4432>'BankRec Main Acct'!$E$8), AF4432, 0)","v":0},0,{"$f":"IF(AND(NOT(ISBLANK($S4432)), $S4432<'P&L'!$P$8), AI4432, 0)","v":0},{"$f":"IF(OR(ISBLANK($S4432), $S4432>'BankRec Main Acct'!$E$8), AI4432, 0)","v":0},0,{"$f":"IF(AND(NOT(ISBLANK($U4432)), $U4432<'P&L'!$P$8), $AL4432, 0)","v":0},{"$f":"IF(OR(ISBLANK($U4432), $U4432>'DebitCard Rec '!$E$8), $AL4432, 0)","v":0},0,{"$f":"IF(AND(NOT(ISBLANK($U4432)), $U4432<'P&L'!$P$8), $AO4432, 0)","v":0},{"$f":"IF(OR(ISBLANK($U4432), $U4432>'DebitCard Rec '!$E$8), $AO4432, 0)","v":0},0,{"$f":"IF(AND($A4432<'P&L'!$P$8, $X4432='P&L'!$G$6), $AR4432, 0)","v":0},0,{"$f":"IF(AND($A4432<'P&L'!$P$8, $X4432='P&L'!$G$6), $AT4432, 0)","v":0}," "," "," "]
[null,null,null,null,null,null,null,null,null,null,null,null,null,null,null,null,null,null,null,null,null,null,"Jan-00",1900,{"$f":"IF(AND($A4439<'P&L'!$P$8, YEAR($A4439)=Master!$C$6), $K4439, 0)","v":0},0,{"$f":"IF(AND(NOT(ISBLANK($O4439)), $O4439<'P&L'!$P$8), Z4439, 0)","v":0},{"$f":"IF(OR(ISBLANK($O4439), $O4439>'BankRec Main Acct'!$E$8), Z4439, 0)","v":0},0,{"$f":"IF(AND(NOT(ISBLANK($O4439)), $O4439<'P&L'!$P$8), AC4439, 0)","v":0},{"$f":"IF(OR(ISBLANK($O4439), $O4439>'BankRec Main Acct'!$E$8), AC4439, 0)","v":0},0,{"$f":"IF(AND(NOT(ISBLANK($S4439)), $S4439<'P&L'!$P$8), AF4439, 0)","v":0},{"$f":"IF(OR(ISBLANK($S4439), $S4439>'BankRec Main Acct'!$E$8), AF4439, 0)","v":0},0,{"$f":"IF(AND(NOT(ISBLANK($S4439)), $S4439<'P&L'!$P$8), AI4439, 0)","v":0},{"$f":"IF(OR(ISBLANK($S4439), $S4439>'BankRec Main Acct'!$E$8), AI4439, 0)","v":0},0,{"$f":"IF(AND(NOT(ISBLANK($U4439)), $U4439<'P&L'!$P$8), $AL4439, 0)","v":0},{"$f":"IF(OR(ISBLANK($U4439), $U4439>'DebitCard Rec '!$E$8), $AL4439, 0)","v":0},0,{"$f":"IF(AND(NOT(ISBLANK($U4439)), $U4439<'P&L'!$P$8), $AO4439, 0)","v":0},{"$f":"IF(OR(ISBLANK($U4439), $U4439>'DebitCard Rec '!$E$8), $AO4439, 0)","v":0},0,{"$f":"IF(AND($A4439<'P&L'!$P$8, $X4439='P&L'!$G$6), $AR4439, 0)","v":0},0,{"$f":"IF(AND($A4439<'P&L'!$P$8, $X4439='P&L'!$G$6), $AT4439, 0)","v":0}," "," "," "]
[null,null,null,null,null,null,null,null,null,null,null,null,null,null,null,null,null,null,null,null,null,null,"Jan-00",1900,{"$f":"IF(AND($A4446<'P&L'!$P$8, YEAR($A4446)=Master!$C$6), $K4446, 0)","v":0},0,{"$f":"IF(AND(NOT(ISBLANK($O4446)), $O4446<'P&L'!$P$8), Z4446, 0)","v":0},{"$f":"IF(OR(ISBLANK($O4446), $O4446>'BankRec Main Acct'!$E$8), Z4446, 0)","v":0},0,{"$f":"IF(AND(NOT(ISBLANK($O4446)), $O4446<'P&L'!$P$8), AC4446, 0)","v":0},{"$f":"IF(OR(ISBLANK($O4446), $O4446>'BankRec Main Acct'!$E$8), AC4446, 0)","v":0},0,{"$f":"IF(AND(NOT(ISBLANK($S4446)), $S4446<'P&L'!$P$8), AF4446, 0)","v":0},{"$f":"IF(OR(ISBLANK($S4446), $S4446>'BankRec Main Acct'!$E$8), AF4446, 0)","v":0},0,{"$f":"IF(AND(NOT(ISBLANK($S4446)), $S4446<'P&L'!$P$8), AI4446, 0)","v":0},{"$f":"IF(OR(ISBLANK($S4446), $S4446>'BankRec Main Acct'!$E$8), AI4446, 0)","v":0},0,{"$f":"IF(AND(NOT(ISBLANK($U4446)), $U4446<'P&L'!$P$8), $AL4446, 0)","v":0},{"$f":"IF(OR(ISBLANK($U4446), $U4446>'DebitCard Rec '!$E$8), $AL4446, 0)","v":0},0,{"$f":"IF(AND(NOT(ISBLANK($U4446)), $U4446<'P&L'!$P$8), $AO4446, 0)","v":0},{"$f":"IF(OR(ISBLANK($U4446), $U4446>'DebitCard Rec '!$E$8), $AO4446, 0)","v":0},0,{"$f":"IF(AND($A4446<'P&L'!$P$8, $X4446='P&L'!$G$6), $AR4446, 0)","v":0},0,{"$f":"IF(AND($A4446<'P&L'!$P$8, $X4446='P&L'!$G$6), $AT4446, 0)","v":0}," "," "," "]
[null,null,null,null,null,null,null,null,null,null,null,null,null,null,null,null,null,null,null,null,null,null,"Jan-00",1900,{"$f":"IF(AND($A4453<'P&L'!$P$8, YEAR($A4453)=Master!$C$6), $K4453, 0)","v":0},0,{"$f":"IF(AND(NOT(ISBLANK($O4453)), $O4453<'P&L'!$P$8), Z4453, 0)","v":0},{"$f":"IF(OR(ISBLANK($O4453), $O4453>'BankRec Main Acct'!$E$8), Z4453, 0)","v":0},0,{"$f":"IF(AND(NOT(ISBLANK($O4453)), $O4453<'P&L'!$P$8), AC4453, 0)","v":0},{"$f":"IF(OR(ISBLANK($O4453), $O4453>'BankRec Main Acct'!$E$8), AC4453, 0)","v":0},0,{"$f":"IF(AND(NOT(ISBLANK($S4453)), $S4453<'P&L'!$P$8), AF4453, 0)","v":0},{"$f":"IF(OR(ISBLANK($S4453), $S4453>'BankRec Main Acct'!$E$8), AF4453, 0)","v":0},0,{"$f":"IF(AND(NOT(ISBLANK($S4453)), $S4453<'P&L'!$P$8), AI4453, 0)","v":0},{"$f":"IF(OR(ISBLANK($S4453), $S4453>'BankRec Main Acct'!$E$8), AI4453, 0)","v":0},0,{"$f":"IF(AND(NOT(ISBLANK($U4453)), $U4453<'P&L'!$P$8), $AL4453, 0)","v":0},{"$f":"IF(OR(ISBLANK($U4453), $U4453>'DebitCard Rec '!$E$8), $AL4453, 0)","v":0},0,{"$f":"IF(AND(NOT(ISBLANK($U4453)), $U4453<'P&L'!$P$8), $AO4453, 0)","v":0},{"$f":"IF(OR(ISBLANK($U4453), $U4453>'DebitCard Rec '!$E$8), $AO4453, 0)","v":0},0,{"$f":"IF(AND($A4453<'P&L'!$P$8, $X4453='P&L'!$G$6), $AR4453, 0)","v":0},0,{"$f":"IF(AND($A4453<'P&L'!$P$8, $X4453='P&L'!$G$6), $AT4453, 0)","v":0}," "," "," "]
[null,null,null,null,null,null,null,null,null,null,null,null,null,null,null,null,null,null,null,null,null,null,"Jan-00",1900,{"$f":"IF(AND($A4469<'P&L'!$P$8, YEAR($A4469)=Master!$C$6), $K4469, 0)","v":0},0,{"$f":"IF(AND(NOT(ISBLANK($O4469)), $O4469<'P&L'!$P$8), Z4469, 0)","v":0},{"$f":"IF(OR(ISBLANK($O4469), $O4469>'BankRec Main Acct'!$E$8), Z4469, 0)","v":0},0,{"$f":"IF(AND(NOT(ISBLANK($O4469)), $O4469<'P&L'!$P$8), AC4469, 0)","v":0},{"$f":"IF(OR(ISBLANK($O4469), $O4469>'BankRec Main Acct'!$E$8), AC4469, 0)","v":0},0,{"$f":"IF(AND(NOT(ISBLANK($S4469)), $S4469<'P&L'!$P$8), AF4469, 0)","v":0},{"$f":"IF(OR(ISBLANK($S4469), $S4469>'BankRec Main Acct'!$E$8), AF4469, 0)","v":0},0,{"$f":"IF(AND(NOT(ISBLANK($S4469)), $S4469<'P&L'!$P$8), AI4469, 0)","v":0},{"$f":"IF(OR(ISBLANK($S4469), $S4469>'BankRec Main Acct'!$E$8), AI4469, 0)","v":0},0,{"$f":"IF(AND(NOT(ISBLANK($U4469)), $U4469<'P&L'!$P$8), $AL4469, 0)","v":0},{"$f":"IF(OR(ISBLANK($U4469), $U4469>'DebitCard Rec '!$E$8), $AL4469, 0)","v":0},0,{"$f":"IF(AND(NOT(ISBLANK($U4469)), $U4469<'P&L'!$P$8), $AO4469, 0)","v":0},{"$f":"IF(OR(ISBLANK($U4469), $U4469>'DebitCard Rec '!$E$8), $AO4469, 0)","v":0},0,{"$f":"IF(AND($A4469<'P&L'!$P$8, $X4469='P&L'!$G$6), $AR4469, 0)","v":0},0,{"$f":"IF(AND($A4469<'P&L'!$P$8, $X4469='P&L'!$G$6), $AT4469, 0)","v":0}," "," "," "]
[null,null,null,null,null,null,null,null,null,null,null,null,null,null,null,null,null,null,null,null,null,null,"Jan-00",1900,{"$f":"IF(AND($A4472<'P&L'!$P$8, YEAR($A4472)=Master!$C$6), $K4472, 0)","v":0},0,{"$f":"IF(AND(NOT(ISBLANK($O4472)), $O4472<'P&L'!$P$8), Z4472, 0)","v":0},{"$f":"IF(OR(ISBLANK($O4472), $O4472>'BankRec Main Acct'!$E$8), Z4472, 0)","v":0},0,{"$f":"IF(AND(NOT(ISBLANK($O4472)), $O4472<'P&L'!$P$8), AC4472, 0)","v":0},{"$f":"IF(OR(ISBLANK($O4472), $O4472>'BankRec Main Acct'!$E$8), AC4472, 0)","v":0},0,{"$f":"IF(AND(NOT(ISBLANK($S4472)), $S4472<'P&L'!$P$8), AF4472, 0)","v":0},{"$f":"IF(OR(ISBLANK($S4472), $S4472>'BankRec Main Acct'!$E$8), AF4472, 0)","v":0},0,{"$f":"IF(AND(NOT(ISBLANK($S4472)), $S4472<'P&L'!$P$8), AI4472, 0)","v":0},{"$f":"IF(OR(ISBLANK($S4472), $S4472>'BankRec Main Acct'!$E$8), AI4472, 0)","v":0},0,{"$f":"IF(AND(NOT(ISBLANK($U4472)), $U4472<'P&L'!$P$8), $AL4472, 0)","v":0},{"$f":"IF(OR(ISBLANK($U4472), $U4472>'DebitCard Rec '!$E$8), $AL4472, 0)","v":0},0,{"$f":"IF(AND(NOT(ISBLANK($U4472)), $U4472<'P&L'!$P$8), $AO4472, 0)","v":0},{"$f":"IF(OR(ISBLANK($U4472), $U4472>'DebitCard Rec '!$E$8), $AO4472, 0)","v":0},0,{"$f":"IF(AND($A4472<'P&L'!$P$8, $X4472='P&L'!$G$6), $AR4472, 0)","v":0},0,{"$f":"IF(AND($A4472<'P&L'!$P$8, $X4472='P&L'!$G$6), $AT4472, 0)","v":0}," "," "," "]
[null,null,null,null,null,null,null,null,null,null,null,null,null,null,null,null,null,null,null,null,null,null,"Jan-00",1900,{"$f":"IF(AND($A4479<'P&L'!$P$8, YEAR($A4479)=Master!$C$6), $K4479, 0)","v":0},0,{"$f":"IF(AND(NOT(ISBLANK($O4479)), $O4479<'P&L'!$P$8), Z4479, 0)","v":0},{"$f":"IF(OR(ISBLANK($O4479), $O4479>'BankRec Main Acct'!$E$8), Z4479, 0)","v":0},0,{"$f":"IF(AND(NOT(ISBLANK($O4479)), $O4479<'P&L'!$P$8), AC4479, 0)","v":0},{"$f":"IF(OR(ISBLANK($O4479), $O4479>'BankRec Main Acct'!$E$8), AC4479, 0)","v":0},0,{"$f":"IF(AND(NOT(ISBLANK($S4479)), $S4479<'P&L'!$P$8), AF4479, 0)","v":0},{"$f":"IF(OR(ISBLANK($S4479), $S4479>'BankRec Main Acct'!$E$8), AF4479, 0)","v":0},0,{"$f":"IF(AND(NOT(ISBLANK($S4479)), $S4479<'P&L'!$P$8), AI4479, 0)","v":0},{"$f":"IF(OR(ISBLANK($S4479), $S4479>'BankRec Main Acct'!$E$8), AI4479, 0)","v":0},0,{"$f":"IF(AND(NOT(ISBLANK($U4479)), $U4479<'P&L'!$P$8), $AL4479, 0)","v":0},{"$f":"IF(OR(ISBLANK($U4479), $U4479>'DebitCard Rec '!$E$8), $AL4479, 0)","v":0},0,{"$f":"IF(AND(NOT(ISBLANK($U4479)), $U4479<'P&L'!$P$8), $AO4479, 0)","v":0},{"$f":"IF(OR(ISBLANK($U4479), $U4479>'DebitCard Rec '!$E$8), $AO4479, 0)","v":0},0,{"$f":"IF(AND($A4479<'P&L'!$P$8, $X4479='P&L'!$G$6), $AR4479, 0)","v":0},0,{"$f":"IF(AND($A4479<'P&L'!$P$8, $X4479='P&L'!$G$6), $AT4479, 0)","v":0}," "," "," "]
[null,null,null,null,null,null,null,null,null,null,null,null,null,null,null,null,null,null,null,null,null,null,"Jan-00",1900,{"$f":"IF(AND($A4495<'P&L'!$P$8, YEAR($A4495)=Master!$C$6), $K4495, 0)","v":0},0,{"$f":"IF(AND(NOT(ISBLANK($O4495)), $O4495<'P&L'!$P$8), Z4495, 0)","v":0},{"$f":"IF(OR(ISBLANK($O4495), $O4495>'BankRec Main Acct'!$E$8), Z4495, 0)","v":0},0,{"$f":"IF(AND(NOT(ISBLANK($O4495)), $O4495<'P&L'!$P$8), AC4495, 0)","v":0},{"$f":"IF(OR(ISBLANK($O4495), $O4495>'BankRec Main Acct'!$E$8), AC4495, 0)","v":0},0,{"$f":"IF(AND(NOT(ISBLANK($S4495)), $S4495<'P&L'!$P$8), AF4495, 0)","v":0},{"$f":"IF(OR(ISBLANK($S4495), $S4495>'BankRec Main Acct'!$E$8), AF4495, 0)","v":0},0,{"$f":"IF(AND(NOT(ISBLANK($S4495)), $S4495<'P&L'!$P$8), AI4495, 0)","v":0},{"$f":"IF(OR(ISBLANK($S4495), $S4495>'BankRec Main Acct'!$E$8), AI4495, 0)","v":0},0,{"$f":"IF(AND(NOT(ISBLANK($U4495)), $U4495<'P&L'!$P$8), $AL4495, 0)","v":0},{"$f":"IF(OR(ISBLANK($U4495), $U4495>'DebitCard Rec '!$E$8), $AL4495, 0)","v":0},0,{"$f":"IF(AND(NOT(ISBLANK($U4495)), $U4495<'P&L'!$P$8), $AO4495, 0)","v":0},{"$f":"IF(OR(ISBLANK($U4495), $U4495>'DebitCard Rec '!$E$8), $AO4495, 0)","v":0},0,{"$f":"IF(AND($A4495<'P&L'!$P$8, $X4495='P&L'!$G$6), $AR4495, 0)","v":0},0,{"$f":"IF(AND($A4495<'P&L'!$P$8, $X4495='P&L'!$G$6), $AT4495, 0)","v":0}," "," "," "]
[null,null,null,null,null,null,null,null,null,null,null,null,null,null,null,null,null,null,null,null,null,null,"Jan-00",1900,{"$f":"IF(AND($A4502<'P&L'!$P$8, YEAR($A4502)=Master!$C$6), $K4502, 0)","v":0},0,{"$f":"IF(AND(NOT(ISBLANK($O4502)), $O4502<'P&L'!$P$8), Z4502, 0)","v":0},{"$f":"IF(OR(ISBLANK($O4502), $O4502>'BankRec Main Acct'!$E$8), Z4502, 0)","v":0},0,{"$f":"IF(AND(NOT(ISBLANK($O4502)), $O4502<'P&L'!$P$8), AC4502, 0)","v":0},{"$f":"IF(OR(ISBLANK($O4502), $O4502>'BankRec Main Acct'!$E$8), AC4502, 0)","v":0},0,{"$f":"IF(AND(NOT(ISBLANK($S4502)), $S4502<'P&L'!$P$8), AF4502, 0)","v":0},{"$f":"IF(OR(ISBLANK($S4502), $S4502>'BankRec Main Acct'!$E$8), AF4502, 0)","v":0},0,{"$f":"IF(AND(NOT(ISBLANK($S4502)), $S4502<'P&L'!$P$8), AI4502, 0)","v":0},{"$f":"IF(OR(ISBLANK($S4502), $S4502>'BankRec Main Acct'!$E$8), AI4502, 0)","v":0},0,{"$f":"IF(AND(NOT(ISBLANK($U4502)), $U4502<'P&L'!$P$8), $AL4502, 0)","v":0},{"$f":"IF(OR(ISBLANK($U4502), $U4502>'DebitCard Rec '!$E$8), $AL4502, 0)","v":0},0,{"$f":"IF(AND(NOT(ISBLANK($U4502)), $U4502<'P&L'!$P$8), $AO4502, 0)","v":0},{"$f":"IF(OR(ISBLANK($U4502), $U4502>'DebitCard Rec '!$E$8), $AO4502, 0)","v":0},0,{"$f":"IF(AND($A4502<'P&L'!$P$8, $X4502='P&L'!$G$6), $AR4502, 0)","v":0},0,{"$f":"IF(AND($A4502<'P&L'!$P$8, $X4502='P&L'!$G$6), $AT4502, 0)","v":0}," "," "," "]
[null,null,null,null,null,null,null,null,null,null,null,null,null,null,null,null,null,null,null,null,null,null,"Jan-00",1900,{"$f":"IF(AND($A4509<'P&L'!$P$8, YEAR($A4509)=Master!$C$6), $K4509, 0)","v":0},0,{"$f":"IF(AND(NOT(ISBLANK($O4509)), $O4509<'P&L'!$P$8), Z4509, 0)","v":0},{"$f":"IF(OR(ISBLANK($O4509), $O4509>'BankRec Main Acct'!$E$8), Z4509, 0)","v":0},0,{"$f":"IF(AND(NOT(ISBLANK($O4509)), $O4509<'P&L'!$P$8), AC4509, 0)","v":0},{"$f":"IF(OR(ISBLANK($O4509), $O4509>'BankRec Main Acct'!$E$8), AC4509, 0)","v":0},0,{"$f":"IF(AND(NOT(ISBLANK($S4509)), $S4509<'P&L'!$P$8), AF4509, 0)","v":0},{"$f":"IF(OR(ISBLANK($S4509), $S4509>'BankRec Main Acct'!$E$8), AF4509, 0)","v":0},0,{"$f":"IF(AND(NOT(ISBLANK($S4509)), $S4509<'P&L'!$P$8), AI4509, 0)","v":0},{"$f":"IF(OR(ISBLANK($S4509), $S4509>'BankRec Main Acct'!$E$8), AI4509, 0)","v":0},0,{"$f":"IF(AND(NOT(ISBLANK($U4509)), $U4509<'P&L'!$P$8), $AL4509, 0)","v":0},{"$f":"IF(OR(ISBLANK($U4509), $U4509>'DebitCard Rec '!$E$8), $AL4509, 0)","v":0},0,{"$f":"IF(AND(NOT(ISBLANK($U4509)), $U4509<'P&L'!$P$8), $AO4509, 0)","v":0},{"$f":"IF(OR(ISBLANK($U4509), $U4509>'DebitCard Rec '!$E$8), $AO4509, 0)","v":0},0,{"$f":"IF(AND($A4509<'P&L'!$P$8, $X4509='P&L'!$G$6), $AR4509, 0)","v":0},0,{"$f":"IF(AND($A4509<'P&L'!$P$8, $X4509='P&L'!$G$6), $AT4509, 0)","v":0}," "," "," "]
[null,null,null,null,null,null,null,null,null,null,null,null,null,null,null,null,null,null,null,null,null,null,"Jan-00",1900,{"$f":"IF(AND($A4521<'P&L'!$P$8, YEAR($A4521)=Master!$C$6), $K4521, 0)","v":0},0,{"$f":"IF(AND(NOT(ISBLANK($O4521)), $O4521<'P&L'!$P$8), Z4521, 0)","v":0},{"$f":"IF(OR(ISBLANK($O4521), $O4521>'BankRec Main Acct'!$E$8), Z4521, 0)","v":0},0,{"$f":"IF(AND(NOT(ISBLANK($O4521)), $O4521<'P&L'!$P$8), AC4521, 0)","v":0},{"$f":"IF(OR(ISBLANK($O4521), $O4521>'BankRec Main Acct'!$E$8), AC4521, 0)","v":0},0,{"$f":"IF(AND(NOT(ISBLANK($S4521)), $S4521<'P&L'!$P$8), AF4521, 0)","v":0},{"$f":"IF(OR(ISBLANK($S4521), $S4521>'BankRec Main Acct'!$E$8), AF4521, 0)","v":0},0,{"$f":"IF(AND(NOT(ISBLANK($S4521)), $S4521<'P&L'!$P$8), AI4521, 0)","v":0},{"$f":"IF(OR(ISBLANK($S4521), $S4521>'BankRec Main Acct'!$E$8), AI4521, 0)","v":0},0,{"$f":"IF(AND(NOT(ISBLANK($U4521)), $U4521<'P&L'!$P$8), $AL4521, 0)","v":0},{"$f":"IF(OR(ISBLANK($U4521), $U4521>'DebitCard Rec '!$E$8), $AL4521, 0)","v":0},0,{"$f":"IF(AND(NOT(ISBLANK($U4521)), $U4521<'P&L'!$P$8), $AO4521, 0)","v":0},{"$f":"IF(OR(ISBLANK($U4521), $U4521>'DebitCard Rec '!$E$8), $AO4521, 0)","v":0},0,{"$f":"IF(AND($A4521<'P&L'!$P$8, $X4521='P&L'!$G$6), $AR4521, 0)","v":0},0,{"$f":"IF(AND($A4521<'P&L'!$P$8, $X4521='P&L'!$G$6), $AT4521, 0)","v":0}," "," "," "]
[null,null,null,null,null,null,null,null,null,null,null,null,null,null,null,null,null,null,null,null,null,null,"Jan-00",1900,{"$f":"IF(AND($A4526<'P&L'!$P$8, YEAR($A4526)=Master!$C$6), $K4526, 0)","v":0},0,{"$f":"IF(AND(NOT(ISBLANK($O4526)), $O4526<'P&L'!$P$8), Z4526, 0)","v":0},{"$f":"IF(OR(ISBLANK($O4526), $O4526>'BankRec Main Acct'!$E$8), Z4526, 0)","v":0},0,{"$f":"IF(AND(NOT(ISBLANK($O4526)), $O4526<'P&L'!$P$8), AC4526, 0)","v":0},{"$f":"IF(OR(ISBLANK($O4526), $O4526>'BankRec Main Acct'!$E$8), AC4526, 0)","v":0},0,{"$f":"IF(AND(NOT(ISBLANK($S4526)), $S4526<'P&L'!$P$8), AF4526, 0)","v":0},{"$f":"IF(OR(ISBLANK($S4526), $S4526>'BankRec Main Acct'!$E$8), AF4526, 0)","v":0},0,{"$f":"IF(AND(NOT(ISBLANK($S4526)), $S4526<'P&L'!$P$8), AI4526, 0)","v":0},{"$f":"IF(OR(ISBLANK($S4526), $S4526>'BankRec Main Acct'!$E$8), AI4526, 0)","v":0},0,{"$f":"IF(AND(NOT(ISBLANK($U4526)), $U4526<'P&L'!$P$8), $AL4526, 0)","v":0},{"$f":"IF(OR(ISBLANK($U4526), $U4526>'DebitCard Rec '!$E$8), $AL4526, 0)","v":0},0,{"$f":"IF(AND(NOT(ISBLANK($U4526)), $U4526<'P&L'!$P$8), $AO4526, 0)","v":0},{"$f":"IF(OR(ISBLANK($U4526), $U4526>'DebitCard Rec '!$E$8), $AO4526, 0)","v":0},0,{"$f":"IF(AND($A4526<'P&L'!$P$8, $X4526='P&L'!$G$6), $AR4526, 0)","v":0},0,{"$f":"IF(AND($A4526<'P&L'!$P$8, $X4526='P&L'!$G$6), $AT4526, 0)","v":0}," "," "," "]
[null,null,null,null,null,null,null,null,null,null,null,null,null,null,null,null,null,null,null,null,null,null,"Jan-00",1900,{"$f":"IF(AND($A4539<'P&L'!$P$8, YEAR($A4539)=Master!$C$6), $K4539, 0)","v":0},0,{"$f":"IF(AND(NOT(ISBLANK($O4539)), $O4539<'P&L'!$P$8), Z4539, 0)","v":0},{"$f":"IF(OR(ISBLANK($O4539), $O4539>'BankRec Main Acct'!$E$8), Z4539, 0)","v":0},0,{"$f":"IF(AND(NOT(ISBLANK($O4539)), $O4539<'P&L'!$P$8), AC4539, 0)","v":0},{"$f":"IF(OR(ISBLANK($O4539), $O4539>'BankRec Main Acct'!$E$8), AC4539, 0)","v":0},0,{"$f":"IF(AND(NOT(ISBLANK($S4539)), $S4539<'P&L'!$P$8), AF4539, 0)","v":0},{"$f":"IF(OR(ISBLANK($S4539), $S4539>'BankRec Main Acct'!$E$8), AF4539, 0)","v":0},0,{"$f":"IF(AND(NOT(ISBLANK($S4539)), $S4539<'P&L'!$P$8), AI4539, 0)","v":0},{"$f":"IF(OR(ISBLANK($S4539), $S4539>'BankRec Main Acct'!$E$8), AI4539, 0)","v":0},0,{"$f":"IF(AND(NOT(ISBLANK($U4539)), $U4539<'P&L'!$P$8), $AL4539, 0)","v":0},{"$f":"IF(OR(ISBLANK($U4539), $U4539>'DebitCard Rec '!$E$8), $AL4539, 0)","v":0},0,{"$f":"IF(AND(NOT(ISBLANK($U4539)), $U4539<'P&L'!$P$8), $AO4539, 0)","v":0},{"$f":"IF(OR(ISBLANK($U4539), $U4539>'DebitCard Rec '!$E$8), $AO4539, 0)","v":0},0,{"$f":"IF(AND($A4539<'P&L'!$P$8, $X4539='P&L'!$G$6), $AR4539, 0)","v":0},0,{"$f":"IF(AND($A4539<'P&L'!$P$8, $X4539='P&L'!$G$6), $AT4539, 0)","v":0}," "," "," "]
[null,null,null,null,null,null,null,null,null,null,null,null,null,null,null,null,null,null,null,null,null,null,"Jan-00",1900,{"$f":"IF(AND($A4542<'P&L'!$P$8, YEAR($A4542)=Master!$C$6), $K4542, 0)","v":0},0,{"$f":"IF(AND(NOT(ISBLANK($O4542)), $O4542<'P&L'!$P$8), Z4542, 0)","v":0},{"$f":"IF(OR(ISBLANK($O4542), $O4542>'BankRec Main Acct'!$E$8), Z4542, 0)","v":0},0,{"$f":"IF(AND(NOT(ISBLANK($O4542)), $O4542<'P&L'!$P$8), AC4542, 0)","v":0},{"$f":"IF(OR(ISBLANK($O4542), $O4542>'BankRec Main Acct'!$E$8), AC4542, 0)","v":0},0,{"$f":"IF(AND(NOT(ISBLANK($S4542)), $S4542<'P&L'!$P$8), AF4542, 0)","v":0},{"$f":"IF(OR(ISBLANK($S4542), $S4542>'BankRec Main Acct'!$E$8), AF4542, 0)","v":0},0,{"$f":"IF(AND(NOT(ISBLANK($S4542)), $S4542<'P&L'!$P$8), AI4542, 0)","v":0},{"$f":"IF(OR(ISBLANK($S4542), $S4542>'BankRec Main Acct'!$E$8), AI4542, 0)","v":0},0,{"$f":"IF(AND(NOT(ISBLANK($U4542)), $U4542<'P&L'!$P$8), $AL4542, 0)","v":0},{"$f":"IF(OR(ISBLANK($U4542), $U4542>'DebitCard Rec '!$E$8), $AL4542, 0)","v":0},0,{"$f":"IF(AND(NOT(ISBLANK($U4542)), $U4542<'P&L'!$P$8), $AO4542, 0)","v":0},{"$f":"IF(OR(ISBLANK($U4542), $U4542>'DebitCard Rec '!$E$8), $AO4542, 0)","v":0},0,{"$f":"IF(AND($A4542<'P&L'!$P$8, $X4542='P&L'!$G$6), $AR4542, 0)","v":0},0,{"$f":"IF(AND($A4542<'P&L'!$P$8, $X4542='P&L'!$G$6), $AT4542, 0)","v":0}," "," "," "]
[null,null,null,null,null,null,null,null,null,null,null,null,null,null,null,null,null,null,null,null,null,null,"Jan-00",1900,{"$f":"IF(AND($A4549<'P&L'!$P$8, YEAR($A4549)=Master!$C$6), $K4549, 0)","v":0},{"$f":"IF(AND($C4549=\"Receipt\",$B4549<>\"debit card\",$B4549<>\"petty cash\",$B4549<>\"Cash_Sub\",$B4549<>\"Cheque_Sub\", $B4549<>\"EFT_Sub\"),$K4549,0)","v":0},{"$f":"IF(AND(NOT(ISBLANK($O4549)), $O4549<'P&L'!$P$8), Z4549, 0)","v":0},{"$f":"IF(OR(ISBLANK($O4549), $O4549>'BankRec Main Acct'!$E$8), Z4549, 0)","v":0},{"$f":"IF(AND($C4549=\"Payment\", $B4549<>\"debit card\", $B4549<>\"petty cash\", $B4549<>\"Cash_Sub\", $B4549<>\"Cheque_Sub\", $B4549<>\"EFT_Sub\"), $K4549, 0)","v":0},{"$f":"IF(AND(NOT(ISBLANK($O4549)), $O4549<'P&L'!$P$8), AC4549, 0)","v":0},{"$f":"IF(OR(ISBLANK($O4549), $O4549>'BankRec Main Acct'!$E$8), AC4549, 0)","v":0},{"$f":"IF(AND($C4549=\"Receipt\",$B4549<>\"debit card\",$B4549<>\"petty cash\",$B4549<>\"Cash_Main\",$B4549<>\"Cheque_Main\", $B4549<>\"EFT_Main\"),$K4549,0)","v":0},{"$f":"IF(AND(NOT(ISBLANK($S4549)), $S4549<'P&L'!$P$8), AF4549, 0)","v":0},{"$f":"IF(OR(ISBLANK($S4549), $S4549>'BankRec Main Acct'!$E$8), AF4549, 0)","v":0},{"$f":"IF(AND($C4549=\"Payment\", $B4549<>\"debit card\", $B4549<>\"petty cash\", $B4549<>\"Cash_Main\", $B4549<>\"Cheque_Main\", $B4549<>\"EFT_Main\"), $K4549, 0)","v":0},{"$f":"IF(AND(NOT(ISBLANK($S4549)), $S4549<'P&L'!$P$8), AI4549, 0)","v":0},{"$f":"IF(OR(ISBLANK($S4549), $S4549>'BankRec Main Acct'!$E$8), AI4549, 0)","v":0},0,{"$f":"IF(AND(NOT(ISBLANK($U4549)), $U4549<'P&L'!$P$8), $AL4549, 0)","v":0},{"$f":"IF(OR(ISBLANK($U4549), $U4549>'DebitCard Rec '!$E$8), $AL4549, 0)","v":0},0,{"$f":"IF(AND(NOT(ISBLANK($U4549)), $U4549<'P&L'!$P$8), $AO4549, 0)","v":0},{"$f":"IF(OR(ISBLANK($U4549), $U4549>'DebitCard Rec '!$E$8), $AO4549, 0)","v":0},0,{"$f":"IF(AND($A4549<'P&L'!$P$8, $X4549='P&L'!$G$6), $AR4549, 0)","v":0},0,{"$f":"IF(AND($A4549<'P&L'!$P$8, $X4549='P&L'!$G$6), $AT4549, 0)","v":0}," "," "," "]
[null,null,null,null,null,null,null,null,null,null,null,null,null,null,null,null,null,null,null,null,null,null,"Jan-00",1900,{"$f":"IF(AND($A4561<'P&L'!$P$8, YEAR($A4561)=Master!$C$6), $K4561, 0)","v":0},0,{"$f":"IF(AND(NOT(ISBLANK($O4561)), $O4561<'P&L'!$P$8), Z4561, 0)","v":0},{"$f":"IF(OR(ISBLANK($O4561), $O4561>'BankRec Main Acct'!$E$8), Z4561, 0)","v":0},0,{"$f":"IF(AND(NOT(ISBLANK($O4561)), $O4561<'P&L'!$P$8), AC4561, 0)","v":0},{"$f":"IF(OR(ISBLANK($O4561), $O4561>'BankRec Main Acct'!$E$8), AC4561, 0)","v":0},0,{"$f":"IF(AND(NOT(ISBLANK($S4561)), $S4561<'P&L'!$P$8), AF4561, 0)","v":0},{"$f":"IF(OR(ISBLANK($S4561), $S4561>'BankRec Main Acct'!$E$8), AF4561, 0)","v":0},0,{"$f":"IF(AND(NOT(ISBLANK($S4561)), $S4561<'P&L'!$P$8), AI4561, 0)","v":0},{"$f":"IF(OR(ISBLANK($S4561), $S4561>'BankRec Main Acct'!$E$8), AI4561, 0)","v":0},0,{"$f":"IF(AND(NOT(ISBLANK($U4561)), $U4561<'P&L'!$P$8), $AL4561, 0)","v":0},{"$f":"IF(OR(ISBLANK($U4561), $U4561>'DebitCard Rec '!$E$8), $AL4561, 0)","v":0},0,{"$f":"IF(AND(NOT(ISBLANK($U4561)), $U4561<'P&L'!$P$8), $AO4561, 0)","v":0},{"$f":"IF(OR(ISBLANK($U4561), $U4561>'DebitCard Rec '!$E$8), $AO4561, 0)","v":0},0,{"$f":"IF(AND($A4561<'P&L'!$P$8, $X4561='P&L'!$G$6), $AR4561, 0)","v":0},0,{"$f":"IF(AND($A4561<'P&L'!$P$8, $X4561='P&L'!$G$6), $AT4561, 0)","v":0}," "," "," "]
[null,null,null,null,null,null,null,null,null,null,null,null,null,null,null,null,null,null,null,null,null,null,"Jan-00",1900,{"$f":"IF(AND($A4567<'P&L'!$P$8, YEAR($A4567)=Master!$C$6), $K4567, 0)","v":0},0,{"$f":"IF(AND(NOT(ISBLANK($O4567)), $O4567<'P&L'!$P$8), Z4567, 0)","v":0},{"$f":"IF(OR(ISBLANK($O4567), $O4567>'BankRec Main Acct'!$E$8), Z4567, 0)","v":0},0,{"$f":"IF(AND(NOT(ISBLANK($O4567)), $O4567<'P&L'!$P$8), AC4567, 0)","v":0},{"$f":"IF(OR(ISBLANK($O4567), $O4567>'BankRec Main Acct'!$E$8), AC4567, 0)","v":0},0,{"$f":"IF(AND(NOT(ISBLANK($S4567)), $S4567<'P&L'!$P$8), AF4567, 0)","v":0},{"$f":"IF(OR(ISBLANK($S4567), $S4567>'BankRec Main Acct'!$E$8), AF4567, 0)","v":0},0,{"$f":"IF(AND(NOT(ISBLANK($S4567)), $S4567<'P&L'!$P$8), AI4567, 0)","v":0},{"$f":"IF(OR(ISBLANK($S4567), $S4567>'BankRec Main Acct'!$E$8), AI4567, 0)","v":0},0,{"$f":"IF(AND(NOT(ISBLANK($U4567)), $U4567<'P&L'!$P$8), $AL4567, 0)","v":0},{"$f":"IF(OR(ISBLANK($U4567), $U4567>'DebitCard Rec '!$E$8), $AL4567, 0)","v":0},0,{"$f":"IF(AND(NOT(ISBLANK($U4567)), $U4567<'P&L'!$P$8), $AO4567, 0)","v":0},{"$f":"IF(OR(ISBLANK($U4567), $U4567>'DebitCard Rec '!$E$8), $AO4567, 0)","v":0},0,{"$f":"IF(AND($A4567<'P&L'!$P$8, $X4567='P&L'!$G$6), $AR4567, 0)","v":0},0,{"$f":"IF(AND($A4567<'P&L'!$P$8, $X4567='P&L'!$G$6), $AT4567, 0)","v":0}," "," "," "]
[null,null,null,null,null,null,null,null,null,null,null,null,null,null,null,null,null,null,null,null,null,null,"Jan-00",1900,{"$f":"IF(AND($A4579<'P&L'!$P$8, YEAR($A4579)=Master!$C$6), $K4579, 0)","v":0},0,{"$f":"IF(AND(NOT(ISBLANK($O4579)), $O4579<'P&L'!$P$8), Z4579, 0)","v":0},{"$f":"IF(OR(ISBLANK($O4579), $O4579>'BankRec Main Acct'!$E$8), Z4579, 0)","v":0},0,{"$f":"IF(AND(NOT(ISBLANK($O4579)), $O4579<'P&L'!$P$8), AC4579, 0)","v":0},{"$f":"IF(OR(ISBLANK($O4579), $O4579>'BankRec Main Acct'!$E$8), AC4579, 0)","v":0},0,{"$f":"IF(AND(NOT(ISBLANK($S4579)), $S4579<'P&L'!$P$8), AF4579, 0)","v":0},{"$f":"IF(OR(ISBLANK($S4579), $S4579>'BankRec Main Acct'!$E$8), AF4579, 0)","v":0},0,{"$f":"IF(AND(NOT(ISBLANK($S4579)), $S4579<'P&L'!$P$8), AI4579, 0)","v":0},{"$f":"IF(OR(ISBLANK($S4579), $S4579>'BankRec Main Acct'!$E$8), AI4579, 0)","v":0},0,{"$f":"IF(AND(NOT(ISBLANK($U4579)), $U4579<'P&L'!$P$8), $AL4579, 0)","v":0},{"$f":"IF(OR(ISBLANK($U4579), $U4579>'DebitCard Rec '!$E$8), $AL4579, 0)","v":0},0,{"$f":"IF(AND(NOT(ISBLANK($U4579)), $U4579<'P&L'!$P$8), $AO4579, 0)","v":0},{"$f":"IF(OR(ISBLANK($U4579), $U4579>'DebitCard Rec '!$E$8), $AO4579, 0)","v":0},0,{"$f":"IF(AND($A4579<'P&L'!$P$8, $X4579='P&L'!$G$6), $AR4579, 0)","v":0},0,{"$f":"IF(AND($A4579<'P&L'!$P$8, $X4579='P&L'!$G$6), $AT4579, 0)","v":0}," "," "," "]
[null,null,null,null,null,null,null,null,null,null,null,null,null,null,null,null,null,null,null,null,null,null,"Jan-00",1900,{"$f":"IF(AND($A4591<'P&L'!$P$8, YEAR($A4591)=Master!$C$6), $K4591, 0)","v":0},0,{"$f":"IF(AND(NOT(ISBLANK($O4591)), $O4591<'P&L'!$P$8), Z4591, 0)","v":0},{"$f":"IF(OR(ISBLANK($O4591), $O4591>'BankRec Main Acct'!$E$8), Z4591, 0)","v":0},0,{"$f":"IF(AND(NOT(ISBLANK($O4591)), $O4591<'P&L'!$P$8), AC4591, 0)","v":0},{"$f":"IF(OR(ISBLANK($O4591), $O4591>'BankRec Main Acct'!$E$8), AC4591, 0)","v":0},0,{"$f":"IF(AND(NOT(ISBLANK($S4591)), $S4591<'P&L'!$P$8), AF4591, 0)","v":0},{"$f":"IF(OR(ISBLANK($S4591), $S4591>'BankRec Main Acct'!$E$8), AF4591, 0)","v":0},0,{"$f":"IF(AND(NOT(ISBLANK($S4591)), $S4591<'P&L'!$P$8), AI4591, 0)","v":0},{"$f":"IF(OR(ISBLANK($S4591), $S4591>'BankRec Main Acct'!$E$8), AI4591, 0)","v":0},0,{"$f":"IF(AND(NOT(ISBLANK($U4591)), $U4591<'P&L'!$P$8), $AL4591, 0)","v":0},{"$f":"IF(OR(ISBLANK($U4591), $U4591>'DebitCard Rec '!$E$8), $AL4591, 0)","v":0},0,{"$f":"IF(AND(NOT(ISBLANK($U4591)), $U4591<'P&L'!$P$8), $AO4591, 0)","v":0},{"$f":"IF(OR(ISBLANK($U4591), $U4591>'DebitCard Rec '!$E$8), $AO4591, 0)","v":0},0,{"$f":"IF(AND($A4591<'P&L'!$P$8, $X4591='P&L'!$G$6), $AR4591, 0)","v":0},0,{"$f":"IF(AND($A4591<'P&L'!$P$8, $X4591='P&L'!$G$6), $AT4591, 0)","v":0}," "," "," "]
[null,null,null,null,null,null,null,null,null,null,null,null,null,null,null,null,null,null,null,null,null,null,"Jan-00",1900,{"$f":"IF(AND($A4594<'P&L'!$P$8, YEAR($A4594)=Master!$C$6), $K4594, 0)","v":0},0,{"$f":"IF(AND(NOT(ISBLANK($O4594)), $O4594<'P&L'!$P$8), Z4594, 0)","v":0},{"$f":"IF(OR(ISBLANK($O4594), $O4594>'BankRec Main Acct'!$E$8), Z4594, 0)","v":0},0,{"$f":"IF(AND(NOT(ISBLANK($O4594)), $O4594<'P&L'!$P$8), AC4594, 0)","v":0},{"$f":"IF(OR(ISBLANK($O4594), $O4594>'BankRec Main Acct'!$E$8), AC4594, 0)","v":0},0,{"$f":"IF(AND(NOT(ISBLANK($S4594)), $S4594<'P&L'!$P$8), AF4594, 0)","v":0},{"$f":"IF(OR(ISBLANK($S4594), $S4594>'BankRec Main Acct'!$E$8), AF4594, 0)","v":0},0,{"$f":"IF(AND(NOT(ISBLANK($S4594)), $S4594<'P&L'!$P$8), AI4594, 0)","v":0},{"$f":"IF(OR(ISBLANK($S4594), $S4594>'BankRec Main Acct'!$E$8), AI4594, 0)","v":0},0,{"$f":"IF(AND(NOT(ISBLANK($U4594)), $U4594<'P&L'!$P$8), $AL4594, 0)","v":0},{"$f":"IF(OR(ISBLANK($U4594), $U4594>'DebitCard Rec '!$E$8), $AL4594, 0)","v":0},0,{"$f":"IF(AND(NOT(ISBLANK($U4594)), $U4594<'P&L'!$P$8), $AO4594, 0)","v":0},{"$f":"IF(OR(ISBLANK($U4594), $U4594>'DebitCard Rec '!$E$8), $AO4594, 0)","v":0},0,{"$f":"IF(AND($A4594<'P&L'!$P$8, $X4594='P&L'!$G$6), $AR4594, 0)","v":0},0,{"$f":"IF(AND($A4594<'P&L'!$P$8, $X4594='P&L'!$G$6), $AT4594, 0)","v":0}," "," "," "]
[null,null,null,null,null,null,null,null,null,null,null,null,null,null,null,null,null,null,null,null,null,null,"Jan-00",1900,{"$f":"IF(AND($A4606<'P&L'!$P$8, YEAR($A4606)=Master!$C$6), $K4606, 0)","v":0},0,{"$f":"IF(AND(NOT(ISBLANK($O4606)), $O4606<'P&L'!$P$8), Z4606, 0)","v":0},{"$f":"IF(OR(ISBLANK($O4606), $O4606>'BankRec Main Acct'!$E$8), Z4606, 0)","v":0},0,{"$f":"IF(AND(NOT(ISBLANK($O4606)), $O4606<'P&L'!$P$8), AC4606, 0)","v":0},{"$f":"IF(OR(ISBLANK($O4606), $O4606>'BankRec Main Acct'!$E$8), AC4606, 0)","v":0},0,{"$f":"IF(AND(NOT(ISBLANK($S4606)), $S4606<'P&L'!$P$8), AF4606, 0)","v":0},{"$f":"IF(OR(ISBLANK($S4606), $S4606>'BankRec Main Acct'!$E$8), AF4606, 0)","v":0},0,{"$f":"IF(AND(NOT(ISBLANK($S4606)), $S4606<'P&L'!$P$8), AI4606, 0)","v":0},{"$f":"IF(OR(ISBLANK($S4606), $S4606>'BankRec Main Acct'!$E$8), AI4606, 0)","v":0},0,{"$f":"IF(AND(NOT(ISBLANK($U4606)), $U4606<'P&L'!$P$8), $AL4606, 0)","v":0},{"$f":"IF(OR(ISBLANK($U4606), $U4606>'DebitCard Rec '!$E$8), $AL4606, 0)","v":0},0,{"$f":"IF(AND(NOT(ISBLANK($U4606)), $U4606<'P&L'!$P$8), $AO4606, 0)","v":0},{"$f":"IF(OR(ISBLANK($U4606), $U4606>'DebitCard Rec '!$E$8), $AO4606, 0)","v":0},0,{"$f":"IF(AND($A4606<'P&L'!$P$8, $X4606='P&L'!$G$6), $AR4606, 0)","v":0},0,{"$f":"IF(AND($A4606<'P&L'!$P$8, $X4606='P&L'!$G$6), $AT4606, 0)","v":0}," "," "," "]
[null,null,null,null,null,null,null,null,null,null,null,null,null,null,null,null,null,null,null,null,null,null,"Jan-00",1900,{"$f":"IF(AND($A4612<'P&L'!$P$8, YEAR($A4612)=Master!$C$6), $K4612, 0)","v":0},0,{"$f":"IF(AND(NOT(ISBLANK($O4612)), $O4612<'P&L'!$P$8), Z4612, 0)","v":0},{"$f":"IF(OR(ISBLANK($O4612), $O4612>'BankRec Main Acct'!$E$8), Z4612, 0)","v":0},0,{"$f":"IF(AND(NOT(ISBLANK($O4612)), $O4612<'P&L'!$P$8), AC4612, 0)","v":0},{"$f":"IF(OR(ISBLANK($O4612), $O4612>'BankRec Main Acct'!$E$8), AC4612, 0)","v":0},0,{"$f":"IF(AND(NOT(ISBLANK($S4612)), $S4612<'P&L'!$P$8), AF4612, 0)","v":0},{"$f":"IF(OR(ISBLANK($S4612), $S4612>'BankRec Main Acct'!$E$8), AF4612, 0)","v":0},0,{"$f":"IF(AND(NOT(ISBLANK($S4612)), $S4612<'P&L'!$P$8), AI4612, 0)","v":0},{"$f":"IF(OR(ISBLANK($S4612), $S4612>'BankRec Main Acct'!$E$8), AI4612, 0)","v":0},0,{"$f":"IF(AND(NOT(ISBLANK($U4612)), $U4612<'P&L'!$P$8), $AL4612, 0)","v":0},{"$f":"IF(OR(ISBLANK($U4612), $U4612>'DebitCard Rec '!$E$8), $AL4612, 0)","v":0},0,{"$f":"IF(AND(NOT(ISBLANK($U4612)), $U4612<'P&L'!$P$8), $AO4612, 0)","v":0},{"$f":"IF(OR(ISBLANK($U4612), $U4612>'DebitCard Rec '!$E$8), $AO4612, 0)","v":0},{"$f":"IF($AV4612=\"Petty cash Receipt\", $K4612, 0)","v":0},{"$f":"IF(AND($A4612<'P&L'!$P$8, $X4612='P&L'!$G$6), $AR4612, 0)","v":0},{"$f":"IF($AV4612=\"Petty cash Payment\", $K4612, 0)","v":0},{"$f":"IF(AND($A4612<'P&L'!$P$8, $X4612='P&L'!$G$6), $AT4612, 0)","v":0}," ",{"$f":"IF(C4612=\"Receipt\",CONCATENATE(D4612,\" \", F4612), \" \")","v":" "},{"$f":"IF(C4612= \"Payment\", CONCATENATE(F4612,\" \",E4612), \" \")","v":" "}]
[null,null,null,null,null,null,null,null,null,null,null,null,null,null,null,null,null,null,null,null,null,null,"Jan-00",1900,{"$f":"IF(AND($A4619<'P&L'!$P$8, YEAR($A4619)=Master!$C$6), $K4619, 0)","v":0},0,{"$f":"IF(AND(NOT(ISBLANK($O4619)), $O4619<'P&L'!$P$8), Z4619, 0)","v":0},{"$f":"IF(OR(ISBLANK($O4619), $O4619>'BankRec Main Acct'!$E$8), Z4619, 0)","v":0},0,{"$f":"IF(AND(NOT(ISBLANK($O4619)), $O4619<'P&L'!$P$8), AC4619, 0)","v":0},{"$f":"IF(OR(ISBLANK($O4619), $O4619>'BankRec Main Acct'!$E$8), AC4619, 0)","v":0},0,{"$f":"IF(AND(NOT(ISBLANK($S4619)), $S4619<'P&L'!$P$8), AF4619, 0)","v":0},{"$f":"IF(OR(ISBLANK($S4619), $S4619>'BankRec Main Acct'!$E$8), AF4619, 0)","v":0},0,{"$f":"IF(AND(NOT(ISBLANK($S4619)), $S4619<'P&L'!$P$8), AI4619, 0)","v":0},{"$f":"IF(OR(ISBLANK($S4619), $S4619>'BankRec Main Acct'!$E$8), AI4619, 0)","v":0},0,{"$f":"IF(AND(NOT(ISBLANK($U4619)), $U4619<'P&L'!$P$8), $AL4619, 0)","v":0},{"$f":"IF(OR(ISBLANK($U4619), $U4619>'DebitCard Rec '!$E$8), $AL4619, 0)","v":0},0,{"$f":"IF(AND(NOT(ISBLANK($U4619)), $U4619<'P&L'!$P$8), $AO4619, 0)","v":0},{"$f":"IF(OR(ISBLANK($U4619), $U4619>'DebitCard Rec '!$E$8), $AO4619, 0)","v":0},0,{"$f":"IF(AND($A4619<'P&L'!$P$8, $X4619='P&L'!$G$6), $AR4619, 0)","v":0},0,{"$f":"IF(AND($A4619<'P&L'!$P$8, $X4619='P&L'!$G$6), $AT4619, 0)","v":0},{"$f":"CONCATENATE(B4619,\" \",C4619)","v":" "}," "," "]
[null,null,null,null,null,null,null,null,null,null,null,null,null,null,null,null,null,null,null,null,null,null,"Jan-00",1900,{"$f":"IF(AND($A4631<'P&L'!$P$8, YEAR($A4631)=Master!$C$6), $K4631, 0)","v":0},0,{"$f":"IF(AND(NOT(ISBLANK($O4631)), $O4631<'P&L'!$P$8), Z4631, 0)","v":0},{"$f":"IF(OR(ISBLANK($O4631), $O4631>'BankRec Main Acct'!$E$8), Z4631, 0)","v":0},0,{"$f":"IF(AND(NOT(ISBLANK($O4631)), $O4631<'P&L'!$P$8), AC4631, 0)","v":0},{"$f":"IF(OR(ISBLANK($O4631), $O4631>'BankRec Main Acct'!$E$8), AC4631, 0)","v":0},0,{"$f":"IF(AND(NOT(ISBLANK($S4631)), $S4631<'P&L'!$P$8), AF4631, 0)","v":0},{"$f":"IF(OR(ISBLANK($S4631), $S4631>'BankRec Main Acct'!$E$8), AF4631, 0)","v":0},0,{"$f":"IF(AND(NOT(ISBLANK($S4631)), $S4631<'P&L'!$P$8), AI4631, 0)","v":0},{"$f":"IF(OR(ISBLANK($S4631), $S4631>'BankRec Main Acct'!$E$8), AI4631, 0)","v":0},0,{"$f":"IF(AND(NOT(ISBLANK($U4631)), $U4631<'P&L'!$P$8), $AL4631, 0)","v":0},{"$f":"IF(OR(ISBLANK($U4631), $U4631>'DebitCard Rec '!$E$8), $AL4631, 0)","v":0},0,{"$f":"IF(AND(NOT(ISBLANK($U4631)), $U4631<'P&L'!$P$8), $AO4631, 0)","v":0},{"$f":"IF(OR(ISBLANK($U4631), $U4631>'DebitCard Rec '!$E$8), $AO4631, 0)","v":0},0,{"$f":"IF(AND($A4631<'P&L'!$P$8, $X4631='P&L'!$G$6), $AR4631, 0)","v":0},0,{"$f":"IF(AND($A4631<'P&L'!$P$8, $X4631='P&L'!$G$6), $AT4631, 0)","v":0}," "," "," "]
[null,null,null,null,null,null,null,null,null,null,null,null,null,null,null,null,null,null,null,null,null,null,"Jan-00",1900,{"$f":"IF(AND($A4643<'P&L'!$P$8, YEAR($A4643)=Master!$C$6), $K4643, 0)","v":0},0,{"$f":"IF(AND(NOT(ISBLANK($O4643)), $O4643<'P&L'!$P$8), Z4643, 0)","v":0},{"$f":"IF(OR(ISBLANK($O4643), $O4643>'BankRec Main Acct'!$E$8), Z4643, 0)","v":0},0,{"$f":"IF(AND(NOT(ISBLANK($O4643)), $O4643<'P&L'!$P$8), AC4643, 0)","v":0},{"$f":"IF(OR(ISBLANK($O4643), $O4643>'BankRec Main Acct'!$E$8), AC4643, 0)","v":0},0,{"$f":"IF(AND(NOT(ISBLANK($S4643)), $S4643<'P&L'!$P$8), AF4643, 0)","v":0},{"$f":"IF(OR(ISBLANK($S4643), $S4643>'BankRec Main Acct'!$E$8), AF4643, 0)","v":0},0,{"$f":"IF(AND(NOT(ISBLANK($S4643)), $S4643<'P&L'!$P$8), AI4643, 0)","v":0},{"$f":"IF(OR(ISBLANK($S4643), $S4643>'BankRec Main Acct'!$E$8), AI4643, 0)","v":0},0,{"$f":"IF(AND(NOT(ISBLANK($U4643)), $U4643<'P&L'!$P$8), $AL4643, 0)","v":0},{"$f":"IF(OR(ISBLANK($U4643), $U4643>'DebitCard Rec '!$E$8), $AL4643, 0)","v":0},0,{"$f":"IF(AND(NOT(ISBLANK($U4643)), $U4643<'P&L'!$P$8), $AO4643, 0)","v":0},{"$f":"IF(OR(ISBLANK($U4643), $U4643>'DebitCard Rec '!$E$8), $AO4643, 0)","v":0},0,{"$f":"IF(AND($A4643<'P&L'!$P$8, $X4643='P&L'!$G$6), $AR4643, 0)","v":0},0,{"$f":"IF(AND($A4643<'P&L'!$P$8, $X4643='P&L'!$G$6), $AT4643, 0)","v":0}," "," "," "]
[null,null,null,null,null,null,null,null,null,null,null,null,null,null,null,null,null,null,null,null,null,null,"Jan-00",1900,{"$f":"IF(AND($A4647<'P&L'!$P$8, YEAR($A4647)=Master!$C$6), $K4647, 0)","v":0},0,{"$f":"IF(AND(NOT(ISBLANK($O4647)), $O4647<'P&L'!$P$8), Z4647, 0)","v":0},{"$f":"IF(OR(ISBLANK($O4647), $O4647>'BankRec Main Acct'!$E$8), Z4647, 0)","v":0},0,{"$f":"IF(AND(NOT(ISBLANK($O4647)), $O4647<'P&L'!$P$8), AC4647, 0)","v":0},{"$f":"IF(OR(ISBLANK($O4647), $O4647>'BankRec Main Acct'!$E$8), AC4647, 0)","v":0},0,{"$f":"IF(AND(NOT(ISBLANK($S4647)), $S4647<'P&L'!$P$8), AF4647, 0)","v":0},{"$f":"IF(OR(ISBLANK($S4647), $S4647>'BankRec Main Acct'!$E$8), AF4647, 0)","v":0},0,{"$f":"IF(AND(NOT(ISBLANK($S4647)), $S4647<'P&L'!$P$8), AI4647, 0)","v":0},{"$f":"IF(OR(ISBLANK($S4647), $S4647>'BankRec Main Acct'!$E$8), AI4647, 0)","v":0},0,{"$f":"IF(AND(NOT(ISBLANK($U4647)), $U4647<'P&L'!$P$8), $AL4647, 0)","v":0},{"$f":"IF(OR(ISBLANK($U4647), $U4647>'DebitCard Rec '!$E$8), $AL4647, 0)","v":0},0,{"$f":"IF(AND(NOT(ISBLANK($U4647)), $U4647<'P&L'!$P$8), $AO4647, 0)","v":0},{"$f":"IF(OR(ISBLANK($U4647), $U4647>'DebitCard Rec '!$E$8), $AO4647, 0)","v":0},0,{"$f":"IF(AND($A4647<'P&L'!$P$8, $X4647='P&L'!$G$6), $AR4647, 0)","v":0},0,{"$f":"IF(AND($A4647<'P&L'!$P$8, $X4647='P&L'!$G$6), $AT4647, 0)","v":0}," "," "," "]
[null,null,null,null,null,null,null,null,null,null,null,null,null,null,null,null,null,null,null,null,null,null,"Jan-00",1900,{"$f":"IF(AND($A4661<'P&L'!$P$8, YEAR($A4661)=Master!$C$6), $K4661, 0)","v":0},0,{"$f":"IF(AND(NOT(ISBLANK($O4661)), $O4661<'P&L'!$P$8), Z4661, 0)","v":0},{"$f":"IF(OR(ISBLANK($O4661), $O4661>'BankRec Main Acct'!$E$8), Z4661, 0)","v":0},0,{"$f":"IF(AND(NOT(ISBLANK($O4661)), $O4661<'P&L'!$P$8), AC4661, 0)","v":0},{"$f":"IF(OR(ISBLANK($O4661), $O4661>'BankRec Main Acct'!$E$8), AC4661, 0)","v":0},0,{"$f":"IF(AND(NOT(ISBLANK($S4661)), $S4661<'P&L'!$P$8), AF4661, 0)","v":0},{"$f":"IF(OR(ISBLANK($S4661), $S4661>'BankRec Main Acct'!$E$8), AF4661, 0)","v":0},0,{"$f":"IF(AND(NOT(ISBLANK($S4661)), $S4661<'P&L'!$P$8), AI4661, 0)","v":0},{"$f":"IF(OR(ISBLANK($S4661), $S4661>'BankRec Main Acct'!$E$8), AI4661, 0)","v":0},0,{"$f":"IF(AND(NOT(ISBLANK($U4661)), $U4661<'P&L'!$P$8), $AL4661, 0)","v":0},{"$f":"IF(OR(ISBLANK($U4661), $U4661>'DebitCard Rec '!$E$8), $AL4661, 0)","v":0},0,{"$f":"IF(AND(NOT(ISBLANK($U4661)), $U4661<'P&L'!$P$8), $AO4661, 0)","v":0},{"$f":"IF(OR(ISBLANK($U4661), $U4661>'DebitCard Rec '!$E$8), $AO4661, 0)","v":0},0,{"$f":"IF(AND($A4661<'P&L'!$P$8, $X4661='P&L'!$G$6), $AR4661, 0)","v":0},0,{"$f":"IF(AND($A4661<'P&L'!$P$8, $X4661='P&L'!$G$6), $AT4661, 0)","v":0}," "," "," "]
[null,null,null,null,null,null,null,null,null,null,null,null,null,null,null,null,null,null,null,null,null,null,"Jan-00",1900,{"$f":"IF(AND($A4668<'P&L'!$P$8, YEAR($A4668)=Master!$C$6), $K4668, 0)","v":0},0,{"$f":"IF(AND(NOT(ISBLANK($O4668)), $O4668<'P&L'!$P$8), Z4668, 0)","v":0},{"$f":"IF(OR(ISBLANK($O4668), $O4668>'BankRec Main Acct'!$E$8), Z4668, 0)","v":0},0,{"$f":"IF(AND(NOT(ISBLANK($O4668)), $O4668<'P&L'!$P$8), AC4668, 0)","v":0},{"$f":"IF(OR(ISBLANK($O4668), $O4668>'BankRec Main Acct'!$E$8), AC4668, 0)","v":0},0,{"$f":"IF(AND(NOT(ISBLANK($S4668)), $S4668<'P&L'!$P$8), AF4668, 0)","v":0},{"$f":"IF(OR(ISBLANK($S4668), $S4668>'BankRec Main Acct'!$E$8), AF4668, 0)","v":0},0,{"$f":"IF(AND(NOT(ISBLANK($S4668)), $S4668<'P&L'!$P$8), AI4668, 0)","v":0},{"$f":"IF(OR(ISBLANK($S4668), $S4668>'BankRec Main Acct'!$E$8), AI4668, 0)","v":0},0,{"$f":"IF(AND(NOT(ISBLANK($U4668)), $U4668<'P&L'!$P$8), $AL4668, 0)","v":0},{"$f":"IF(OR(ISBLANK($U4668), $U4668>'DebitCard Rec '!$E$8), $AL4668, 0)","v":0},0,{"$f":"IF(AND(NOT(ISBLANK($U4668)), $U4668<'P&L'!$P$8), $AO4668, 0)","v":0},{"$f":"IF(OR(ISBLANK($U4668), $U4668>'DebitCard Rec '!$E$8), $AO4668, 0)","v":0},0,{"$f":"IF(AND($A4668<'P&L'!$P$8, $X4668='P&L'!$G$6), $AR4668, 0)","v":0},0,{"$f":"IF(AND($A4668<'P&L'!$P$8, $X4668='P&L'!$G$6), $AT4668, 0)","v":0}," "," "," "]
[null,null,null,null,null,null,null,null,null,null,null,null,null,null,null,null,null,null,null,null,null,null,"Jan-00",1900,{"$f":"IF(AND($A4680<'P&L'!$P$8, YEAR($A4680)=Master!$C$6), $K4680, 0)","v":0},0,{"$f":"IF(AND(NOT(ISBLANK($O4680)), $O4680<'P&L'!$P$8), Z4680, 0)","v":0},{"$f":"IF(OR(ISBLANK($O4680), $O4680>'BankRec Main Acct'!$E$8), Z4680, 0)","v":0},0,{"$f":"IF(AND(NOT(ISBLANK($O4680)), $O4680<'P&L'!$P$8), AC4680, 0)","v":0},{"$f":"IF(OR(ISBLANK($O4680), $O4680>'BankRec Main Acct'!$E$8), AC4680, 0)","v":0},0,{"$f":"IF(AND(NOT(ISBLANK($S4680)), $S4680<'P&L'!$P$8), AF4680, 0)","v":0},{"$f":"IF(OR(ISBLANK($S4680), $S4680>'BankRec Main Acct'!$E$8), AF4680, 0)","v":0},0,{"$f":"IF(AND(NOT(ISBLANK($S4680)), $S4680<'P&L'!$P$8), AI4680, 0)","v":0},{"$f":"IF(OR(ISBLANK($S4680), $S4680>'BankRec Main Acct'!$E$8), AI4680, 0)","v":0},0,{"$f":"IF(AND(NOT(ISBLANK($U4680)), $U4680<'P&L'!$P$8), $AL4680, 0)","v":0},{"$f":"IF(OR(ISBLANK($U4680), $U4680>'DebitCard Rec '!$E$8), $AL4680, 0)","v":0},0,{"$f":"IF(AND(NOT(ISBLANK($U4680)), $U4680<'P&L'!$P$8), $AO4680, 0)","v":0},{"$f":"IF(OR(ISBLANK($U4680), $U4680>'DebitCard Rec '!$E$8), $AO4680, 0)","v":0},0,{"$f":"IF(AND($A4680<'P&L'!$P$8, $X4680='P&L'!$G$6), $AR4680, 0)","v":0},0,{"$f":"IF(AND($A4680<'P&L'!$P$8, $X4680='P&L'!$G$6), $AT4680, 0)","v":0}," "," "," "]
[null,null,null,null,null,null,null,null,null,null,null,null,null,null,null,null,null,null,null,null,null,null,"Jan-00",1900,{"$f":"IF(AND($A4683<'P&L'!$P$8, YEAR($A4683)=Master!$C$6), $K4683, 0)","v":0},0,{"$f":"IF(AND(NOT(ISBLANK($O4683)), $O4683<'P&L'!$P$8), Z4683, 0)","v":0},{"$f":"IF(OR(ISBLANK($O4683), $O4683>'BankRec Main Acct'!$E$8), Z4683, 0)","v":0},0,{"$f":"IF(AND(NOT(ISBLANK($O4683)), $O4683<'P&L'!$P$8), AC4683, 0)","v":0},{"$f":"IF(OR(ISBLANK($O4683), $O4683>'BankRec Main Acct'!$E$8), AC4683, 0)","v":0},0,{"$f":"IF(AND(NOT(ISBLANK($S4683)), $S4683<'P&L'!$P$8), AF4683, 0)","v":0},{"$f":"IF(OR(ISBLANK($S4683), $S4683>'BankRec Main Acct'!$E$8), AF4683, 0)","v":0},0,{"$f":"IF(AND(NOT(ISBLANK($S4683)), $S4683<'P&L'!$P$8), AI4683, 0)","v":0},{"$f":"IF(OR(ISBLANK($S4683), $S4683>'BankRec Main Acct'!$E$8), AI4683, 0)","v":0},0,{"$f":"IF(AND(NOT(ISBLANK($U4683)), $U4683<'P&L'!$P$8), $AL4683, 0)","v":0},{"$f":"IF(OR(ISBLANK($U4683), $U4683>'DebitCard Rec '!$E$8), $AL4683, 0)","v":0},0,{"$f":"IF(AND(NOT(ISBLANK($U4683)), $U4683<'P&L'!$P$8), $AO4683, 0)","v":0},{"$f":"IF(OR(ISBLANK($U4683), $U4683>'DebitCard Rec '!$E$8), $AO4683, 0)","v":0},0,{"$f":"IF(AND($A4683<'P&L'!$P$8, $X4683='P&L'!$G$6), $AR4683, 0)","v":0},0,{"$f":"IF(AND($A4683<'P&L'!$P$8, $X4683='P&L'!$G$6), $AT4683, 0)","v":0},{"$f":"CONCATENATE(B4683,\" \",C4683)","v":" "}," "," "]
[null,null,null,null,null,null,null,null,null,null,null,null,null,null,null,null,null,null,null,null,null,null,"Jan-00",1900,{"$f":"IF(AND($A4696<'P&L'!$P$8, YEAR($A4696)=Master!$C$6), $K4696, 0)","v":0},0,{"$f":"IF(AND(NOT(ISBLANK($O4696)), $O4696<'P&L'!$P$8), Z4696, 0)","v":0},{"$f":"IF(OR(ISBLANK($O4696), $O4696>'BankRec Main Acct'!$E$8), Z4696, 0)","v":0},0,{"$f":"IF(AND(NOT(ISBLANK($O4696)), $O4696<'P&L'!$P$8), AC4696, 0)","v":0},{"$f":"IF(OR(ISBLANK($O4696), $O4696>'BankRec Main Acct'!$E$8), AC4696, 0)","v":0},0,{"$f":"IF(AND(NOT(ISBLANK($S4696)), $S4696<'P&L'!$P$8), AF4696, 0)","v":0},{"$f":"IF(OR(ISBLANK($S4696), $S4696>'BankRec Main Acct'!$E$8), AF4696, 0)","v":0},0,{"$f":"IF(AND(NOT(ISBLANK($S4696)), $S4696<'P&L'!$P$8), AI4696, 0)","v":0},{"$f":"IF(OR(ISBLANK($S4696), $S4696>'BankRec Main Acct'!$E$8), AI4696, 0)","v":0},0,{"$f":"IF(AND(NOT(ISBLANK($U4696)), $U4696<'P&L'!$P$8), $AL4696, 0)","v":0},{"$f":"IF(OR(ISBLANK($U4696), $U4696>'DebitCard Rec '!$E$8), $AL4696, 0)","v":0},0,{"$f":"IF(AND(NOT(ISBLANK($U4696)), $U4696<'P&L'!$P$8), $AO4696, 0)","v":0},{"$f":"IF(OR(ISBLANK($U4696), $U4696>'DebitCard Rec '!$E$8), $AO4696, 0)","v":0},0,{"$f":"IF(AND($A4696<'P&L'!$P$8, $X4696='P&L'!$G$6), $AR4696, 0)","v":0},0,{"$f":"IF(AND($A4696<'P&L'!$P$8, $X4696='P&L'!$G$6), $AT4696, 0)","v":0}," "," "," "]
[null,null,null,null,null,null,null,null,null,null,null,null,null,null,null,null,null,null,null,null,null,null,"Jan-00",1900,{"$f":"IF(AND($A4701<'P&L'!$P$8, YEAR($A4701)=Master!$C$6), $K4701, 0)","v":0},0,{"$f":"IF(AND(NOT(ISBLANK($O4701)), $O4701<'P&L'!$P$8), Z4701, 0)","v":0},{"$f":"IF(OR(ISBLANK($O4701), $O4701>'BankRec Main Acct'!$E$8), Z4701, 0)","v":0},0,{"$f":"IF(AND(NOT(ISBLANK($O4701)), $O4701<'P&L'!$P$8), AC4701, 0)","v":0},{"$f":"IF(OR(ISBLANK($O4701), $O4701>'BankRec Main Acct'!$E$8), AC4701, 0)","v":0},0,{"$f":"IF(AND(NOT(ISBLANK($S4701)), $S4701<'P&L'!$P$8), AF4701, 0)","v":0},{"$f":"IF(OR(ISBLANK($S4701), $S4701>'BankRec Main Acct'!$E$8), AF4701, 0)","v":0},0,{"$f":"IF(AND(NOT(ISBLANK($S4701)), $S4701<'P&L'!$P$8), AI4701, 0)","v":0},{"$f":"IF(OR(ISBLANK($S4701), $S4701>'BankRec Main Acct'!$E$8), AI4701, 0)","v":0},0,{"$f":"IF(AND(NOT(ISBLANK($U4701)), $U4701<'P&L'!$P$8), $AL4701, 0)","v":0},{"$f":"IF(OR(ISBLANK($U4701), $U4701>'DebitCard Rec '!$E$8), $AL4701, 0)","v":0},0,{"$f":"IF(AND(NOT(ISBLANK($U4701)), $U4701<'P&L'!$P$8), $AO4701, 0)","v":0},{"$f":"IF(OR(ISBLANK($U4701), $U4701>'DebitCard Rec '!$E$8), $AO4701, 0)","v":0},0,{"$f":"IF(AND($A4701<'P&L'!$P$8, $X4701='P&L'!$G$6), $AR4701, 0)","v":0},0,{"$f":"IF(AND($A4701<'P&L'!$P$8, $X4701='P&L'!$G$6), $AT4701, 0)","v":0}," "," "," "]
[null,null,null,null,null,null,null,null,null,null,null,null,null,null,null,null,null,null,null,null,null,null,"Jan-00",1900,{"$f":"IF(AND($A4713<'P&L'!$P$8, YEAR($A4713)=Master!$C$6), $K4713, 0)","v":0},0,{"$f":"IF(AND(NOT(ISBLANK($O4713)), $O4713<'P&L'!$P$8), Z4713, 0)","v":0},{"$f":"IF(OR(ISBLANK($O4713), $O4713>'BankRec Main Acct'!$E$8), Z4713, 0)","v":0},0,{"$f":"IF(AND(NOT(ISBLANK($O4713)), $O4713<'P&L'!$P$8), AC4713, 0)","v":0},{"$f":"IF(OR(ISBLANK($O4713), $O4713>'BankRec Main Acct'!$E$8), AC4713, 0)","v":0},0,{"$f":"IF(AND(NOT(ISBLANK($S4713)), $S4713<'P&L'!$P$8), AF4713, 0)","v":0},{"$f":"IF(OR(ISBLANK($S4713), $S4713>'BankRec Main Acct'!$E$8), AF4713, 0)","v":0},0,{"$f":"IF(AND(NOT(ISBLANK($S4713)), $S4713<'P&L'!$P$8), AI4713, 0)","v":0},{"$f":"IF(OR(ISBLANK($S4713), $S4713>'BankRec Main Acct'!$E$8), AI4713, 0)","v":0},0,{"$f":"IF(AND(NOT(ISBLANK($U4713)), $U4713<'P&L'!$P$8), $AL4713, 0)","v":0},{"$f":"IF(OR(ISBLANK($U4713), $U4713>'DebitCard Rec '!$E$8), $AL4713, 0)","v":0},0,{"$f":"IF(AND(NOT(ISBLANK($U4713)), $U4713<'P&L'!$P$8), $AO4713, 0)","v":0},{"$f":"IF(OR(ISBLANK($U4713), $U4713>'DebitCard Rec '!$E$8), $AO4713, 0)","v":0},0,{"$f":"IF(AND($A4713<'P&L'!$P$8, $X4713='P&L'!$G$6), $AR4713, 0)","v":0},0,{"$f":"IF(AND($A4713<'P&L'!$P$8, $X4713='P&L'!$G$6), $AT4713, 0)","v":0}," "," "," "]
[null,null,null,null,null,null,null,null,null,null,null,null,null,null,null,null,null,null,null,null,null,null,"Jan-00",1900,{"$f":"IF(AND($A4720<'P&L'!$P$8, YEAR($A4720)=Master!$C$6), $K4720, 0)","v":0},0,{"$f":"IF(AND(NOT(ISBLANK($O4720)), $O4720<'P&L'!$P$8), Z4720, 0)","v":0},{"$f":"IF(OR(ISBLANK($O4720), $O4720>'BankRec Main Acct'!$E$8), Z4720, 0)","v":0},0,{"$f":"IF(AND(NOT(ISBLANK($O4720)), $O4720<'P&L'!$P$8), AC4720, 0)","v":0},{"$f":"IF(OR(ISBLANK($O4720), $O4720>'BankRec Main Acct'!$E$8), AC4720, 0)","v":0},0,{"$f":"IF(AND(NOT(ISBLANK($S4720)), $S4720<'P&L'!$P$8), AF4720, 0)","v":0},{"$f":"IF(OR(ISBLANK($S4720), $S4720>'BankRec Main Acct'!$E$8), AF4720, 0)","v":0},0,{"$f":"IF(AND(NOT(ISBLANK($S4720)), $S4720<'P&L'!$P$8), AI4720, 0)","v":0},{"$f":"IF(OR(ISBLANK($S4720), $S4720>'BankRec Main Acct'!$E$8), AI4720, 0)","v":0},0,{"$f":"IF(AND(NOT(ISBLANK($U4720)), $U4720<'P&L'!$P$8), $AL4720, 0)","v":0},{"$f":"IF(OR(ISBLANK($U4720), $U4720>'DebitCard Rec '!$E$8), $AL4720, 0)","v":0},0,{"$f":"IF(AND(NOT(ISBLANK($U4720)), $U4720<'P&L'!$P$8), $AO4720, 0)","v":0},{"$f":"IF(OR(ISBLANK($U4720), $U4720>'DebitCard Rec '!$E$8), $AO4720, 0)","v":0},0,{"$f":"IF(AND($A4720<'P&L'!$P$8, $X4720='P&L'!$G$6), $AR4720, 0)","v":0},0,{"$f":"IF(AND($A4720<'P&L'!$P$8, $X4720='P&L'!$G$6), $AT4720, 0)","v":0}," "," "," "]
[null,null,null,null,null,null,null,null,null,null,null,null,null,null,null,null,null,null,null,null,null,null,"Jan-00",1900,{"$f":"IF(AND($A4727<'P&L'!$P$8, YEAR($A4727)=Master!$C$6), $K4727, 0)","v":0},0,{"$f":"IF(AND(NOT(ISBLANK($O4727)), $O4727<'P&L'!$P$8), Z4727, 0)","v":0},{"$f":"IF(OR(ISBLANK($O4727), $O4727>'BankRec Main Acct'!$E$8), Z4727, 0)","v":0},0,{"$f":"IF(AND(NOT(ISBLANK($O4727)), $O4727<'P&L'!$P$8), AC4727, 0)","v":0},{"$f":"IF(OR(ISBLANK($O4727), $O4727>'BankRec Main Acct'!$E$8), AC4727, 0)","v":0},0,{"$f":"IF(AND(NOT(ISBLANK($S4727)), $S4727<'P&L'!$P$8), AF4727, 0)","v":0},{"$f":"IF(OR(ISBLANK($S4727), $S4727>'BankRec Main Acct'!$E$8), AF4727, 0)","v":0},0,{"$f":"IF(AND(NOT(ISBLANK($S4727)), $S4727<'P&L'!$P$8), AI4727, 0)","v":0},{"$f":"IF(OR(ISBLANK($S4727), $S4727>'BankRec Main Acct'!$E$8), AI4727, 0)","v":0},0,{"$f":"IF(AND(NOT(ISBLANK($U4727)), $U4727<'P&L'!$P$8), $AL4727, 0)","v":0},{"$f":"IF(OR(ISBLANK($U4727), $U4727>'DebitCard Rec '!$E$8), $AL4727, 0)","v":0},0,{"$f":"IF(AND(NOT(ISBLANK($U4727)), $U4727<'P&L'!$P$8), $AO4727, 0)","v":0},{"$f":"IF(OR(ISBLANK($U4727), $U4727>'DebitCard Rec '!$E$8), $AO4727, 0)","v":0},0,{"$f":"IF(AND($A4727<'P&L'!$P$8, $X4727='P&L'!$G$6), $AR4727, 0)","v":0},0,{"$f":"IF(AND($A4727<'P&L'!$P$8, $X4727='P&L'!$G$6), $AT4727, 0)","v":0}," "," "," "]
[null,null,null,null,null,null,null,null,null,null,null,null,null,null,null,null,null,null,null,null,null,null,"Jan-00",1900,{"$f":"IF(AND($A4738<'P&L'!$P$8, YEAR($A4738)=Master!$C$6), $K4738, 0)","v":0},0,{"$f":"IF(AND(NOT(ISBLANK($O4738)), $O4738<'P&L'!$P$8), Z4738, 0)","v":0},{"$f":"IF(OR(ISBLANK($O4738), $O4738>'BankRec Main Acct'!$E$8), Z4738, 0)","v":0},0,{"$f":"IF(AND(NOT(ISBLANK($O4738)), $O4738<'P&L'!$P$8), AC4738, 0)","v":0},{"$f":"IF(OR(ISBLANK($O4738), $O4738>'BankRec Main Acct'!$E$8), AC4738, 0)","v":0},0,{"$f":"IF(AND(NOT(ISBLANK($S4738)), $S4738<'P&L'!$P$8), AF4738, 0)","v":0},{"$f":"IF(OR(ISBLANK($S4738), $S4738>'BankRec Main Acct'!$E$8), AF4738, 0)","v":0},0,{"$f":"IF(AND(NOT(ISBLANK($S4738)), $S4738<'P&L'!$P$8), AI4738, 0)","v":0},{"$f":"IF(OR(ISBLANK($S4738), $S4738>'BankRec Main Acct'!$E$8), AI4738, 0)","v":0},0,{"$f":"IF(AND(NOT(ISBLANK($U4738)), $U4738<'P&L'!$P$8), $AL4738, 0)","v":0},{"$f":"IF(OR(ISBLANK($U4738), $U4738>'DebitCard Rec '!$E$8), $AL4738, 0)","v":0},0,{"$f":"IF(AND(NOT(ISBLANK($U4738)), $U4738<'P&L'!$P$8), $AO4738, 0)","v":0},{"$f":"IF(OR(ISBLANK($U4738), $U4738>'DebitCard Rec '!$E$8), $AO4738, 0)","v":0},0,{"$f":"IF(AND($A4738<'P&L'!$P$8, $X4738='P&L'!$G$6), $AR4738, 0)","v":0},0,{"$f":"IF(AND($A4738<'P&L'!$P$8, $X4738='P&L'!$G$6), $AT4738, 0)","v":0}," "," "," "]
[null,null,null,null,null,null,null,null,null,null,null,null,null,null,null,null,null,null,null,null,null,null,"Jan-00",1900,{"$f":"IF(AND($A4750<'P&L'!$P$8, YEAR($A4750)=Master!$C$6), $K4750, 0)","v":0},0,{"$f":"IF(AND(NOT(ISBLANK($O4750)), $O4750<'P&L'!$P$8), Z4750, 0)","v":0},{"$f":"IF(OR(ISBLANK($O4750), $O4750>'BankRec Main Acct'!$E$8), Z4750, 0)","v":0},0,{"$f":"IF(AND(NOT(ISBLANK($O4750)), $O4750<'P&L'!$P$8), AC4750, 0)","v":0},{"$f":"IF(OR(ISBLANK($O4750), $O4750>'BankRec Main Acct'!$E$8), AC4750, 0)","v":0},0,{"$f":"IF(AND(NOT(ISBLANK($S4750)), $S4750<'P&L'!$P$8), AF4750, 0)","v":0},{"$f":"IF(OR(ISBLANK($S4750), $S4750>'BankRec Main Acct'!$E$8), AF4750, 0)","v":0},0,{"$f":"IF(AND(NOT(ISBLANK($S4750)), $S4750<'P&L'!$P$8), AI4750, 0)","v":0},{"$f":"IF(OR(ISBLANK($S4750), $S4750>'BankRec Main Acct'!$E$8), AI4750, 0)","v":0},0,{"$f":"IF(AND(NOT(ISBLANK($U4750)), $U4750<'P&L'!$P$8), $AL4750, 0)","v":0},{"$f":"IF(OR(ISBLANK($U4750), $U4750>'DebitCard Rec '!$E$8), $AL4750, 0)","v":0},0,{"$f":"IF(AND(NOT(ISBLANK($U4750)), $U4750<'P&L'!$P$8), $AO4750, 0)","v":0},{"$f":"IF(OR(ISBLANK($U4750), $U4750>'DebitCard Rec '!$E$8), $AO4750, 0)","v":0},0,{"$f":"IF(AND($A4750<'P&L'!$P$8, $X4750='P&L'!$G$6), $AR4750, 0)","v":0},0,{"$f":"IF(AND($A4750<'P&L'!$P$8, $X4750='P&L'!$G$6), $AT4750, 0)","v":0}," "," "," "]
[null,null,null,null,null,null,null,null,null,null,null,null,null,null,null,null,null,null,null,null,null,null,"Jan-00",1900,{"$f":"IF(AND($A4753<'P&L'!$P$8, YEAR($A4753)=Master!$C$6), $K4753, 0)","v":0},0,{"$f":"IF(AND(NOT(ISBLANK($O4753)), $O4753<'P&L'!$P$8), Z4753, 0)","v":0},{"$f":"IF(OR(ISBLANK($O4753), $O4753>'BankRec Main Acct'!$E$8), Z4753, 0)","v":0},0,{"$f":"IF(AND(NOT(ISBLANK($O4753)), $O4753<'P&L'!$P$8), AC4753, 0)","v":0},{"$f":"IF(OR(ISBLANK($O4753), $O4753>'BankRec Main Acct'!$E$8), AC4753, 0)","v":0},0,{"$f":"IF(AND(NOT(ISBLANK($S4753)), $S4753<'P&L'!$P$8), AF4753, 0)","v":0},{"$f":"IF(OR(ISBLANK($S4753), $S4753>'BankRec Main Acct'!$E$8), AF4753, 0)","v":0},0,{"$f":"IF(AND(NOT(ISBLANK($S4753)), $S4753<'P&L'!$P$8), AI4753, 0)","v":0},{"$f":"IF(OR(ISBLANK($S4753), $S4753>'BankRec Main Acct'!$E$8), AI4753, 0)","v":0},0,{"$f":"IF(AND(NOT(ISBLANK($U4753)), $U4753<'P&L'!$P$8), $AL4753, 0)","v":0},{"$f":"IF(OR(ISBLANK($U4753), $U4753>'DebitCard Rec '!$E$8), $AL4753, 0)","v":0},0,{"$f":"IF(AND(NOT(ISBLANK($U4753)), $U4753<'P&L'!$P$8), $AO4753, 0)","v":0},{"$f":"IF(OR(ISBLANK($U4753), $U4753>'DebitCard Rec '!$E$8), $AO4753, 0)","v":0},0,{"$f":"IF(AND($A4753<'P&L'!$P$8, $X4753='P&L'!$G$6), $AR4753, 0)","v":0},0,{"$f":"IF(AND($A4753<'P&L'!$P$8, $X4753='P&L'!$G$6), $AT4753, 0)","v":0}," "," "," "]
[null,null,null,null,null,null,null,null,null,null,null,null,null,null,null,null,null,null,null,null,null,null,"Jan-00",1900,{"$f":"IF(AND($A4760<'P&L'!$P$8, YEAR($A4760)=Master!$C$6), $K4760, 0)","v":0},0,{"$f":"IF(AND(NOT(ISBLANK($O4760)), $O4760<'P&L'!$P$8), Z4760, 0)","v":0},{"$f":"IF(OR(ISBLANK($O4760), $O4760>'BankRec Main Acct'!$E$8), Z4760, 0)","v":0},0,{"$f":"IF(AND(NOT(ISBLANK($O4760)), $O4760<'P&L'!$P$8), AC4760, 0)","v":0},{"$f":"IF(OR(ISBLANK($O4760), $O4760>'BankRec Main Acct'!$E$8), AC4760, 0)","v":0},0,{"$f":"IF(AND(NOT(ISBLANK($S4760)), $S4760<'P&L'!$P$8), AF4760, 0)","v":0},{"$f":"IF(OR(ISBLANK($S4760), $S4760>'BankRec Main Acct'!$E$8), AF4760, 0)","v":0},0,{"$f":"IF(AND(NOT(ISBLANK($S4760)), $S4760<'P&L'!$P$8), AI4760, 0)","v":0},{"$f":"IF(OR(ISBLANK($S4760), $S4760>'BankRec Main Acct'!$E$8), AI4760, 0)","v":0},0,{"$f":"IF(AND(NOT(ISBLANK($U4760)), $U4760<'P&L'!$P$8), $AL4760, 0)","v":0},{"$f":"IF(OR(ISBLANK($U4760), $U4760>'DebitCard Rec '!$E$8), $AL4760, 0)","v":0},0,{"$f":"IF(AND(NOT(ISBLANK($U4760)), $U4760<'P&L'!$P$8), $AO4760, 0)","v":0},{"$f":"IF(OR(ISBLANK($U4760), $U4760>'DebitCard Rec '!$E$8), $AO4760, 0)","v":0},0,{"$f":"IF(AND($A4760<'P&L'!$P$8, $X4760='P&L'!$G$6), $AR4760, 0)","v":0},0,{"$f":"IF(AND($A4760<'P&L'!$P$8, $X4760='P&L'!$G$6), $AT4760, 0)","v":0}," "," "," "]
[null,null,null,null,null,null,null,null,null,null,null,null,null,null,null,null,null,null,null,null,null,null,"Jan-00",1900,{"$f":"IF(AND($A4776<'P&L'!$P$8, YEAR($A4776)=Master!$C$6), $K4776, 0)","v":0},0,{"$f":"IF(AND(NOT(ISBLANK($O4776)), $O4776<'P&L'!$P$8), Z4776, 0)","v":0},{"$f":"IF(OR(ISBLANK($O4776), $O4776>'BankRec Main Acct'!$E$8), Z4776, 0)","v":0},0,{"$f":"IF(AND(NOT(ISBLANK($O4776)), $O4776<'P&L'!$P$8), AC4776, 0)","v":0},{"$f":"IF(OR(ISBLANK($O4776), $O4776>'BankRec Main Acct'!$E$8), AC4776, 0)","v":0},0,{"$f":"IF(AND(NOT(ISBLANK($S4776)), $S4776<'P&L'!$P$8), AF4776, 0)","v":0},{"$f":"IF(OR(ISBLANK($S4776), $S4776>'BankRec Main Acct'!$E$8), AF4776, 0)","v":0},0,{"$f":"IF(AND(NOT(ISBLANK($S4776)), $S4776<'P&L'!$P$8), AI4776, 0)","v":0},{"$f":"IF(OR(ISBLANK($S4776), $S4776>'BankRec Main Acct'!$E$8), AI4776, 0)","v":0},0,{"$f":"IF(AND(NOT(ISBLANK($U4776)), $U4776<'P&L'!$P$8), $AL4776, 0)","v":0},{"$f":"IF(OR(ISBLANK($U4776), $U4776>'DebitCard Rec '!$E$8), $AL4776, 0)","v":0},0,{"$f":"IF(AND(NOT(ISBLANK($U4776)), $U4776<'P&L'!$P$8), $AO4776, 0)","v":0},{"$f":"IF(OR(ISBLANK($U4776), $U4776>'DebitCard Rec '!$E$8), $AO4776, 0)","v":0},0,{"$f":"IF(AND($A4776<'P&L'!$P$8, $X4776='P&L'!$G$6), $AR4776, 0)","v":0},0,{"$f":"IF(AND($A4776<'P&L'!$P$8, $X4776='P&L'!$G$6), $AT4776, 0)","v":0}," "," "," "]
[null,null,null,null,null,null,null,null,null,null,null,null,null,null,null,null,null,null,null,null,null,null,"Jan-00",1900,{"$f":"IF(AND($A4778<'P&L'!$P$8, YEAR($A4778)=Master!$C$6), $K4778, 0)","v":0},0,{"$f":"IF(AND(NOT(ISBLANK($O4778)), $O4778<'P&L'!$P$8), Z4778, 0)","v":0},{"$f":"IF(OR(ISBLANK($O4778), $O4778>'BankRec Main Acct'!$E$8), Z4778, 0)","v":0},0,{"$f":"IF(AND(NOT(ISBLANK($O4778)), $O4778<'P&L'!$P$8), AC4778, 0)","v":0},{"$f":"IF(OR(ISBLANK($O4778), $O4778>'BankRec Main Acct'!$E$8), AC4778, 0)","v":0},0,{"$f":"IF(AND(NOT(ISBLANK($S4778)), $S4778<'P&L'!$P$8), AF4778, 0)","v":0},{"$f":"IF(OR(ISBLANK($S4778), $S4778>'BankRec Main Acct'!$E$8), AF4778, 0)","v":0},0,{"$f":"IF(AND(NOT(ISBLANK($S4778)), $S4778<'P&L'!$P$8), AI4778, 0)","v":0},{"$f":"IF(OR(ISBLANK($S4778), $S4778>'BankRec Main Acct'!$E$8), AI4778, 0)","v":0},0,{"$f":"IF(AND(NOT(ISBLANK($U4778)), $U4778<'P&L'!$P$8), $AL4778, 0)","v":0},{"$f":"IF(OR(ISBLANK($U4778), $U4778>'DebitCard Rec '!$E$8), $AL4778, 0)","v":0},0,{"$f":"IF(AND(NOT(ISBLANK($U4778)), $U4778<'P&L'!$P$8), $AO4778, 0)","v":0},{"$f":"IF(OR(ISBLANK($U4778), $U4778>'DebitCard Rec '!$E$8), $AO4778, 0)","v":0},0,{"$f":"IF(AND($A4778<'P&L'!$P$8, $X4778='P&L'!$G$6), $AR4778, 0)","v":0},0,{"$f":"IF(AND($A4778<'P&L'!$P$8, $X4778='P&L'!$G$6), $AT4778, 0)","v":0}," "," "," "]
[null,null,null,null,null,null,null,null,null,null,null,null,null,null,null,null,null,null,null,null,null,null,"Jan-00",1900,{"$f":"IF(AND($A4790<'P&L'!$P$8, YEAR($A4790)=Master!$C$6), $K4790, 0)","v":0},0,{"$f":"IF(AND(NOT(ISBLANK($O4790)), $O4790<'P&L'!$P$8), Z4790, 0)","v":0},{"$f":"IF(OR(ISBLANK($O4790), $O4790>'BankRec Main Acct'!$E$8), Z4790, 0)","v":0},0,{"$f":"IF(AND(NOT(ISBLANK($O4790)), $O4790<'P&L'!$P$8), AC4790, 0)","v":0},{"$f":"IF(OR(ISBLANK($O4790), $O4790>'BankRec Main Acct'!$E$8), AC4790, 0)","v":0},0,{"$f":"IF(AND(NOT(ISBLANK($S4790)), $S4790<'P&L'!$P$8), AF4790, 0)","v":0},{"$f":"IF(OR(ISBLANK($S4790), $S4790>'BankRec Main Acct'!$E$8), AF4790, 0)","v":0},0,{"$f":"IF(AND(NOT(ISBLANK($S4790)), $S4790<'P&L'!$P$8), AI4790, 0)","v":0},{"$f":"IF(OR(ISBLANK($S4790), $S4790>'BankRec Main Acct'!$E$8), AI4790, 0)","v":0},0,{"$f":"IF(AND(NOT(ISBLANK($U4790)), $U4790<'P&L'!$P$8), $AL4790, 0)","v":0},{"$f":"IF(OR(ISBLANK($U4790), $U4790>'DebitCard Rec '!$E$8), $AL4790, 0)","v":0},0,{"$f":"IF(AND(NOT(ISBLANK($U4790)), $U4790<'P&L'!$P$8), $AO4790, 0)","v":0},{"$f":"IF(OR(ISBLANK($U4790), $U4790>'DebitCard Rec '!$E$8), $AO4790, 0)","v":0},0,{"$f":"IF(AND($A4790<'P&L'!$P$8, $X4790='P&L'!$G$6), $AR4790, 0)","v":0},0,{"$f":"IF(AND($A4790<'P&L'!$P$8, $X4790='P&L'!$G$6), $AT4790, 0)","v":0}," "," "," "]
[null,null,null,null,null,null,null,null,null,null,null,null,null,null,null,null,null,null,null,null,null,null,"Jan-00",1900,{"$f":"IF(AND($A4802<'P&L'!$P$8, YEAR($A4802)=Master!$C$6), $K4802, 0)","v":0},0,{"$f":"IF(AND(NOT(ISBLANK($O4802)), $O4802<'P&L'!$P$8), Z4802, 0)","v":0},{"$f":"IF(OR(ISBLANK($O4802), $O4802>'BankRec Main Acct'!$E$8), Z4802, 0)","v":0},0,{"$f":"IF(AND(NOT(ISBLANK($O4802)), $O4802<'P&L'!$P$8), AC4802, 0)","v":0},{"$f":"IF(OR(ISBLANK($O4802), $O4802>'BankRec Main Acct'!$E$8), AC4802, 0)","v":0},0,{"$f":"IF(AND(NOT(ISBLANK($S4802)), $S4802<'P&L'!$P$8), AF4802, 0)","v":0},{"$f":"IF(OR(ISBLANK($S4802), $S4802>'BankRec Main Acct'!$E$8), AF4802, 0)","v":0},0,{"$f":"IF(AND(NOT(ISBLANK($S4802)), $S4802<'P&L'!$P$8), AI4802, 0)","v":0},{"$f":"IF(OR(ISBLANK($S4802), $S4802>'BankRec Main Acct'!$E$8), AI4802, 0)","v":0},0,{"$f":"IF(AND(NOT(ISBLANK($U4802)), $U4802<'P&L'!$P$8), $AL4802, 0)","v":0},{"$f":"IF(OR(ISBLANK($U4802), $U4802>'DebitCard Rec '!$E$8), $AL4802, 0)","v":0},0,{"$f":"IF(AND(NOT(ISBLANK($U4802)), $U4802<'P&L'!$P$8), $AO4802, 0)","v":0},{"$f":"IF(OR(ISBLANK($U4802), $U4802>'DebitCard Rec '!$E$8), $AO4802, 0)","v":0},0,{"$f":"IF(AND($A4802<'P&L'!$P$8, $X4802='P&L'!$G$6), $AR4802, 0)","v":0},0,{"$f":"IF(AND($A4802<'P&L'!$P$8, $X4802='P&L'!$G$6), $AT4802, 0)","v":0}," "," "," "]
[null,null,null,null,null,null,null,null,null,null,null,null,null,null,null,null,null,null,null,null,null,null,"Jan-00",1900,{"$f":"IF(AND($A4807<'P&L'!$P$8, YEAR($A4807)=Master!$C$6), $K4807, 0)","v":0},0,{"$f":"IF(AND(NOT(ISBLANK($O4807)), $O4807<'P&L'!$P$8), Z4807, 0)","v":0},{"$f":"IF(OR(ISBLANK($O4807), $O4807>'BankRec Main Acct'!$E$8), Z4807, 0)","v":0},0,{"$f":"IF(AND(NOT(ISBLANK($O4807)), $O4807<'P&L'!$P$8), AC4807, 0)","v":0},{"$f":"IF(OR(ISBLANK($O4807), $O4807>'BankRec Main Acct'!$E$8), AC4807, 0)","v":0},0,{"$f":"IF(AND(NOT(ISBLANK($S4807)), $S4807<'P&L'!$P$8), AF4807, 0)","v":0},{"$f":"IF(OR(ISBLANK($S4807), $S4807>'BankRec Main Acct'!$E$8), AF4807, 0)","v":0},0,{"$f":"IF(AND(NOT(ISBLANK($S4807)), $S4807<'P&L'!$P$8), AI4807, 0)","v":0},{"$f":"IF(OR(ISBLANK($S4807), $S4807>'BankRec Main Acct'!$E$8), AI4807, 0)","v":0},0,{"$f":"IF(AND(NOT(ISBLANK($U4807)), $U4807<'P&L'!$P$8), $AL4807, 0)","v":0},{"$f":"IF(OR(ISBLANK($U4807), $U4807>'DebitCard Rec '!$E$8), $AL4807, 0)","v":0},0,{"$f":"IF(AND(NOT(ISBLANK($U4807)), $U4807<'P&L'!$P$8), $AO4807, 0)","v":0},{"$f":"IF(OR(ISBLANK($U4807), $U4807>'DebitCard Rec '!$E$8), $AO4807, 0)","v":0},0,{"$f":"IF(AND($A4807<'P&L'!$P$8, $X4807='P&L'!$G$6), $AR4807, 0)","v":0},0,{"$f":"IF(AND($A4807<'P&L'!$P$8, $X4807='P&L'!$G$6), $AT4807, 0)","v":0}," "," "," "]
[null,null,null,null,null,null,null,null,null,null,null,null,null,null,null,null,null,null,null,null,null,null,{"$f":"TEXT($A4820, \"mmm-yy\")","v":"Jan-00"},{"$f":"YEAR($A4820)","v":1900},{"$f":"IF(AND($A4820<'P&L'!$P$8, YEAR($A4820)=Master!$C$6), $K4820, 0)","v":0},0,{"$f":"IF(AND(NOT(ISBLANK($O4820)), $O4820<'P&L'!$P$8), Z4820, 0)","v":0},{"$f":"IF(OR(ISBLANK($O4820), $O4820>'BankRec Main Acct'!$E$8), Z4820, 0)","v":0},0,{"$f":"IF(AND(NOT(ISBLANK($O4820)), $O4820<'P&L'!$P$8), AC4820, 0)","v":0},{"$f":"IF(OR(ISBLANK($O4820), $O4820>'BankRec Main Acct'!$E$8), AC4820, 0)","v":0},0,{"$f":"IF(AND(NOT(ISBLANK($S4820)), $S4820<'P&L'!$P$8), AF4820, 0)","v":0},{"$f":"IF(OR(ISBLANK($S4820), $S4820>'BankRec Main Acct'!$E$8), AF4820, 0)","v":0},0,{"$f":"IF(AND(NOT(ISBLANK($S4820)), $S4820<'P&L'!$P$8), AI4820, 0)","v":0},{"$f":"IF(OR(ISBLANK($S4820), $S4820>'BankRec Main Acct'!$E$8), AI4820, 0)","v":0},{"$f":"IF(AND($C4820=\"Receipt\",$B4820=\"Debit card\"),$K4820,0)","v":0},{"$f":"IF(AND(NOT(ISBLANK($U4820)), $U4820<'P&L'!$P$8), $AL4820, 0)","v":0},{"$f":"IF(OR(ISBLANK($U4820), $U4820>'DebitCard Rec '!$E$8), $AL4820, 0)","v":0},{"$f":"IF(AND($C4820=\"Payment\",$B4820=\"Debit card\"),$K4820,0)","v":0},{"$f":"IF(AND(NOT(ISBLANK($U4820)), $U4820<'P&L'!$P$8), $AO4820, 0)","v":0},{"$f":"IF(OR(ISBLANK($U4820), $U4820>'DebitCard Rec '!$E$8), $AO4820, 0)","v":0},0,{"$f":"IF(AND($A4820<'P&L'!$P$8, $X4820='P&L'!$G$6), $AR4820, 0)","v":0},0,{"$f":"IF(AND($A4820<'P&L'!$P$8, $X4820='P&L'!$G$6), $AT4820, 0)","v":0}," "," "," "]
[null,null,null,null,null,null,null,null,null,null,null,null,null,null,null,null,null,null,null,null,null,null,"Jan-00",1900,{"$f":"IF(AND($A4823<'P&L'!$P$8, YEAR($A4823)=Master!$C$6), $K4823, 0)","v":0},0,{"$f":"IF(AND(NOT(ISBLANK($O4823)), $O4823<'P&L'!$P$8), Z4823, 0)","v":0},{"$f":"IF(OR(ISBLANK($O4823), $O4823>'BankRec Main Acct'!$E$8), Z4823, 0)","v":0},0,{"$f":"IF(AND(NOT(ISBLANK($O4823)), $O4823<'P&L'!$P$8), AC4823, 0)","v":0},{"$f":"IF(OR(ISBLANK($O4823), $O4823>'BankRec Main Acct'!$E$8), AC4823, 0)","v":0},0,{"$f":"IF(AND(NOT(ISBLANK($S4823)), $S4823<'P&L'!$P$8), AF4823, 0)","v":0},{"$f":"IF(OR(ISBLANK($S4823), $S4823>'BankRec Main Acct'!$E$8), AF4823, 0)","v":0},0,{"$f":"IF(AND(NOT(ISBLANK($S4823)), $S4823<'P&L'!$P$8), AI4823, 0)","v":0},{"$f":"IF(OR(ISBLANK($S4823), $S4823>'BankRec Main Acct'!$E$8), AI4823, 0)","v":0},0,{"$f":"IF(AND(NOT(ISBLANK($U4823)), $U4823<'P&L'!$P$8), $AL4823, 0)","v":0},{"$f":"IF(OR(ISBLANK($U4823), $U4823>'DebitCard Rec '!$E$8), $AL4823, 0)","v":0},0,{"$f":"IF(AND(NOT(ISBLANK($U4823)), $U4823<'P&L'!$P$8), $AO4823, 0)","v":0},{"$f":"IF(OR(ISBLANK($U4823), $U4823>'DebitCard Rec '!$E$8), $AO4823, 0)","v":0},0,{"$f":"IF(AND($A4823<'P&L'!$P$8, $X4823='P&L'!$G$6), $AR4823, 0)","v":0},0,{"$f":"IF(AND($A4823<'P&L'!$P$8, $X4823='P&L'!$G$6), $AT4823, 0)","v":0}," "," "," "]
[null,null,null,null,null,null,null,null,null,null,null,null,null,null,null,null,null,null,null,null,null,null,"Jan-00",1900,{"$f":"IF(AND($A4830<'P&L'!$P$8, YEAR($A4830)=Master!$C$6), $K4830, 0)","v":0},0,{"$f":"IF(AND(NOT(ISBLANK($O4830)), $O4830<'P&L'!$P$8), Z4830, 0)","v":0},{"$f":"IF(OR(ISBLANK($O4830), $O4830>'BankRec Main Acct'!$E$8), Z4830, 0)","v":0},0,{"$f":"IF(AND(NOT(ISBLANK($O4830)), $O4830<'P&L'!$P$8), AC4830, 0)","v":0},{"$f":"IF(OR(ISBLANK($O4830), $O4830>'BankRec Main Acct'!$E$8), AC4830, 0)","v":0},0,{"$f":"IF(AND(NOT(ISBLANK($S4830)), $S4830<'P&L'!$P$8), AF4830, 0)","v":0},{"$f":"IF(OR(ISBLANK($S4830), $S4830>'BankRec Main Acct'!$E$8), AF4830, 0)","v":0},0,{"$f":"IF(AND(NOT(ISBLANK($S4830)), $S4830<'P&L'!$P$8), AI4830, 0)","v":0},{"$f":"IF(OR(ISBLANK($S4830), $S4830>'BankRec Main Acct'!$E$8), AI4830, 0)","v":0},0,{"$f":"IF(AND(NOT(ISBLANK($U4830)), $U4830<'P&L'!$P$8), $AL4830, 0)","v":0},{"$f":"IF(OR(ISBLANK($U4830), $U4830>'DebitCard Rec '!$E$8), $AL4830, 0)","v":0},0,{"$f":"IF(AND(NOT(ISBLANK($U4830)), $U4830<'P&L'!$P$8), $AO4830, 0)","v":0},{"$f":"IF(OR(ISBLANK($U4830), $U4830>'DebitCard Rec '!$E$8), $AO4830, 0)","v":0},0,{"$f":"IF(AND($A4830<'P&L'!$P$8, $X4830='P&L'!$G$6), $AR4830, 0)","v":0},0,{"$f":"IF(AND($A4830<'P&L'!$P$8, $X4830='P&L'!$G$6), $AT4830, 0)","v":0}," "," "," "]
[null,null,null,null,null,null,null,null,null,null,null,null,null,null,null,null,null,null,null,null,null,null,"Jan-00",1900,{"$f":"IF(AND($A4842<'P&L'!$P$8, YEAR($A4842)=Master!$C$6), $K4842, 0)","v":0},0,{"$f":"IF(AND(NOT(ISBLANK($O4842)), $O4842<'P&L'!$P$8), Z4842, 0)","v":0},{"$f":"IF(OR(ISBLANK($O4842), $O4842>'BankRec Main Acct'!$E$8), Z4842, 0)","v":0},0,{"$f":"IF(AND(NOT(ISBLANK($O4842)), $O4842<'P&L'!$P$8), AC4842, 0)","v":0},{"$f":"IF(OR(ISBLANK($O4842), $O4842>'BankRec Main Acct'!$E$8), AC4842, 0)","v":0},0,{"$f":"IF(AND(NOT(ISBLANK($S4842)), $S4842<'P&L'!$P$8), AF4842, 0)","v":0},{"$f":"IF(OR(ISBLANK($S4842), $S4842>'BankRec Main Acct'!$E$8), AF4842, 0)","v":0},0,{"$f":"IF(AND(NOT(ISBLANK($S4842)), $S4842<'P&L'!$P$8), AI4842, 0)","v":0},{"$f":"IF(OR(ISBLANK($S4842), $S4842>'BankRec Main Acct'!$E$8), AI4842, 0)","v":0},0,{"$f":"IF(AND(NOT(ISBLANK($U4842)), $U4842<'P&L'!$P$8), $AL4842, 0)","v":0},{"$f":"IF(OR(ISBLANK($U4842), $U4842>'DebitCard Rec '!$E$8), $AL4842, 0)","v":0},0,{"$f":"IF(AND(NOT(ISBLANK($U4842)), $U4842<'P&L'!$P$8), $AO4842, 0)","v":0},{"$f":"IF(OR(ISBLANK($U4842), $U4842>'DebitCard Rec '!$E$8), $AO4842, 0)","v":0},0,{"$f":"IF(AND($A4842<'P&L'!$P$8, $X4842='P&L'!$G$6), $AR4842, 0)","v":0},0,{"$f":"IF(AND($A4842<'P&L'!$P$8, $X4842='P&L'!$G$6), $AT4842, 0)","v":0}," "," "," "]
[null,null,null,null,null,null,null,null,null,null,null,null,null,null,null,null,null,null,null,null,null,null,"Jan-00",1900,{"$f":"IF(AND($A4848<'P&L'!$P$8, YEAR($A4848)=Master!$C$6), $K4848, 0)","v":0},0,{"$f":"IF(AND(NOT(ISBLANK($O4848)), $O4848<'P&L'!$P$8), Z4848, 0)","v":0},{"$f":"IF(OR(ISBLANK($O4848), $O4848>'BankRec Main Acct'!$E$8), Z4848, 0)","v":0},0,{"$f":"IF(AND(NOT(ISBLANK($O4848)), $O4848<'P&L'!$P$8), AC4848, 0)","v":0},{"$f":"IF(OR(ISBLANK($O4848), $O4848>'BankRec Main Acct'!$E$8), AC4848, 0)","v":0},0,{"$f":"IF(AND(NOT(ISBLANK($S4848)), $S4848<'P&L'!$P$8), AF4848, 0)","v":0},{"$f":"IF(OR(ISBLANK($S4848), $S4848>'BankRec Main Acct'!$E$8), AF4848, 0)","v":0},0,{"$f":"IF(AND(NOT(ISBLANK($S4848)), $S4848<'P&L'!$P$8), AI4848, 0)","v":0},{"$f":"IF(OR(ISBLANK($S4848), $S4848>'BankRec Main Acct'!$E$8), AI4848, 0)","v":0},0,{"$f":"IF(AND(NOT(ISBLANK($U4848)), $U4848<'P&L'!$P$8), $AL4848, 0)","v":0},{"$f":"IF(OR(ISBLANK($U4848), $U4848>'DebitCard Rec '!$E$8), $AL4848, 0)","v":0},0,{"$f":"IF(AND(NOT(ISBLANK($U4848)), $U4848<'P&L'!$P$8), $AO4848, 0)","v":0},{"$f":"IF(OR(ISBLANK($U4848), $U4848>'DebitCard Rec '!$E$8), $AO4848, 0)","v":0},0,{"$f":"IF(AND($A4848<'P&L'!$P$8, $X4848='P&L'!$G$6), $AR4848, 0)","v":0},0,{"$f":"IF(AND($A4848<'P&L'!$P$8, $X4848='P&L'!$G$6), $AT4848, 0)","v":0}," "," "," "]
[null,null,null,null,null,null,null,null,null,null,null,null,null,null,null,null,null,null,null,null,null,null,"Jan-00",1900,{"$f":"IF(AND($A4860<'P&L'!$P$8, YEAR($A4860)=Master!$C$6), $K4860, 0)","v":0},0,{"$f":"IF(AND(NOT(ISBLANK($O4860)), $O4860<'P&L'!$P$8), Z4860, 0)","v":0},{"$f":"IF(OR(ISBLANK($O4860), $O4860>'BankRec Main Acct'!$E$8), Z4860, 0)","v":0},0,{"$f":"IF(AND(NOT(ISBLANK($O4860)), $O4860<'P&L'!$P$8), AC4860, 0)","v":0},{"$f":"IF(OR(ISBLANK($O4860), $O4860>'BankRec Main Acct'!$E$8), AC4860, 0)","v":0},0,{"$f":"IF(AND(NOT(ISBLANK($S4860)), $S4860<'P&L'!$P$8), AF4860, 0)","v":0},{"$f":"IF(OR(ISBLANK($S4860), $S4860>'BankRec Main Acct'!$E$8), AF4860, 0)","v":0},0,{"$f":"IF(AND(NOT(ISBLANK($S4860)), $S4860<'P&L'!$P$8), AI4860, 0)","v":0},{"$f":"IF(OR(ISBLANK($S4860), $S4860>'BankRec Main Acct'!$E$8), AI4860, 0)","v":0},0,{"$f":"IF(AND(NOT(ISBLANK($U4860)), $U4860<'P&L'!$P$8), $AL4860, 0)","v":0},{"$f":"IF(OR(ISBLANK($U4860), $U4860>'DebitCard Rec '!$E$8), $AL4860, 0)","v":0},0,{"$f":"IF(AND(NOT(ISBLANK($U4860)), $U4860<'P&L'!$P$8), $AO4860, 0)","v":0},{"$f":"IF(OR(ISBLANK($U4860), $U4860>'DebitCard Rec '!$E$8), $AO4860, 0)","v":0},0,{"$f":"IF(AND($A4860<'P&L'!$P$8, $X4860='P&L'!$G$6), $AR4860, 0)","v":0},0,{"$f":"IF(AND($A4860<'P&L'!$P$8, $X4860='P&L'!$G$6), $AT4860, 0)","v":0}," "," "," "]
[null,null,null,null,null,null,null,null,null,null,null,null,null,null,null,null,null,null,null,null,null,null,"Jan-00",1900,{"$f":"IF(AND($A4872<'P&L'!$P$8, YEAR($A4872)=Master!$C$6), $K4872, 0)","v":0},0,{"$f":"IF(AND(NOT(ISBLANK($O4872)), $O4872<'P&L'!$P$8), Z4872, 0)","v":0},{"$f":"IF(OR(ISBLANK($O4872), $O4872>'BankRec Main Acct'!$E$8), Z4872, 0)","v":0},0,{"$f":"IF(AND(NOT(ISBLANK($O4872)), $O4872<'P&L'!$P$8), AC4872, 0)","v":0},{"$f":"IF(OR(ISBLANK($O4872), $O4872>'BankRec Main Acct'!$E$8), AC4872, 0)","v":0},0,{"$f":"IF(AND(NOT(ISBLANK($S4872)), $S4872<'P&L'!$P$8), AF4872, 0)","v":0},{"$f":"IF(OR(ISBLANK($S4872), $S4872>'BankRec Main Acct'!$E$8), AF4872, 0)","v":0},0,{"$f":"IF(AND(NOT(ISBLANK($S4872)), $S4872<'P&L'!$P$8), AI4872, 0)","v":0},{"$f":"IF(OR(ISBLANK($S4872), $S4872>'BankRec Main Acct'!$E$8), AI4872, 0)","v":0},0,{"$f":"IF(AND(NOT(ISBLANK($U4872)), $U4872<'P&L'!$P$8), $AL4872, 0)","v":0},{"$f":"IF(OR(ISBLANK($U4872), $U4872>'DebitCard Rec '!$E$8), $AL4872, 0)","v":0},0,{"$f":"IF(AND(NOT(ISBLANK($U4872)), $U4872<'P&L'!$P$8), $AO4872, 0)","v":0},{"$f":"IF(OR(ISBLANK($U4872), $U4872>'DebitCard Rec '!$E$8), $AO4872, 0)","v":0},0,{"$f":"IF(AND($A4872<'P&L'!$P$8, $X4872='P&L'!$G$6), $AR4872, 0)","v":0},0,{"$f":"IF(AND($A4872<'P&L'!$P$8, $X4872='P&L'!$G$6), $AT4872, 0)","v":0}," "," "," "]
[null,null,null,null,null,null,null,null,null,null,null,null,null,null,null,null,null,null,null,null,null,null,"Jan-00",1900,{"$f":"IF(AND($A4879<'P&L'!$P$8, YEAR($A4879)=Master!$C$6), $K4879, 0)","v":0},0,{"$f":"IF(AND(NOT(ISBLANK($O4879)), $O4879<'P&L'!$P$8), Z4879, 0)","v":0},{"$f":"IF(OR(ISBLANK($O4879), $O4879>'BankRec Main Acct'!$E$8), Z4879, 0)","v":0},0,{"$f":"IF(AND(NOT(ISBLANK($O4879)), $O4879<'P&L'!$P$8), AC4879, 0)","v":0},{"$f":"IF(OR(ISBLANK($O4879), $O4879>'BankRec Main Acct'!$E$8), AC4879, 0)","v":0},0,{"$f":"IF(AND(NOT(ISBLANK($S4879)), $S4879<'P&L'!$P$8), AF4879, 0)","v":0},{"$f":"IF(OR(ISBLANK($S4879), $S4879>'BankRec Main Acct'!$E$8), AF4879, 0)","v":0},0,{"$f":"IF(AND(NOT(ISBLANK($S4879)), $S4879<'P&L'!$P$8), AI4879, 0)","v":0},{"$f":"IF(OR(ISBLANK($S4879), $S4879>'BankRec Main Acct'!$E$8), AI4879, 0)","v":0},0,{"$f":"IF(AND(NOT(ISBLANK($U4879)), $U4879<'P&L'!$P$8), $AL4879, 0)","v":0},{"$f":"IF(OR(ISBLANK($U4879), $U4879>'DebitCard Rec '!$E$8), $AL4879, 0)","v":0},0,{"$f":"IF(AND(NOT(ISBLANK($U4879)), $U4879<'P&L'!$P$8), $AO4879, 0)","v":0},{"$f":"IF(OR(ISBLANK($U4879), $U4879>'DebitCard Rec '!$E$8), $AO4879, 0)","v":0},0,{"$f":"IF(AND($A4879<'P&L'!$P$8, $X4879='P&L'!$G$6), $AR4879, 0)","v":0},0,{"$f":"IF(AND($A4879<'P&L'!$P$8, $X4879='P&L'!$G$6), $AT4879, 0)","v":0}," "," "," "]
[null,null,null,null,null,null,null,null,null,null,null,null,null,null,null,null,null,null,null,null,null,null,"Jan-00",1900,{"$f":"IF(AND($A4891<'P&L'!$P$8, YEAR($A4891)=Master!$C$6), $K4891, 0)","v":0},0,{"$f":"IF(AND(NOT(ISBLANK($O4891)), $O4891<'P&L'!$P$8), Z4891, 0)","v":0},{"$f":"IF(OR(ISBLANK($O4891), $O4891>'BankRec Main Acct'!$E$8), Z4891, 0)","v":0},0,{"$f":"IF(AND(NOT(ISBLANK($O4891)), $O4891<'P&L'!$P$8), AC4891, 0)","v":0},{"$f":"IF(OR(ISBLANK($O4891), $O4891>'BankRec Main Acct'!$E$8), AC4891, 0)","v":0},0,{"$f":"IF(AND(NOT(ISBLANK($S4891)), $S4891<'P&L'!$P$8), AF4891, 0)","v":0},{"$f":"IF(OR(ISBLANK($S4891), $S4891>'BankRec Main Acct'!$E$8), AF4891, 0)","v":0},0,{"$f":"IF(AND(NOT(ISBLANK($S4891)), $S4891<'P&L'!$P$8), AI4891, 0)","v":0},{"$f":"IF(OR(ISBLANK($S4891), $S4891>'BankRec Main Acct'!$E$8), AI4891, 0)","v":0},0,{"$f":"IF(AND(NOT(ISBLANK($U4891)), $U4891<'P&L'!$P$8), $AL4891, 0)","v":0},{"$f":"IF(OR(ISBLANK($U4891), $U4891>'DebitCard Rec '!$E$8), $AL4891, 0)","v":0},0,{"$f":"IF(AND(NOT(ISBLANK($U4891)), $U4891<'P&L'!$P$8), $AO4891, 0)","v":0},{"$f":"IF(OR(ISBLANK($U4891), $U4891>'DebitCard Rec '!$E$8), $AO4891, 0)","v":0},0,{"$f":"IF(AND($A4891<'P&L'!$P$8, $X4891='P&L'!$G$6), $AR4891, 0)","v":0},0,{"$f":"IF(AND($A4891<'P&L'!$P$8, $X4891='P&L'!$G$6), $AT4891, 0)","v":0}," "," "," "]
[null,null,null,null,null,null,null,null,null,null,null,null,null,null,null,null,null,null,null,null,null,null,"Jan-00",1900,{"$f":"IF(AND($A4892<'P&L'!$P$8, YEAR($A4892)=Master!$C$6), $K4892, 0)","v":0},0,{"$f":"IF(AND(NOT(ISBLANK($O4892)), $O4892<'P&L'!$P$8), Z4892, 0)","v":0},{"$f":"IF(OR(ISBLANK($O4892), $O4892>'BankRec Main Acct'!$E$8), Z4892, 0)","v":0},0,{"$f":"IF(AND(NOT(ISBLANK($O4892)), $O4892<'P&L'!$P$8), AC4892, 0)","v":0},{"$f":"IF(OR(ISBLANK($O4892), $O4892>'BankRec Main Acct'!$E$8), AC4892, 0)","v":0},0,{"$f":"IF(AND(NOT(ISBLANK($S4892)), $S4892<'P&L'!$P$8), AF4892, 0)","v":0},{"$f":"IF(OR(ISBLANK($S4892), $S4892>'BankRec Main Acct'!$E$8), AF4892, 0)","v":0},0,{"$f":"IF(AND(NOT(ISBLANK($S4892)), $S4892<'P&L'!$P$8), AI4892, 0)","v":0},{"$f":"IF(OR(ISBLANK($S4892), $S4892>'BankRec Main Acct'!$E$8), AI4892, 0)","v":0},0,{"$f":"IF(AND(NOT(ISBLANK($U4892)), $U4892<'P&L'!$P$8), $AL4892, 0)","v":0},{"$f":"IF(OR(ISBLANK($U4892), $U4892>'DebitCard Rec '!$E$8), $AL4892, 0)","v":0},0,{"$f":"IF(AND(NOT(ISBLANK($U4892)), $U4892<'P&L'!$P$8), $AO4892, 0)","v":0},{"$f":"IF(OR(ISBLANK($U4892), $U4892>'DebitCard Rec '!$E$8), $AO4892, 0)","v":0},0,{"$f":"IF(AND($A4892<'P&L'!$P$8, $X4892='P&L'!$G$6), $AR4892, 0)","v":0},0,{"$f":"IF(AND($A4892<'P&L'!$P$8, $X4892='P&L'!$G$6), $AT4892, 0)","v":0}," "," "," "]
[null,null,null,null,null,null,null,null,null,null,null,null,null,null,null,null,null,null,null,null,null,null,"Jan-00",1900,{"$f":"IF(AND($A4893<'P&L'!$P$8, YEAR($A4893)=Master!$C$6), $K4893, 0)","v":0},0,{"$f":"IF(AND(NOT(ISBLANK($O4893)), $O4893<'P&L'!$P$8), Z4893, 0)","v":0},{"$f":"IF(OR(ISBLANK($O4893), $O4893>'BankRec Main Acct'!$E$8), Z4893, 0)","v":0},0,{"$f":"IF(AND(NOT(ISBLANK($O4893)), $O4893<'P&L'!$P$8), AC4893, 0)","v":0},{"$f":"IF(OR(ISBLANK($O4893), $O4893>'BankRec Main Acct'!$E$8), AC4893, 0)","v":0},0,{"$f":"IF(AND(NOT(ISBLANK($S4893)), $S4893<'P&L'!$P$8), AF4893, 0)","v":0},{"$f":"IF(OR(ISBLANK($S4893), $S4893>'BankRec Main Acct'!$E$8), AF4893, 0)","v":0},0,{"$f":"IF(AND(NOT(ISBLANK($S4893)), $S4893<'P&L'!$P$8), AI4893, 0)","v":0},{"$f":"IF(OR(ISBLANK($S4893), $S4893>'BankRec Main Acct'!$E$8), AI4893, 0)","v":0},0,{"$f":"IF(AND(NOT(ISBLANK($U4893)), $U4893<'P&L'!$P$8), $AL4893, 0)","v":0},{"$f":"IF(OR(ISBLANK($U4893), $U4893>'DebitCard Rec '!$E$8), $AL4893, 0)","v":0},0,{"$f":"IF(AND(NOT(ISBLANK($U4893)), $U4893<'P&L'!$P$8), $AO4893, 0)","v":0},{"$f":"IF(OR(ISBLANK($U4893), $U4893>'DebitCard Rec '!$E$8), $AO4893, 0)","v":0},0,{"$f":"IF(AND($A4893<'P&L'!$P$8, $X4893='P&L'!$G$6), $AR4893, 0)","v":0},0,{"$f":"IF(AND($A4893<'P&L'!$P$8, $X4893='P&L'!$G$6), $AT4893, 0)","v":0}," "," "," "]
[null,null,null,null,null,null,null,null,null,null,null,null,null,null,null,null,null,null,null,null,null,null,"Jan-00",1900,{"$f":"IF(AND($A4894<'P&L'!$P$8, YEAR($A4894)=Master!$C$6), $K4894, 0)","v":0},0,{"$f":"IF(AND(NOT(ISBLANK($O4894)), $O4894<'P&L'!$P$8), Z4894, 0)","v":0},{"$f":"IF(OR(ISBLANK($O4894), $O4894>'BankRec Main Acct'!$E$8), Z4894, 0)","v":0},0,{"$f":"IF(AND(NOT(ISBLANK($O4894)), $O4894<'P&L'!$P$8), AC4894, 0)","v":0},{"$f":"IF(OR(ISBLANK($O4894), $O4894>'BankRec Main Acct'!$E$8), AC4894, 0)","v":0},0,{"$f":"IF(AND(NOT(ISBLANK($S4894)), $S4894<'P&L'!$P$8), AF4894, 0)","v":0},{"$f":"IF(OR(ISBLANK($S4894), $S4894>'BankRec Main Acct'!$E$8), AF4894, 0)","v":0},0,{"$f":"IF(AND(NOT(ISBLANK($S4894)), $S4894<'P&L'!$P$8), AI4894, 0)","v":0},{"$f":"IF(OR(ISBLANK($S4894), $S4894>'BankRec Main Acct'!$E$8), AI4894, 0)","v":0},0,{"$f":"IF(AND(NOT(ISBLANK($U4894)), $U4894<'P&L'!$P$8), $AL4894, 0)","v":0},{"$f":"IF(OR(ISBLANK($U4894), $U4894>'DebitCard Rec '!$E$8), $AL4894, 0)","v":0},0,{"$f":"IF(AND(NOT(ISBLANK($U4894)), $U4894<'P&L'!$P$8), $AO4894, 0)","v":0},{"$f":"IF(OR(ISBLANK($U4894), $U4894>'DebitCard Rec '!$E$8), $AO4894, 0)","v":0},0,{"$f":"IF(AND($A4894<'P&L'!$P$8, $X4894='P&L'!$G$6), $AR4894, 0)","v":0},0,{"$f":"IF(AND($A4894<'P&L'!$P$8, $X4894='P&L'!$G$6), $AT4894, 0)","v":0}," "," "," "]
[null,null,null,null,null,null,null,null,null,null,null,null,null,null,null,null,null,null,null,null,null,null,"Jan-00",1900,{"$f":"IF(AND($A4895<'P&L'!$P$8, YEAR($A4895)=Master!$C$6), $K4895, 0)","v":0},0,{"$f":"IF(AND(NOT(ISBLANK($O4895)), $O4895<'P&L'!$P$8), Z4895, 0)","v":0},{"$f":"IF(OR(ISBLANK($O4895), $O4895>'BankRec Main Acct'!$E$8), Z4895, 0)","v":0},0,{"$f":"IF(AND(NOT(ISBLANK($O4895)), $O4895<'P&L'!$P$8), AC4895, 0)","v":0},{"$f":"IF(OR(ISBLANK($O4895), $O4895>'BankRec Main Acct'!$E$8), AC4895, 0)","v":0},0,{"$f":"IF(AND(NOT(ISBLANK($S4895)), $S4895<'P&L'!$P$8), AF4895, 0)","v":0},{"$f":"IF(OR(ISBLANK($S4895), $S4895>'BankRec Main Acct'!$E$8), AF4895, 0)","v":0},0,{"$f":"IF(AND(NOT(ISBLANK($S4895)), $S4895<'P&L'!$P$8), AI4895, 0)","v":0},{"$f":"IF(OR(ISBLANK($S4895), $S4895>'BankRec Main Acct'!$E$8), AI4895, 0)","v":0},0,{"$f":"IF(AND(NOT(ISBLANK($U4895)), $U4895<'P&L'!$P$8), $AL4895, 0)","v":0},{"$f":"IF(OR(ISBLANK($U4895), $U4895>'DebitCard Rec '!$E$8), $AL4895, 0)","v":0},0,{"$f":"IF(AND(NOT(ISBLANK($U4895)), $U4895<'P&L'!$P$8), $AO4895, 0)","v":0},{"$f":"IF(OR(ISBLANK($U4895), $U4895>'DebitCard Rec '!$E$8), $AO4895, 0)","v":0},0,{"$f":"IF(AND($A4895<'P&L'!$P$8, $X4895='P&L'!$G$6), $AR4895, 0)","v":0},0,{"$f":"IF(AND($A4895<'P&L'!$P$8, $X4895='P&L'!$G$6), $AT4895, 0)","v":0}," "," "," "]
[null,null,null,null,null,null,null,null,null,null,null,null,null,null,null,null,null,null,null,null,null,null,"Jan-00",1900,{"$f":"IF(AND($A4896<'P&L'!$P$8, YEAR($A4896)=Master!$C$6), $K4896, 0)","v":0},0,{"$f":"IF(AND(NOT(ISBLANK($O4896)), $O4896<'P&L'!$P$8), Z4896, 0)","v":0},{"$f":"IF(OR(ISBLANK($O4896), $O4896>'BankRec Main Acct'!$E$8), Z4896, 0)","v":0},0,{"$f":"IF(AND(NOT(ISBLANK($O4896)), $O4896<'P&L'!$P$8), AC4896, 0)","v":0},{"$f":"IF(OR(ISBLANK($O4896), $O4896>'BankRec Main Acct'!$E$8), AC4896, 0)","v":0},0,{"$f":"IF(AND(NOT(ISBLANK($S4896)), $S4896<'P&L'!$P$8), AF4896, 0)","v":0},{"$f":"IF(OR(ISBLANK($S4896), $S4896>'BankRec Main Acct'!$E$8), AF4896, 0)","v":0},0,{"$f":"IF(AND(NOT(ISBLANK($S4896)), $S4896<'P&L'!$P$8), AI4896, 0)","v":0},{"$f":"IF(OR(ISBLANK($S4896), $S4896>'BankRec Main Acct'!$E$8), AI4896, 0)","v":0},0,{"$f":"IF(AND(NOT(ISBLANK($U4896)), $U4896<'P&L'!$P$8), $AL4896, 0)","v":0},{"$f":"IF(OR(ISBLANK($U4896), $U4896>'DebitCard Rec '!$E$8), $AL4896, 0)","v":0},0,{"$f":"IF(AND(NOT(ISBLANK($U4896)), $U4896<'P&L'!$P$8), $AO4896, 0)","v":0},{"$f":"IF(OR(ISBLANK($U4896), $U4896>'DebitCard Rec '!$E$8), $AO4896, 0)","v":0},0,{"$f":"IF(AND($A4896<'P&L'!$P$8, $X4896='P&L'!$G$6), $AR4896, 0)","v":0},0,{"$f":"IF(AND($A4896<'P&L'!$P$8, $X4896='P&L'!$G$6), $AT4896, 0)","v":0}," "," "," "]
[null,null,null,null,null,null,null,null,null,null,null,null,null,null,null,null,null,null,null,null,null,null,"Jan-00",1900,{"$f":"IF(AND($A4897<'P&L'!$P$8, YEAR($A4897)=Master!$C$6), $K4897, 0)","v":0},0,{"$f":"IF(AND(NOT(ISBLANK($O4897)), $O4897<'P&L'!$P$8), Z4897, 0)","v":0},{"$f":"IF(OR(ISBLANK($O4897), $O4897>'BankRec Main Acct'!$E$8), Z4897, 0)","v":0},0,{"$f":"IF(AND(NOT(ISBLANK($O4897)), $O4897<'P&L'!$P$8), AC4897, 0)","v":0},{"$f":"IF(OR(ISBLANK($O4897), $O4897>'BankRec Main Acct'!$E$8), AC4897, 0)","v":0},0,{"$f":"IF(AND(NOT(ISBLANK($S4897)), $S4897<'P&L'!$P$8), AF4897, 0)","v":0},{"$f":"IF(OR(ISBLANK($S4897), $S4897>'BankRec Main Acct'!$E$8), AF4897, 0)","v":0},0,{"$f":"IF(AND(NOT(ISBLANK($S4897)), $S4897<'P&L'!$P$8), AI4897, 0)","v":0},{"$f":"IF(OR(ISBLANK($S4897), $S4897>'BankRec Main Acct'!$E$8), AI4897, 0)","v":0},0,{"$f":"IF(AND(NOT(ISBLANK($U4897)), $U4897<'P&L'!$P$8), $AL4897, 0)","v":0},{"$f":"IF(OR(ISBLANK($U4897), $U4897>'DebitCard Rec '!$E$8), $AL4897, 0)","v":0},0,{"$f":"IF(AND(NOT(ISBLANK($U4897)), $U4897<'P&L'!$P$8), $AO4897, 0)","v":0},{"$f":"IF(OR(ISBLANK($U4897), $U4897>'DebitCard Rec '!$E$8), $AO4897, 0)","v":0},0,{"$f":"IF(AND($A4897<'P&L'!$P$8, $X4897='P&L'!$G$6), $AR4897, 0)","v":0},0,{"$f":"IF(AND($A4897<'P&L'!$P$8, $X4897='P&L'!$G$6), $AT4897, 0)","v":0}," "," "," "]
[null,null,null,null,null,null,null,null,null,null,null,null,null,null,null,null,null,null,null,null,null,null,"Jan-00",1900,{"$f":"IF(AND($A4898<'P&L'!$P$8, YEAR($A4898)=Master!$C$6), $K4898, 0)","v":0},0,{"$f":"IF(AND(NOT(ISBLANK($O4898)), $O4898<'P&L'!$P$8), Z4898, 0)","v":0},{"$f":"IF(OR(ISBLANK($O4898), $O4898>'BankRec Main Acct'!$E$8), Z4898, 0)","v":0},0,{"$f":"IF(AND(NOT(ISBLANK($O4898)), $O4898<'P&L'!$P$8), AC4898, 0)","v":0},{"$f":"IF(OR(ISBLANK($O4898), $O4898>'BankRec Main Acct'!$E$8), AC4898, 0)","v":0},0,{"$f":"IF(AND(NOT(ISBLANK($S4898)), $S4898<'P&L'!$P$8), AF4898, 0)","v":0},{"$f":"IF(OR(ISBLANK($S4898), $S4898>'BankRec Main Acct'!$E$8), AF4898, 0)","v":0},0,{"$f":"IF(AND(NOT(ISBLANK($S4898)), $S4898<'P&L'!$P$8), AI4898, 0)","v":0},{"$f":"IF(OR(ISBLANK($S4898), $S4898>'BankRec Main Acct'!$E$8), AI4898, 0)","v":0},0,{"$f":"IF(AND(NOT(ISBLANK($U4898)), $U4898<'P&L'!$P$8), $AL4898, 0)","v":0},{"$f":"IF(OR(ISBLANK($U4898), $U4898>'DebitCard Rec '!$E$8), $AL4898, 0)","v":0},0,{"$f":"IF(AND(NOT(ISBLANK($U4898)), $U4898<'P&L'!$P$8), $AO4898, 0)","v":0},{"$f":"IF(OR(ISBLANK($U4898), $U4898>'DebitCard Rec '!$E$8), $AO4898, 0)","v":0},0,{"$f":"IF(AND($A4898<'P&L'!$P$8, $X4898='P&L'!$G$6), $AR4898, 0)","v":0},0,{"$f":"IF(AND($A4898<'P&L'!$P$8, $X4898='P&L'!$G$6), $AT4898, 0)","v":0}," "," "," "]
[null,null,null,null,null,null,null,null,null,null,null,null,null,null,null,null,null,null,null,null,null,null,"Jan-00",1900,{"$f":"IF(AND($A4899<'P&L'!$P$8, YEAR($A4899)=Master!$C$6), $K4899, 0)","v":0},0,{"$f":"IF(AND(NOT(ISBLANK($O4899)), $O4899<'P&L'!$P$8), Z4899, 0)","v":0},{"$f":"IF(OR(ISBLANK($O4899), $O4899>'BankRec Main Acct'!$E$8), Z4899, 0)","v":0},0,{"$f":"IF(AND(NOT(ISBLANK($O4899)), $O4899<'P&L'!$P$8), AC4899, 0)","v":0},{"$f":"IF(OR(ISBLANK($O4899), $O4899>'BankRec Main Acct'!$E$8), AC4899, 0)","v":0},0,{"$f":"IF(AND(NOT(ISBLANK($S4899)), $S4899<'P&L'!$P$8), AF4899, 0)","v":0},{"$f":"IF(OR(ISBLANK($S4899), $S4899>'BankRec Main Acct'!$E$8), AF4899, 0)","v":0},0,{"$f":"IF(AND(NOT(ISBLANK($S4899)), $S4899<'P&L'!$P$8), AI4899, 0)","v":0},{"$f":"IF(OR(ISBLANK($S4899), $S4899>'BankRec Main Acct'!$E$8), AI4899, 0)","v":0},0,{"$f":"IF(AND(NOT(ISBLANK($U4899)), $U4899<'P&L'!$P$8), $AL4899, 0)","v":0},{"$f":"IF(OR(ISBLANK($U4899), $U4899>'DebitCard Rec '!$E$8), $AL4899, 0)","v":0},0,{"$f":"IF(AND(NOT(ISBLANK($U4899)), $U4899<'P&L'!$P$8), $AO4899, 0)","v":0},{"$f":"IF(OR(ISBLANK($U4899), $U4899>'DebitCard Rec '!$E$8), $AO4899, 0)","v":0},0,{"$f":"IF(AND($A4899<'P&L'!$P$8, $X4899='P&L'!$G$6), $AR4899, 0)","v":0},0,{"$f":"IF(AND($A4899<'P&L'!$P$8, $X4899='P&L'!$G$6), $AT4899, 0)","v":0}," "," "," "]
[null,null,null,null,null,null,null,null,null,null,null,null,null,null,null,null,null,null,null,null,null,null,"Jan-00",1900,{"$f":"IF(AND($A4900<'P&L'!$P$8, YEAR($A4900)=Master!$C$6), $K4900, 0)","v":0},0,{"$f":"IF(AND(NOT(ISBLANK($O4900)), $O4900<'P&L'!$P$8), Z4900, 0)","v":0},{"$f":"IF(OR(ISBLANK($O4900), $O4900>'BankRec Main Acct'!$E$8), Z4900, 0)","v":0},0,{"$f":"IF(AND(NOT(ISBLANK($O4900)), $O4900<'P&L'!$P$8), AC4900, 0)","v":0},{"$f":"IF(OR(ISBLANK($O4900), $O4900>'BankRec Main Acct'!$E$8), AC4900, 0)","v":0},0,{"$f":"IF(AND(NOT(ISBLANK($S4900)), $S4900<'P&L'!$P$8), AF4900, 0)","v":0},{"$f":"IF(OR(ISBLANK($S4900), $S4900>'BankRec Main Acct'!$E$8), AF4900, 0)","v":0},0,{"$f":"IF(AND(NOT(ISBLANK($S4900)), $S4900<'P&L'!$P$8), AI4900, 0)","v":0},{"$f":"IF(OR(ISBLANK($S4900), $S4900>'BankRec Main Acct'!$E$8), AI4900, 0)","v":0},0,{"$f":"IF(AND(NOT(ISBLANK($U4900)), $U4900<'P&L'!$P$8), $AL4900, 0)","v":0},{"$f":"IF(OR(ISBLANK($U4900), $U4900>'DebitCard Rec '!$E$8), $AL4900, 0)","v":0},0,{"$f":"IF(AND(NOT(ISBLANK($U4900)), $U4900<'P&L'!$P$8), $AO4900, 0)","v":0},{"$f":"IF(OR(ISBLANK($U4900), $U4900>'DebitCard Rec '!$E$8), $AO4900, 0)","v":0},0,{"$f":"IF(AND($A4900<'P&L'!$P$8, $X4900='P&L'!$G$6), $AR4900, 0)","v":0},0,{"$f":"IF(AND($A4900<'P&L'!$P$8, $X4900='P&L'!$G$6), $AT4900, 0)","v":0}," "," "," "]
[null,null,null,null,null,null,null,null,null,null,null,null,null,null,null,null,null,null,null,null,null,null,"Jan-00",1900,{"$f":"IF(AND($A4901<'P&L'!$P$8, YEAR($A4901)=Master!$C$6), $K4901, 0)","v":0},0,{"$f":"IF(AND(NOT(ISBLANK($O4901)), $O4901<'P&L'!$P$8), Z4901, 0)","v":0},{"$f":"IF(OR(ISBLANK($O4901), $O4901>'BankRec Main Acct'!$E$8), Z4901, 0)","v":0},0,{"$f":"IF(AND(NOT(ISBLANK($O4901)), $O4901<'P&L'!$P$8), AC4901, 0)","v":0},{"$f":"IF(OR(ISBLANK($O4901), $O4901>'BankRec Main Acct'!$E$8), AC4901, 0)","v":0},0,{"$f":"IF(AND(NOT(ISBLANK($S4901)), $S4901<'P&L'!$P$8), AF4901, 0)","v":0},{"$f":"IF(OR(ISBLANK($S4901), $S4901>'BankRec Main Acct'!$E$8), AF4901, 0)","v":0},0,{"$f":"IF(AND(NOT(ISBLANK($S4901)), $S4901<'P&L'!$P$8), AI4901, 0)","v":0},{"$f":"IF(OR(ISBLANK($S4901), $S4901>'BankRec Main Acct'!$E$8), AI4901, 0)","v":0},0,{"$f":"IF(AND(NOT(ISBLANK($U4901)), $U4901<'P&L'!$P$8), $AL4901, 0)","v":0},{"$f":"IF(OR(ISBLANK($U4901), $U4901>'DebitCard Rec '!$E$8), $AL4901, 0)","v":0},0,{"$f":"IF(AND(NOT(ISBLANK($U4901)), $U4901<'P&L'!$P$8), $AO4901, 0)","v":0},{"$f":"IF(OR(ISBLANK($U4901), $U4901>'DebitCard Rec '!$E$8), $AO4901, 0)","v":0},0,{"$f":"IF(AND($A4901<'P&L'!$P$8, $X4901='P&L'!$G$6), $AR4901, 0)","v":0},0,{"$f":"IF(AND($A4901<'P&L'!$P$8, $X4901='P&L'!$G$6), $AT4901, 0)","v":0}," "," "," "]
[null,null,null,null,null,null,null,null,null,null,null,null,null,null,null,null,null,null,null,null,null,null,"Jan-00",1900,{"$f":"IF(AND($A4902<'P&L'!$P$8, YEAR($A4902)=Master!$C$6), $K4902, 0)","v":0},0,{"$f":"IF(AND(NOT(ISBLANK($O4902)), $O4902<'P&L'!$P$8), Z4902, 0)","v":0},{"$f":"IF(OR(ISBLANK($O4902), $O4902>'BankRec Main Acct'!$E$8), Z4902, 0)","v":0},0,{"$f":"IF(AND(NOT(ISBLANK($O4902)), $O4902<'P&L'!$P$8), AC4902, 0)","v":0},{"$f":"IF(OR(ISBLANK($O4902), $O4902>'BankRec Main Acct'!$E$8), AC4902, 0)","v":0},0,{"$f":"IF(AND(NOT(ISBLANK($S4902)), $S4902<'P&L'!$P$8), AF4902, 0)","v":0},{"$f":"IF(OR(ISBLANK($S4902), $S4902>'BankRec Main Acct'!$E$8), AF4902, 0)","v":0},0,{"$f":"IF(AND(NOT(ISBLANK($S4902)), $S4902<'P&L'!$P$8), AI4902, 0)","v":0},{"$f":"IF(OR(ISBLANK($S4902), $S4902>'BankRec Main Acct'!$E$8), AI4902, 0)","v":0},0,{"$f":"IF(AND(NOT(ISBLANK($U4902)), $U4902<'P&L'!$P$8), $AL4902, 0)","v":0},{"$f":"IF(OR(ISBLANK($U4902), $U4902>'DebitCard Rec '!$E$8), $AL4902, 0)","v":0},0,{"$f":"IF(AND(NOT(ISBLANK($U4902)), $U4902<'P&L'!$P$8), $AO4902, 0)","v":0},{"$f":"IF(OR(ISBLANK($U4902), $U4902>'DebitCard Rec '!$E$8), $AO4902, 0)","v":0},0,{"$f":"IF(AND($A4902<'P&L'!$P$8, $X4902='P&L'!$G$6), $AR4902, 0)","v":0},0,{"$f":"IF(AND($A4902<'P&L'!$P$8, $X4902='P&L'!$G$6), $AT4902, 0)","v":0}," "," "," "]
[null,null,null,null,null,null,null,null,null,null,null,null,null,null,null,null,null,null,null,null,null,null,"Jan-00",1900,{"$f":"IF(AND($A4903<'P&L'!$P$8, YEAR($A4903)=Master!$C$6), $K4903, 0)","v":0},0,{"$f":"IF(AND(NOT(ISBLANK($O4903)), $O4903<'P&L'!$P$8), Z4903, 0)","v":0},{"$f":"IF(OR(ISBLANK($O4903), $O4903>'BankRec Main Acct'!$E$8), Z4903, 0)","v":0},0,{"$f":"IF(AND(NOT(ISBLANK($O4903)), $O4903<'P&L'!$P$8), AC4903, 0)","v":0},{"$f":"IF(OR(ISBLANK($O4903), $O4903>'BankRec Main Acct'!$E$8), AC4903, 0)","v":0},0,{"$f":"IF(AND(NOT(ISBLANK($S4903)), $S4903<'P&L'!$P$8), AF4903, 0)","v":0},{"$f":"IF(OR(ISBLANK($S4903), $S4903>'BankRec Main Acct'!$E$8), AF4903, 0)","v":0},0,{"$f":"IF(AND(NOT(ISBLANK($S4903)), $S4903<'P&L'!$P$8), AI4903, 0)","v":0},{"$f":"IF(OR(ISBLANK($S4903), $S4903>'BankRec Main Acct'!$E$8), AI4903, 0)","v":0},0,{"$f":"IF(AND(NOT(ISBLANK($U4903)), $U4903<'P&L'!$P$8), $AL4903, 0)","v":0},{"$f":"IF(OR(ISBLANK($U4903), $U4903>'DebitCard Rec '!$E$8), $AL4903, 0)","v":0},0,{"$f":"IF(AND(NOT(ISBLANK($U4903)), $U4903<'P&L'!$P$8), $AO4903, 0)","v":0},{"$f":"IF(OR(ISBLANK($U4903), $U4903>'DebitCard Rec '!$E$8), $AO4903, 0)","v":0},0,{"$f":"IF(AND($A4903<'P&L'!$P$8, $X4903='P&L'!$G$6), $AR4903, 0)","v":0},0,{"$f":"IF(AND($A4903<'P&L'!$P$8, $X4903='P&L'!$G$6), $AT4903, 0)","v":0}," "," "," "]
[null,null,null,null,null,null,null,null,null,null,null,null,null,null,null,null,null,null,null,null,null,null,"Jan-00",1900,{"$f":"IF(AND($A4904<'P&L'!$P$8, YEAR($A4904)=Master!$C$6), $K4904, 0)","v":0},0,{"$f":"IF(AND(NOT(ISBLANK($O4904)), $O4904<'P&L'!$P$8), Z4904, 0)","v":0},{"$f":"IF(OR(ISBLANK($O4904), $O4904>'BankRec Main Acct'!$E$8), Z4904, 0)","v":0},0,{"$f":"IF(AND(NOT(ISBLANK($O4904)), $O4904<'P&L'!$P$8), AC4904, 0)","v":0},{"$f":"IF(OR(ISBLANK($O4904), $O4904>'BankRec Main Acct'!$E$8), AC4904, 0)","v":0},0,{"$f":"IF(AND(NOT(ISBLANK($S4904)), $S4904<'P&L'!$P$8), AF4904, 0)","v":0},{"$f":"IF(OR(ISBLANK($S4904), $S4904>'BankRec Main Acct'!$E$8), AF4904, 0)","v":0},0,{"$f":"IF(AND(NOT(ISBLANK($S4904)), $S4904<'P&L'!$P$8), AI4904, 0)","v":0},{"$f":"IF(OR(ISBLANK($S4904), $S4904>'BankRec Main Acct'!$E$8), AI4904, 0)","v":0},0,{"$f":"IF(AND(NOT(ISBLANK($U4904)), $U4904<'P&L'!$P$8), $AL4904, 0)","v":0},{"$f":"IF(OR(ISBLANK($U4904), $U4904>'DebitCard Rec '!$E$8), $AL4904, 0)","v":0},0,{"$f":"IF(AND(NOT(ISBLANK($U4904)), $U4904<'P&L'!$P$8), $AO4904, 0)","v":0},{"$f":"IF(OR(ISBLANK($U4904), $U4904>'DebitCard Rec '!$E$8), $AO4904, 0)","v":0},0,{"$f":"IF(AND($A4904<'P&L'!$P$8, $X4904='P&L'!$G$6), $AR4904, 0)","v":0},0,{"$f":"IF(AND($A4904<'P&L'!$P$8, $X4904='P&L'!$G$6), $AT4904, 0)","v":0}," "," "," "]
[null,null,null,null,null,null,null,null,null,null,null,null,null,null,null,null,null,null,null,null,null,null,"Jan-00",1900,{"$f":"IF(AND($A4905<'P&L'!$P$8, YEAR($A4905)=Master!$C$6), $K4905, 0)","v":0},0,{"$f":"IF(AND(NOT(ISBLANK($O4905)), $O4905<'P&L'!$P$8), Z4905, 0)","v":0},{"$f":"IF(OR(ISBLANK($O4905), $O4905>'BankRec Main Acct'!$E$8), Z4905, 0)","v":0},0,{"$f":"IF(AND(NOT(ISBLANK($O4905)), $O4905<'P&L'!$P$8), AC4905, 0)","v":0},{"$f":"IF(OR(ISBLANK($O4905), $O4905>'BankRec Main Acct'!$E$8), AC4905, 0)","v":0},0,{"$f":"IF(AND(NOT(ISBLANK($S4905)), $S4905<'P&L'!$P$8), AF4905, 0)","v":0},{"$f":"IF(OR(ISBLANK($S4905), $S4905>'BankRec Main Acct'!$E$8), AF4905, 0)","v":0},0,{"$f":"IF(AND(NOT(ISBLANK($S4905)), $S4905<'P&L'!$P$8), AI4905, 0)","v":0},{"$f":"IF(OR(ISBLANK($S4905), $S4905>'BankRec Main Acct'!$E$8), AI4905, 0)","v":0},0,{"$f":"IF(AND(NOT(ISBLANK($U4905)), $U4905<'P&L'!$P$8), $AL4905, 0)","v":0},{"$f":"IF(OR(ISBLANK($U4905), $U4905>'DebitCard Rec '!$E$8), $AL4905, 0)","v":0},0,{"$f":"IF(AND(NOT(ISBLANK($U4905)), $U4905<'P&L'!$P$8), $AO4905, 0)","v":0},{"$f":"IF(OR(ISBLANK($U4905), $U4905>'DebitCard Rec '!$E$8), $AO4905, 0)","v":0},0,{"$f":"IF(AND($A4905<'P&L'!$P$8, $X4905='P&L'!$G$6), $AR4905, 0)","v":0},0,{"$f":"IF(AND($A4905<'P&L'!$P$8, $X4905='P&L'!$G$6), $AT4905, 0)","v":0}," "," "," "]
[null,null,null,null,null,null,null,null,null,null,null,null,null,null,null,null,null,null,null,null,null,null,"Jan-00",1900,{"$f":"IF(AND($A4906<'P&L'!$P$8, YEAR($A4906)=Master!$C$6), $K4906, 0)","v":0},0,{"$f":"IF(AND(NOT(ISBLANK($O4906)), $O4906<'P&L'!$P$8), Z4906, 0)","v":0},{"$f":"IF(OR(ISBLANK($O4906), $O4906>'BankRec Main Acct'!$E$8), Z4906, 0)","v":0},0,{"$f":"IF(AND(NOT(ISBLANK($O4906)), $O4906<'P&L'!$P$8), AC4906, 0)","v":0},{"$f":"IF(OR(ISBLANK($O4906), $O4906>'BankRec Main Acct'!$E$8), AC4906, 0)","v":0},0,{"$f":"IF(AND(NOT(ISBLANK($S4906)), $S4906<'P&L'!$P$8), AF4906, 0)","v":0},{"$f":"IF(OR(ISBLANK($S4906), $S4906>'BankRec Main Acct'!$E$8), AF4906, 0)","v":0},0,{"$f":"IF(AND(NOT(ISBLANK($S4906)), $S4906<'P&L'!$P$8), AI4906, 0)","v":0},{"$f":"IF(OR(ISBLANK($S4906), $S4906>'BankRec Main Acct'!$E$8), AI4906, 0)","v":0},0,{"$f":"IF(AND(NOT(ISBLANK($U4906)), $U4906<'P&L'!$P$8), $AL4906, 0)","v":0},{"$f":"IF(OR(ISBLANK($U4906), $U4906>'DebitCard Rec '!$E$8), $AL4906, 0)","v":0},0,{"$f":"IF(AND(NOT(ISBLANK($U4906)), $U4906<'P&L'!$P$8), $AO4906, 0)","v":0},{"$f":"IF(OR(ISBLANK($U4906), $U4906>'DebitCard Rec '!$E$8), $AO4906, 0)","v":0},0,{"$f":"IF(AND($A4906<'P&L'!$P$8, $X4906='P&L'!$G$6), $AR4906, 0)","v":0},0,{"$f":"IF(AND($A4906<'P&L'!$P$8, $X4906='P&L'!$G$6), $AT4906, 0)","v":0}," "," "," "]
[null,null,null,null,null,null,null,null,null,null,null,null,null,null,null,null,null,null,null,null,null,null,"Jan-00",1900,{"$f":"IF(AND($A4907<'P&L'!$P$8, YEAR($A4907)=Master!$C$6), $K4907, 0)","v":0},0,{"$f":"IF(AND(NOT(ISBLANK($O4907)), $O4907<'P&L'!$P$8), Z4907, 0)","v":0},{"$f":"IF(OR(ISBLANK($O4907), $O4907>'BankRec Main Acct'!$E$8), Z4907, 0)","v":0},0,{"$f":"IF(AND(NOT(ISBLANK($O4907)), $O4907<'P&L'!$P$8), AC4907, 0)","v":0},{"$f":"IF(OR(ISBLANK($O4907), $O4907>'BankRec Main Acct'!$E$8), AC4907, 0)","v":0},0,{"$f":"IF(AND(NOT(ISBLANK($S4907)), $S4907<'P&L'!$P$8), AF4907, 0)","v":0},{"$f":"IF(OR(ISBLANK($S4907), $S4907>'BankRec Main Acct'!$E$8), AF4907, 0)","v":0},0,{"$f":"IF(AND(NOT(ISBLANK($S4907)), $S4907<'P&L'!$P$8), AI4907, 0)","v":0},{"$f":"IF(OR(ISBLANK($S4907), $S4907>'BankRec Main Acct'!$E$8), AI4907, 0)","v":0},0,{"$f":"IF(AND(NOT(ISBLANK($U4907)), $U4907<'P&L'!$P$8), $AL4907, 0)","v":0},{"$f":"IF(OR(ISBLANK($U4907), $U4907>'DebitCard Rec '!$E$8), $AL4907, 0)","v":0},0,{"$f":"IF(AND(NOT(ISBLANK($U4907)), $U4907<'P&L'!$P$8), $AO4907, 0)","v":0},{"$f":"IF(OR(ISBLANK($U4907), $U4907>'DebitCard Rec '!$E$8), $AO4907, 0)","v":0},0,{"$f":"IF(AND($A4907<'P&L'!$P$8, $X4907='P&L'!$G$6), $AR4907, 0)","v":0},0,{"$f":"IF(AND($A4907<'P&L'!$P$8, $X4907='P&L'!$G$6), $AT4907, 0)","v":0}," "," "," "]
[null,null,null,null,null,null,null,null,null,null,null,null,null,null,null,null,null,null,null,null,null,null,"Jan-00",1900,{"$f":"IF(AND($A4908<'P&L'!$P$8, YEAR($A4908)=Master!$C$6), $K4908, 0)","v":0},0,{"$f":"IF(AND(NOT(ISBLANK($O4908)), $O4908<'P&L'!$P$8), Z4908, 0)","v":0},{"$f":"IF(OR(ISBLANK($O4908), $O4908>'BankRec Main Acct'!$E$8), Z4908, 0)","v":0},0,{"$f":"IF(AND(NOT(ISBLANK($O4908)), $O4908<'P&L'!$P$8), AC4908, 0)","v":0},{"$f":"IF(OR(ISBLANK($O4908), $O4908>'BankRec Main Acct'!$E$8), AC4908, 0)","v":0},0,{"$f":"IF(AND(NOT(ISBLANK($S4908)), $S4908<'P&L'!$P$8), AF4908, 0)","v":0},{"$f":"IF(OR(ISBLANK($S4908), $S4908>'BankRec Main Acct'!$E$8), AF4908, 0)","v":0},0,{"$f":"IF(AND(NOT(ISBLANK($S4908)), $S4908<'P&L'!$P$8), AI4908, 0)","v":0},{"$f":"IF(OR(ISBLANK($S4908), $S4908>'BankRec Main Acct'!$E$8), AI4908, 0)","v":0},0,{"$f":"IF(AND(NOT(ISBLANK($U4908)), $U4908<'P&L'!$P$8), $AL4908, 0)","v":0},{"$f":"IF(OR(ISBLANK($U4908), $U4908>'DebitCard Rec '!$E$8), $AL4908, 0)","v":0},0,{"$f":"IF(AND(NOT(ISBLANK($U4908)), $U4908<'P&L'!$P$8), $AO4908, 0)","v":0},{"$f":"IF(OR(ISBLANK($U4908), $U4908>'DebitCard Rec '!$E$8), $AO4908, 0)","v":0},0,{"$f":"IF(AND($A4908<'P&L'!$P$8, $X4908='P&L'!$G$6), $AR4908, 0)","v":0},0,{"$f":"IF(AND($A4908<'P&L'!$P$8, $X4908='P&L'!$G$6), $AT4908, 0)","v":0}," "," "," "]
[null,null,null,null,null,null,null,null,null,null,null,null,null,null,null,null,null,null,null,null,null,null,"Jan-00",1900,{"$f":"IF(AND($A4909<'P&L'!$P$8, YEAR($A4909)=Master!$C$6), $K4909, 0)","v":0},0,{"$f":"IF(AND(NOT(ISBLANK($O4909)), $O4909<'P&L'!$P$8), Z4909, 0)","v":0},{"$f":"IF(OR(ISBLANK($O4909), $O4909>'BankRec Main Acct'!$E$8), Z4909, 0)","v":0},0,{"$f":"IF(AND(NOT(ISBLANK($O4909)), $O4909<'P&L'!$P$8), AC4909, 0)","v":0},{"$f":"IF(OR(ISBLANK($O4909), $O4909>'BankRec Main Acct'!$E$8), AC4909, 0)","v":0},0,{"$f":"IF(AND(NOT(ISBLANK($S4909)), $S4909<'P&L'!$P$8), AF4909, 0)","v":0},{"$f":"IF(OR(ISBLANK($S4909), $S4909>'BankRec Main Acct'!$E$8), AF4909, 0)","v":0},0,{"$f":"IF(AND(NOT(ISBLANK($S4909)), $S4909<'P&L'!$P$8), AI4909, 0)","v":0},{"$f":"IF(OR(ISBLANK($S4909), $S4909>'BankRec Main Acct'!$E$8), AI4909, 0)","v":0},0,{"$f":"IF(AND(NOT(ISBLANK($U4909)), $U4909<'P&L'!$P$8), $AL4909, 0)","v":0},{"$f":"IF(OR(ISBLANK($U4909), $U4909>'DebitCard Rec '!$E$8), $AL4909, 0)","v":0},0,{"$f":"IF(AND(NOT(ISBLANK($U4909)), $U4909<'P&L'!$P$8), $AO4909, 0)","v":0},{"$f":"IF(OR(ISBLANK($U4909), $U4909>'DebitCard Rec '!$E$8), $AO4909, 0)","v":0},0,{"$f":"IF(AND($A4909<'P&L'!$P$8, $X4909='P&L'!$G$6), $AR4909, 0)","v":0},0,{"$f":"IF(AND($A4909<'P&L'!$P$8, $X4909='P&L'!$G$6), $AT4909, 0)","v":0}," "," "," "]
[null,null,null,null,null,null,null,null,null,null,null,null,null,null,null,null,null,null,null,null,null,null,"Jan-00",1900,{"$f":"IF(AND($A4910<'P&L'!$P$8, YEAR($A4910)=Master!$C$6), $K4910, 0)","v":0},0,{"$f":"IF(AND(NOT(ISBLANK($O4910)), $O4910<'P&L'!$P$8), Z4910, 0)","v":0},{"$f":"IF(OR(ISBLANK($O4910), $O4910>'BankRec Main Acct'!$E$8), Z4910, 0)","v":0},0,{"$f":"IF(AND(NOT(ISBLANK($O4910)), $O4910<'P&L'!$P$8), AC4910, 0)","v":0},{"$f":"IF(OR(ISBLANK($O4910), $O4910>'BankRec Main Acct'!$E$8), AC4910, 0)","v":0},0,{"$f":"IF(AND(NOT(ISBLANK($S4910)), $S4910<'P&L'!$P$8), AF4910, 0)","v":0},{"$f":"IF(OR(ISBLANK($S4910), $S4910>'BankRec Main Acct'!$E$8), AF4910, 0)","v":0},0,{"$f":"IF(AND(NOT(ISBLANK($S4910)), $S4910<'P&L'!$P$8), AI4910, 0)","v":0},{"$f":"IF(OR(ISBLANK($S4910), $S4910>'BankRec Main Acct'!$E$8), AI4910, 0)","v":0},0,{"$f":"IF(AND(NOT(ISBLANK($U4910)), $U4910<'P&L'!$P$8), $AL4910, 0)","v":0},{"$f":"IF(OR(ISBLANK($U4910), $U4910>'DebitCard Rec '!$E$8), $AL4910, 0)","v":0},0,{"$f":"IF(AND(NOT(ISBLANK($U4910)), $U4910<'P&L'!$P$8), $AO4910, 0)","v":0},{"$f":"IF(OR(ISBLANK($U4910), $U4910>'DebitCard Rec '!$E$8), $AO4910, 0)","v":0},0,{"$f":"IF(AND($A4910<'P&L'!$P$8, $X4910='P&L'!$G$6), $AR4910, 0)","v":0},0,{"$f":"IF(AND($A4910<'P&L'!$P$8, $X4910='P&L'!$G$6), $AT4910, 0)","v":0}," "," "," "]
[null,null,null,null,null,null,null,null,null,null,null,null,null,null,null,null,null,null,null,null,null,null,"Jan-00",1900,{"$f":"IF(AND($A4911<'P&L'!$P$8, YEAR($A4911)=Master!$C$6), $K4911, 0)","v":0},0,{"$f":"IF(AND(NOT(ISBLANK($O4911)), $O4911<'P&L'!$P$8), Z4911, 0)","v":0},{"$f":"IF(OR(ISBLANK($O4911), $O4911>'BankRec Main Acct'!$E$8), Z4911, 0)","v":0},0,{"$f":"IF(AND(NOT(ISBLANK($O4911)), $O4911<'P&L'!$P$8), AC4911, 0)","v":0},{"$f":"IF(OR(ISBLANK($O4911), $O4911>'BankRec Main Acct'!$E$8), AC4911, 0)","v":0},0,{"$f":"IF(AND(NOT(ISBLANK($S4911)), $S4911<'P&L'!$P$8), AF4911, 0)","v":0},{"$f":"IF(OR(ISBLANK($S4911), $S4911>'BankRec Main Acct'!$E$8), AF4911, 0)","v":0},0,{"$f":"IF(AND(NOT(ISBLANK($S4911)), $S4911<'P&L'!$P$8), AI4911, 0)","v":0},{"$f":"IF(OR(ISBLANK($S4911), $S4911>'BankRec Main Acct'!$E$8), AI4911, 0)","v":0},0,{"$f":"IF(AND(NOT(ISBLANK($U4911)), $U4911<'P&L'!$P$8), $AL4911, 0)","v":0},{"$f":"IF(OR(ISBLANK($U4911), $U4911>'DebitCard Rec '!$E$8), $AL4911, 0)","v":0},0,{"$f":"IF(AND(NOT(ISBLANK($U4911)), $U4911<'P&L'!$P$8), $AO4911, 0)","v":0},{"$f":"IF(OR(ISBLANK($U4911), $U4911>'DebitCard Rec '!$E$8), $AO4911, 0)","v":0},0,{"$f":"IF(AND($A4911<'P&L'!$P$8, $X4911='P&L'!$G$6), $AR4911, 0)","v":0},0,{"$f":"IF(AND($A4911<'P&L'!$P$8, $X4911='P&L'!$G$6), $AT4911, 0)","v":0}," "," "," "]
[null,null,null,null,null,null,null,null,null,null,null,null,null,null,null,null,null,null,null,null,null,null,"Jan-00",1900,{"$f":"IF(AND($A4912<'P&L'!$P$8, YEAR($A4912)=Master!$C$6), $K4912, 0)","v":0},0,{"$f":"IF(AND(NOT(ISBLANK($O4912)), $O4912<'P&L'!$P$8), Z4912, 0)","v":0},{"$f":"IF(OR(ISBLANK($O4912), $O4912>'BankRec Main Acct'!$E$8), Z4912, 0)","v":0},0,{"$f":"IF(AND(NOT(ISBLANK($O4912)), $O4912<'P&L'!$P$8), AC4912, 0)","v":0},{"$f":"IF(OR(ISBLANK($O4912), $O4912>'BankRec Main Acct'!$E$8), AC4912, 0)","v":0},0,{"$f":"IF(AND(NOT(ISBLANK($S4912)), $S4912<'P&L'!$P$8), AF4912, 0)","v":0},{"$f":"IF(OR(ISBLANK($S4912), $S4912>'BankRec Main Acct'!$E$8), AF4912, 0)","v":0},0,{"$f":"IF(AND(NOT(ISBLANK($S4912)), $S4912<'P&L'!$P$8), AI4912, 0)","v":0},{"$f":"IF(OR(ISBLANK($S4912), $S4912>'BankRec Main Acct'!$E$8), AI4912, 0)","v":0},0,{"$f":"IF(AND(NOT(ISBLANK($U4912)), $U4912<'P&L'!$P$8), $AL4912, 0)","v":0},{"$f":"IF(OR(ISBLANK($U4912), $U4912>'DebitCard Rec '!$E$8), $AL4912, 0)","v":0},0,{"$f":"IF(AND(NOT(ISBLANK($U4912)), $U4912<'P&L'!$P$8), $AO4912, 0)","v":0},{"$f":"IF(OR(ISBLANK($U4912), $U4912>'DebitCard Rec '!$E$8), $AO4912, 0)","v":0},0,{"$f":"IF(AND($A4912<'P&L'!$P$8, $X4912='P&L'!$G$6), $AR4912, 0)","v":0},0,{"$f":"IF(AND($A4912<'P&L'!$P$8, $X4912='P&L'!$G$6), $AT4912, 0)","v":0}," "," "," "]
[null,null,null,null,null,null,null,null,null,null,null,null,null,null,null,null,null,null,null,null,null,null,"Jan-00",1900,{"$f":"IF(AND($A4913<'P&L'!$P$8, YEAR($A4913)=Master!$C$6), $K4913, 0)","v":0},0,{"$f":"IF(AND(NOT(ISBLANK($O4913)), $O4913<'P&L'!$P$8), Z4913, 0)","v":0},{"$f":"IF(OR(ISBLANK($O4913), $O4913>'BankRec Main Acct'!$E$8), Z4913, 0)","v":0},0,{"$f":"IF(AND(NOT(ISBLANK($O4913)), $O4913<'P&L'!$P$8), AC4913, 0)","v":0},{"$f":"IF(OR(ISBLANK($O4913), $O4913>'BankRec Main Acct'!$E$8), AC4913, 0)","v":0},0,{"$f":"IF(AND(NOT(ISBLANK($S4913)), $S4913<'P&L'!$P$8), AF4913, 0)","v":0},{"$f":"IF(OR(ISBLANK($S4913), $S4913>'BankRec Main Acct'!$E$8), AF4913, 0)","v":0},0,{"$f":"IF(AND(NOT(ISBLANK($S4913)), $S4913<'P&L'!$P$8), AI4913, 0)","v":0},{"$f":"IF(OR(ISBLANK($S4913), $S4913>'BankRec Main Acct'!$E$8), AI4913, 0)","v":0},0,{"$f":"IF(AND(NOT(ISBLANK($U4913)), $U4913<'P&L'!$P$8), $AL4913, 0)","v":0},{"$f":"IF(OR(ISBLANK($U4913), $U4913>'DebitCard Rec '!$E$8), $AL4913, 0)","v":0},0,{"$f":"IF(AND(NOT(ISBLANK($U4913)), $U4913<'P&L'!$P$8), $AO4913, 0)","v":0},{"$f":"IF(OR(ISBLANK($U4913), $U4913>'DebitCard Rec '!$E$8), $AO4913, 0)","v":0},0,{"$f":"IF(AND($A4913<'P&L'!$P$8, $X4913='P&L'!$G$6), $AR4913, 0)","v":0},0,{"$f":"IF(AND($A4913<'P&L'!$P$8, $X4913='P&L'!$G$6), $AT4913, 0)","v":0}," "," "," "]
[null,null,null,null,null,null,null,null,null,null,null,null,null,null,null,null,null,null,null,null,null,null,"Jan-00",1900,{"$f":"IF(AND($A4914<'P&L'!$P$8, YEAR($A4914)=Master!$C$6), $K4914, 0)","v":0},0,{"$f":"IF(AND(NOT(ISBLANK($O4914)), $O4914<'P&L'!$P$8), Z4914, 0)","v":0},{"$f":"IF(OR(ISBLANK($O4914), $O4914>'BankRec Main Acct'!$E$8), Z4914, 0)","v":0},0,{"$f":"IF(AND(NOT(ISBLANK($O4914)), $O4914<'P&L'!$P$8), AC4914, 0)","v":0},{"$f":"IF(OR(ISBLANK($O4914), $O4914>'BankRec Main Acct'!$E$8), AC4914, 0)","v":0},0,{"$f":"IF(AND(NOT(ISBLANK($S4914)), $S4914<'P&L'!$P$8), AF4914, 0)","v":0},{"$f":"IF(OR(ISBLANK($S4914), $S4914>'BankRec Main Acct'!$E$8), AF4914, 0)","v":0},0,{"$f":"IF(AND(NOT(ISBLANK($S4914)), $S4914<'P&L'!$P$8), AI4914, 0)","v":0},{"$f":"IF(OR(ISBLANK($S4914), $S4914>'BankRec Main Acct'!$E$8), AI4914, 0)","v":0},0,{"$f":"IF(AND(NOT(ISBLANK($U4914)), $U4914<'P&L'!$P$8), $AL4914, 0)","v":0},{"$f":"IF(OR(ISBLANK($U4914), $U4914>'DebitCard Rec '!$E$8), $AL4914, 0)","v":0},0,{"$f":"IF(AND(NOT(ISBLANK($U4914)), $U4914<'P&L'!$P$8), $AO4914, 0)","v":0},{"$f":"IF(OR(ISBLANK($U4914), $U4914>'DebitCard Rec '!$E$8), $AO4914, 0)","v":0},0,{"$f":"IF(AND($A4914<'P&L'!$P$8, $X4914='P&L'!$G$6), $AR4914, 0)","v":0},0,{"$f":"IF(AND($A4914<'P&L'!$P$8, $X4914='P&L'!$G$6), $AT4914, 0)","v":0}," "," "," "]
[null,null,null,null,null,null,null,null,null,null,null,null,null,null,null,null,null,null,null,null,null,null,"Jan-00",1900,{"$f":"IF(AND($A4915<'P&L'!$P$8, YEAR($A4915)=Master!$C$6), $K4915, 0)","v":0},0,{"$f":"IF(AND(NOT(ISBLANK($O4915)), $O4915<'P&L'!$P$8), Z4915, 0)","v":0},{"$f":"IF(OR(ISBLANK($O4915), $O4915>'BankRec Main Acct'!$E$8), Z4915, 0)","v":0},0,{"$f":"IF(AND(NOT(ISBLANK($O4915)), $O4915<'P&L'!$P$8), AC4915, 0)","v":0},{"$f":"IF(OR(ISBLANK($O4915), $O4915>'BankRec Main Acct'!$E$8), AC4915, 0)","v":0},0,{"$f":"IF(AND(NOT(ISBLANK($S4915)), $S4915<'P&L'!$P$8), AF4915, 0)","v":0},{"$f":"IF(OR(ISBLANK($S4915), $S4915>'BankRec Main Acct'!$E$8), AF4915, 0)","v":0},0,{"$f":"IF(AND(NOT(ISBLANK($S4915)), $S4915<'P&L'!$P$8), AI4915, 0)","v":0},{"$f":"IF(OR(ISBLANK($S4915), $S4915>'BankRec Main Acct'!$E$8), AI4915, 0)","v":0},0,{"$f":"IF(AND(NOT(ISBLANK($U4915)), $U4915<'P&L'!$P$8), $AL4915, 0)","v":0},{"$f":"IF(OR(ISBLANK($U4915), $U4915>'DebitCard Rec '!$E$8), $AL4915, 0)","v":0},0,{"$f":"IF(AND(NOT(ISBLANK($U4915)), $U4915<'P&L'!$P$8), $AO4915, 0)","v":0},{"$f":"IF(OR(ISBLANK($U4915), $U4915>'DebitCard Rec '!$E$8), $AO4915, 0)","v":0},0,{"$f":"IF(AND($A4915<'P&L'!$P$8, $X4915='P&L'!$G$6), $AR4915, 0)","v":0},0,{"$f":"IF(AND($A4915<'P&L'!$P$8, $X4915='P&L'!$G$6), $AT4915, 0)","v":0}," "," "," "]
[null,null,null,null,null,null,null,null,null,null,null,null,null,null,null,null,null,null,null,null,null,null,"Jan-00",1900,{"$f":"IF(AND($A4916<'P&L'!$P$8, YEAR($A4916)=Master!$C$6), $K4916, 0)","v":0},0,{"$f":"IF(AND(NOT(ISBLANK($O4916)), $O4916<'P&L'!$P$8), Z4916, 0)","v":0},{"$f":"IF(OR(ISBLANK($O4916), $O4916>'BankRec Main Acct'!$E$8), Z4916, 0)","v":0},0,{"$f":"IF(AND(NOT(ISBLANK($O4916)), $O4916<'P&L'!$P$8), AC4916, 0)","v":0},{"$f":"IF(OR(ISBLANK($O4916), $O4916>'BankRec Main Acct'!$E$8), AC4916, 0)","v":0},0,{"$f":"IF(AND(NOT(ISBLANK($S4916)), $S4916<'P&L'!$P$8), AF4916, 0)","v":0},{"$f":"IF(OR(ISBLANK($S4916), $S4916>'BankRec Main Acct'!$E$8), AF4916, 0)","v":0},0,{"$f":"IF(AND(NOT(ISBLANK($S4916)), $S4916<'P&L'!$P$8), AI4916, 0)","v":0},{"$f":"IF(OR(ISBLANK($S4916), $S4916>'BankRec Main Acct'!$E$8), AI4916, 0)","v":0},0,{"$f":"IF(AND(NOT(ISBLANK($U4916)), $U4916<'P&L'!$P$8), $AL4916, 0)","v":0},{"$f":"IF(OR(ISBLANK($U4916), $U4916>'DebitCard Rec '!$E$8), $AL4916, 0)","v":0},0,{"$f":"IF(AND(NOT(ISBLANK($U4916)), $U4916<'P&L'!$P$8), $AO4916, 0)","v":0},{"$f":"IF(OR(ISBLANK($U4916), $U4916>'DebitCard Rec '!$E$8), $AO4916, 0)","v":0},0,{"$f":"IF(AND($A4916<'P&L'!$P$8, $X4916='P&L'!$G$6), $AR4916, 0)","v":0},0,{"$f":"IF(AND($A4916<'P&L'!$P$8, $X4916='P&L'!$G$6), $AT4916, 0)","v":0}," "," "," "]
[null,null,null,null,null,null,null,null,null,null,null,null,null,null,null,null,null,null,null,null,null,null,"Jan-00",1900,{"$f":"IF(AND($A4917<'P&L'!$P$8, YEAR($A4917)=Master!$C$6), $K4917, 0)","v":0},0,{"$f":"IF(AND(NOT(ISBLANK($O4917)), $O4917<'P&L'!$P$8), Z4917, 0)","v":0},{"$f":"IF(OR(ISBLANK($O4917), $O4917>'BankRec Main Acct'!$E$8), Z4917, 0)","v":0},0,{"$f":"IF(AND(NOT(ISBLANK($O4917)), $O4917<'P&L'!$P$8), AC4917, 0)","v":0},{"$f":"IF(OR(ISBLANK($O4917), $O4917>'BankRec Main Acct'!$E$8), AC4917, 0)","v":0},0,{"$f":"IF(AND(NOT(ISBLANK($S4917)), $S4917<'P&L'!$P$8), AF4917, 0)","v":0},{"$f":"IF(OR(ISBLANK($S4917), $S4917>'BankRec Main Acct'!$E$8), AF4917, 0)","v":0},0,{"$f":"IF(AND(NOT(ISBLANK($S4917)), $S4917<'P&L'!$P$8), AI4917, 0)","v":0},{"$f":"IF(OR(ISBLANK($S4917), $S4917>'BankRec Main Acct'!$E$8), AI4917, 0)","v":0},0,{"$f":"IF(AND(NOT(ISBLANK($U4917)), $U4917<'P&L'!$P$8), $AL4917, 0)","v":0},{"$f":"IF(OR(ISBLANK($U4917), $U4917>'DebitCard Rec '!$E$8), $AL4917, 0)","v":0},0,{"$f":"IF(AND(NOT(ISBLANK($U4917)), $U4917<'P&L'!$P$8), $AO4917, 0)","v":0},{"$f":"IF(OR(ISBLANK($U4917), $U4917>'DebitCard Rec '!$E$8), $AO4917, 0)","v":0},0,{"$f":"IF(AND($A4917<'P&L'!$P$8, $X4917='P&L'!$G$6), $AR4917, 0)","v":0},0,{"$f":"IF(AND($A4917<'P&L'!$P$8, $X4917='P&L'!$G$6), $AT4917, 0)","v":0}," "," "," "]
[null,null,null,null,null,null,null,null,null,null,null,null,null,null,null,null,null,null,null,null,null,null,"Jan-00",1900,{"$f":"IF(AND($A4918<'P&L'!$P$8, YEAR($A4918)=Master!$C$6), $K4918, 0)","v":0},0,{"$f":"IF(AND(NOT(ISBLANK($O4918)), $O4918<'P&L'!$P$8), Z4918, 0)","v":0},{"$f":"IF(OR(ISBLANK($O4918), $O4918>'BankRec Main Acct'!$E$8), Z4918, 0)","v":0},0,{"$f":"IF(AND(NOT(ISBLANK($O4918)), $O4918<'P&L'!$P$8), AC4918, 0)","v":0},{"$f":"IF(OR(ISBLANK($O4918), $O4918>'BankRec Main Acct'!$E$8), AC4918, 0)","v":0},0,{"$f":"IF(AND(NOT(ISBLANK($S4918)), $S4918<'P&L'!$P$8), AF4918, 0)","v":0},{"$f":"IF(OR(ISBLANK($S4918), $S4918>'BankRec Main Acct'!$E$8), AF4918, 0)","v":0},0,{"$f":"IF(AND(NOT(ISBLANK($S4918)), $S4918<'P&L'!$P$8), AI4918, 0)","v":0},{"$f":"IF(OR(ISBLANK($S4918), $S4918>'BankRec Main Acct'!$E$8), AI4918, 0)","v":0},0,{"$f":"IF(AND(NOT(ISBLANK($U4918)), $U4918<'P&L'!$P$8), $AL4918, 0)","v":0},{"$f":"IF(OR(ISBLANK($U4918), $U4918>'DebitCard Rec '!$E$8), $AL4918, 0)","v":0},0,{"$f":"IF(AND(NOT(ISBLANK($U4918)), $U4918<'P&L'!$P$8), $AO4918, 0)","v":0},{"$f":"IF(OR(ISBLANK($U4918), $U4918>'DebitCard Rec '!$E$8), $AO4918, 0)","v":0},0,{"$f":"IF(AND($A4918<'P&L'!$P$8, $X4918='P&L'!$G$6), $AR4918, 0)","v":0},0,{"$f":"IF(AND($A4918<'P&L'!$P$8, $X4918='P&L'!$G$6), $AT4918, 0)","v":0}," "," "," "]
[null,null,null,null,null,null,null,null,null,null,null,null,null,null,null,null,null,null,null,null,null,null,"Jan-00",1900,{"$f":"IF(AND($A4919<'P&L'!$P$8, YEAR($A4919)=Master!$C$6), $K4919, 0)","v":0},0,{"$f":"IF(AND(NOT(ISBLANK($O4919)), $O4919<'P&L'!$P$8), Z4919, 0)","v":0},{"$f":"IF(OR(ISBLANK($O4919), $O4919>'BankRec Main Acct'!$E$8), Z4919, 0)","v":0},0,{"$f":"IF(AND(NOT(ISBLANK($O4919)), $O4919<'P&L'!$P$8), AC4919, 0)","v":0},{"$f":"IF(OR(ISBLANK($O4919), $O4919>'BankRec Main Acct'!$E$8), AC4919, 0)","v":0},0,{"$f":"IF(AND(NOT(ISBLANK($S4919)), $S4919<'P&L'!$P$8), AF4919, 0)","v":0},{"$f":"IF(OR(ISBLANK($S4919), $S4919>'BankRec Main Acct'!$E$8), AF4919, 0)","v":0},0,{"$f":"IF(AND(NOT(ISBLANK($S4919)), $S4919<'P&L'!$P$8), AI4919, 0)","v":0},{"$f":"IF(OR(ISBLANK($S4919), $S4919>'BankRec Main Acct'!$E$8), AI4919, 0)","v":0},0,{"$f":"IF(AND(NOT(ISBLANK($U4919)), $U4919<'P&L'!$P$8), $AL4919, 0)","v":0},{"$f":"IF(OR(ISBLANK($U4919), $U4919>'DebitCard Rec '!$E$8), $AL4919, 0)","v":0},0,{"$f":"IF(AND(NOT(ISBLANK($U4919)), $U4919<'P&L'!$P$8), $AO4919, 0)","v":0},{"$f":"IF(OR(ISBLANK($U4919), $U4919>'DebitCard Rec '!$E$8), $AO4919, 0)","v":0},0,{"$f":"IF(AND($A4919<'P&L'!$P$8, $X4919='P&L'!$G$6), $AR4919, 0)","v":0},0,{"$f":"IF(AND($A4919<'P&L'!$P$8, $X4919='P&L'!$G$6), $AT4919, 0)","v":0}," "," "," "]
[null,null,null,null,null,null,null,null,null,null,null,null,null,null,null,null,null,null,null,null,null,null,"Jan-00",1900,{"$f":"IF(AND($A4920<'P&L'!$P$8, YEAR($A4920)=Master!$C$6), $K4920, 0)","v":0},0,{"$f":"IF(AND(NOT(ISBLANK($O4920)), $O4920<'P&L'!$P$8), Z4920, 0)","v":0},{"$f":"IF(OR(ISBLANK($O4920), $O4920>'BankRec Main Acct'!$E$8), Z4920, 0)","v":0},0,{"$f":"IF(AND(NOT(ISBLANK($O4920)), $O4920<'P&L'!$P$8), AC4920, 0)","v":0},{"$f":"IF(OR(ISBLANK($O4920), $O4920>'BankRec Main Acct'!$E$8), AC4920, 0)","v":0},0,{"$f":"IF(AND(NOT(ISBLANK($S4920)), $S4920<'P&L'!$P$8), AF4920, 0)","v":0},{"$f":"IF(OR(ISBLANK($S4920), $S4920>'BankRec Main Acct'!$E$8), AF4920, 0)","v":0},0,{"$f":"IF(AND(NOT(ISBLANK($S4920)), $S4920<'P&L'!$P$8), AI4920, 0)","v":0},{"$f":"IF(OR(ISBLANK($S4920), $S4920>'BankRec Main Acct'!$E$8), AI4920, 0)","v":0},0,{"$f":"IF(AND(NOT(ISBLANK($U4920)), $U4920<'P&L'!$P$8), $AL4920, 0)","v":0},{"$f":"IF(OR(ISBLANK($U4920), $U4920>'DebitCard Rec '!$E$8), $AL4920, 0)","v":0},0,{"$f":"IF(AND(NOT(ISBLANK($U4920)), $U4920<'P&L'!$P$8), $AO4920, 0)","v":0},{"$f":"IF(OR(ISBLANK($U4920), $U4920>'DebitCard Rec '!$E$8), $AO4920, 0)","v":0},0,{"$f":"IF(AND($A4920<'P&L'!$P$8, $X4920='P&L'!$G$6), $AR4920, 0)","v":0},0,{"$f":"IF(AND($A4920<'P&L'!$P$8, $X4920='P&L'!$G$6), $AT4920, 0)","v":0}," "," "," "]
[null,null,null,null,null,null,null,null,null,null,null,null,null,null,null,null,null,null,null,null,null,null,"Jan-00",1900,{"$f":"IF(AND($A4921<'P&L'!$P$8, YEAR($A4921)=Master!$C$6), $K4921, 0)","v":0},0,{"$f":"IF(AND(NOT(ISBLANK($O4921)), $O4921<'P&L'!$P$8), Z4921, 0)","v":0},{"$f":"IF(OR(ISBLANK($O4921), $O4921>'BankRec Main Acct'!$E$8), Z4921, 0)","v":0},0,{"$f":"IF(AND(NOT(ISBLANK($O4921)), $O4921<'P&L'!$P$8), AC4921, 0)","v":0},{"$f":"IF(OR(ISBLANK($O4921), $O4921>'BankRec Main Acct'!$E$8), AC4921, 0)","v":0},0,{"$f":"IF(AND(NOT(ISBLANK($S4921)), $S4921<'P&L'!$P$8), AF4921, 0)","v":0},{"$f":"IF(OR(ISBLANK($S4921), $S4921>'BankRec Main Acct'!$E$8), AF4921, 0)","v":0},0,{"$f":"IF(AND(NOT(ISBLANK($S4921)), $S4921<'P&L'!$P$8), AI4921, 0)","v":0},{"$f":"IF(OR(ISBLANK($S4921), $S4921>'BankRec Main Acct'!$E$8), AI4921, 0)","v":0},0,{"$f":"IF(AND(NOT(ISBLANK($U4921)), $U4921<'P&L'!$P$8), $AL4921, 0)","v":0},{"$f":"IF(OR(ISBLANK($U4921), $U4921>'DebitCard Rec '!$E$8), $AL4921, 0)","v":0},0,{"$f":"IF(AND(NOT(ISBLANK($U4921)), $U4921<'P&L'!$P$8), $AO4921, 0)","v":0},{"$f":"IF(OR(ISBLANK($U4921), $U4921>'DebitCard Rec '!$E$8), $AO4921, 0)","v":0},0,{"$f":"IF(AND($A4921<'P&L'!$P$8, $X4921='P&L'!$G$6), $AR4921, 0)","v":0},0,{"$f":"IF(AND($A4921<'P&L'!$P$8, $X4921='P&L'!$G$6), $AT4921, 0)","v":0}," "," "," "]
[null,null,null,null,null,null,null,null,null,null,null,null,null,null,null,null,null,null,null,null,null,null,"Jan-00",1900,{"$f":"IF(AND($A4922<'P&L'!$P$8, YEAR($A4922)=Master!$C$6), $K4922, 0)","v":0},0,{"$f":"IF(AND(NOT(ISBLANK($O4922)), $O4922<'P&L'!$P$8), Z4922, 0)","v":0},{"$f":"IF(OR(ISBLANK($O4922), $O4922>'BankRec Main Acct'!$E$8), Z4922, 0)","v":0},0,{"$f":"IF(AND(NOT(ISBLANK($O4922)), $O4922<'P&L'!$P$8), AC4922, 0)","v":0},{"$f":"IF(OR(ISBLANK($O4922), $O4922>'BankRec Main Acct'!$E$8), AC4922, 0)","v":0},0,{"$f":"IF(AND(NOT(ISBLANK($S4922)), $S4922<'P&L'!$P$8), AF4922, 0)","v":0},{"$f":"IF(OR(ISBLANK($S4922), $S4922>'BankRec Main Acct'!$E$8), AF4922, 0)","v":0},0,{"$f":"IF(AND(NOT(ISBLANK($S4922)), $S4922<'P&L'!$P$8), AI4922, 0)","v":0},{"$f":"IF(OR(ISBLANK($S4922), $S4922>'BankRec Main Acct'!$E$8), AI4922, 0)","v":0},0,{"$f":"IF(AND(NOT(ISBLANK($U4922)), $U4922<'P&L'!$P$8), $AL4922, 0)","v":0},{"$f":"IF(OR(ISBLANK($U4922), $U4922>'DebitCard Rec '!$E$8), $AL4922, 0)","v":0},0,{"$f":"IF(AND(NOT(ISBLANK($U4922)), $U4922<'P&L'!$P$8), $AO4922, 0)","v":0},{"$f":"IF(OR(ISBLANK($U4922), $U4922>'DebitCard Rec '!$E$8), $AO4922, 0)","v":0},0,{"$f":"IF(AND($A4922<'P&L'!$P$8, $X4922='P&L'!$G$6), $AR4922, 0)","v":0},0,{"$f":"IF(AND($A4922<'P&L'!$P$8, $X4922='P&L'!$G$6), $AT4922, 0)","v":0}," "," "," "]
[null,null,null,null,null,null,null,null,null,null,null,null,null,null,null,null,null,null,null,null,null,null,"Jan-00",1900,{"$f":"IF(AND($A4923<'P&L'!$P$8, YEAR($A4923)=Master!$C$6), $K4923, 0)","v":0},0,{"$f":"IF(AND(NOT(ISBLANK($O4923)), $O4923<'P&L'!$P$8), Z4923, 0)","v":0},{"$f":"IF(OR(ISBLANK($O4923), $O4923>'BankRec Main Acct'!$E$8), Z4923, 0)","v":0},0,{"$f":"IF(AND(NOT(ISBLANK($O4923)), $O4923<'P&L'!$P$8), AC4923, 0)","v":0},{"$f":"IF(OR(ISBLANK($O4923), $O4923>'BankRec Main Acct'!$E$8), AC4923, 0)","v":0},0,{"$f":"IF(AND(NOT(ISBLANK($S4923)), $S4923<'P&L'!$P$8), AF4923, 0)","v":0},{"$f":"IF(OR(ISBLANK($S4923), $S4923>'BankRec Main Acct'!$E$8), AF4923, 0)","v":0},0,{"$f":"IF(AND(NOT(ISBLANK($S4923)), $S4923<'P&L'!$P$8), AI4923, 0)","v":0},{"$f":"IF(OR(ISBLANK($S4923), $S4923>'BankRec Main Acct'!$E$8), AI4923, 0)","v":0},0,{"$f":"IF(AND(NOT(ISBLANK($U4923)), $U4923<'P&L'!$P$8), $AL4923, 0)","v":0},{"$f":"IF(OR(ISBLANK($U4923), $U4923>'DebitCard Rec '!$E$8), $AL4923, 0)","v":0},0,{"$f":"IF(AND(NOT(ISBLANK($U4923)), $U4923<'P&L'!$P$8), $AO4923, 0)","v":0},{"$f":"IF(OR(ISBLANK($U4923), $U4923>'DebitCard Rec '!$E$8), $AO4923, 0)","v":0},0,{"$f":"IF(AND($A4923<'P&L'!$P$8, $X4923='P&L'!$G$6), $AR4923, 0)","v":0},0,{"$f":"IF(AND($A4923<'P&L'!$P$8, $X4923='P&L'!$G$6), $AT4923, 0)","v":0}," "," "," "]
[null,null,null,null,null,null,null,null,null,null,null,null,null,null,null,null,null,null,null,null,null,null,"Jan-00",1900,{"$f":"IF(AND($A4924<'P&L'!$P$8, YEAR($A4924)=Master!$C$6), $K4924, 0)","v":0},0,{"$f":"IF(AND(NOT(ISBLANK($O4924)), $O4924<'P&L'!$P$8), Z4924, 0)","v":0},{"$f":"IF(OR(ISBLANK($O4924), $O4924>'BankRec Main Acct'!$E$8), Z4924, 0)","v":0},0,{"$f":"IF(AND(NOT(ISBLANK($O4924)), $O4924<'P&L'!$P$8), AC4924, 0)","v":0},{"$f":"IF(OR(ISBLANK($O4924), $O4924>'BankRec Main Acct'!$E$8), AC4924, 0)","v":0},0,{"$f":"IF(AND(NOT(ISBLANK($S4924)), $S4924<'P&L'!$P$8), AF4924, 0)","v":0},{"$f":"IF(OR(ISBLANK($S4924), $S4924>'BankRec Main Acct'!$E$8), AF4924, 0)","v":0},0,{"$f":"IF(AND(NOT(ISBLANK($S4924)), $S4924<'P&L'!$P$8), AI4924, 0)","v":0},{"$f":"IF(OR(ISBLANK($S4924), $S4924>'BankRec Main Acct'!$E$8), AI4924, 0)","v":0},0,{"$f":"IF(AND(NOT(ISBLANK($U4924)), $U4924<'P&L'!$P$8), $AL4924, 0)","v":0},{"$f":"IF(OR(ISBLANK($U4924), $U4924>'DebitCard Rec '!$E$8), $AL4924, 0)","v":0},0,{"$f":"IF(AND(NOT(ISBLANK($U4924)), $U4924<'P&L'!$P$8), $AO4924, 0)","v":0},{"$f":"IF(OR(ISBLANK($U4924), $U4924>'DebitCard Rec '!$E$8), $AO4924, 0)","v":0},0,{"$f":"IF(AND($A4924<'P&L'!$P$8, $X4924='P&L'!$G$6), $AR4924, 0)","v":0},0,{"$f":"IF(AND($A4924<'P&L'!$P$8, $X4924='P&L'!$G$6), $AT4924, 0)","v":0}," "," "," "]
[null,null,null,null,null,null,null,null,null,null,null,null,null,null,null,null,null,null,null,null,null,null,"Jan-00",1900,{"$f":"IF(AND($A4925<'P&L'!$P$8, YEAR($A4925)=Master!$C$6), $K4925, 0)","v":0},0,{"$f":"IF(AND(NOT(ISBLANK($O4925)), $O4925<'P&L'!$P$8), Z4925, 0)","v":0},{"$f":"IF(OR(ISBLANK($O4925), $O4925>'BankRec Main Acct'!$E$8), Z4925, 0)","v":0},0,{"$f":"IF(AND(NOT(ISBLANK($O4925)), $O4925<'P&L'!$P$8), AC4925, 0)","v":0},{"$f":"IF(OR(ISBLANK($O4925), $O4925>'BankRec Main Acct'!$E$8), AC4925, 0)","v":0},0,{"$f":"IF(AND(NOT(ISBLANK($S4925)), $S4925<'P&L'!$P$8), AF4925, 0)","v":0},{"$f":"IF(OR(ISBLANK($S4925), $S4925>'BankRec Main Acct'!$E$8), AF4925, 0)","v":0},0,{"$f":"IF(AND(NOT(ISBLANK($S4925)), $S4925<'P&L'!$P$8), AI4925, 0)","v":0},{"$f":"IF(OR(ISBLANK($S4925), $S4925>'BankRec Main Acct'!$E$8), AI4925, 0)","v":0},0,{"$f":"IF(AND(NOT(ISBLANK($U4925)), $U4925<'P&L'!$P$8), $AL4925, 0)","v":0},{"$f":"IF(OR(ISBLANK($U4925), $U4925>'DebitCard Rec '!$E$8), $AL4925, 0)","v":0},0,{"$f":"IF(AND(NOT(ISBLANK($U4925)), $U4925<'P&L'!$P$8), $AO4925, 0)","v":0},{"$f":"IF(OR(ISBLANK($U4925), $U4925>'DebitCard Rec '!$E$8), $AO4925, 0)","v":0},0,{"$f":"IF(AND($A4925<'P&L'!$P$8, $X4925='P&L'!$G$6), $AR4925, 0)","v":0},0,{"$f":"IF(AND($A4925<'P&L'!$P$8, $X4925='P&L'!$G$6), $AT4925, 0)","v":0}," "," "," "]
[null,null,null,null,null,null,null,null,null,null,null,null,null,null,null,null,null,null,null,null,null,null,"Jan-00",1900,{"$f":"IF(AND($A4926<'P&L'!$P$8, YEAR($A4926)=Master!$C$6), $K4926, 0)","v":0},0,{"$f":"IF(AND(NOT(ISBLANK($O4926)), $O4926<'P&L'!$P$8), Z4926, 0)","v":0},{"$f":"IF(OR(ISBLANK($O4926), $O4926>'BankRec Main Acct'!$E$8), Z4926, 0)","v":0},0,{"$f":"IF(AND(NOT(ISBLANK($O4926)), $O4926<'P&L'!$P$8), AC4926, 0)","v":0},{"$f":"IF(OR(ISBLANK($O4926), $O4926>'BankRec Main Acct'!$E$8), AC4926, 0)","v":0},0,{"$f":"IF(AND(NOT(ISBLANK($S4926)), $S4926<'P&L'!$P$8), AF4926, 0)","v":0},{"$f":"IF(OR(ISBLANK($S4926), $S4926>'BankRec Main Acct'!$E$8), AF4926, 0)","v":0},0,{"$f":"IF(AND(NOT(ISBLANK($S4926)), $S4926<'P&L'!$P$8), AI4926, 0)","v":0},{"$f":"IF(OR(ISBLANK($S4926), $S4926>'BankRec Main Acct'!$E$8), AI4926, 0)","v":0},0,{"$f":"IF(AND(NOT(ISBLANK($U4926)), $U4926<'P&L'!$P$8), $AL4926, 0)","v":0},{"$f":"IF(OR(ISBLANK($U4926), $U4926>'DebitCard Rec '!$E$8), $AL4926, 0)","v":0},0,{"$f":"IF(AND(NOT(ISBLANK($U4926)), $U4926<'P&L'!$P$8), $AO4926, 0)","v":0},{"$f":"IF(OR(ISBLANK($U4926), $U4926>'DebitCard Rec '!$E$8), $AO4926, 0)","v":0},0,{"$f":"IF(AND($A4926<'P&L'!$P$8, $X4926='P&L'!$G$6), $AR4926, 0)","v":0},0,{"$f":"IF(AND($A4926<'P&L'!$P$8, $X4926='P&L'!$G$6), $AT4926, 0)","v":0}," "," "," "]
[null,null,null,null,null,null,null,null,null,null,null,null,null,null,null,null,null,null,null,null,null,null,"Jan-00",1900,{"$f":"IF(AND($A4927<'P&L'!$P$8, YEAR($A4927)=Master!$C$6), $K4927, 0)","v":0},0,{"$f":"IF(AND(NOT(ISBLANK($O4927)), $O4927<'P&L'!$P$8), Z4927, 0)","v":0},{"$f":"IF(OR(ISBLANK($O4927), $O4927>'BankRec Main Acct'!$E$8), Z4927, 0)","v":0},0,{"$f":"IF(AND(NOT(ISBLANK($O4927)), $O4927<'P&L'!$P$8), AC4927, 0)","v":0},{"$f":"IF(OR(ISBLANK($O4927), $O4927>'BankRec Main Acct'!$E$8), AC4927, 0)","v":0},0,{"$f":"IF(AND(NOT(ISBLANK($S4927)), $S4927<'P&L'!$P$8), AF4927, 0)","v":0},{"$f":"IF(OR(ISBLANK($S4927), $S4927>'BankRec Main Acct'!$E$8), AF4927, 0)","v":0},0,{"$f":"IF(AND(NOT(ISBLANK($S4927)), $S4927<'P&L'!$P$8), AI4927, 0)","v":0},{"$f":"IF(OR(ISBLANK($S4927), $S4927>'BankRec Main Acct'!$E$8), AI4927, 0)","v":0},0,{"$f":"IF(AND(NOT(ISBLANK($U4927)), $U4927<'P&L'!$P$8), $AL4927, 0)","v":0},{"$f":"IF(OR(ISBLANK($U4927), $U4927>'DebitCard Rec '!$E$8), $AL4927, 0)","v":0},0,{"$f":"IF(AND(NOT(ISBLANK($U4927)), $U4927<'P&L'!$P$8), $AO4927, 0)","v":0},{"$f":"IF(OR(ISBLANK($U4927), $U4927>'DebitCard Rec '!$E$8), $AO4927, 0)","v":0},0,{"$f":"IF(AND($A4927<'P&L'!$P$8, $X4927='P&L'!$G$6), $AR4927, 0)","v":0},0,{"$f":"IF(AND($A4927<'P&L'!$P$8, $X4927='P&L'!$G$6), $AT4927, 0)","v":0}," "," "," "]
[null,null,null,null,null,null,null,null,null,null,null,null,null,null,null,null,null,null,null,null,null,null,"Jan-00",1900,{"$f":"IF(AND($A4928<'P&L'!$P$8, YEAR($A4928)=Master!$C$6), $K4928, 0)","v":0},0,{"$f":"IF(AND(NOT(ISBLANK($O4928)), $O4928<'P&L'!$P$8), Z4928, 0)","v":0},{"$f":"IF(OR(ISBLANK($O4928), $O4928>'BankRec Main Acct'!$E$8), Z4928, 0)","v":0},0,{"$f":"IF(AND(NOT(ISBLANK($O4928)), $O4928<'P&L'!$P$8), AC4928, 0)","v":0},{"$f":"IF(OR(ISBLANK($O4928), $O4928>'BankRec Main Acct'!$E$8), AC4928, 0)","v":0},0,{"$f":"IF(AND(NOT(ISBLANK($S4928)), $S4928<'P&L'!$P$8), AF4928, 0)","v":0},{"$f":"IF(OR(ISBLANK($S4928), $S4928>'BankRec Main Acct'!$E$8), AF4928, 0)","v":0},0,{"$f":"IF(AND(NOT(ISBLANK($S4928)), $S4928<'P&L'!$P$8), AI4928, 0)","v":0},{"$f":"IF(OR(ISBLANK($S4928), $S4928>'BankRec Main Acct'!$E$8), AI4928, 0)","v":0},0,{"$f":"IF(AND(NOT(ISBLANK($U4928)), $U4928<'P&L'!$P$8), $AL4928, 0)","v":0},{"$f":"IF(OR(ISBLANK($U4928), $U4928>'DebitCard Rec '!$E$8), $AL4928, 0)","v":0},0,{"$f":"IF(AND(NOT(ISBLANK($U4928)), $U4928<'P&L'!$P$8), $AO4928, 0)","v":0},{"$f":"IF(OR(ISBLANK($U4928), $U4928>'DebitCard Rec '!$E$8), $AO4928, 0)","v":0},0,{"$f":"IF(AND($A4928<'P&L'!$P$8, $X4928='P&L'!$G$6), $AR4928, 0)","v":0},0,{"$f":"IF(AND($A4928<'P&L'!$P$8, $X4928='P&L'!$G$6), $AT4928, 0)","v":0}," "," "," "]
[null,null,null,null,null,null,null,null,null,null,null,null,null,null,null,null,null,null,null,null,null,null,"Jan-00",1900,{"$f":"IF(AND($A4929<'P&L'!$P$8, YEAR($A4929)=Master!$C$6), $K4929, 0)","v":0},0,{"$f":"IF(AND(NOT(ISBLANK($O4929)), $O4929<'P&L'!$P$8), Z4929, 0)","v":0},{"$f":"IF(OR(ISBLANK($O4929), $O4929>'BankRec Main Acct'!$E$8), Z4929, 0)","v":0},0,{"$f":"IF(AND(NOT(ISBLANK($O4929)), $O4929<'P&L'!$P$8), AC4929, 0)","v":0},{"$f":"IF(OR(ISBLANK($O4929), $O4929>'BankRec Main Acct'!$E$8), AC4929, 0)","v":0},0,{"$f":"IF(AND(NOT(ISBLANK($S4929)), $S4929<'P&L'!$P$8), AF4929, 0)","v":0},{"$f":"IF(OR(ISBLANK($S4929), $S4929>'BankRec Main Acct'!$E$8), AF4929, 0)","v":0},0,{"$f":"IF(AND(NOT(ISBLANK($S4929)), $S4929<'P&L'!$P$8), AI4929, 0)","v":0},{"$f":"IF(OR(ISBLANK($S4929), $S4929>'BankRec Main Acct'!$E$8), AI4929, 0)","v":0},0,{"$f":"IF(AND(NOT(ISBLANK($U4929)), $U4929<'P&L'!$P$8), $AL4929, 0)","v":0},{"$f":"IF(OR(ISBLANK($U4929), $U4929>'DebitCard Rec '!$E$8), $AL4929, 0)","v":0},0,{"$f":"IF(AND(NOT(ISBLANK($U4929)), $U4929<'P&L'!$P$8), $AO4929, 0)","v":0},{"$f":"IF(OR(ISBLANK($U4929), $U4929>'DebitCard Rec '!$E$8), $AO4929, 0)","v":0},0,{"$f":"IF(AND($A4929<'P&L'!$P$8, $X4929='P&L'!$G$6), $AR4929, 0)","v":0},0,{"$f":"IF(AND($A4929<'P&L'!$P$8, $X4929='P&L'!$G$6), $AT4929, 0)","v":0}," "," "," "]
[null,null,null,null,null,null,null,null,null,null,null,null,null,null,null,null,null,null,null,null,null,null,"Jan-00",1900,{"$f":"IF(AND($A4930<'P&L'!$P$8, YEAR($A4930)=Master!$C$6), $K4930, 0)","v":0},0,{"$f":"IF(AND(NOT(ISBLANK($O4930)), $O4930<'P&L'!$P$8), Z4930, 0)","v":0},{"$f":"IF(OR(ISBLANK($O4930), $O4930>'BankRec Main Acct'!$E$8), Z4930, 0)","v":0},0,{"$f":"IF(AND(NOT(ISBLANK($O4930)), $O4930<'P&L'!$P$8), AC4930, 0)","v":0},{"$f":"IF(OR(ISBLANK($O4930), $O4930>'BankRec Main Acct'!$E$8), AC4930, 0)","v":0},0,{"$f":"IF(AND(NOT(ISBLANK($S4930)), $S4930<'P&L'!$P$8), AF4930, 0)","v":0},{"$f":"IF(OR(ISBLANK($S4930), $S4930>'BankRec Main Acct'!$E$8), AF4930, 0)","v":0},0,{"$f":"IF(AND(NOT(ISBLANK($S4930)), $S4930<'P&L'!$P$8), AI4930, 0)","v":0},{"$f":"IF(OR(ISBLANK($S4930), $S4930>'BankRec Main Acct'!$E$8), AI4930, 0)","v":0},0,{"$f":"IF(AND(NOT(ISBLANK($U4930)), $U4930<'P&L'!$P$8), $AL4930, 0)","v":0},{"$f":"IF(OR(ISBLANK($U4930), $U4930>'DebitCard Rec '!$E$8), $AL4930, 0)","v":0},0,{"$f":"IF(AND(NOT(ISBLANK($U4930)), $U4930<'P&L'!$P$8), $AO4930, 0)","v":0},{"$f":"IF(OR(ISBLANK($U4930), $U4930>'DebitCard Rec '!$E$8), $AO4930, 0)","v":0},0,{"$f":"IF(AND($A4930<'P&L'!$P$8, $X4930='P&L'!$G$6), $AR4930, 0)","v":0},0,{"$f":"IF(AND($A4930<'P&L'!$P$8, $X4930='P&L'!$G$6), $AT4930, 0)","v":0}," "," "," "]
[null,null,null,null,null,null,null,null,null,null,null,null,null,null,null,null,null,null,null,null,null,null,"Jan-00",1900,{"$f":"IF(AND($A4931<'P&L'!$P$8, YEAR($A4931)=Master!$C$6), $K4931, 0)","v":0},0,{"$f":"IF(AND(NOT(ISBLANK($O4931)), $O4931<'P&L'!$P$8), Z4931, 0)","v":0},{"$f":"IF(OR(ISBLANK($O4931), $O4931>'BankRec Main Acct'!$E$8), Z4931, 0)","v":0},0,{"$f":"IF(AND(NOT(ISBLANK($O4931)), $O4931<'P&L'!$P$8), AC4931, 0)","v":0},{"$f":"IF(OR(ISBLANK($O4931), $O4931>'BankRec Main Acct'!$E$8), AC4931, 0)","v":0},0,{"$f":"IF(AND(NOT(ISBLANK($S4931)), $S4931<'P&L'!$P$8), AF4931, 0)","v":0},{"$f":"IF(OR(ISBLANK($S4931), $S4931>'BankRec Main Acct'!$E$8), AF4931, 0)","v":0},0,{"$f":"IF(AND(NOT(ISBLANK($S4931)), $S4931<'P&L'!$P$8), AI4931, 0)","v":0},{"$f":"IF(OR(ISBLANK($S4931), $S4931>'BankRec Main Acct'!$E$8), AI4931, 0)","v":0},0,{"$f":"IF(AND(NOT(ISBLANK($U4931)), $U4931<'P&L'!$P$8), $AL4931, 0)","v":0},{"$f":"IF(OR(ISBLANK($U4931), $U4931>'DebitCard Rec '!$E$8), $AL4931, 0)","v":0},0,{"$f":"IF(AND(NOT(ISBLANK($U4931)), $U4931<'P&L'!$P$8), $AO4931, 0)","v":0},{"$f":"IF(OR(ISBLANK($U4931), $U4931>'DebitCard Rec '!$E$8), $AO4931, 0)","v":0},0,{"$f":"IF(AND($A4931<'P&L'!$P$8, $X4931='P&L'!$G$6), $AR4931, 0)","v":0},0,{"$f":"IF(AND($A4931<'P&L'!$P$8, $X4931='P&L'!$G$6), $AT4931, 0)","v":0}," "," "," "]
[null,null,null,null,null,null,null,null,null,null,null,null,null,null,null,null,null,null,null,null,null,null,"Jan-00",1900,{"$f":"IF(AND($A4932<'P&L'!$P$8, YEAR($A4932)=Master!$C$6), $K4932, 0)","v":0},0,{"$f":"IF(AND(NOT(ISBLANK($O4932)), $O4932<'P&L'!$P$8), Z4932, 0)","v":0},{"$f":"IF(OR(ISBLANK($O4932), $O4932>'BankRec Main Acct'!$E$8), Z4932, 0)","v":0},0,{"$f":"IF(AND(NOT(ISBLANK($O4932)), $O4932<'P&L'!$P$8), AC4932, 0)","v":0},{"$f":"IF(OR(ISBLANK($O4932), $O4932>'BankRec Main Acct'!$E$8), AC4932, 0)","v":0},0,{"$f":"IF(AND(NOT(ISBLANK($S4932)), $S4932<'P&L'!$P$8), AF4932, 0)","v":0},{"$f":"IF(OR(ISBLANK($S4932), $S4932>'BankRec Main Acct'!$E$8), AF4932, 0)","v":0},0,{"$f":"IF(AND(NOT(ISBLANK($S4932)), $S4932<'P&L'!$P$8), AI4932, 0)","v":0},{"$f":"IF(OR(ISBLANK($S4932), $S4932>'BankRec Main Acct'!$E$8), AI4932, 0)","v":0},0,{"$f":"IF(AND(NOT(ISBLANK($U4932)), $U4932<'P&L'!$P$8), $AL4932, 0)","v":0},{"$f":"IF(OR(ISBLANK($U4932), $U4932>'DebitCard Rec '!$E$8), $AL4932, 0)","v":0},0,{"$f":"IF(AND(NOT(ISBLANK($U4932)), $U4932<'P&L'!$P$8), $AO4932, 0)","v":0},{"$f":"IF(OR(ISBLANK($U4932), $U4932>'DebitCard Rec '!$E$8), $AO4932, 0)","v":0},{"$f":"IF($AV4932=\"Petty cash Receipt\", $K4932, 0)","v":0},{"$f":"IF(AND($A4932<'P&L'!$P$8, $X4932='P&L'!$G$6), $AR4932, 0)","v":0},{"$f":"IF($AV4932=\"Petty cash Payment\", $K4932, 0)","v":0},{"$f":"IF(AND($A4932<'P&L'!$P$8, $X4932='P&L'!$G$6), $AT4932, 0)","v":0}," ",{"$f":"IF(C4932=\"Receipt\",CONCATENATE(D4932,\" \", F4932), \" \")","v":" "},{"$f":"IF(C4932= \"Payment\", CONCATENATE(F4932,\" \",E4932), \" \")","v":" "}]
[null,null,null,null,null,null,null,null,null,null,null,null,null,null,null,null,null,null,null,null,null,null,"Jan-00",1900,{"$f":"IF(AND($A4933<'P&L'!$P$8, YEAR($A4933)=Master!$C$6), $K4933, 0)","v":0},{"$f":"IF(AND($C4933=\"Receipt\",$B4933<>\"debit card\",$B4933<>\"petty cash\",$B4933<>\"Cash_Sub\",$B4933<>\"Cheque_Sub\", $B4933<>\"EFT_Sub\"),$K4933,0)","v":0},{"$f":"IF(AND(NOT(ISBLANK($O4933)), $O4933<'P&L'!$P$8), Z4933, 0)","v":0},{"$f":"IF(OR(ISBLANK($O4933), $O4933>'BankRec Main Acct'!$E$8), Z4933, 0)","v":0},{"$f":"IF(AND($C4933=\"Payment\", $B4933<>\"debit card\", $B4933<>\"petty cash\", $B4933<>\"Cash_Sub\", $B4933<>\"Cheque_Sub\", $B4933<>\"EFT_Sub\"), $K4933, 0)","v":0},{"$f":"IF(AND(NOT(ISBLANK($O4933)), $O4933<'P&L'!$P$8), AC4933, 0)","v":0},{"$f":"IF(OR(ISBLANK($O4933), $O4933>'BankRec Main Acct'!$E$8), AC4933, 0)","v":0},{"$f":"IF(AND($C4933=\"Receipt\",$B4933<>\"debit card\",$B4933<>\"petty cash\",$B4933<>\"Cash_Main\",$B4933<>\"Cheque_Main\", $B4933<>\"EFT_Main\"),$K4933,0)","v":0},{"$f":"IF(AND(NOT(ISBLANK($S4933)), $S4933<'P&L'!$P$8), AF4933, 0)","v":0},{"$f":"IF(OR(ISBLANK($S4933), $S4933>'BankRec Main Acct'!$E$8), AF4933, 0)","v":0},{"$f":"IF(AND($C4933=\"Payment\", $B4933<>\"debit card\", $B4933<>\"petty cash\", $B4933<>\"Cash_Main\", $B4933<>\"Cheque_Main\", $B4933<>\"EFT_Main\"), $K4933, 0)","v":0},{"$f":"IF(AND(NOT(ISBLANK($S4933)), $S4933<'P&L'!$P$8), AI4933, 0)","v":0},{"$f":"IF(OR(ISBLANK($S4933), $S4933>'BankRec Main Acct'!$E$8), AI4933, 0)","v":0},0,{"$f":"IF(AND(NOT(ISBLANK($U4933)), $U4933<'P&L'!$P$8), $AL4933, 0)","v":0},{"$f":"IF(OR(ISBLANK($U4933), $U4933>'DebitCard Rec '!$E$8), $AL4933, 0)","v":0},0,{"$f":"IF(AND(NOT(ISBLANK($U4933)), $U4933<'P&L'!$P$8), $AO4933, 0)","v":0},{"$f":"IF(OR(ISBLANK($U4933), $U4933>'DebitCard Rec '!$E$8), $AO4933, 0)","v":0},0,{"$f":"IF(AND($A4933<'P&L'!$P$8, $X4933='P&L'!$G$6), $AR4933, 0)","v":0},0,{"$f":"IF(AND($A4933<'P&L'!$P$8, $X4933='P&L'!$G$6), $AT4933, 0)","v":0}," "," "," "]
[null,null,null,null,null,null,null,null,null,null,null,null,null,null,null,null,null,null,null,null,null,null,"Jan-00",1900,{"$f":"IF(AND($A4934<'P&L'!$P$8, YEAR($A4934)=Master!$C$6), $K4934, 0)","v":0},0,{"$f":"IF(AND(NOT(ISBLANK($O4934)), $O4934<'P&L'!$P$8), Z4934, 0)","v":0},{"$f":"IF(OR(ISBLANK($O4934), $O4934>'BankRec Main Acct'!$E$8), Z4934, 0)","v":0},0,{"$f":"IF(AND(NOT(ISBLANK($O4934)), $O4934<'P&L'!$P$8), AC4934, 0)","v":0},{"$f":"IF(OR(ISBLANK($O4934), $O4934>'BankRec Main Acct'!$E$8), AC4934, 0)","v":0},0,{"$f":"IF(AND(NOT(ISBLANK($S4934)), $S4934<'P&L'!$P$8), AF4934, 0)","v":0},{"$f":"IF(OR(ISBLANK($S4934), $S4934>'BankRec Main Acct'!$E$8), AF4934, 0)","v":0},0,{"$f":"IF(AND(NOT(ISBLANK($S4934)), $S4934<'P&L'!$P$8), AI4934, 0)","v":0},{"$f":"IF(OR(ISBLANK($S4934), $S4934>'BankRec Main Acct'!$E$8), AI4934, 0)","v":0},0,{"$f":"IF(AND(NOT(ISBLANK($U4934)), $U4934<'P&L'!$P$8), $AL4934, 0)","v":0},{"$f":"IF(OR(ISBLANK($U4934), $U4934>'DebitCard Rec '!$E$8), $AL4934, 0)","v":0},0,{"$f":"IF(AND(NOT(ISBLANK($U4934)), $U4934<'P&L'!$P$8), $AO4934, 0)","v":0},{"$f":"IF(OR(ISBLANK($U4934), $U4934>'DebitCard Rec '!$E$8), $AO4934, 0)","v":0},0,{"$f":"IF(AND($A4934<'P&L'!$P$8, $X4934='P&L'!$G$6), $AR4934, 0)","v":0},0,{"$f":"IF(AND($A4934<'P&L'!$P$8, $X4934='P&L'!$G$6), $AT4934, 0)","v":0}," "," "," "]
[null,null,null,null,null,null,null,null,null,null,null,null,null,null,null,null,null,null,null,null,null,null,"Jan-00",1900,{"$f":"IF(AND($A4935<'P&L'!$P$8, YEAR($A4935)=Master!$C$6), $K4935, 0)","v":0},0,{"$f":"IF(AND(NOT(ISBLANK($O4935)), $O4935<'P&L'!$P$8), Z4935, 0)","v":0},{"$f":"IF(OR(ISBLANK($O4935), $O4935>'BankRec Main Acct'!$E$8), Z4935, 0)","v":0},0,{"$f":"IF(AND(NOT(ISBLANK($O4935)), $O4935<'P&L'!$P$8), AC4935, 0)","v":0},{"$f":"IF(OR(ISBLANK($O4935), $O4935>'BankRec Main Acct'!$E$8), AC4935, 0)","v":0},0,{"$f":"IF(AND(NOT(ISBLANK($S4935)), $S4935<'P&L'!$P$8), AF4935, 0)","v":0},{"$f":"IF(OR(ISBLANK($S4935), $S4935>'BankRec Main Acct'!$E$8), AF4935, 0)","v":0},0,{"$f":"IF(AND(NOT(ISBLANK($S4935)), $S4935<'P&L'!$P$8), AI4935, 0)","v":0},{"$f":"IF(OR(ISBLANK($S4935), $S4935>'BankRec Main Acct'!$E$8), AI4935, 0)","v":0},0,{"$f":"IF(AND(NOT(ISBLANK($U4935)), $U4935<'P&L'!$P$8), $AL4935, 0)","v":0},{"$f":"IF(OR(ISBLANK($U4935), $U4935>'DebitCard Rec '!$E$8), $AL4935, 0)","v":0},0,{"$f":"IF(AND(NOT(ISBLANK($U4935)), $U4935<'P&L'!$P$8), $AO4935, 0)","v":0},{"$f":"IF(OR(ISBLANK($U4935), $U4935>'DebitCard Rec '!$E$8), $AO4935, 0)","v":0},0,{"$f":"IF(AND($A4935<'P&L'!$P$8, $X4935='P&L'!$G$6), $AR4935, 0)","v":0},0,{"$f":"IF(AND($A4935<'P&L'!$P$8, $X4935='P&L'!$G$6), $AT4935, 0)","v":0}," "," "," "]
[null,null,null,null,null,null,null,null,null,null,null,null,null,null,null,null,null,null,null,null,null,null,"Jan-00",1900,{"$f":"IF(AND($A4936<'P&L'!$P$8, YEAR($A4936)=Master!$C$6), $K4936, 0)","v":0},0,{"$f":"IF(AND(NOT(ISBLANK($O4936)), $O4936<'P&L'!$P$8), Z4936, 0)","v":0},{"$f":"IF(OR(ISBLANK($O4936), $O4936>'BankRec Main Acct'!$E$8), Z4936, 0)","v":0},0,{"$f":"IF(AND(NOT(ISBLANK($O4936)), $O4936<'P&L'!$P$8), AC4936, 0)","v":0},{"$f":"IF(OR(ISBLANK($O4936), $O4936>'BankRec Main Acct'!$E$8), AC4936, 0)","v":0},0,{"$f":"IF(AND(NOT(ISBLANK($S4936)), $S4936<'P&L'!$P$8), AF4936, 0)","v":0},{"$f":"IF(OR(ISBLANK($S4936), $S4936>'BankRec Main Acct'!$E$8), AF4936, 0)","v":0},0,{"$f":"IF(AND(NOT(ISBLANK($S4936)), $S4936<'P&L'!$P$8), AI4936, 0)","v":0},{"$f":"IF(OR(ISBLANK($S4936), $S4936>'BankRec Main Acct'!$E$8), AI4936, 0)","v":0},0,{"$f":"IF(AND(NOT(ISBLANK($U4936)), $U4936<'P&L'!$P$8), $AL4936, 0)","v":0},{"$f":"IF(OR(ISBLANK($U4936), $U4936>'DebitCard Rec '!$E$8), $AL4936, 0)","v":0},0,{"$f":"IF(AND(NOT(ISBLANK($U4936)), $U4936<'P&L'!$P$8), $AO4936, 0)","v":0},{"$f":"IF(OR(ISBLANK($U4936), $U4936>'DebitCard Rec '!$E$8), $AO4936, 0)","v":0},0,{"$f":"IF(AND($A4936<'P&L'!$P$8, $X4936='P&L'!$G$6), $AR4936, 0)","v":0},0,{"$f":"IF(AND($A4936<'P&L'!$P$8, $X4936='P&L'!$G$6), $AT4936, 0)","v":0}," "," "," "]
[null,null,null,null,null,null,null,null,null,null,null,null,null,null,null,null,null,null,null,null,null,null,"Jan-00",1900,{"$f":"IF(AND($A4937<'P&L'!$P$8, YEAR($A4937)=Master!$C$6), $K4937, 0)","v":0},0,{"$f":"IF(AND(NOT(ISBLANK($O4937)), $O4937<'P&L'!$P$8), Z4937, 0)","v":0},{"$f":"IF(OR(ISBLANK($O4937), $O4937>'BankRec Main Acct'!$E$8), Z4937, 0)","v":0},0,{"$f":"IF(AND(NOT(ISBLANK($O4937)), $O4937<'P&L'!$P$8), AC4937, 0)","v":0},{"$f":"IF(OR(ISBLANK($O4937), $O4937>'BankRec Main Acct'!$E$8), AC4937, 0)","v":0},0,{"$f":"IF(AND(NOT(ISBLANK($S4937)), $S4937<'P&L'!$P$8), AF4937, 0)","v":0},{"$f":"IF(OR(ISBLANK($S4937), $S4937>'BankRec Main Acct'!$E$8), AF4937, 0)","v":0},0,{"$f":"IF(AND(NOT(ISBLANK($S4937)), $S4937<'P&L'!$P$8), AI4937, 0)","v":0},{"$f":"IF(OR(ISBLANK($S4937), $S4937>'BankRec Main Acct'!$E$8), AI4937, 0)","v":0},0,{"$f":"IF(AND(NOT(ISBLANK($U4937)), $U4937<'P&L'!$P$8), $AL4937, 0)","v":0},{"$f":"IF(OR(ISBLANK($U4937), $U4937>'DebitCard Rec '!$E$8), $AL4937, 0)","v":0},0,{"$f":"IF(AND(NOT(ISBLANK($U4937)), $U4937<'P&L'!$P$8), $AO4937, 0)","v":0},{"$f":"IF(OR(ISBLANK($U4937), $U4937>'DebitCard Rec '!$E$8), $AO4937, 0)","v":0},0,{"$f":"IF(AND($A4937<'P&L'!$P$8, $X4937='P&L'!$G$6), $AR4937, 0)","v":0},0,{"$f":"IF(AND($A4937<'P&L'!$P$8, $X4937='P&L'!$G$6), $AT4937, 0)","v":0}," "," "," "]
[null,null,null,null,null,null,null,null,null,null,null,null,null,null,null,null,null,null,null,null,null,null,"Jan-00",1900,{"$f":"IF(AND($A4938<'P&L'!$P$8, YEAR($A4938)=Master!$C$6), $K4938, 0)","v":0},0,{"$f":"IF(AND(NOT(ISBLANK($O4938)), $O4938<'P&L'!$P$8), Z4938, 0)","v":0},{"$f":"IF(OR(ISBLANK($O4938), $O4938>'BankRec Main Acct'!$E$8), Z4938, 0)","v":0},0,{"$f":"IF(AND(NOT(ISBLANK($O4938)), $O4938<'P&L'!$P$8), AC4938, 0)","v":0},{"$f":"IF(OR(ISBLANK($O4938), $O4938>'BankRec Main Acct'!$E$8), AC4938, 0)","v":0},0,{"$f":"IF(AND(NOT(ISBLANK($S4938)), $S4938<'P&L'!$P$8), AF4938, 0)","v":0},{"$f":"IF(OR(ISBLANK($S4938), $S4938>'BankRec Main Acct'!$E$8), AF4938, 0)","v":0},0,{"$f":"IF(AND(NOT(ISBLANK($S4938)), $S4938<'P&L'!$P$8), AI4938, 0)","v":0},{"$f":"IF(OR(ISBLANK($S4938), $S4938>'BankRec Main Acct'!$E$8), AI4938, 0)","v":0},0,{"$f":"IF(AND(NOT(ISBLANK($U4938)), $U4938<'P&L'!$P$8), $AL4938, 0)","v":0},{"$f":"IF(OR(ISBLANK($U4938), $U4938>'DebitCard Rec '!$E$8), $AL4938, 0)","v":0},0,{"$f":"IF(AND(NOT(ISBLANK($U4938)), $U4938<'P&L'!$P$8), $AO4938, 0)","v":0},{"$f":"IF(OR(ISBLANK($U4938), $U4938>'DebitCard Rec '!$E$8), $AO4938, 0)","v":0},0,{"$f":"IF(AND($A4938<'P&L'!$P$8, $X4938='P&L'!$G$6), $AR4938, 0)","v":0},0,{"$f":"IF(AND($A4938<'P&L'!$P$8, $X4938='P&L'!$G$6), $AT4938, 0)","v":0}," "," "," "]
[null,null,null,null,null,null,null,null,null,null,null,null,null,null,null,null,null,null,null,null,null,null,"Jan-00",1900,{"$f":"IF(AND($A4939<'P&L'!$P$8, YEAR($A4939)=Master!$C$6), $K4939, 0)","v":0},0,{"$f":"IF(AND(NOT(ISBLANK($O4939)), $O4939<'P&L'!$P$8), Z4939, 0)","v":0},{"$f":"IF(OR(ISBLANK($O4939), $O4939>'BankRec Main Acct'!$E$8), Z4939, 0)","v":0},0,{"$f":"IF(AND(NOT(ISBLANK($O4939)), $O4939<'P&L'!$P$8), AC4939, 0)","v":0},{"$f":"IF(OR(ISBLANK($O4939), $O4939>'BankRec Main Acct'!$E$8), AC4939, 0)","v":0},0,{"$f":"IF(AND(NOT(ISBLANK($S4939)), $S4939<'P&L'!$P$8), AF4939, 0)","v":0},{"$f":"IF(OR(ISBLANK($S4939), $S4939>'BankRec Main Acct'!$E$8), AF4939, 0)","v":0},0,{"$f":"IF(AND(NOT(ISBLANK($S4939)), $S4939<'P&L'!$P$8), AI4939, 0)","v":0},{"$f":"IF(OR(ISBLANK($S4939), $S4939>'BankRec Main Acct'!$E$8), AI4939, 0)","v":0},0,{"$f":"IF(AND(NOT(ISBLANK($U4939)), $U4939<'P&L'!$P$8), $AL4939, 0)","v":0},{"$f":"IF(OR(ISBLANK($U4939), $U4939>'DebitCard Rec '!$E$8), $AL4939, 0)","v":0},0,{"$f":"IF(AND(NOT(ISBLANK($U4939)), $U4939<'P&L'!$P$8), $AO4939, 0)","v":0},{"$f":"IF(OR(ISBLANK($U4939), $U4939>'DebitCard Rec '!$E$8), $AO4939, 0)","v":0},0,{"$f":"IF(AND($A4939<'P&L'!$P$8, $X4939='P&L'!$G$6), $AR4939, 0)","v":0},0,{"$f":"IF(AND($A4939<'P&L'!$P$8, $X4939='P&L'!$G$6), $AT4939, 0)","v":0},{"$f":"CONCATENATE(B4939,\" \",C4939)","v":" "}," "," "]
[null,null,null,null,null,null,null,null,null,null,null,null,null,null,null,null,null,null,null,null,null,null,"Jan-00",1900,{"$f":"IF(AND($A4940<'P&L'!$P$8, YEAR($A4940)=Master!$C$6), $K4940, 0)","v":0},0,{"$f":"IF(AND(NOT(ISBLANK($O4940)), $O4940<'P&L'!$P$8), Z4940, 0)","v":0},{"$f":"IF(OR(ISBLANK($O4940), $O4940>'BankRec Main Acct'!$E$8), Z4940, 0)","v":0},0,{"$f":"IF(AND(NOT(ISBLANK($O4940)), $O4940<'P&L'!$P$8), AC4940, 0)","v":0},{"$f":"IF(OR(ISBLANK($O4940), $O4940>'BankRec Main Acct'!$E$8), AC4940, 0)","v":0},0,{"$f":"IF(AND(NOT(ISBLANK($S4940)), $S4940<'P&L'!$P$8), AF4940, 0)","v":0},{"$f":"IF(OR(ISBLANK($S4940), $S4940>'BankRec Main Acct'!$E$8), AF4940, 0)","v":0},0,{"$f":"IF(AND(NOT(ISBLANK($S4940)), $S4940<'P&L'!$P$8), AI4940, 0)","v":0},{"$f":"IF(OR(ISBLANK($S4940), $S4940>'BankRec Main Acct'!$E$8), AI4940, 0)","v":0},0,{"$f":"IF(AND(NOT(ISBLANK($U4940)), $U4940<'P&L'!$P$8), $AL4940, 0)","v":0},{"$f":"IF(OR(ISBLANK($U4940), $U4940>'DebitCard Rec '!$E$8), $AL4940, 0)","v":0},0,{"$f":"IF(AND(NOT(ISBLANK($U4940)), $U4940<'P&L'!$P$8), $AO4940, 0)","v":0},{"$f":"IF(OR(ISBLANK($U4940), $U4940>'DebitCard Rec '!$E$8), $AO4940, 0)","v":0},0,{"$f":"IF(AND($A4940<'P&L'!$P$8, $X4940='P&L'!$G$6), $AR4940, 0)","v":0},0,{"$f":"IF(AND($A4940<'P&L'!$P$8, $X4940='P&L'!$G$6), $AT4940, 0)","v":0}," "," "," "]
[null,null,null,null,null,null,null,null,null,null,null,null,null,null,null,null,null,null,null,null,null,null,"Jan-00",1900,{"$f":"IF(AND($A4941<'P&L'!$P$8, YEAR($A4941)=Master!$C$6), $K4941, 0)","v":0},0,{"$f":"IF(AND(NOT(ISBLANK($O4941)), $O4941<'P&L'!$P$8), Z4941, 0)","v":0},{"$f":"IF(OR(ISBLANK($O4941), $O4941>'BankRec Main Acct'!$E$8), Z4941, 0)","v":0},0,{"$f":"IF(AND(NOT(ISBLANK($O4941)), $O4941<'P&L'!$P$8), AC4941, 0)","v":0},{"$f":"IF(OR(ISBLANK($O4941), $O4941>'BankRec Main Acct'!$E$8), AC4941, 0)","v":0},0,{"$f":"IF(AND(NOT(ISBLANK($S4941)), $S4941<'P&L'!$P$8), AF4941, 0)","v":0},{"$f":"IF(OR(ISBLANK($S4941), $S4941>'BankRec Main Acct'!$E$8), AF4941, 0)","v":0},0,{"$f":"IF(AND(NOT(ISBLANK($S4941)), $S4941<'P&L'!$P$8), AI4941, 0)","v":0},{"$f":"IF(OR(ISBLANK($S4941), $S4941>'BankRec Main Acct'!$E$8), AI4941, 0)","v":0},0,{"$f":"IF(AND(NOT(ISBLANK($U4941)), $U4941<'P&L'!$P$8), $AL4941, 0)","v":0},{"$f":"IF(OR(ISBLANK($U4941), $U4941>'DebitCard Rec '!$E$8), $AL4941, 0)","v":0},0,{"$f":"IF(AND(NOT(ISBLANK($U4941)), $U4941<'P&L'!$P$8), $AO4941, 0)","v":0},{"$f":"IF(OR(ISBLANK($U4941), $U4941>'DebitCard Rec '!$E$8), $AO4941, 0)","v":0},0,{"$f":"IF(AND($A4941<'P&L'!$P$8, $X4941='P&L'!$G$6), $AR4941, 0)","v":0},0,{"$f":"IF(AND($A4941<'P&L'!$P$8, $X4941='P&L'!$G$6), $AT4941, 0)","v":0}," "," "," "]
[null,null,null,null,null,null,null,null,null,null,null,null,null,null,null,null,null,null,null,null,null,null,"Jan-00",1900,{"$f":"IF(AND($A4942<'P&L'!$P$8, YEAR($A4942)=Master!$C$6), $K4942, 0)","v":0},0,{"$f":"IF(AND(NOT(ISBLANK($O4942)), $O4942<'P&L'!$P$8), Z4942, 0)","v":0},{"$f":"IF(OR(ISBLANK($O4942), $O4942>'BankRec Main Acct'!$E$8), Z4942, 0)","v":0},0,{"$f":"IF(AND(NOT(ISBLANK($O4942)), $O4942<'P&L'!$P$8), AC4942, 0)","v":0},{"$f":"IF(OR(ISBLANK($O4942), $O4942>'BankRec Main Acct'!$E$8), AC4942, 0)","v":0},0,{"$f":"IF(AND(NOT(ISBLANK($S4942)), $S4942<'P&L'!$P$8), AF4942, 0)","v":0},{"$f":"IF(OR(ISBLANK($S4942), $S4942>'BankRec Main Acct'!$E$8), AF4942, 0)","v":0},0,{"$f":"IF(AND(NOT(ISBLANK($S4942)), $S4942<'P&L'!$P$8), AI4942, 0)","v":0},{"$f":"IF(OR(ISBLANK($S4942), $S4942>'BankRec Main Acct'!$E$8), AI4942, 0)","v":0},0,{"$f":"IF(AND(NOT(ISBLANK($U4942)), $U4942<'P&L'!$P$8), $AL4942, 0)","v":0},{"$f":"IF(OR(ISBLANK($U4942), $U4942>'DebitCard Rec '!$E$8), $AL4942, 0)","v":0},0,{"$f":"IF(AND(NOT(ISBLANK($U4942)), $U4942<'P&L'!$P$8), $AO4942, 0)","v":0},{"$f":"IF(OR(ISBLANK($U4942), $U4942>'DebitCard Rec '!$E$8), $AO4942, 0)","v":0},0,{"$f":"IF(AND($A4942<'P&L'!$P$8, $X4942='P&L'!$G$6), $AR4942, 0)","v":0},0,{"$f":"IF(AND($A4942<'P&L'!$P$8, $X4942='P&L'!$G$6), $AT4942, 0)","v":0}," "," "," "]
[null,null,null,null,null,null,null,null,null,null,null,null,null,null,null,null,null,null,null,null,null,null,"Jan-00",1900,{"$f":"IF(AND($A4943<'P&L'!$P$8, YEAR($A4943)=Master!$C$6), $K4943, 0)","v":0},0,{"$f":"IF(AND(NOT(ISBLANK($O4943)), $O4943<'P&L'!$P$8), Z4943, 0)","v":0},{"$f":"IF(OR(ISBLANK($O4943), $O4943>'BankRec Main Acct'!$E$8), Z4943, 0)","v":0},0,{"$f":"IF(AND(NOT(ISBLANK($O4943)), $O4943<'P&L'!$P$8), AC4943, 0)","v":0},{"$f":"IF(OR(ISBLANK($O4943), $O4943>'BankRec Main Acct'!$E$8), AC4943, 0)","v":0},0,{"$f":"IF(AND(NOT(ISBLANK($S4943)), $S4943<'P&L'!$P$8), AF4943, 0)","v":0},{"$f":"IF(OR(ISBLANK($S4943), $S4943>'BankRec Main Acct'!$E$8), AF4943, 0)","v":0},0,{"$f":"IF(AND(NOT(ISBLANK($S4943)), $S4943<'P&L'!$P$8), AI4943, 0)","v":0},{"$f":"IF(OR(ISBLANK($S4943), $S4943>'BankRec Main Acct'!$E$8), AI4943, 0)","v":0},0,{"$f":"IF(AND(NOT(ISBLANK($U4943)), $U4943<'P&L'!$P$8), $AL4943, 0)","v":0},{"$f":"IF(OR(ISBLANK($U4943), $U4943>'DebitCard Rec '!$E$8), $AL4943, 0)","v":0},0,{"$f":"IF(AND(NOT(ISBLANK($U4943)), $U4943<'P&L'!$P$8), $AO4943, 0)","v":0},{"$f":"IF(OR(ISBLANK($U4943), $U4943>'DebitCard Rec '!$E$8), $AO4943, 0)","v":0},0,{"$f":"IF(AND($A4943<'P&L'!$P$8, $X4943='P&L'!$G$6), $AR4943, 0)","v":0},0,{"$f":"IF(AND($A4943<'P&L'!$P$8, $X4943='P&L'!$G$6), $AT4943, 0)","v":0}," "," "," "]
[null,null,null,null,null,null,null,null,null,null,null,null,null,null,null,null,null,null,null,null,null,null,"Jan-00",1900,{"$f":"IF(AND($A4944<'P&L'!$P$8, YEAR($A4944)=Master!$C$6), $K4944, 0)","v":0},0,{"$f":"IF(AND(NOT(ISBLANK($O4944)), $O4944<'P&L'!$P$8), Z4944, 0)","v":0},{"$f":"IF(OR(ISBLANK($O4944), $O4944>'BankRec Main Acct'!$E$8), Z4944, 0)","v":0},0,{"$f":"IF(AND(NOT(ISBLANK($O4944)), $O4944<'P&L'!$P$8), AC4944, 0)","v":0},{"$f":"IF(OR(ISBLANK($O4944), $O4944>'BankRec Main Acct'!$E$8), AC4944, 0)","v":0},0,{"$f":"IF(AND(NOT(ISBLANK($S4944)), $S4944<'P&L'!$P$8), AF4944, 0)","v":0},{"$f":"IF(OR(ISBLANK($S4944), $S4944>'BankRec Main Acct'!$E$8), AF4944, 0)","v":0},0,{"$f":"IF(AND(NOT(ISBLANK($S4944)), $S4944<'P&L'!$P$8), AI4944, 0)","v":0},{"$f":"IF(OR(ISBLANK($S4944), $S4944>'BankRec Main Acct'!$E$8), AI4944, 0)","v":0},0,{"$f":"IF(AND(NOT(ISBLANK($U4944)), $U4944<'P&L'!$P$8), $AL4944, 0)","v":0},{"$f":"IF(OR(ISBLANK($U4944), $U4944>'DebitCard Rec '!$E$8), $AL4944, 0)","v":0},0,{"$f":"IF(AND(NOT(ISBLANK($U4944)), $U4944<'P&L'!$P$8), $AO4944, 0)","v":0},{"$f":"IF(OR(ISBLANK($U4944), $U4944>'DebitCard Rec '!$E$8), $AO4944, 0)","v":0},0,{"$f":"IF(AND($A4944<'P&L'!$P$8, $X4944='P&L'!$G$6), $AR4944, 0)","v":0},0,{"$f":"IF(AND($A4944<'P&L'!$P$8, $X4944='P&L'!$G$6), $AT4944, 0)","v":0}," "," "," "]
[null,null,null,null,null,null,null,null,null,null,null,null,null,null,null,null,null,null,null,null,null,null,"Jan-00",1900,{"$f":"IF(AND($A4945<'P&L'!$P$8, YEAR($A4945)=Master!$C$6), $K4945, 0)","v":0},0,{"$f":"IF(AND(NOT(ISBLANK($O4945)), $O4945<'P&L'!$P$8), Z4945, 0)","v":0},{"$f":"IF(OR(ISBLANK($O4945), $O4945>'BankRec Main Acct'!$E$8), Z4945, 0)","v":0},0,{"$f":"IF(AND(NOT(ISBLANK($O4945)), $O4945<'P&L'!$P$8), AC4945, 0)","v":0},{"$f":"IF(OR(ISBLANK($O4945), $O4945>'BankRec Main Acct'!$E$8), AC4945, 0)","v":0},0,{"$f":"IF(AND(NOT(ISBLANK($S4945)), $S4945<'P&L'!$P$8), AF4945, 0)","v":0},{"$f":"IF(OR(ISBLANK($S4945), $S4945>'BankRec Main Acct'!$E$8), AF4945, 0)","v":0},0,{"$f":"IF(AND(NOT(ISBLANK($S4945)), $S4945<'P&L'!$P$8), AI4945, 0)","v":0},{"$f":"IF(OR(ISBLANK($S4945), $S4945>'BankRec Main Acct'!$E$8), AI4945, 0)","v":0},0,{"$f":"IF(AND(NOT(ISBLANK($U4945)), $U4945<'P&L'!$P$8), $AL4945, 0)","v":0},{"$f":"IF(OR(ISBLANK($U4945), $U4945>'DebitCard Rec '!$E$8), $AL4945, 0)","v":0},0,{"$f":"IF(AND(NOT(ISBLANK($U4945)), $U4945<'P&L'!$P$8), $AO4945, 0)","v":0},{"$f":"IF(OR(ISBLANK($U4945), $U4945>'DebitCard Rec '!$E$8), $AO4945, 0)","v":0},0,{"$f":"IF(AND($A4945<'P&L'!$P$8, $X4945='P&L'!$G$6), $AR4945, 0)","v":0},0,{"$f":"IF(AND($A4945<'P&L'!$P$8, $X4945='P&L'!$G$6), $AT4945, 0)","v":0}," "," "," "]
[null,null,null,null,null,null,null,null,null,null,null,null,null,null,null,null,null,null,null,null,null,null,"Jan-00",1900,{"$f":"IF(AND($A4946<'P&L'!$P$8, YEAR($A4946)=Master!$C$6), $K4946, 0)","v":0},0,{"$f":"IF(AND(NOT(ISBLANK($O4946)), $O4946<'P&L'!$P$8), Z4946, 0)","v":0},{"$f":"IF(OR(ISBLANK($O4946), $O4946>'BankRec Main Acct'!$E$8), Z4946, 0)","v":0},0,{"$f":"IF(AND(NOT(ISBLANK($O4946)), $O4946<'P&L'!$P$8), AC4946, 0)","v":0},{"$f":"IF(OR(ISBLANK($O4946), $O4946>'BankRec Main Acct'!$E$8), AC4946, 0)","v":0},0,{"$f":"IF(AND(NOT(ISBLANK($S4946)), $S4946<'P&L'!$P$8), AF4946, 0)","v":0},{"$f":"IF(OR(ISBLANK($S4946), $S4946>'BankRec Main Acct'!$E$8), AF4946, 0)","v":0},0,{"$f":"IF(AND(NOT(ISBLANK($S4946)), $S4946<'P&L'!$P$8), AI4946, 0)","v":0},{"$f":"IF(OR(ISBLANK($S4946), $S4946>'BankRec Main Acct'!$E$8), AI4946, 0)","v":0},0,{"$f":"IF(AND(NOT(ISBLANK($U4946)), $U4946<'P&L'!$P$8), $AL4946, 0)","v":0},{"$f":"IF(OR(ISBLANK($U4946), $U4946>'DebitCard Rec '!$E$8), $AL4946, 0)","v":0},0,{"$f":"IF(AND(NOT(ISBLANK($U4946)), $U4946<'P&L'!$P$8), $AO4946, 0)","v":0},{"$f":"IF(OR(ISBLANK($U4946), $U4946>'DebitCard Rec '!$E$8), $AO4946, 0)","v":0},0,{"$f":"IF(AND($A4946<'P&L'!$P$8, $X4946='P&L'!$G$6), $AR4946, 0)","v":0},0,{"$f":"IF(AND($A4946<'P&L'!$P$8, $X4946='P&L'!$G$6), $AT4946, 0)","v":0}," "," "," "]
[null,null,null,null,null,null,null,null,null,null,null,null,null,null,null,null,null,null,null,null,null,null,"Jan-00",1900,{"$f":"IF(AND($A4947<'P&L'!$P$8, YEAR($A4947)=Master!$C$6), $K4947, 0)","v":0},0,{"$f":"IF(AND(NOT(ISBLANK($O4947)), $O4947<'P&L'!$P$8), Z4947, 0)","v":0},{"$f":"IF(OR(ISBLANK($O4947), $O4947>'BankRec Main Acct'!$E$8), Z4947, 0)","v":0},0,{"$f":"IF(AND(NOT(ISBLANK($O4947)), $O4947<'P&L'!$P$8), AC4947, 0)","v":0},{"$f":"IF(OR(ISBLANK($O4947), $O4947>'BankRec Main Acct'!$E$8), AC4947, 0)","v":0},0,{"$f":"IF(AND(NOT(ISBLANK($S4947)), $S4947<'P&L'!$P$8), AF4947, 0)","v":0},{"$f":"IF(OR(ISBLANK($S4947), $S4947>'BankRec Main Acct'!$E$8), AF4947, 0)","v":0},0,{"$f":"IF(AND(NOT(ISBLANK($S4947)), $S4947<'P&L'!$P$8), AI4947, 0)","v":0},{"$f":"IF(OR(ISBLANK($S4947), $S4947>'BankRec Main Acct'!$E$8), AI4947, 0)","v":0},0,{"$f":"IF(AND(NOT(ISBLANK($U4947)), $U4947<'P&L'!$P$8), $AL4947, 0)","v":0},{"$f":"IF(OR(ISBLANK($U4947), $U4947>'DebitCard Rec '!$E$8), $AL4947, 0)","v":0},0,{"$f":"IF(AND(NOT(ISBLANK($U4947)), $U4947<'P&L'!$P$8), $AO4947, 0)","v":0},{"$f":"IF(OR(ISBLANK($U4947), $U4947>'DebitCard Rec '!$E$8), $AO4947, 0)","v":0},0,{"$f":"IF(AND($A4947<'P&L'!$P$8, $X4947='P&L'!$G$6), $AR4947, 0)","v":0},0,{"$f":"IF(AND($A4947<'P&L'!$P$8, $X4947='P&L'!$G$6), $AT4947, 0)","v":0}," "," "," "]
[null,null,null,null,null,null,null,null,null,null,null,null,null,null,null,null,null,null,null,null,null,null,{"$f":"TEXT($A4948, \"mmm-yy\")","v":"Jan-00"},{"$f":"YEAR($A4948)","v":1900},{"$f":"IF(AND($A4948<'P&L'!$P$8, YEAR($A4948)=Master!$C$6), $K4948, 0)","v":0},0,{"$f":"IF(AND(NOT(ISBLANK($O4948)), $O4948<'P&L'!$P$8), Z4948, 0)","v":0},{"$f":"IF(OR(ISBLANK($O4948), $O4948>'BankRec Main Acct'!$E$8), Z4948, 0)","v":0},0,{"$f":"IF(AND(NOT(ISBLANK($O4948)), $O4948<'P&L'!$P$8), AC4948, 0)","v":0},{"$f":"IF(OR(ISBLANK($O4948), $O4948>'BankRec Main Acct'!$E$8), AC4948, 0)","v":0},0,{"$f":"IF(AND(NOT(ISBLANK($S4948)), $S4948<'P&L'!$P$8), AF4948, 0)","v":0},{"$f":"IF(OR(ISBLANK($S4948), $S4948>'BankRec Main Acct'!$E$8), AF4948, 0)","v":0},0,{"$f":"IF(AND(NOT(ISBLANK($S4948)), $S4948<'P&L'!$P$8), AI4948, 0)","v":0},{"$f":"IF(OR(ISBLANK($S4948), $S4948>'BankRec Main Acct'!$E$8), AI4948, 0)","v":0},{"$f":"IF(AND($C4948=\"Receipt\",$B4948=\"Debit card\"),$K4948,0)","v":0},{"$f":"IF(AND(NOT(ISBLANK($U4948)), $U4948<'P&L'!$P$8), $AL4948, 0)","v":0},{"$f":"IF(OR(ISBLANK($U4948), $U4948>'DebitCard Rec '!$E$8), $AL4948, 0)","v":0},{"$f":"IF(AND($C4948=\"Payment\",$B4948=\"Debit card\"),$K4948,0)","v":0},{"$f":"IF(AND(NOT(ISBLANK($U4948)), $U4948<'P&L'!$P$8), $AO4948, 0)","v":0},{"$f":"IF(OR(ISBLANK($U4948), $U4948>'DebitCard Rec '!$E$8), $AO4948, 0)","v":0},0,{"$f":"IF(AND($A4948<'P&L'!$P$8, $X4948='P&L'!$G$6), $AR4948, 0)","v":0},0,{"$f":"IF(AND($A4948<'P&L'!$P$8, $X4948='P&L'!$G$6), $AT4948, 0)","v":0}," "," "," "]
[null,null,null,null,null,null,null,null,null,null,null,null,null,null,null,null,null,null,null,null,null,null,"Jan-00",1900,{"$f":"IF(AND($A4949<'P&L'!$P$8, YEAR($A4949)=Master!$C$6), $K4949, 0)","v":0},0,{"$f":"IF(AND(NOT(ISBLANK($O4949)), $O4949<'P&L'!$P$8), Z4949, 0)","v":0},{"$f":"IF(OR(ISBLANK($O4949), $O4949>'BankRec Main Acct'!$E$8), Z4949, 0)","v":0},0,{"$f":"IF(AND(NOT(ISBLANK($O4949)), $O4949<'P&L'!$P$8), AC4949, 0)","v":0},{"$f":"IF(OR(ISBLANK($O4949), $O4949>'BankRec Main Acct'!$E$8), AC4949, 0)","v":0},0,{"$f":"IF(AND(NOT(ISBLANK($S4949)), $S4949<'P&L'!$P$8), AF4949, 0)","v":0},{"$f":"IF(OR(ISBLANK($S4949), $S4949>'BankRec Main Acct'!$E$8), AF4949, 0)","v":0},0,{"$f":"IF(AND(NOT(ISBLANK($S4949)), $S4949<'P&L'!$P$8), AI4949, 0)","v":0},{"$f":"IF(OR(ISBLANK($S4949), $S4949>'BankRec Main Acct'!$E$8), AI4949, 0)","v":0},0,{"$f":"IF(AND(NOT(ISBLANK($U4949)), $U4949<'P&L'!$P$8), $AL4949, 0)","v":0},{"$f":"IF(OR(ISBLANK($U4949), $U4949>'DebitCard Rec '!$E$8), $AL4949, 0)","v":0},0,{"$f":"IF(AND(NOT(ISBLANK($U4949)), $U4949<'P&L'!$P$8), $AO4949, 0)","v":0},{"$f":"IF(OR(ISBLANK($U4949), $U4949>'DebitCard Rec '!$E$8), $AO4949, 0)","v":0},0,{"$f":"IF(AND($A4949<'P&L'!$P$8, $X4949='P&L'!$G$6), $AR4949, 0)","v":0},0,{"$f":"IF(AND($A4949<'P&L'!$P$8, $X4949='P&L'!$G$6), $AT4949, 0)","v":0}," "," "," "]
[null,null,null,null,null,null,null,null,null,null,null,null,null,null,null,null,null,null,null,null,null,null,"Jan-00",1900,{"$f":"IF(AND($A4950<'P&L'!$P$8, YEAR($A4950)=Master!$C$6), $K4950, 0)","v":0},0,{"$f":"IF(AND(NOT(ISBLANK($O4950)), $O4950<'P&L'!$P$8), Z4950, 0)","v":0},{"$f":"IF(OR(ISBLANK($O4950), $O4950>'BankRec Main Acct'!$E$8), Z4950, 0)","v":0},0,{"$f":"IF(AND(NOT(ISBLANK($O4950)), $O4950<'P&L'!$P$8), AC4950, 0)","v":0},{"$f":"IF(OR(ISBLANK($O4950), $O4950>'BankRec Main Acct'!$E$8), AC4950, 0)","v":0},0,{"$f":"IF(AND(NOT(ISBLANK($S4950)), $S4950<'P&L'!$P$8), AF4950, 0)","v":0},{"$f":"IF(OR(ISBLANK($S4950), $S4950>'BankRec Main Acct'!$E$8), AF4950, 0)","v":0},0,{"$f":"IF(AND(NOT(ISBLANK($S4950)), $S4950<'P&L'!$P$8), AI4950, 0)","v":0},{"$f":"IF(OR(ISBLANK($S4950), $S4950>'BankRec Main Acct'!$E$8), AI4950, 0)","v":0},0,{"$f":"IF(AND(NOT(ISBLANK($U4950)), $U4950<'P&L'!$P$8), $AL4950, 0)","v":0},{"$f":"IF(OR(ISBLANK($U4950), $U4950>'DebitCard Rec '!$E$8), $AL4950, 0)","v":0},0,{"$f":"IF(AND(NOT(ISBLANK($U4950)), $U4950<'P&L'!$P$8), $AO4950, 0)","v":0},{"$f":"IF(OR(ISBLANK($U4950), $U4950>'DebitCard Rec '!$E$8), $AO4950, 0)","v":0},0,{"$f":"IF(AND($A4950<'P&L'!$P$8, $X4950='P&L'!$G$6), $AR4950, 0)","v":0},0,{"$f":"IF(AND($A4950<'P&L'!$P$8, $X4950='P&L'!$G$6), $AT4950, 0)","v":0}," "," "," "]
[null,null,null,null,null,null,null,null,null,null,null,null,null,null,null,null,null,null,null,null,null,null,"Jan-00",1900,{"$f":"IF(AND($A4951<'P&L'!$P$8, YEAR($A4951)=Master!$C$6), $K4951, 0)","v":0},0,{"$f":"IF(AND(NOT(ISBLANK($O4951)), $O4951<'P&L'!$P$8), Z4951, 0)","v":0},{"$f":"IF(OR(ISBLANK($O4951), $O4951>'BankRec Main Acct'!$E$8), Z4951, 0)","v":0},0,{"$f":"IF(AND(NOT(ISBLANK($O4951)), $O4951<'P&L'!$P$8), AC4951, 0)","v":0},{"$f":"IF(OR(ISBLANK($O4951), $O4951>'BankRec Main Acct'!$E$8), AC4951, 0)","v":0},0,{"$f":"IF(AND(NOT(ISBLANK($S4951)), $S4951<'P&L'!$P$8), AF4951, 0)","v":0},{"$f":"IF(OR(ISBLANK($S4951), $S4951>'BankRec Main Acct'!$E$8), AF4951, 0)","v":0},0,{"$f":"IF(AND(NOT(ISBLANK($S4951)), $S4951<'P&L'!$P$8), AI4951, 0)","v":0},{"$f":"IF(OR(ISBLANK($S4951), $S4951>'BankRec Main Acct'!$E$8), AI4951, 0)","v":0},0,{"$f":"IF(AND(NOT(ISBLANK($U4951)), $U4951<'P&L'!$P$8), $AL4951, 0)","v":0},{"$f":"IF(OR(ISBLANK($U4951), $U4951>'DebitCard Rec '!$E$8), $AL4951, 0)","v":0},0,{"$f":"IF(AND(NOT(ISBLANK($U4951)), $U4951<'P&L'!$P$8), $AO4951, 0)","v":0},{"$f":"IF(OR(ISBLANK($U4951), $U4951>'DebitCard Rec '!$E$8), $AO4951, 0)","v":0},0,{"$f":"IF(AND($A4951<'P&L'!$P$8, $X4951='P&L'!$G$6), $AR4951, 0)","v":0},0,{"$f":"IF(AND($A4951<'P&L'!$P$8, $X4951='P&L'!$G$6), $AT4951, 0)","v":0}," "," "," "]
[null,null,null,null,null,null,null,null,null,null,null,null,null,null,null,null,null,null,null,null,null,null,"Jan-00",1900,{"$f":"IF(AND($A4952<'P&L'!$P$8, YEAR($A4952)=Master!$C$6), $K4952, 0)","v":0},0,{"$f":"IF(AND(NOT(ISBLANK($O4952)), $O4952<'P&L'!$P$8), Z4952, 0)","v":0},{"$f":"IF(OR(ISBLANK($O4952), $O4952>'BankRec Main Acct'!$E$8), Z4952, 0)","v":0},0,{"$f":"IF(AND(NOT(ISBLANK($O4952)), $O4952<'P&L'!$P$8), AC4952, 0)","v":0},{"$f":"IF(OR(ISBLANK($O4952), $O4952>'BankRec Main Acct'!$E$8), AC4952, 0)","v":0},0,{"$f":"IF(AND(NOT(ISBLANK($S4952)), $S4952<'P&L'!$P$8), AF4952, 0)","v":0},{"$f":"IF(OR(ISBLANK($S4952), $S4952>'BankRec Main Acct'!$E$8), AF4952, 0)","v":0},0,{"$f":"IF(AND(NOT(ISBLANK($S4952)), $S4952<'P&L'!$P$8), AI4952, 0)","v":0},{"$f":"IF(OR(ISBLANK($S4952), $S4952>'BankRec Main Acct'!$E$8), AI4952, 0)","v":0},0,{"$f":"IF(AND(NOT(ISBLANK($U4952)), $U4952<'P&L'!$P$8), $AL4952, 0)","v":0},{"$f":"IF(OR(ISBLANK($U4952), $U4952>'DebitCard Rec '!$E$8), $AL4952, 0)","v":0},0,{"$f":"IF(AND(NOT(ISBLANK($U4952)), $U4952<'P&L'!$P$8), $AO4952, 0)","v":0},{"$f":"IF(OR(ISBLANK($U4952), $U4952>'DebitCard Rec '!$E$8), $AO4952, 0)","v":0},0,{"$f":"IF(AND($A4952<'P&L'!$P$8, $X4952='P&L'!$G$6), $AR4952, 0)","v":0},0,{"$f":"IF(AND($A4952<'P&L'!$P$8, $X4952='P&L'!$G$6), $AT4952, 0)","v":0}," "," "," "]
[null,null,null,null,null,null,null,null,null,null,null,null,null,null,null,null,null,null,null,null,null,null,"Jan-00",1900,{"$f":"IF(AND($A4953<'P&L'!$P$8, YEAR($A4953)=Master!$C$6), $K4953, 0)","v":0},0,{"$f":"IF(AND(NOT(ISBLANK($O4953)), $O4953<'P&L'!$P$8), Z4953, 0)","v":0},{"$f":"IF(OR(ISBLANK($O4953), $O4953>'BankRec Main Acct'!$E$8), Z4953, 0)","v":0},0,{"$f":"IF(AND(NOT(ISBLANK($O4953)), $O4953<'P&L'!$P$8), AC4953, 0)","v":0},{"$f":"IF(OR(ISBLANK($O4953), $O4953>'BankRec Main Acct'!$E$8), AC4953, 0)","v":0},0,{"$f":"IF(AND(NOT(ISBLANK($S4953)), $S4953<'P&L'!$P$8), AF4953, 0)","v":0},{"$f":"IF(OR(ISBLANK($S4953), $S4953>'BankRec Main Acct'!$E$8), AF4953, 0)","v":0},0,{"$f":"IF(AND(NOT(ISBLANK($S4953)), $S4953<'P&L'!$P$8), AI4953, 0)","v":0},{"$f":"IF(OR(ISBLANK($S4953), $S4953>'BankRec Main Acct'!$E$8), AI4953, 0)","v":0},0,{"$f":"IF(AND(NOT(ISBLANK($U4953)), $U4953<'P&L'!$P$8), $AL4953, 0)","v":0},{"$f":"IF(OR(ISBLANK($U4953), $U4953>'DebitCard Rec '!$E$8), $AL4953, 0)","v":0},0,{"$f":"IF(AND(NOT(ISBLANK($U4953)), $U4953<'P&L'!$P$8), $AO4953, 0)","v":0},{"$f":"IF(OR(ISBLANK($U4953), $U4953>'DebitCard Rec '!$E$8), $AO4953, 0)","v":0},0,{"$f":"IF(AND($A4953<'P&L'!$P$8, $X4953='P&L'!$G$6), $AR4953, 0)","v":0},0,{"$f":"IF(AND($A4953<'P&L'!$P$8, $X4953='P&L'!$G$6), $AT4953, 0)","v":0}," "," "," "]
[null,null,null,null,null,null,null,null,null,null,null,null,null,null,null,null,null,null,null,null,null,null,"Jan-00",1900,{"$f":"IF(AND($A4954<'P&L'!$P$8, YEAR($A4954)=Master!$C$6), $K4954, 0)","v":0},0,{"$f":"IF(AND(NOT(ISBLANK($O4954)), $O4954<'P&L'!$P$8), Z4954, 0)","v":0},{"$f":"IF(OR(ISBLANK($O4954), $O4954>'BankRec Main Acct'!$E$8), Z4954, 0)","v":0},0,{"$f":"IF(AND(NOT(ISBLANK($O4954)), $O4954<'P&L'!$P$8), AC4954, 0)","v":0},{"$f":"IF(OR(ISBLANK($O4954), $O4954>'BankRec Main Acct'!$E$8), AC4954, 0)","v":0},0,{"$f":"IF(AND(NOT(ISBLANK($S4954)), $S4954<'P&L'!$P$8), AF4954, 0)","v":0},{"$f":"IF(OR(ISBLANK($S4954), $S4954>'BankRec Main Acct'!$E$8), AF4954, 0)","v":0},0,{"$f":"IF(AND(NOT(ISBLANK($S4954)), $S4954<'P&L'!$P$8), AI4954, 0)","v":0},{"$f":"IF(OR(ISBLANK($S4954), $S4954>'BankRec Main Acct'!$E$8), AI4954, 0)","v":0},0,{"$f":"IF(AND(NOT(ISBLANK($U4954)), $U4954<'P&L'!$P$8), $AL4954, 0)","v":0},{"$f":"IF(OR(ISBLANK($U4954), $U4954>'DebitCard Rec '!$E$8), $AL4954, 0)","v":0},0,{"$f":"IF(AND(NOT(ISBLANK($U4954)), $U4954<'P&L'!$P$8), $AO4954, 0)","v":0},{"$f":"IF(OR(ISBLANK($U4954), $U4954>'DebitCard Rec '!$E$8), $AO4954, 0)","v":0},0,{"$f":"IF(AND($A4954<'P&L'!$P$8, $X4954='P&L'!$G$6), $AR4954, 0)","v":0},0,{"$f":"IF(AND($A4954<'P&L'!$P$8, $X4954='P&L'!$G$6), $AT4954, 0)","v":0}," "," "," "]
[null,null,null,null,null,null,null,null,null,null,null,null,null,null,null,null,null,null,null,null,null,null,"Jan-00",1900,{"$f":"IF(AND($A4955<'P&L'!$P$8, YEAR($A4955)=Master!$C$6), $K4955, 0)","v":0},0,{"$f":"IF(AND(NOT(ISBLANK($O4955)), $O4955<'P&L'!$P$8), Z4955, 0)","v":0},{"$f":"IF(OR(ISBLANK($O4955), $O4955>'BankRec Main Acct'!$E$8), Z4955, 0)","v":0},0,{"$f":"IF(AND(NOT(ISBLANK($O4955)), $O4955<'P&L'!$P$8), AC4955, 0)","v":0},{"$f":"IF(OR(ISBLANK($O4955), $O4955>'BankRec Main Acct'!$E$8), AC4955, 0)","v":0},0,{"$f":"IF(AND(NOT(ISBLANK($S4955)), $S4955<'P&L'!$P$8), AF4955, 0)","v":0},{"$f":"IF(OR(ISBLANK($S4955), $S4955>'BankRec Main Acct'!$E$8), AF4955, 0)","v":0},0,{"$f":"IF(AND(NOT(ISBLANK($S4955)), $S4955<'P&L'!$P$8), AI4955, 0)","v":0},{"$f":"IF(OR(ISBLANK($S4955), $S4955>'BankRec Main Acct'!$E$8), AI4955, 0)","v":0},0,{"$f":"IF(AND(NOT(ISBLANK($U4955)), $U4955<'P&L'!$P$8), $AL4955, 0)","v":0},{"$f":"IF(OR(ISBLANK($U4955), $U4955>'DebitCard Rec '!$E$8), $AL4955, 0)","v":0},0,{"$f":"IF(AND(NOT(ISBLANK($U4955)), $U4955<'P&L'!$P$8), $AO4955, 0)","v":0},{"$f":"IF(OR(ISBLANK($U4955), $U4955>'DebitCard Rec '!$E$8), $AO4955, 0)","v":0},0,{"$f":"IF(AND($A4955<'P&L'!$P$8, $X4955='P&L'!$G$6), $AR4955, 0)","v":0},0,{"$f":"IF(AND($A4955<'P&L'!$P$8, $X4955='P&L'!$G$6), $AT4955, 0)","v":0}," "," "," "]
[null,null,null,null,null,null,null,null,null,null,null,null,null,null,null,null,null,null,null,null,null,null,"Jan-00",1900,{"$f":"IF(AND($A4956<'P&L'!$P$8, YEAR($A4956)=Master!$C$6), $K4956, 0)","v":0},0,{"$f":"IF(AND(NOT(ISBLANK($O4956)), $O4956<'P&L'!$P$8), Z4956, 0)","v":0},{"$f":"IF(OR(ISBLANK($O4956), $O4956>'BankRec Main Acct'!$E$8), Z4956, 0)","v":0},0,{"$f":"IF(AND(NOT(ISBLANK($O4956)), $O4956<'P&L'!$P$8), AC4956, 0)","v":0},{"$f":"IF(OR(ISBLANK($O4956), $O4956>'BankRec Main Acct'!$E$8), AC4956, 0)","v":0},0,{"$f":"IF(AND(NOT(ISBLANK($S4956)), $S4956<'P&L'!$P$8), AF4956, 0)","v":0},{"$f":"IF(OR(ISBLANK($S4956), $S4956>'BankRec Main Acct'!$E$8), AF4956, 0)","v":0},0,{"$f":"IF(AND(NOT(ISBLANK($S4956)), $S4956<'P&L'!$P$8), AI4956, 0)","v":0},{"$f":"IF(OR(ISBLANK($S4956), $S4956>'BankRec Main Acct'!$E$8), AI4956, 0)","v":0},0,{"$f":"IF(AND(NOT(ISBLANK($U4956)), $U4956<'P&L'!$P$8), $AL4956, 0)","v":0},{"$f":"IF(OR(ISBLANK($U4956), $U4956>'DebitCard Rec '!$E$8), $AL4956, 0)","v":0},0,{"$f":"IF(AND(NOT(ISBLANK($U4956)), $U4956<'P&L'!$P$8), $AO4956, 0)","v":0},{"$f":"IF(OR(ISBLANK($U4956), $U4956>'DebitCard Rec '!$E$8), $AO4956, 0)","v":0},0,{"$f":"IF(AND($A4956<'P&L'!$P$8, $X4956='P&L'!$G$6), $AR4956, 0)","v":0},0,{"$f":"IF(AND($A4956<'P&L'!$P$8, $X4956='P&L'!$G$6), $AT4956, 0)","v":0}," "," "," "]
[null,null,null,null,null,null,null,null,null,null,null,null,null,null,null,null,null,null,null,null,null,null,"Jan-00",1900,{"$f":"IF(AND($A4957<'P&L'!$P$8, YEAR($A4957)=Master!$C$6), $K4957, 0)","v":0},0,{"$f":"IF(AND(NOT(ISBLANK($O4957)), $O4957<'P&L'!$P$8), Z4957, 0)","v":0},{"$f":"IF(OR(ISBLANK($O4957), $O4957>'BankRec Main Acct'!$E$8), Z4957, 0)","v":0},0,{"$f":"IF(AND(NOT(ISBLANK($O4957)), $O4957<'P&L'!$P$8), AC4957, 0)","v":0},{"$f":"IF(OR(ISBLANK($O4957), $O4957>'BankRec Main Acct'!$E$8), AC4957, 0)","v":0},0,{"$f":"IF(AND(NOT(ISBLANK($S4957)), $S4957<'P&L'!$P$8), AF4957, 0)","v":0},{"$f":"IF(OR(ISBLANK($S4957), $S4957>'BankRec Main Acct'!$E$8), AF4957, 0)","v":0},0,{"$f":"IF(AND(NOT(ISBLANK($S4957)), $S4957<'P&L'!$P$8), AI4957, 0)","v":0},{"$f":"IF(OR(ISBLANK($S4957), $S4957>'BankRec Main Acct'!$E$8), AI4957, 0)","v":0},0,{"$f":"IF(AND(NOT(ISBLANK($U4957)), $U4957<'P&L'!$P$8), $AL4957, 0)","v":0},{"$f":"IF(OR(ISBLANK($U4957), $U4957>'DebitCard Rec '!$E$8), $AL4957, 0)","v":0},0,{"$f":"IF(AND(NOT(ISBLANK($U4957)), $U4957<'P&L'!$P$8), $AO4957, 0)","v":0},{"$f":"IF(OR(ISBLANK($U4957), $U4957>'DebitCard Rec '!$E$8), $AO4957, 0)","v":0},0,{"$f":"IF(AND($A4957<'P&L'!$P$8, $X4957='P&L'!$G$6), $AR4957, 0)","v":0},0,{"$f":"IF(AND($A4957<'P&L'!$P$8, $X4957='P&L'!$G$6), $AT4957, 0)","v":0}," "," "," "]
[null,null,null,null,null,null,null,null,null,null,null,null,null,null,null,null,null,null,null,null,null,null,"Jan-00",1900,{"$f":"IF(AND($A4958<'P&L'!$P$8, YEAR($A4958)=Master!$C$6), $K4958, 0)","v":0},0,{"$f":"IF(AND(NOT(ISBLANK($O4958)), $O4958<'P&L'!$P$8), Z4958, 0)","v":0},{"$f":"IF(OR(ISBLANK($O4958), $O4958>'BankRec Main Acct'!$E$8), Z4958, 0)","v":0},0,{"$f":"IF(AND(NOT(ISBLANK($O4958)), $O4958<'P&L'!$P$8), AC4958, 0)","v":0},{"$f":"IF(OR(ISBLANK($O4958), $O4958>'BankRec Main Acct'!$E$8), AC4958, 0)","v":0},0,{"$f":"IF(AND(NOT(ISBLANK($S4958)), $S4958<'P&L'!$P$8), AF4958, 0)","v":0},{"$f":"IF(OR(ISBLANK($S4958), $S4958>'BankRec Main Acct'!$E$8), AF4958, 0)","v":0},0,{"$f":"IF(AND(NOT(ISBLANK($S4958)), $S4958<'P&L'!$P$8), AI4958, 0)","v":0},{"$f":"IF(OR(ISBLANK($S4958), $S4958>'BankRec Main Acct'!$E$8), AI4958, 0)","v":0},0,{"$f":"IF(AND(NOT(ISBLANK($U4958)), $U4958<'P&L'!$P$8), $AL4958, 0)","v":0},{"$f":"IF(OR(ISBLANK($U4958), $U4958>'DebitCard Rec '!$E$8), $AL4958, 0)","v":0},0,{"$f":"IF(AND(NOT(ISBLANK($U4958)), $U4958<'P&L'!$P$8), $AO4958, 0)","v":0},{"$f":"IF(OR(ISBLANK($U4958), $U4958>'DebitCard Rec '!$E$8), $AO4958, 0)","v":0},0,{"$f":"IF(AND($A4958<'P&L'!$P$8, $X4958='P&L'!$G$6), $AR4958, 0)","v":0},0,{"$f":"IF(AND($A4958<'P&L'!$P$8, $X4958='P&L'!$G$6), $AT4958, 0)","v":0}," "," "," "]
[null,null,null,null,null,null,null,null,null,null,null,null,null,null,null,null,null,null,null,null,null,null,"Jan-00",1900,{"$f":"IF(AND($A4959<'P&L'!$P$8, YEAR($A4959)=Master!$C$6), $K4959, 0)","v":0},0,{"$f":"IF(AND(NOT(ISBLANK($O4959)), $O4959<'P&L'!$P$8), Z4959, 0)","v":0},{"$f":"IF(OR(ISBLANK($O4959), $O4959>'BankRec Main Acct'!$E$8), Z4959, 0)","v":0},0,{"$f":"IF(AND(NOT(ISBLANK($O4959)), $O4959<'P&L'!$P$8), AC4959, 0)","v":0},{"$f":"IF(OR(ISBLANK($O4959), $O4959>'BankRec Main Acct'!$E$8), AC4959, 0)","v":0},0,{"$f":"IF(AND(NOT(ISBLANK($S4959)), $S4959<'P&L'!$P$8), AF4959, 0)","v":0},{"$f":"IF(OR(ISBLANK($S4959), $S4959>'BankRec Main Acct'!$E$8), AF4959, 0)","v":0},0,{"$f":"IF(AND(NOT(ISBLANK($S4959)), $S4959<'P&L'!$P$8), AI4959, 0)","v":0},{"$f":"IF(OR(ISBLANK($S4959), $S4959>'BankRec Main Acct'!$E$8), AI4959, 0)","v":0},0,{"$f":"IF(AND(NOT(ISBLANK($U4959)), $U4959<'P&L'!$P$8), $AL4959, 0)","v":0},{"$f":"IF(OR(ISBLANK($U4959), $U4959>'DebitCard Rec '!$E$8), $AL4959, 0)","v":0},0,{"$f":"IF(AND(NOT(ISBLANK($U4959)), $U4959<'P&L'!$P$8), $AO4959, 0)","v":0},{"$f":"IF(OR(ISBLANK($U4959), $U4959>'DebitCard Rec '!$E$8), $AO4959, 0)","v":0},0,{"$f":"IF(AND($A4959<'P&L'!$P$8, $X4959='P&L'!$G$6), $AR4959, 0)","v":0},0,{"$f":"IF(AND($A4959<'P&L'!$P$8, $X4959='P&L'!$G$6), $AT4959, 0)","v":0}," "," "," "]
[null,null,null,null,null,null,null,null,null,null,null,null,null,null,null,null,null,null,null,null,null,null,"Jan-00",1900,{"$f":"IF(AND($A4960<'P&L'!$P$8, YEAR($A4960)=Master!$C$6), $K4960, 0)","v":0},0,{"$f":"IF(AND(NOT(ISBLANK($O4960)), $O4960<'P&L'!$P$8), Z4960, 0)","v":0},{"$f":"IF(OR(ISBLANK($O4960), $O4960>'BankRec Main Acct'!$E$8), Z4960, 0)","v":0},0,{"$f":"IF(AND(NOT(ISBLANK($O4960)), $O4960<'P&L'!$P$8), AC4960, 0)","v":0},{"$f":"IF(OR(ISBLANK($O4960), $O4960>'BankRec Main Acct'!$E$8), AC4960, 0)","v":0},0,{"$f":"IF(AND(NOT(ISBLANK($S4960)), $S4960<'P&L'!$P$8), AF4960, 0)","v":0},{"$f":"IF(OR(ISBLANK($S4960), $S4960>'BankRec Main Acct'!$E$8), AF4960, 0)","v":0},0,{"$f":"IF(AND(NOT(ISBLANK($S4960)), $S4960<'P&L'!$P$8), AI4960, 0)","v":0},{"$f":"IF(OR(ISBLANK($S4960), $S4960>'BankRec Main Acct'!$E$8), AI4960, 0)","v":0},0,{"$f":"IF(AND(NOT(ISBLANK($U4960)), $U4960<'P&L'!$P$8), $AL4960, 0)","v":0},{"$f":"IF(OR(ISBLANK($U4960), $U4960>'DebitCard Rec '!$E$8), $AL4960, 0)","v":0},0,{"$f":"IF(AND(NOT(ISBLANK($U4960)), $U4960<'P&L'!$P$8), $AO4960, 0)","v":0},{"$f":"IF(OR(ISBLANK($U4960), $U4960>'DebitCard Rec '!$E$8), $AO4960, 0)","v":0},0,{"$f":"IF(AND($A4960<'P&L'!$P$8, $X4960='P&L'!$G$6), $AR4960, 0)","v":0},0,{"$f":"IF(AND($A4960<'P&L'!$P$8, $X4960='P&L'!$G$6), $AT4960, 0)","v":0}," "," "," "]
[null,null,null,null,null,null,null,null,null,null,null,null,null,null,null,null,null,null,null,null,null,null,"Jan-00",1900,{"$f":"IF(AND($A4961<'P&L'!$P$8, YEAR($A4961)=Master!$C$6), $K4961, 0)","v":0},0,{"$f":"IF(AND(NOT(ISBLANK($O4961)), $O4961<'P&L'!$P$8), Z4961, 0)","v":0},{"$f":"IF(OR(ISBLANK($O4961), $O4961>'BankRec Main Acct'!$E$8), Z4961, 0)","v":0},0,{"$f":"IF(AND(NOT(ISBLANK($O4961)), $O4961<'P&L'!$P$8), AC4961, 0)","v":0},{"$f":"IF(OR(ISBLANK($O4961), $O4961>'BankRec Main Acct'!$E$8), AC4961, 0)","v":0},0,{"$f":"IF(AND(NOT(ISBLANK($S4961)), $S4961<'P&L'!$P$8), AF4961, 0)","v":0},{"$f":"IF(OR(ISBLANK($S4961), $S4961>'BankRec Main Acct'!$E$8), AF4961, 0)","v":0},0,{"$f":"IF(AND(NOT(ISBLANK($S4961)), $S4961<'P&L'!$P$8), AI4961, 0)","v":0},{"$f":"IF(OR(ISBLANK($S4961), $S4961>'BankRec Main Acct'!$E$8), AI4961, 0)","v":0},0,{"$f":"IF(AND(NOT(ISBLANK($U4961)), $U4961<'P&L'!$P$8), $AL4961, 0)","v":0},{"$f":"IF(OR(ISBLANK($U4961), $U4961>'DebitCard Rec '!$E$8), $AL4961, 0)","v":0},0,{"$f":"IF(AND(NOT(ISBLANK($U4961)), $U4961<'P&L'!$P$8), $AO4961, 0)","v":0},{"$f":"IF(OR(ISBLANK($U4961), $U4961>'DebitCard Rec '!$E$8), $AO4961, 0)","v":0},0,{"$f":"IF(AND($A4961<'P&L'!$P$8, $X4961='P&L'!$G$6), $AR4961, 0)","v":0},0,{"$f":"IF(AND($A4961<'P&L'!$P$8, $X4961='P&L'!$G$6), $AT4961, 0)","v":0}," "," "," "]
[null,null,null,null,null,null,null,null,null,null,null,null,null,null,null,null,null,null,null,null,null,null,"Jan-00",1900,{"$f":"IF(AND($A4962<'P&L'!$P$8, YEAR($A4962)=Master!$C$6), $K4962, 0)","v":0},0,{"$f":"IF(AND(NOT(ISBLANK($O4962)), $O4962<'P&L'!$P$8), Z4962, 0)","v":0},{"$f":"IF(OR(ISBLANK($O4962), $O4962>'BankRec Main Acct'!$E$8), Z4962, 0)","v":0},0,{"$f":"IF(AND(NOT(ISBLANK($O4962)), $O4962<'P&L'!$P$8), AC4962, 0)","v":0},{"$f":"IF(OR(ISBLANK($O4962), $O4962>'BankRec Main Acct'!$E$8), AC4962, 0)","v":0},0,{"$f":"IF(AND(NOT(ISBLANK($S4962)), $S4962<'P&L'!$P$8), AF4962, 0)","v":0},{"$f":"IF(OR(ISBLANK($S4962), $S4962>'BankRec Main Acct'!$E$8), AF4962, 0)","v":0},0,{"$f":"IF(AND(NOT(ISBLANK($S4962)), $S4962<'P&L'!$P$8), AI4962, 0)","v":0},{"$f":"IF(OR(ISBLANK($S4962), $S4962>'BankRec Main Acct'!$E$8), AI4962, 0)","v":0},0,{"$f":"IF(AND(NOT(ISBLANK($U4962)), $U4962<'P&L'!$P$8), $AL4962, 0)","v":0},{"$f":"IF(OR(ISBLANK($U4962), $U4962>'DebitCard Rec '!$E$8), $AL4962, 0)","v":0},0,{"$f":"IF(AND(NOT(ISBLANK($U4962)), $U4962<'P&L'!$P$8), $AO4962, 0)","v":0},{"$f":"IF(OR(ISBLANK($U4962), $U4962>'DebitCard Rec '!$E$8), $AO4962, 0)","v":0},0,{"$f":"IF(AND($A4962<'P&L'!$P$8, $X4962='P&L'!$G$6), $AR4962, 0)","v":0},0,{"$f":"IF(AND($A4962<'P&L'!$P$8, $X4962='P&L'!$G$6), $AT4962, 0)","v":0}," "," "," "]
[null,null,null,null,null,null,null,null,null,null,null,null,null,null,null,null,null,null,null,null,null,null,"Jan-00",1900,{"$f":"IF(AND($A4963<'P&L'!$P$8, YEAR($A4963)=Master!$C$6), $K4963, 0)","v":0},0,{"$f":"IF(AND(NOT(ISBLANK($O4963)), $O4963<'P&L'!$P$8), Z4963, 0)","v":0},{"$f":"IF(OR(ISBLANK($O4963), $O4963>'BankRec Main Acct'!$E$8), Z4963, 0)","v":0},0,{"$f":"IF(AND(NOT(ISBLANK($O4963)), $O4963<'P&L'!$P$8), AC4963, 0)","v":0},{"$f":"IF(OR(ISBLANK($O4963), $O4963>'BankRec Main Acct'!$E$8), AC4963, 0)","v":0},0,{"$f":"IF(AND(NOT(ISBLANK($S4963)), $S4963<'P&L'!$P$8), AF4963, 0)","v":0},{"$f":"IF(OR(ISBLANK($S4963), $S4963>'BankRec Main Acct'!$E$8), AF4963, 0)","v":0},0,{"$f":"IF(AND(NOT(ISBLANK($S4963)), $S4963<'P&L'!$P$8), AI4963, 0)","v":0},{"$f":"IF(OR(ISBLANK($S4963), $S4963>'BankRec Main Acct'!$E$8), AI4963, 0)","v":0},0,{"$f":"IF(AND(NOT(ISBLANK($U4963)), $U4963<'P&L'!$P$8), $AL4963, 0)","v":0},{"$f":"IF(OR(ISBLANK($U4963), $U4963>'DebitCard Rec '!$E$8), $AL4963, 0)","v":0},0,{"$f":"IF(AND(NOT(ISBLANK($U4963)), $U4963<'P&L'!$P$8), $AO4963, 0)","v":0},{"$f":"IF(OR(ISBLANK($U4963), $U4963>'DebitCard Rec '!$E$8), $AO4963, 0)","v":0},0,{"$f":"IF(AND($A4963<'P&L'!$P$8, $X4963='P&L'!$G$6), $AR4963, 0)","v":0},0,{"$f":"IF(AND($A4963<'P&L'!$P$8, $X4963='P&L'!$G$6), $AT4963, 0)","v":0}," "," "," "]
[null,null,null,null,null,null,null,null,null,null,null,null,null,null,null,null,null,null,null,null,null,null,"Jan-00",1900,{"$f":"IF(AND($A4964<'P&L'!$P$8, YEAR($A4964)=Master!$C$6), $K4964, 0)","v":0},0,{"$f":"IF(AND(NOT(ISBLANK($O4964)), $O4964<'P&L'!$P$8), Z4964, 0)","v":0},{"$f":"IF(OR(ISBLANK($O4964), $O4964>'BankRec Main Acct'!$E$8), Z4964, 0)","v":0},0,{"$f":"IF(AND(NOT(ISBLANK($O4964)), $O4964<'P&L'!$P$8), AC4964, 0)","v":0},{"$f":"IF(OR(ISBLANK($O4964), $O4964>'BankRec Main Acct'!$E$8), AC4964, 0)","v":0},0,{"$f":"IF(AND(NOT(ISBLANK($S4964)), $S4964<'P&L'!$P$8), AF4964, 0)","v":0},{"$f":"IF(OR(ISBLANK($S4964), $S4964>'BankRec Main Acct'!$E$8), AF4964, 0)","v":0},0,{"$f":"IF(AND(NOT(ISBLANK($S4964)), $S4964<'P&L'!$P$8), AI4964, 0)","v":0},{"$f":"IF(OR(ISBLANK($S4964), $S4964>'BankRec Main Acct'!$E$8), AI4964, 0)","v":0},0,{"$f":"IF(AND(NOT(ISBLANK($U4964)), $U4964<'P&L'!$P$8), $AL4964, 0)","v":0},{"$f":"IF(OR(ISBLANK($U4964), $U4964>'DebitCard Rec '!$E$8), $AL4964, 0)","v":0},0,{"$f":"IF(AND(NOT(ISBLANK($U4964)), $U4964<'P&L'!$P$8), $AO4964, 0)","v":0},{"$f":"IF(OR(ISBLANK($U4964), $U4964>'DebitCard Rec '!$E$8), $AO4964, 0)","v":0},0,{"$f":"IF(AND($A4964<'P&L'!$P$8, $X4964='P&L'!$G$6), $AR4964, 0)","v":0},0,{"$f":"IF(AND($A4964<'P&L'!$P$8, $X4964='P&L'!$G$6), $AT4964, 0)","v":0}," "," "," "]
[null,null,null,null,null,null,null,null,null,null,null,null,null,null,null,null,null,null,null,null,null,null,"Jan-00",1900,{"$f":"IF(AND($A4965<'P&L'!$P$8, YEAR($A4965)=Master!$C$6), $K4965, 0)","v":0},0,{"$f":"IF(AND(NOT(ISBLANK($O4965)), $O4965<'P&L'!$P$8), Z4965, 0)","v":0},{"$f":"IF(OR(ISBLANK($O4965), $O4965>'BankRec Main Acct'!$E$8), Z4965, 0)","v":0},0,{"$f":"IF(AND(NOT(ISBLANK($O4965)), $O4965<'P&L'!$P$8), AC4965, 0)","v":0},{"$f":"IF(OR(ISBLANK($O4965), $O4965>'BankRec Main Acct'!$E$8), AC4965, 0)","v":0},0,{"$f":"IF(AND(NOT(ISBLANK($S4965)), $S4965<'P&L'!$P$8), AF4965, 0)","v":0},{"$f":"IF(OR(ISBLANK($S4965), $S4965>'BankRec Main Acct'!$E$8), AF4965, 0)","v":0},0,{"$f":"IF(AND(NOT(ISBLANK($S4965)), $S4965<'P&L'!$P$8), AI4965, 0)","v":0},{"$f":"IF(OR(ISBLANK($S4965), $S4965>'BankRec Main Acct'!$E$8), AI4965, 0)","v":0},0,{"$f":"IF(AND(NOT(ISBLANK($U4965)), $U4965<'P&L'!$P$8), $AL4965, 0)","v":0},{"$f":"IF(OR(ISBLANK($U4965), $U4965>'DebitCard Rec '!$E$8), $AL4965, 0)","v":0},0,{"$f":"IF(AND(NOT(ISBLANK($U4965)), $U4965<'P&L'!$P$8), $AO4965, 0)","v":0},{"$f":"IF(OR(ISBLANK($U4965), $U4965>'DebitCard Rec '!$E$8), $AO4965, 0)","v":0},0,{"$f":"IF(AND($A4965<'P&L'!$P$8, $X4965='P&L'!$G$6), $AR4965, 0)","v":0},0,{"$f":"IF(AND($A4965<'P&L'!$P$8, $X4965='P&L'!$G$6), $AT4965, 0)","v":0}," "," "," "]
[null,null,null,null,null,null,null,null,null,null,null,null,null,null,null,null,null,null,null,null,null,null,"Jan-00",1900,{"$f":"IF(AND($A4966<'P&L'!$P$8, YEAR($A4966)=Master!$C$6), $K4966, 0)","v":0},0,{"$f":"IF(AND(NOT(ISBLANK($O4966)), $O4966<'P&L'!$P$8), Z4966, 0)","v":0},{"$f":"IF(OR(ISBLANK($O4966), $O4966>'BankRec Main Acct'!$E$8), Z4966, 0)","v":0},0,{"$f":"IF(AND(NOT(ISBLANK($O4966)), $O4966<'P&L'!$P$8), AC4966, 0)","v":0},{"$f":"IF(OR(ISBLANK($O4966), $O4966>'BankRec Main Acct'!$E$8), AC4966, 0)","v":0},0,{"$f":"IF(AND(NOT(ISBLANK($S4966)), $S4966<'P&L'!$P$8), AF4966, 0)","v":0},{"$f":"IF(OR(ISBLANK($S4966), $S4966>'BankRec Main Acct'!$E$8), AF4966, 0)","v":0},0,{"$f":"IF(AND(NOT(ISBLANK($S4966)), $S4966<'P&L'!$P$8), AI4966, 0)","v":0},{"$f":"IF(OR(ISBLANK($S4966), $S4966>'BankRec Main Acct'!$E$8), AI4966, 0)","v":0},0,{"$f":"IF(AND(NOT(ISBLANK($U4966)), $U4966<'P&L'!$P$8), $AL4966, 0)","v":0},{"$f":"IF(OR(ISBLANK($U4966), $U4966>'DebitCard Rec '!$E$8), $AL4966, 0)","v":0},0,{"$f":"IF(AND(NOT(ISBLANK($U4966)), $U4966<'P&L'!$P$8), $AO4966, 0)","v":0},{"$f":"IF(OR(ISBLANK($U4966), $U4966>'DebitCard Rec '!$E$8), $AO4966, 0)","v":0},0,{"$f":"IF(AND($A4966<'P&L'!$P$8, $X4966='P&L'!$G$6), $AR4966, 0)","v":0},0,{"$f":"IF(AND($A4966<'P&L'!$P$8, $X4966='P&L'!$G$6), $AT4966, 0)","v":0}," "," "," "]
[null,null,null,null,null,null,null,null,null,null,null,null,null,null,null,null,null,null,null,null,null,null,"Jan-00",1900,{"$f":"IF(AND($A4967<'P&L'!$P$8, YEAR($A4967)=Master!$C$6), $K4967, 0)","v":0},0,{"$f":"IF(AND(NOT(ISBLANK($O4967)), $O4967<'P&L'!$P$8), Z4967, 0)","v":0},{"$f":"IF(OR(ISBLANK($O4967), $O4967>'BankRec Main Acct'!$E$8), Z4967, 0)","v":0},0,{"$f":"IF(AND(NOT(ISBLANK($O4967)), $O4967<'P&L'!$P$8), AC4967, 0)","v":0},{"$f":"IF(OR(ISBLANK($O4967), $O4967>'BankRec Main Acct'!$E$8), AC4967, 0)","v":0},0,{"$f":"IF(AND(NOT(ISBLANK($S4967)), $S4967<'P&L'!$P$8), AF4967, 0)","v":0},{"$f":"IF(OR(ISBLANK($S4967), $S4967>'BankRec Main Acct'!$E$8), AF4967, 0)","v":0},0,{"$f":"IF(AND(NOT(ISBLANK($S4967)), $S4967<'P&L'!$P$8), AI4967, 0)","v":0},{"$f":"IF(OR(ISBLANK($S4967), $S4967>'BankRec Main Acct'!$E$8), AI4967, 0)","v":0},0,{"$f":"IF(AND(NOT(ISBLANK($U4967)), $U4967<'P&L'!$P$8), $AL4967, 0)","v":0},{"$f":"IF(OR(ISBLANK($U4967), $U4967>'DebitCard Rec '!$E$8), $AL4967, 0)","v":0},0,{"$f":"IF(AND(NOT(ISBLANK($U4967)), $U4967<'P&L'!$P$8), $AO4967, 0)","v":0},{"$f":"IF(OR(ISBLANK($U4967), $U4967>'DebitCard Rec '!$E$8), $AO4967, 0)","v":0},0,{"$f":"IF(AND($A4967<'P&L'!$P$8, $X4967='P&L'!$G$6), $AR4967, 0)","v":0},0,{"$f":"IF(AND($A4967<'P&L'!$P$8, $X4967='P&L'!$G$6), $AT4967, 0)","v":0}," "," "," "]
[null,null,null,null,null,null,null,null,null,null,null,null,null,null,null,null,null,null,null,null,null,null,"Jan-00",1900,{"$f":"IF(AND($A4968<'P&L'!$P$8, YEAR($A4968)=Master!$C$6), $K4968, 0)","v":0},0,{"$f":"IF(AND(NOT(ISBLANK($O4968)), $O4968<'P&L'!$P$8), Z4968, 0)","v":0},{"$f":"IF(OR(ISBLANK($O4968), $O4968>'BankRec Main Acct'!$E$8), Z4968, 0)","v":0},0,{"$f":"IF(AND(NOT(ISBLANK($O4968)), $O4968<'P&L'!$P$8), AC4968, 0)","v":0},{"$f":"IF(OR(ISBLANK($O4968), $O4968>'BankRec Main Acct'!$E$8), AC4968, 0)","v":0},0,{"$f":"IF(AND(NOT(ISBLANK($S4968)), $S4968<'P&L'!$P$8), AF4968, 0)","v":0},{"$f":"IF(OR(ISBLANK($S4968), $S4968>'BankRec Main Acct'!$E$8), AF4968, 0)","v":0},0,{"$f":"IF(AND(NOT(ISBLANK($S4968)), $S4968<'P&L'!$P$8), AI4968, 0)","v":0},{"$f":"IF(OR(ISBLANK($S4968), $S4968>'BankRec Main Acct'!$E$8), AI4968, 0)","v":0},0,{"$f":"IF(AND(NOT(ISBLANK($U4968)), $U4968<'P&L'!$P$8), $AL4968, 0)","v":0},{"$f":"IF(OR(ISBLANK($U4968), $U4968>'DebitCard Rec '!$E$8), $AL4968, 0)","v":0},0,{"$f":"IF(AND(NOT(ISBLANK($U4968)), $U4968<'P&L'!$P$8), $AO4968, 0)","v":0},{"$f":"IF(OR(ISBLANK($U4968), $U4968>'DebitCard Rec '!$E$8), $AO4968, 0)","v":0},0,{"$f":"IF(AND($A4968<'P&L'!$P$8, $X4968='P&L'!$G$6), $AR4968, 0)","v":0},0,{"$f":"IF(AND($A4968<'P&L'!$P$8, $X4968='P&L'!$G$6), $AT4968, 0)","v":0}," "," "," "]
[null,null,null,null,null,null,null,null,null,null,null,null,null,null,null,null,null,null,null,null,null,null,"Jan-00",1900,{"$f":"IF(AND($A4969<'P&L'!$P$8, YEAR($A4969)=Master!$C$6), $K4969, 0)","v":0},0,{"$f":"IF(AND(NOT(ISBLANK($O4969)), $O4969<'P&L'!$P$8), Z4969, 0)","v":0},{"$f":"IF(OR(ISBLANK($O4969), $O4969>'BankRec Main Acct'!$E$8), Z4969, 0)","v":0},0,{"$f":"IF(AND(NOT(ISBLANK($O4969)), $O4969<'P&L'!$P$8), AC4969, 0)","v":0},{"$f":"IF(OR(ISBLANK($O4969), $O4969>'BankRec Main Acct'!$E$8), AC4969, 0)","v":0},0,{"$f":"IF(AND(NOT(ISBLANK($S4969)), $S4969<'P&L'!$P$8), AF4969, 0)","v":0},{"$f":"IF(OR(ISBLANK($S4969), $S4969>'BankRec Main Acct'!$E$8), AF4969, 0)","v":0},0,{"$f":"IF(AND(NOT(ISBLANK($S4969)), $S4969<'P&L'!$P$8), AI4969, 0)","v":0},{"$f":"IF(OR(ISBLANK($S4969), $S4969>'BankRec Main Acct'!$E$8), AI4969, 0)","v":0},0,{"$f":"IF(AND(NOT(ISBLANK($U4969)), $U4969<'P&L'!$P$8), $AL4969, 0)","v":0},{"$f":"IF(OR(ISBLANK($U4969), $U4969>'DebitCard Rec '!$E$8), $AL4969, 0)","v":0},0,{"$f":"IF(AND(NOT(ISBLANK($U4969)), $U4969<'P&L'!$P$8), $AO4969, 0)","v":0},{"$f":"IF(OR(ISBLANK($U4969), $U4969>'DebitCard Rec '!$E$8), $AO4969, 0)","v":0},0,{"$f":"IF(AND($A4969<'P&L'!$P$8, $X4969='P&L'!$G$6), $AR4969, 0)","v":0},0,{"$f":"IF(AND($A4969<'P&L'!$P$8, $X4969='P&L'!$G$6), $AT4969, 0)","v":0}," "," "," "]
[null,null,null,null,null,null,null,null,null,null,null,null,null,null,null,null,null,null,null,null,null,null,"Jan-00",1900,{"$f":"IF(AND($A4970<'P&L'!$P$8, YEAR($A4970)=Master!$C$6), $K4970, 0)","v":0},0,{"$f":"IF(AND(NOT(ISBLANK($O4970)), $O4970<'P&L'!$P$8), Z4970, 0)","v":0},{"$f":"IF(OR(ISBLANK($O4970), $O4970>'BankRec Main Acct'!$E$8), Z4970, 0)","v":0},0,{"$f":"IF(AND(NOT(ISBLANK($O4970)), $O4970<'P&L'!$P$8), AC4970, 0)","v":0},{"$f":"IF(OR(ISBLANK($O4970), $O4970>'BankRec Main Acct'!$E$8), AC4970, 0)","v":0},0,{"$f":"IF(AND(NOT(ISBLANK($S4970)), $S4970<'P&L'!$P$8), AF4970, 0)","v":0},{"$f":"IF(OR(ISBLANK($S4970), $S4970>'BankRec Main Acct'!$E$8), AF4970, 0)","v":0},0,{"$f":"IF(AND(NOT(ISBLANK($S4970)), $S4970<'P&L'!$P$8), AI4970, 0)","v":0},{"$f":"IF(OR(ISBLANK($S4970), $S4970>'BankRec Main Acct'!$E$8), AI4970, 0)","v":0},0,{"$f":"IF(AND(NOT(ISBLANK($U4970)), $U4970<'P&L'!$P$8), $AL4970, 0)","v":0},{"$f":"IF(OR(ISBLANK($U4970), $U4970>'DebitCard Rec '!$E$8), $AL4970, 0)","v":0},0,{"$f":"IF(AND(NOT(ISBLANK($U4970)), $U4970<'P&L'!$P$8), $AO4970, 0)","v":0},{"$f":"IF(OR(ISBLANK($U4970), $U4970>'DebitCard Rec '!$E$8), $AO4970, 0)","v":0},0,{"$f":"IF(AND($A4970<'P&L'!$P$8, $X4970='P&L'!$G$6), $AR4970, 0)","v":0},0,{"$f":"IF(AND($A4970<'P&L'!$P$8, $X4970='P&L'!$G$6), $AT4970, 0)","v":0}," "," "," "]
[null,null,null,null,null,null,null,null,null,null,null,null,null,null,null,null,null,null,null,null,null,null,"Jan-00",1900,{"$f":"IF(AND($A4971<'P&L'!$P$8, YEAR($A4971)=Master!$C$6), $K4971, 0)","v":0},0,{"$f":"IF(AND(NOT(ISBLANK($O4971)), $O4971<'P&L'!$P$8), Z4971, 0)","v":0},{"$f":"IF(OR(ISBLANK($O4971), $O4971>'BankRec Main Acct'!$E$8), Z4971, 0)","v":0},0,{"$f":"IF(AND(NOT(ISBLANK($O4971)), $O4971<'P&L'!$P$8), AC4971, 0)","v":0},{"$f":"IF(OR(ISBLANK($O4971), $O4971>'BankRec Main Acct'!$E$8), AC4971, 0)","v":0},0,{"$f":"IF(AND(NOT(ISBLANK($S4971)), $S4971<'P&L'!$P$8), AF4971, 0)","v":0},{"$f":"IF(OR(ISBLANK($S4971), $S4971>'BankRec Main Acct'!$E$8), AF4971, 0)","v":0},0,{"$f":"IF(AND(NOT(ISBLANK($S4971)), $S4971<'P&L'!$P$8), AI4971, 0)","v":0},{"$f":"IF(OR(ISBLANK($S4971), $S4971>'BankRec Main Acct'!$E$8), AI4971, 0)","v":0},0,{"$f":"IF(AND(NOT(ISBLANK($U4971)), $U4971<'P&L'!$P$8), $AL4971, 0)","v":0},{"$f":"IF(OR(ISBLANK($U4971), $U4971>'DebitCard Rec '!$E$8), $AL4971, 0)","v":0},0,{"$f":"IF(AND(NOT(ISBLANK($U4971)), $U4971<'P&L'!$P$8), $AO4971, 0)","v":0},{"$f":"IF(OR(ISBLANK($U4971), $U4971>'DebitCard Rec '!$E$8), $AO4971, 0)","v":0},0,{"$f":"IF(AND($A4971<'P&L'!$P$8, $X4971='P&L'!$G$6), $AR4971, 0)","v":0},0,{"$f":"IF(AND($A4971<'P&L'!$P$8, $X4971='P&L'!$G$6), $AT4971, 0)","v":0}," "," "," "]
[null,null,null,null,null,null,null,null,null,null,null,null,null,null,null,null,null,null,null,null,null,null,"Jan-00",1900,{"$f":"IF(AND($A4972<'P&L'!$P$8, YEAR($A4972)=Master!$C$6), $K4972, 0)","v":0},0,{"$f":"IF(AND(NOT(ISBLANK($O4972)), $O4972<'P&L'!$P$8), Z4972, 0)","v":0},{"$f":"IF(OR(ISBLANK($O4972), $O4972>'BankRec Main Acct'!$E$8), Z4972, 0)","v":0},0,{"$f":"IF(AND(NOT(ISBLANK($O4972)), $O4972<'P&L'!$P$8), AC4972, 0)","v":0},{"$f":"IF(OR(ISBLANK($O4972), $O4972>'BankRec Main Acct'!$E$8), AC4972, 0)","v":0},0,{"$f":"IF(AND(NOT(ISBLANK($S4972)), $S4972<'P&L'!$P$8), AF4972, 0)","v":0},{"$f":"IF(OR(ISBLANK($S4972), $S4972>'BankRec Main Acct'!$E$8), AF4972, 0)","v":0},0,{"$f":"IF(AND(NOT(ISBLANK($S4972)), $S4972<'P&L'!$P$8), AI4972, 0)","v":0},{"$f":"IF(OR(ISBLANK($S4972), $S4972>'BankRec Main Acct'!$E$8), AI4972, 0)","v":0},0,{"$f":"IF(AND(NOT(ISBLANK($U4972)), $U4972<'P&L'!$P$8), $AL4972, 0)","v":0},{"$f":"IF(OR(ISBLANK($U4972), $U4972>'DebitCard Rec '!$E$8), $AL4972, 0)","v":0},0,{"$f":"IF(AND(NOT(ISBLANK($U4972)), $U4972<'P&L'!$P$8), $AO4972, 0)","v":0},{"$f":"IF(OR(ISBLANK($U4972), $U4972>'DebitCard Rec '!$E$8), $AO4972, 0)","v":0},0,{"$f":"IF(AND($A4972<'P&L'!$P$8, $X4972='P&L'!$G$6), $AR4972, 0)","v":0},0,{"$f":"IF(AND($A4972<'P&L'!$P$8, $X4972='P&L'!$G$6), $AT4972, 0)","v":0}," "," "," "]
[null,null,null,null,null,null,null,null,null,null,null,null,null,null,null,null,null,null,null,null,null,null,"Jan-00",1900,{"$f":"IF(AND($A4973<'P&L'!$P$8, YEAR($A4973)=Master!$C$6), $K4973, 0)","v":0},0,{"$f":"IF(AND(NOT(ISBLANK($O4973)), $O4973<'P&L'!$P$8), Z4973, 0)","v":0},{"$f":"IF(OR(ISBLANK($O4973), $O4973>'BankRec Main Acct'!$E$8), Z4973, 0)","v":0},0,{"$f":"IF(AND(NOT(ISBLANK($O4973)), $O4973<'P&L'!$P$8), AC4973, 0)","v":0},{"$f":"IF(OR(ISBLANK($O4973), $O4973>'BankRec Main Acct'!$E$8), AC4973, 0)","v":0},0,{"$f":"IF(AND(NOT(ISBLANK($S4973)), $S4973<'P&L'!$P$8), AF4973, 0)","v":0},{"$f":"IF(OR(ISBLANK($S4973), $S4973>'BankRec Main Acct'!$E$8), AF4973, 0)","v":0},0,{"$f":"IF(AND(NOT(ISBLANK($S4973)), $S4973<'P&L'!$P$8), AI4973, 0)","v":0},{"$f":"IF(OR(ISBLANK($S4973), $S4973>'BankRec Main Acct'!$E$8), AI4973, 0)","v":0},0,{"$f":"IF(AND(NOT(ISBLANK($U4973)), $U4973<'P&L'!$P$8), $AL4973, 0)","v":0},{"$f":"IF(OR(ISBLANK($U4973), $U4973>'DebitCard Rec '!$E$8), $AL4973, 0)","v":0},0,{"$f":"IF(AND(NOT(ISBLANK($U4973)), $U4973<'P&L'!$P$8), $AO4973, 0)","v":0},{"$f":"IF(OR(ISBLANK($U4973), $U4973>'DebitCard Rec '!$E$8), $AO4973, 0)","v":0},0,{"$f":"IF(AND($A4973<'P&L'!$P$8, $X4973='P&L'!$G$6), $AR4973, 0)","v":0},0,{"$f":"IF(AND($A4973<'P&L'!$P$8, $X4973='P&L'!$G$6), $AT4973, 0)","v":0}," "," "," "]
[null,null,null,null,null,null,null,null,null,null,null,null,null,null,null,null,null,null,null,null,null,null,"Jan-00",1900,{"$f":"IF(AND($A4974<'P&L'!$P$8, YEAR($A4974)=Master!$C$6), $K4974, 0)","v":0},0,{"$f":"IF(AND(NOT(ISBLANK($O4974)), $O4974<'P&L'!$P$8), Z4974, 0)","v":0},{"$f":"IF(OR(ISBLANK($O4974), $O4974>'BankRec Main Acct'!$E$8), Z4974, 0)","v":0},0,{"$f":"IF(AND(NOT(ISBLANK($O4974)), $O4974<'P&L'!$P$8), AC4974, 0)","v":0},{"$f":"IF(OR(ISBLANK($O4974), $O4974>'BankRec Main Acct'!$E$8), AC4974, 0)","v":0},0,{"$f":"IF(AND(NOT(ISBLANK($S4974)), $S4974<'P&L'!$P$8), AF4974, 0)","v":0},{"$f":"IF(OR(ISBLANK($S4974), $S4974>'BankRec Main Acct'!$E$8), AF4974, 0)","v":0},0,{"$f":"IF(AND(NOT(ISBLANK($S4974)), $S4974<'P&L'!$P$8), AI4974, 0)","v":0},{"$f":"IF(OR(ISBLANK($S4974), $S4974>'BankRec Main Acct'!$E$8), AI4974, 0)","v":0},0,{"$f":"IF(AND(NOT(ISBLANK($U4974)), $U4974<'P&L'!$P$8), $AL4974, 0)","v":0},{"$f":"IF(OR(ISBLANK($U4974), $U4974>'DebitCard Rec '!$E$8), $AL4974, 0)","v":0},0,{"$f":"IF(AND(NOT(ISBLANK($U4974)), $U4974<'P&L'!$P$8), $AO4974, 0)","v":0},{"$f":"IF(OR(ISBLANK($U4974), $U4974>'DebitCard Rec '!$E$8), $AO4974, 0)","v":0},0,{"$f":"IF(AND($A4974<'P&L'!$P$8, $X4974='P&L'!$G$6), $AR4974, 0)","v":0},0,{"$f":"IF(AND($A4974<'P&L'!$P$8, $X4974='P&L'!$G$6), $AT4974, 0)","v":0}," "," "," "]
[null,null,null,null,null,null,null,null,null,null,null,null,null,null,null,null,null,null,null,null,null,null,"Jan-00",1900,{"$f":"IF(AND($A4975<'P&L'!$P$8, YEAR($A4975)=Master!$C$6), $K4975, 0)","v":0},0,{"$f":"IF(AND(NOT(ISBLANK($O4975)), $O4975<'P&L'!$P$8), Z4975, 0)","v":0},{"$f":"IF(OR(ISBLANK($O4975), $O4975>'BankRec Main Acct'!$E$8), Z4975, 0)","v":0},0,{"$f":"IF(AND(NOT(ISBLANK($O4975)), $O4975<'P&L'!$P$8), AC4975, 0)","v":0},{"$f":"IF(OR(ISBLANK($O4975), $O4975>'BankRec Main Acct'!$E$8), AC4975, 0)","v":0},0,{"$f":"IF(AND(NOT(ISBLANK($S4975)), $S4975<'P&L'!$P$8), AF4975, 0)","v":0},{"$f":"IF(OR(ISBLANK($S4975), $S4975>'BankRec Main Acct'!$E$8), AF4975, 0)","v":0},0,{"$f":"IF(AND(NOT(ISBLANK($S4975)), $S4975<'P&L'!$P$8), AI4975, 0)","v":0},{"$f":"IF(OR(ISBLANK($S4975), $S4975>'BankRec Main Acct'!$E$8), AI4975, 0)","v":0},0,{"$f":"IF(AND(NOT(ISBLANK($U4975)), $U4975<'P&L'!$P$8), $AL4975, 0)","v":0},{"$f":"IF(OR(ISBLANK($U4975), $U4975>'DebitCard Rec '!$E$8), $AL4975, 0)","v":0},0,{"$f":"IF(AND(NOT(ISBLANK($U4975)), $U4975<'P&L'!$P$8), $AO4975, 0)","v":0},{"$f":"IF(OR(ISBLANK($U4975), $U4975>'DebitCard Rec '!$E$8), $AO4975, 0)","v":0},0,{"$f":"IF(AND($A4975<'P&L'!$P$8, $X4975='P&L'!$G$6), $AR4975, 0)","v":0},0,{"$f":"IF(AND($A4975<'P&L'!$P$8, $X4975='P&L'!$G$6), $AT4975, 0)","v":0}," "," "," "]
[null,null,null,null,null,null,null,null,null,null,null,null,null,null,null,null,null,null,null,null,null,null,"Jan-00",1900,{"$f":"IF(AND($A4976<'P&L'!$P$8, YEAR($A4976)=Master!$C$6), $K4976, 0)","v":0},0,{"$f":"IF(AND(NOT(ISBLANK($O4976)), $O4976<'P&L'!$P$8), Z4976, 0)","v":0},{"$f":"IF(OR(ISBLANK($O4976), $O4976>'BankRec Main Acct'!$E$8), Z4976, 0)","v":0},0,{"$f":"IF(AND(NOT(ISBLANK($O4976)), $O4976<'P&L'!$P$8), AC4976, 0)","v":0},{"$f":"IF(OR(ISBLANK($O4976), $O4976>'BankRec Main Acct'!$E$8), AC4976, 0)","v":0},0,{"$f":"IF(AND(NOT(ISBLANK($S4976)), $S4976<'P&L'!$P$8), AF4976, 0)","v":0},{"$f":"IF(OR(ISBLANK($S4976), $S4976>'BankRec Main Acct'!$E$8), AF4976, 0)","v":0},0,{"$f":"IF(AND(NOT(ISBLANK($S4976)), $S4976<'P&L'!$P$8), AI4976, 0)","v":0},{"$f":"IF(OR(ISBLANK($S4976), $S4976>'BankRec Main Acct'!$E$8), AI4976, 0)","v":0},0,{"$f":"IF(AND(NOT(ISBLANK($U4976)), $U4976<'P&L'!$P$8), $AL4976, 0)","v":0},{"$f":"IF(OR(ISBLANK($U4976), $U4976>'DebitCard Rec '!$E$8), $AL4976, 0)","v":0},0,{"$f":"IF(AND(NOT(ISBLANK($U4976)), $U4976<'P&L'!$P$8), $AO4976, 0)","v":0},{"$f":"IF(OR(ISBLANK($U4976), $U4976>'DebitCard Rec '!$E$8), $AO4976, 0)","v":0},0,{"$f":"IF(AND($A4976<'P&L'!$P$8, $X4976='P&L'!$G$6), $AR4976, 0)","v":0},0,{"$f":"IF(AND($A4976<'P&L'!$P$8, $X4976='P&L'!$G$6), $AT4976, 0)","v":0}," "," "," "]
[null,null,null,null,null,null,null,null,null,null,null,null,null,null,null,null,null,null,null,null,null,null,"Jan-00",1900,{"$f":"IF(AND($A4977<'P&L'!$P$8, YEAR($A4977)=Master!$C$6), $K4977, 0)","v":0},0,{"$f":"IF(AND(NOT(ISBLANK($O4977)), $O4977<'P&L'!$P$8), Z4977, 0)","v":0},{"$f":"IF(OR(ISBLANK($O4977), $O4977>'BankRec Main Acct'!$E$8), Z4977, 0)","v":0},0,{"$f":"IF(AND(NOT(ISBLANK($O4977)), $O4977<'P&L'!$P$8), AC4977, 0)","v":0},{"$f":"IF(OR(ISBLANK($O4977), $O4977>'BankRec Main Acct'!$E$8), AC4977, 0)","v":0},0,{"$f":"IF(AND(NOT(ISBLANK($S4977)), $S4977<'P&L'!$P$8), AF4977, 0)","v":0},{"$f":"IF(OR(ISBLANK($S4977), $S4977>'BankRec Main Acct'!$E$8), AF4977, 0)","v":0},0,{"$f":"IF(AND(NOT(ISBLANK($S4977)), $S4977<'P&L'!$P$8), AI4977, 0)","v":0},{"$f":"IF(OR(ISBLANK($S4977), $S4977>'BankRec Main Acct'!$E$8), AI4977, 0)","v":0},0,{"$f":"IF(AND(NOT(ISBLANK($U4977)), $U4977<'P&L'!$P$8), $AL4977, 0)","v":0},{"$f":"IF(OR(ISBLANK($U4977), $U4977>'DebitCard Rec '!$E$8), $AL4977, 0)","v":0},0,{"$f":"IF(AND(NOT(ISBLANK($U4977)), $U4977<'P&L'!$P$8), $AO4977, 0)","v":0},{"$f":"IF(OR(ISBLANK($U4977), $U4977>'DebitCard Rec '!$E$8), $AO4977, 0)","v":0},0,{"$f":"IF(AND($A4977<'P&L'!$P$8, $X4977='P&L'!$G$6), $AR4977, 0)","v":0},0,{"$f":"IF(AND($A4977<'P&L'!$P$8, $X4977='P&L'!$G$6), $AT4977, 0)","v":0}," "," "," "]
[null,null,null,null,null,null,null,null,null,null,null,null,null,null,null,null,null,null,null,null,null,null,"Jan-00",1900,{"$f":"IF(AND($A4978<'P&L'!$P$8, YEAR($A4978)=Master!$C$6), $K4978, 0)","v":0},0,{"$f":"IF(AND(NOT(ISBLANK($O4978)), $O4978<'P&L'!$P$8), Z4978, 0)","v":0},{"$f":"IF(OR(ISBLANK($O4978), $O4978>'BankRec Main Acct'!$E$8), Z4978, 0)","v":0},0,{"$f":"IF(AND(NOT(ISBLANK($O4978)), $O4978<'P&L'!$P$8), AC4978, 0)","v":0},{"$f":"IF(OR(ISBLANK($O4978), $O4978>'BankRec Main Acct'!$E$8), AC4978, 0)","v":0},0,{"$f":"IF(AND(NOT(ISBLANK($S4978)), $S4978<'P&L'!$P$8), AF4978, 0)","v":0},{"$f":"IF(OR(ISBLANK($S4978), $S4978>'BankRec Main Acct'!$E$8), AF4978, 0)","v":0},0,{"$f":"IF(AND(NOT(ISBLANK($S4978)), $S4978<'P&L'!$P$8), AI4978, 0)","v":0},{"$f":"IF(OR(ISBLANK($S4978), $S4978>'BankRec Main Acct'!$E$8), AI4978, 0)","v":0},0,{"$f":"IF(AND(NOT(ISBLANK($U4978)), $U4978<'P&L'!$P$8), $AL4978, 0)","v":0},{"$f":"IF(OR(ISBLANK($U4978), $U4978>'DebitCard Rec '!$E$8), $AL4978, 0)","v":0},0,{"$f":"IF(AND(NOT(ISBLANK($U4978)), $U4978<'P&L'!$P$8), $AO4978, 0)","v":0},{"$f":"IF(OR(ISBLANK($U4978), $U4978>'DebitCard Rec '!$E$8), $AO4978, 0)","v":0},0,{"$f":"IF(AND($A4978<'P&L'!$P$8, $X4978='P&L'!$G$6), $AR4978, 0)","v":0},0,{"$f":"IF(AND($A4978<'P&L'!$P$8, $X4978='P&L'!$G$6), $AT4978, 0)","v":0}," "," "," "]
[null,null,null,null,null,null,null,null,null,null,null,null,null,null,null,null,null,null,null,null,null,null,"Jan-00",1900,{"$f":"IF(AND($A4979<'P&L'!$P$8, YEAR($A4979)=Master!$C$6), $K4979, 0)","v":0},0,{"$f":"IF(AND(NOT(ISBLANK($O4979)), $O4979<'P&L'!$P$8), Z4979, 0)","v":0},{"$f":"IF(OR(ISBLANK($O4979), $O4979>'BankRec Main Acct'!$E$8), Z4979, 0)","v":0},0,{"$f":"IF(AND(NOT(ISBLANK($O4979)), $O4979<'P&L'!$P$8), AC4979, 0)","v":0},{"$f":"IF(OR(ISBLANK($O4979), $O4979>'BankRec Main Acct'!$E$8), AC4979, 0)","v":0},0,{"$f":"IF(AND(NOT(ISBLANK($S4979)), $S4979<'P&L'!$P$8), AF4979, 0)","v":0},{"$f":"IF(OR(ISBLANK($S4979), $S4979>'BankRec Main Acct'!$E$8), AF4979, 0)","v":0},0,{"$f":"IF(AND(NOT(ISBLANK($S4979)), $S4979<'P&L'!$P$8), AI4979, 0)","v":0},{"$f":"IF(OR(ISBLANK($S4979), $S4979>'BankRec Main Acct'!$E$8), AI4979, 0)","v":0},0,{"$f":"IF(AND(NOT(ISBLANK($U4979)), $U4979<'P&L'!$P$8), $AL4979, 0)","v":0},{"$f":"IF(OR(ISBLANK($U4979), $U4979>'DebitCard Rec '!$E$8), $AL4979, 0)","v":0},0,{"$f":"IF(AND(NOT(ISBLANK($U4979)), $U4979<'P&L'!$P$8), $AO4979, 0)","v":0},{"$f":"IF(OR(ISBLANK($U4979), $U4979>'DebitCard Rec '!$E$8), $AO4979, 0)","v":0},0,{"$f":"IF(AND($A4979<'P&L'!$P$8, $X4979='P&L'!$G$6), $AR4979, 0)","v":0},0,{"$f":"IF(AND($A4979<'P&L'!$P$8, $X4979='P&L'!$G$6), $AT4979, 0)","v":0}," "," "," "]
[null,null,null,null,null,null,null,null,null,null,null,null,null,null,null,null,null,null,null,null,null,null,"Jan-00",1900,{"$f":"IF(AND($A4980<'P&L'!$P$8, YEAR($A4980)=Master!$C$6), $K4980, 0)","v":0},0,{"$f":"IF(AND(NOT(ISBLANK($O4980)), $O4980<'P&L'!$P$8), Z4980, 0)","v":0},{"$f":"IF(OR(ISBLANK($O4980), $O4980>'BankRec Main Acct'!$E$8), Z4980, 0)","v":0},0,{"$f":"IF(AND(NOT(ISBLANK($O4980)), $O4980<'P&L'!$P$8), AC4980, 0)","v":0},{"$f":"IF(OR(ISBLANK($O4980), $O4980>'BankRec Main Acct'!$E$8), AC4980, 0)","v":0},0,{"$f":"IF(AND(NOT(ISBLANK($S4980)), $S4980<'P&L'!$P$8), AF4980, 0)","v":0},{"$f":"IF(OR(ISBLANK($S4980), $S4980>'BankRec Main Acct'!$E$8), AF4980, 0)","v":0},0,{"$f":"IF(AND(NOT(ISBLANK($S4980)), $S4980<'P&L'!$P$8), AI4980, 0)","v":0},{"$f":"IF(OR(ISBLANK($S4980), $S4980>'BankRec Main Acct'!$E$8), AI4980, 0)","v":0},0,{"$f":"IF(AND(NOT(ISBLANK($U4980)), $U4980<'P&L'!$P$8), $AL4980, 0)","v":0},{"$f":"IF(OR(ISBLANK($U4980), $U4980>'DebitCard Rec '!$E$8), $AL4980, 0)","v":0},0,{"$f":"IF(AND(NOT(ISBLANK($U4980)), $U4980<'P&L'!$P$8), $AO4980, 0)","v":0},{"$f":"IF(OR(ISBLANK($U4980), $U4980>'DebitCard Rec '!$E$8), $AO4980, 0)","v":0},0,{"$f":"IF(AND($A4980<'P&L'!$P$8, $X4980='P&L'!$G$6), $AR4980, 0)","v":0},0,{"$f":"IF(AND($A4980<'P&L'!$P$8, $X4980='P&L'!$G$6), $AT4980, 0)","v":0}," "," "," "]
[null,null,null,null,null,null,null,null,null,null,null,null,null,null,null,null,null,null,null,null,null,null,"Jan-00",1900,{"$f":"IF(AND($A4981<'P&L'!$P$8, YEAR($A4981)=Master!$C$6), $K4981, 0)","v":0},0,{"$f":"IF(AND(NOT(ISBLANK($O4981)), $O4981<'P&L'!$P$8), Z4981, 0)","v":0},{"$f":"IF(OR(ISBLANK($O4981), $O4981>'BankRec Main Acct'!$E$8), Z4981, 0)","v":0},0,{"$f":"IF(AND(NOT(ISBLANK($O4981)), $O4981<'P&L'!$P$8), AC4981, 0)","v":0},{"$f":"IF(OR(ISBLANK($O4981), $O4981>'BankRec Main Acct'!$E$8), AC4981, 0)","v":0},0,{"$f":"IF(AND(NOT(ISBLANK($S4981)), $S4981<'P&L'!$P$8), AF4981, 0)","v":0},{"$f":"IF(OR(ISBLANK($S4981), $S4981>'BankRec Main Acct'!$E$8), AF4981, 0)","v":0},0,{"$f":"IF(AND(NOT(ISBLANK($S4981)), $S4981<'P&L'!$P$8), AI4981, 0)","v":0},{"$f":"IF(OR(ISBLANK($S4981), $S4981>'BankRec Main Acct'!$E$8), AI4981, 0)","v":0},0,{"$f":"IF(AND(NOT(ISBLANK($U4981)), $U4981<'P&L'!$P$8), $AL4981, 0)","v":0},{"$f":"IF(OR(ISBLANK($U4981), $U4981>'DebitCard Rec '!$E$8), $AL4981, 0)","v":0},0,{"$f":"IF(AND(NOT(ISBLANK($U4981)), $U4981<'P&L'!$P$8), $AO4981, 0)","v":0},{"$f":"IF(OR(ISBLANK($U4981), $U4981>'DebitCard Rec '!$E$8), $AO4981, 0)","v":0},0,{"$f":"IF(AND($A4981<'P&L'!$P$8, $X4981='P&L'!$G$6), $AR4981, 0)","v":0},0,{"$f":"IF(AND($A4981<'P&L'!$P$8, $X4981='P&L'!$G$6), $AT4981, 0)","v":0}," "," "," "]
[null,null,null,null,null,null,null,null,null,null,null,null,null,null,null,null,null,null,null,null,null,null,"Jan-00",1900,{"$f":"IF(AND($A4982<'P&L'!$P$8, YEAR($A4982)=Master!$C$6), $K4982, 0)","v":0},0,{"$f":"IF(AND(NOT(ISBLANK($O4982)), $O4982<'P&L'!$P$8), Z4982, 0)","v":0},{"$f":"IF(OR(ISBLANK($O4982), $O4982>'BankRec Main Acct'!$E$8), Z4982, 0)","v":0},0,{"$f":"IF(AND(NOT(ISBLANK($O4982)), $O4982<'P&L'!$P$8), AC4982, 0)","v":0},{"$f":"IF(OR(ISBLANK($O4982), $O4982>'BankRec Main Acct'!$E$8), AC4982, 0)","v":0},0,{"$f":"IF(AND(NOT(ISBLANK($S4982)), $S4982<'P&L'!$P$8), AF4982, 0)","v":0},{"$f":"IF(OR(ISBLANK($S4982), $S4982>'BankRec Main Acct'!$E$8), AF4982, 0)","v":0},0,{"$f":"IF(AND(NOT(ISBLANK($S4982)), $S4982<'P&L'!$P$8), AI4982, 0)","v":0},{"$f":"IF(OR(ISBLANK($S4982), $S4982>'BankRec Main Acct'!$E$8), AI4982, 0)","v":0},0,{"$f":"IF(AND(NOT(ISBLANK($U4982)), $U4982<'P&L'!$P$8), $AL4982, 0)","v":0},{"$f":"IF(OR(ISBLANK($U4982), $U4982>'DebitCard Rec '!$E$8), $AL4982, 0)","v":0},0,{"$f":"IF(AND(NOT(ISBLANK($U4982)), $U4982<'P&L'!$P$8), $AO4982, 0)","v":0},{"$f":"IF(OR(ISBLANK($U4982), $U4982>'DebitCard Rec '!$E$8), $AO4982, 0)","v":0},0,{"$f":"IF(AND($A4982<'P&L'!$P$8, $X4982='P&L'!$G$6), $AR4982, 0)","v":0},0,{"$f":"IF(AND($A4982<'P&L'!$P$8, $X4982='P&L'!$G$6), $AT4982, 0)","v":0}," "," "," "]
[null,null,null,null,null,null,null,null,null,null,null,null,null,null,null,null,null,null,null,null,null,null,"Jan-00",1900,{"$f":"IF(AND($A4983<'P&L'!$P$8, YEAR($A4983)=Master!$C$6), $K4983, 0)","v":0},0,{"$f":"IF(AND(NOT(ISBLANK($O4983)), $O4983<'P&L'!$P$8), Z4983, 0)","v":0},{"$f":"IF(OR(ISBLANK($O4983), $O4983>'BankRec Main Acct'!$E$8), Z4983, 0)","v":0},0,{"$f":"IF(AND(NOT(ISBLANK($O4983)), $O4983<'P&L'!$P$8), AC4983, 0)","v":0},{"$f":"IF(OR(ISBLANK($O4983), $O4983>'BankRec Main Acct'!$E$8), AC4983, 0)","v":0},0,{"$f":"IF(AND(NOT(ISBLANK($S4983)), $S4983<'P&L'!$P$8), AF4983, 0)","v":0},{"$f":"IF(OR(ISBLANK($S4983), $S4983>'BankRec Main Acct'!$E$8), AF4983, 0)","v":0},0,{"$f":"IF(AND(NOT(ISBLANK($S4983)), $S4983<'P&L'!$P$8), AI4983, 0)","v":0},{"$f":"IF(OR(ISBLANK($S4983), $S4983>'BankRec Main Acct'!$E$8), AI4983, 0)","v":0},0,{"$f":"IF(AND(NOT(ISBLANK($U4983)), $U4983<'P&L'!$P$8), $AL4983, 0)","v":0},{"$f":"IF(OR(ISBLANK($U4983), $U4983>'DebitCard Rec '!$E$8), $AL4983, 0)","v":0},0,{"$f":"IF(AND(NOT(ISBLANK($U4983)), $U4983<'P&L'!$P$8), $AO4983, 0)","v":0},{"$f":"IF(OR(ISBLANK($U4983), $U4983>'DebitCard Rec '!$E$8), $AO4983, 0)","v":0},0,{"$f":"IF(AND($A4983<'P&L'!$P$8, $X4983='P&L'!$G$6), $AR4983, 0)","v":0},0,{"$f":"IF(AND($A4983<'P&L'!$P$8, $X4983='P&L'!$G$6), $AT4983, 0)","v":0}," "," "," "]
[null,null,null,null,null,null,null,null,null,null,null,null,null,null,null,null,null,null,null,null,null,null,"Jan-00",1900,{"$f":"IF(AND($A4984<'P&L'!$P$8, YEAR($A4984)=Master!$C$6), $K4984, 0)","v":0},0,{"$f":"IF(AND(NOT(ISBLANK($O4984)), $O4984<'P&L'!$P$8), Z4984, 0)","v":0},{"$f":"IF(OR(ISBLANK($O4984), $O4984>'BankRec Main Acct'!$E$8), Z4984, 0)","v":0},0,{"$f":"IF(AND(NOT(ISBLANK($O4984)), $O4984<'P&L'!$P$8), AC4984, 0)","v":0},{"$f":"IF(OR(ISBLANK($O4984), $O4984>'BankRec Main Acct'!$E$8), AC4984, 0)","v":0},0,{"$f":"IF(AND(NOT(ISBLANK($S4984)), $S4984<'P&L'!$P$8), AF4984, 0)","v":0},{"$f":"IF(OR(ISBLANK($S4984), $S4984>'BankRec Main Acct'!$E$8), AF4984, 0)","v":0},0,{"$f":"IF(AND(NOT(ISBLANK($S4984)), $S4984<'P&L'!$P$8), AI4984, 0)","v":0},{"$f":"IF(OR(ISBLANK($S4984), $S4984>'BankRec Main Acct'!$E$8), AI4984, 0)","v":0},0,{"$f":"IF(AND(NOT(ISBLANK($U4984)), $U4984<'P&L'!$P$8), $AL4984, 0)","v":0},{"$f":"IF(OR(ISBLANK($U4984), $U4984>'DebitCard Rec '!$E$8), $AL4984, 0)","v":0},0,{"$f":"IF(AND(NOT(ISBLANK($U4984)), $U4984<'P&L'!$P$8), $AO4984, 0)","v":0},{"$f":"IF(OR(ISBLANK($U4984), $U4984>'DebitCard Rec '!$E$8), $AO4984, 0)","v":0},0,{"$f":"IF(AND($A4984<'P&L'!$P$8, $X4984='P&L'!$G$6), $AR4984, 0)","v":0},0,{"$f":"IF(AND($A4984<'P&L'!$P$8, $X4984='P&L'!$G$6), $AT4984, 0)","v":0}," "," "," "]
[null,null,null,null,null,null,null,null,null,null,null,null,null,null,null,null,null,null,null,null,null,null,"Jan-00",1900,{"$f":"IF(AND($A4985<'P&L'!$P$8, YEAR($A4985)=Master!$C$6), $K4985, 0)","v":0},0,{"$f":"IF(AND(NOT(ISBLANK($O4985)), $O4985<'P&L'!$P$8), Z4985, 0)","v":0},{"$f":"IF(OR(ISBLANK($O4985), $O4985>'BankRec Main Acct'!$E$8), Z4985, 0)","v":0},0,{"$f":"IF(AND(NOT(ISBLANK($O4985)), $O4985<'P&L'!$P$8), AC4985, 0)","v":0},{"$f":"IF(OR(ISBLANK($O4985), $O4985>'BankRec Main Acct'!$E$8), AC4985, 0)","v":0},0,{"$f":"IF(AND(NOT(ISBLANK($S4985)), $S4985<'P&L'!$P$8), AF4985, 0)","v":0},{"$f":"IF(OR(ISBLANK($S4985), $S4985>'BankRec Main Acct'!$E$8), AF4985, 0)","v":0},0,{"$f":"IF(AND(NOT(ISBLANK($S4985)), $S4985<'P&L'!$P$8), AI4985, 0)","v":0},{"$f":"IF(OR(ISBLANK($S4985), $S4985>'BankRec Main Acct'!$E$8), AI4985, 0)","v":0},0,{"$f":"IF(AND(NOT(ISBLANK($U4985)), $U4985<'P&L'!$P$8), $AL4985, 0)","v":0},{"$f":"IF(OR(ISBLANK($U4985), $U4985>'DebitCard Rec '!$E$8), $AL4985, 0)","v":0},0,{"$f":"IF(AND(NOT(ISBLANK($U4985)), $U4985<'P&L'!$P$8), $AO4985, 0)","v":0},{"$f":"IF(OR(ISBLANK($U4985), $U4985>'DebitCard Rec '!$E$8), $AO4985, 0)","v":0},0,{"$f":"IF(AND($A4985<'P&L'!$P$8, $X4985='P&L'!$G$6), $AR4985, 0)","v":0},0,{"$f":"IF(AND($A4985<'P&L'!$P$8, $X4985='P&L'!$G$6), $AT4985, 0)","v":0}," "," "," "]
[null,null,null,null,null,null,null,null,null,null,null,null,null,null,null,null,null,null,null,null,null,null,"Jan-00",1900,{"$f":"IF(AND($A4986<'P&L'!$P$8, YEAR($A4986)=Master!$C$6), $K4986, 0)","v":0},0,{"$f":"IF(AND(NOT(ISBLANK($O4986)), $O4986<'P&L'!$P$8), Z4986, 0)","v":0},{"$f":"IF(OR(ISBLANK($O4986), $O4986>'BankRec Main Acct'!$E$8), Z4986, 0)","v":0},0,{"$f":"IF(AND(NOT(ISBLANK($O4986)), $O4986<'P&L'!$P$8), AC4986, 0)","v":0},{"$f":"IF(OR(ISBLANK($O4986), $O4986>'BankRec Main Acct'!$E$8), AC4986, 0)","v":0},0,{"$f":"IF(AND(NOT(ISBLANK($S4986)), $S4986<'P&L'!$P$8), AF4986, 0)","v":0},{"$f":"IF(OR(ISBLANK($S4986), $S4986>'BankRec Main Acct'!$E$8), AF4986, 0)","v":0},0,{"$f":"IF(AND(NOT(ISBLANK($S4986)), $S4986<'P&L'!$P$8), AI4986, 0)","v":0},{"$f":"IF(OR(ISBLANK($S4986), $S4986>'BankRec Main Acct'!$E$8), AI4986, 0)","v":0},0,{"$f":"IF(AND(NOT(ISBLANK($U4986)), $U4986<'P&L'!$P$8), $AL4986, 0)","v":0},{"$f":"IF(OR(ISBLANK($U4986), $U4986>'DebitCard Rec '!$E$8), $AL4986, 0)","v":0},0,{"$f":"IF(AND(NOT(ISBLANK($U4986)), $U4986<'P&L'!$P$8), $AO4986, 0)","v":0},{"$f":"IF(OR(ISBLANK($U4986), $U4986>'DebitCard Rec '!$E$8), $AO4986, 0)","v":0},0,{"$f":"IF(AND($A4986<'P&L'!$P$8, $X4986='P&L'!$G$6), $AR4986, 0)","v":0},0,{"$f":"IF(AND($A4986<'P&L'!$P$8, $X4986='P&L'!$G$6), $AT4986, 0)","v":0}," "," "," "]
[null,null,null,null,null,null,null,null,null,null,null,null,null,null,null,null,null,null,null,null,null,null,"Jan-00",1900,{"$f":"IF(AND($A4987<'P&L'!$P$8, YEAR($A4987)=Master!$C$6), $K4987, 0)","v":0},0,{"$f":"IF(AND(NOT(ISBLANK($O4987)), $O4987<'P&L'!$P$8), Z4987, 0)","v":0},{"$f":"IF(OR(ISBLANK($O4987), $O4987>'BankRec Main Acct'!$E$8), Z4987, 0)","v":0},0,{"$f":"IF(AND(NOT(ISBLANK($O4987)), $O4987<'P&L'!$P$8), AC4987, 0)","v":0},{"$f":"IF(OR(ISBLANK($O4987), $O4987>'BankRec Main Acct'!$E$8), AC4987, 0)","v":0},0,{"$f":"IF(AND(NOT(ISBLANK($S4987)), $S4987<'P&L'!$P$8), AF4987, 0)","v":0},{"$f":"IF(OR(ISBLANK($S4987), $S4987>'BankRec Main Acct'!$E$8), AF4987, 0)","v":0},0,{"$f":"IF(AND(NOT(ISBLANK($S4987)), $S4987<'P&L'!$P$8), AI4987, 0)","v":0},{"$f":"IF(OR(ISBLANK($S4987), $S4987>'BankRec Main Acct'!$E$8), AI4987, 0)","v":0},0,{"$f":"IF(AND(NOT(ISBLANK($U4987)), $U4987<'P&L'!$P$8), $AL4987, 0)","v":0},{"$f":"IF(OR(ISBLANK($U4987), $U4987>'DebitCard Rec '!$E$8), $AL4987, 0)","v":0},0,{"$f":"IF(AND(NOT(ISBLANK($U4987)), $U4987<'P&L'!$P$8), $AO4987, 0)","v":0},{"$f":"IF(OR(ISBLANK($U4987), $U4987>'DebitCard Rec '!$E$8), $AO4987, 0)","v":0},0,{"$f":"IF(AND($A4987<'P&L'!$P$8, $X4987='P&L'!$G$6), $AR4987, 0)","v":0},0,{"$f":"IF(AND($A4987<'P&L'!$P$8, $X4987='P&L'!$G$6), $AT4987, 0)","v":0}," "," "," "]
[null,null,null,null,null,null,null,null,null,null,null,null,null,null,null,null,null,null,null,null,null,null,"Jan-00",1900,{"$f":"IF(AND($A4988<'P&L'!$P$8, YEAR($A4988)=Master!$C$6), $K4988, 0)","v":0},0,{"$f":"IF(AND(NOT(ISBLANK($O4988)), $O4988<'P&L'!$P$8), Z4988, 0)","v":0},{"$f":"IF(OR(ISBLANK($O4988), $O4988>'BankRec Main Acct'!$E$8), Z4988, 0)","v":0},0,{"$f":"IF(AND(NOT(ISBLANK($O4988)), $O4988<'P&L'!$P$8), AC4988, 0)","v":0},{"$f":"IF(OR(ISBLANK($O4988), $O4988>'BankRec Main Acct'!$E$8), AC4988, 0)","v":0},0,{"$f":"IF(AND(NOT(ISBLANK($S4988)), $S4988<'P&L'!$P$8), AF4988, 0)","v":0},{"$f":"IF(OR(ISBLANK($S4988), $S4988>'BankRec Main Acct'!$E$8), AF4988, 0)","v":0},0,{"$f":"IF(AND(NOT(ISBLANK($S4988)), $S4988<'P&L'!$P$8), AI4988, 0)","v":0},{"$f":"IF(OR(ISBLANK($S4988), $S4988>'BankRec Main Acct'!$E$8), AI4988, 0)","v":0},0,{"$f":"IF(AND(NOT(ISBLANK($U4988)), $U4988<'P&L'!$P$8), $AL4988, 0)","v":0},{"$f":"IF(OR(ISBLANK($U4988), $U4988>'DebitCard Rec '!$E$8), $AL4988, 0)","v":0},0,{"$f":"IF(AND(NOT(ISBLANK($U4988)), $U4988<'P&L'!$P$8), $AO4988, 0)","v":0},{"$f":"IF(OR(ISBLANK($U4988), $U4988>'DebitCard Rec '!$E$8), $AO4988, 0)","v":0},0,{"$f":"IF(AND($A4988<'P&L'!$P$8, $X4988='P&L'!$G$6), $AR4988, 0)","v":0},0,{"$f":"IF(AND($A4988<'P&L'!$P$8, $X4988='P&L'!$G$6), $AT4988, 0)","v":0}," "," "," "]
[null,null,null,null,null,null,null,null,null,null,null,null,null,null,null,null,null,null,null,null,null,null,"Jan-00",1900,{"$f":"IF(AND($A4989<'P&L'!$P$8, YEAR($A4989)=Master!$C$6), $K4989, 0)","v":0},0,{"$f":"IF(AND(NOT(ISBLANK($O4989)), $O4989<'P&L'!$P$8), Z4989, 0)","v":0},{"$f":"IF(OR(ISBLANK($O4989), $O4989>'BankRec Main Acct'!$E$8), Z4989, 0)","v":0},0,{"$f":"IF(AND(NOT(ISBLANK($O4989)), $O4989<'P&L'!$P$8), AC4989, 0)","v":0},{"$f":"IF(OR(ISBLANK($O4989), $O4989>'BankRec Main Acct'!$E$8), AC4989, 0)","v":0},0,{"$f":"IF(AND(NOT(ISBLANK($S4989)), $S4989<'P&L'!$P$8), AF4989, 0)","v":0},{"$f":"IF(OR(ISBLANK($S4989), $S4989>'BankRec Main Acct'!$E$8), AF4989, 0)","v":0},0,{"$f":"IF(AND(NOT(ISBLANK($S4989)), $S4989<'P&L'!$P$8), AI4989, 0)","v":0},{"$f":"IF(OR(ISBLANK($S4989), $S4989>'BankRec Main Acct'!$E$8), AI4989, 0)","v":0},0,{"$f":"IF(AND(NOT(ISBLANK($U4989)), $U4989<'P&L'!$P$8), $AL4989, 0)","v":0},{"$f":"IF(OR(ISBLANK($U4989), $U4989>'DebitCard Rec '!$E$8), $AL4989, 0)","v":0},0,{"$f":"IF(AND(NOT(ISBLANK($U4989)), $U4989<'P&L'!$P$8), $AO4989, 0)","v":0},{"$f":"IF(OR(ISBLANK($U4989), $U4989>'DebitCard Rec '!$E$8), $AO4989, 0)","v":0},0,{"$f":"IF(AND($A4989<'P&L'!$P$8, $X4989='P&L'!$G$6), $AR4989, 0)","v":0},0,{"$f":"IF(AND($A4989<'P&L'!$P$8, $X4989='P&L'!$G$6), $AT4989, 0)","v":0}," "," "," "]
[null,null,null,null,null,null,null,null,null,null,null,null,null,null,null,null,null,null,null,null,null,null,"Jan-00",1900,{"$f":"IF(AND($A4990<'P&L'!$P$8, YEAR($A4990)=Master!$C$6), $K4990, 0)","v":0},0,{"$f":"IF(AND(NOT(ISBLANK($O4990)), $O4990<'P&L'!$P$8), Z4990, 0)","v":0},{"$f":"IF(OR(ISBLANK($O4990), $O4990>'BankRec Main Acct'!$E$8), Z4990, 0)","v":0},0,{"$f":"IF(AND(NOT(ISBLANK($O4990)), $O4990<'P&L'!$P$8), AC4990, 0)","v":0},{"$f":"IF(OR(ISBLANK($O4990), $O4990>'BankRec Main Acct'!$E$8), AC4990, 0)","v":0},0,{"$f":"IF(AND(NOT(ISBLANK($S4990)), $S4990<'P&L'!$P$8), AF4990, 0)","v":0},{"$f":"IF(OR(ISBLANK($S4990), $S4990>'BankRec Main Acct'!$E$8), AF4990, 0)","v":0},0,{"$f":"IF(AND(NOT(ISBLANK($S4990)), $S4990<'P&L'!$P$8), AI4990, 0)","v":0},{"$f":"IF(OR(ISBLANK($S4990), $S4990>'BankRec Main Acct'!$E$8), AI4990, 0)","v":0},0,{"$f":"IF(AND(NOT(ISBLANK($U4990)), $U4990<'P&L'!$P$8), $AL4990, 0)","v":0},{"$f":"IF(OR(ISBLANK($U4990), $U4990>'DebitCard Rec '!$E$8), $AL4990, 0)","v":0},0,{"$f":"IF(AND(NOT(ISBLANK($U4990)), $U4990<'P&L'!$P$8), $AO4990, 0)","v":0},{"$f":"IF(OR(ISBLANK($U4990), $U4990>'DebitCard Rec '!$E$8), $AO4990, 0)","v":0},0,{"$f":"IF(AND($A4990<'P&L'!$P$8, $X4990='P&L'!$G$6), $AR4990, 0)","v":0},0,{"$f":"IF(AND($A4990<'P&L'!$P$8, $X4990='P&L'!$G$6), $AT4990, 0)","v":0}," "," "," "]
[null,null,null,null,null,null,null,null,null,null,null,null,null,null,null,null,null,null,null,null,null,null,"Jan-00",1900,{"$f":"IF(AND($A4991<'P&L'!$P$8, YEAR($A4991)=Master!$C$6), $K4991, 0)","v":0},0,{"$f":"IF(AND(NOT(ISBLANK($O4991)), $O4991<'P&L'!$P$8), Z4991, 0)","v":0},{"$f":"IF(OR(ISBLANK($O4991), $O4991>'BankRec Main Acct'!$E$8), Z4991, 0)","v":0},0,{"$f":"IF(AND(NOT(ISBLANK($O4991)), $O4991<'P&L'!$P$8), AC4991, 0)","v":0},{"$f":"IF(OR(ISBLANK($O4991), $O4991>'BankRec Main Acct'!$E$8), AC4991, 0)","v":0},0,{"$f":"IF(AND(NOT(ISBLANK($S4991)), $S4991<'P&L'!$P$8), AF4991, 0)","v":0},{"$f":"IF(OR(ISBLANK($S4991), $S4991>'BankRec Main Acct'!$E$8), AF4991, 0)","v":0},0,{"$f":"IF(AND(NOT(ISBLANK($S4991)), $S4991<'P&L'!$P$8), AI4991, 0)","v":0},{"$f":"IF(OR(ISBLANK($S4991), $S4991>'BankRec Main Acct'!$E$8), AI4991, 0)","v":0},0,{"$f":"IF(AND(NOT(ISBLANK($U4991)), $U4991<'P&L'!$P$8), $AL4991, 0)","v":0},{"$f":"IF(OR(ISBLANK($U4991), $U4991>'DebitCard Rec '!$E$8), $AL4991, 0)","v":0},0,{"$f":"IF(AND(NOT(ISBLANK($U4991)), $U4991<'P&L'!$P$8), $AO4991, 0)","v":0},{"$f":"IF(OR(ISBLANK($U4991), $U4991>'DebitCard Rec '!$E$8), $AO4991, 0)","v":0},0,{"$f":"IF(AND($A4991<'P&L'!$P$8, $X4991='P&L'!$G$6), $AR4991, 0)","v":0},0,{"$f":"IF(AND($A4991<'P&L'!$P$8, $X4991='P&L'!$G$6), $AT4991, 0)","v":0}," "," "," "]
[null,null,null,null,null,null,null,null,null,null,null,null,null,null,null,null,null,null,null,null,null,null,"Jan-00",1900,{"$f":"IF(AND($A4992<'P&L'!$P$8, YEAR($A4992)=Master!$C$6), $K4992, 0)","v":0},0,{"$f":"IF(AND(NOT(ISBLANK($O4992)), $O4992<'P&L'!$P$8), Z4992, 0)","v":0},{"$f":"IF(OR(ISBLANK($O4992), $O4992>'BankRec Main Acct'!$E$8), Z4992, 0)","v":0},0,{"$f":"IF(AND(NOT(ISBLANK($O4992)), $O4992<'P&L'!$P$8), AC4992, 0)","v":0},{"$f":"IF(OR(ISBLANK($O4992), $O4992>'BankRec Main Acct'!$E$8), AC4992, 0)","v":0},0,{"$f":"IF(AND(NOT(ISBLANK($S4992)), $S4992<'P&L'!$P$8), AF4992, 0)","v":0},{"$f":"IF(OR(ISBLANK($S4992), $S4992>'BankRec Main Acct'!$E$8), AF4992, 0)","v":0},0,{"$f":"IF(AND(NOT(ISBLANK($S4992)), $S4992<'P&L'!$P$8), AI4992, 0)","v":0},{"$f":"IF(OR(ISBLANK($S4992), $S4992>'BankRec Main Acct'!$E$8), AI4992, 0)","v":0},0,{"$f":"IF(AND(NOT(ISBLANK($U4992)), $U4992<'P&L'!$P$8), $AL4992, 0)","v":0},{"$f":"IF(OR(ISBLANK($U4992), $U4992>'DebitCard Rec '!$E$8), $AL4992, 0)","v":0},0,{"$f":"IF(AND(NOT(ISBLANK($U4992)), $U4992<'P&L'!$P$8), $AO4992, 0)","v":0},{"$f":"IF(OR(ISBLANK($U4992), $U4992>'DebitCard Rec '!$E$8), $AO4992, 0)","v":0},0,{"$f":"IF(AND($A4992<'P&L'!$P$8, $X4992='P&L'!$G$6), $AR4992, 0)","v":0},0,{"$f":"IF(AND($A4992<'P&L'!$P$8, $X4992='P&L'!$G$6), $AT4992, 0)","v":0}," "," "," "]
[null,null,null,null,null,null,null,null,null,null,null,null,null,null,null,null,null,null,null,null,null,null,"Jan-00",1900,{"$f":"IF(AND($A4993<'P&L'!$P$8, YEAR($A4993)=Master!$C$6), $K4993, 0)","v":0},0,{"$f":"IF(AND(NOT(ISBLANK($O4993)), $O4993<'P&L'!$P$8), Z4993, 0)","v":0},{"$f":"IF(OR(ISBLANK($O4993), $O4993>'BankRec Main Acct'!$E$8), Z4993, 0)","v":0},0,{"$f":"IF(AND(NOT(ISBLANK($O4993)), $O4993<'P&L'!$P$8), AC4993, 0)","v":0},{"$f":"IF(OR(ISBLANK($O4993), $O4993>'BankRec Main Acct'!$E$8), AC4993, 0)","v":0},0,{"$f":"IF(AND(NOT(ISBLANK($S4993)), $S4993<'P&L'!$P$8), AF4993, 0)","v":0},{"$f":"IF(OR(ISBLANK($S4993), $S4993>'BankRec Main Acct'!$E$8), AF4993, 0)","v":0},0,{"$f":"IF(AND(NOT(ISBLANK($S4993)), $S4993<'P&L'!$P$8), AI4993, 0)","v":0},{"$f":"IF(OR(ISBLANK($S4993), $S4993>'BankRec Main Acct'!$E$8), AI4993, 0)","v":0},0,{"$f":"IF(AND(NOT(ISBLANK($U4993)), $U4993<'P&L'!$P$8), $AL4993, 0)","v":0},{"$f":"IF(OR(ISBLANK($U4993), $U4993>'DebitCard Rec '!$E$8), $AL4993, 0)","v":0},0,{"$f":"IF(AND(NOT(ISBLANK($U4993)), $U4993<'P&L'!$P$8), $AO4993, 0)","v":0},{"$f":"IF(OR(ISBLANK($U4993), $U4993>'DebitCard Rec '!$E$8), $AO4993, 0)","v":0},0,{"$f":"IF(AND($A4993<'P&L'!$P$8, $X4993='P&L'!$G$6), $AR4993, 0)","v":0},0,{"$f":"IF(AND($A4993<'P&L'!$P$8, $X4993='P&L'!$G$6), $AT4993, 0)","v":0}," "," "," "]
[null,null,null,null,null,null,null,null,null,null,null,null,null,null,null,null,null,null,null,null,null,null,"Jan-00",1900,{"$f":"IF(AND($A4994<'P&L'!$P$8, YEAR($A4994)=Master!$C$6), $K4994, 0)","v":0},0,{"$f":"IF(AND(NOT(ISBLANK($O4994)), $O4994<'P&L'!$P$8), Z4994, 0)","v":0},{"$f":"IF(OR(ISBLANK($O4994), $O4994>'BankRec Main Acct'!$E$8), Z4994, 0)","v":0},0,{"$f":"IF(AND(NOT(ISBLANK($O4994)), $O4994<'P&L'!$P$8), AC4994, 0)","v":0},{"$f":"IF(OR(ISBLANK($O4994), $O4994>'BankRec Main Acct'!$E$8), AC4994, 0)","v":0},0,{"$f":"IF(AND(NOT(ISBLANK($S4994)), $S4994<'P&L'!$P$8), AF4994, 0)","v":0},{"$f":"IF(OR(ISBLANK($S4994), $S4994>'BankRec Main Acct'!$E$8), AF4994, 0)","v":0},0,{"$f":"IF(AND(NOT(ISBLANK($S4994)), $S4994<'P&L'!$P$8), AI4994, 0)","v":0},{"$f":"IF(OR(ISBLANK($S4994), $S4994>'BankRec Main Acct'!$E$8), AI4994, 0)","v":0},0,{"$f":"IF(AND(NOT(ISBLANK($U4994)), $U4994<'P&L'!$P$8), $AL4994, 0)","v":0},{"$f":"IF(OR(ISBLANK($U4994), $U4994>'DebitCard Rec '!$E$8), $AL4994, 0)","v":0},0,{"$f":"IF(AND(NOT(ISBLANK($U4994)), $U4994<'P&L'!$P$8), $AO4994, 0)","v":0},{"$f":"IF(OR(ISBLANK($U4994), $U4994>'DebitCard Rec '!$E$8), $AO4994, 0)","v":0},0,{"$f":"IF(AND($A4994<'P&L'!$P$8, $X4994='P&L'!$G$6), $AR4994, 0)","v":0},0,{"$f":"IF(AND($A4994<'P&L'!$P$8, $X4994='P&L'!$G$6), $AT4994, 0)","v":0}," "," "," "]
[null,null,null,null,null,null,null,null,null,null,null,null,null,null,null,null,null,null,null,null,null,null,"Jan-00",1900,{"$f":"IF(AND($A4995<'P&L'!$P$8, YEAR($A4995)=Master!$C$6), $K4995, 0)","v":0},0,{"$f":"IF(AND(NOT(ISBLANK($O4995)), $O4995<'P&L'!$P$8), Z4995, 0)","v":0},{"$f":"IF(OR(ISBLANK($O4995), $O4995>'BankRec Main Acct'!$E$8), Z4995, 0)","v":0},0,{"$f":"IF(AND(NOT(ISBLANK($O4995)), $O4995<'P&L'!$P$8), AC4995, 0)","v":0},{"$f":"IF(OR(ISBLANK($O4995), $O4995>'BankRec Main Acct'!$E$8), AC4995, 0)","v":0},0,{"$f":"IF(AND(NOT(ISBLANK($S4995)), $S4995<'P&L'!$P$8), AF4995, 0)","v":0},{"$f":"IF(OR(ISBLANK($S4995), $S4995>'BankRec Main Acct'!$E$8), AF4995, 0)","v":0},0,{"$f":"IF(AND(NOT(ISBLANK($S4995)), $S4995<'P&L'!$P$8), AI4995, 0)","v":0},{"$f":"IF(OR(ISBLANK($S4995), $S4995>'BankRec Main Acct'!$E$8), AI4995, 0)","v":0},0,{"$f":"IF(AND(NOT(ISBLANK($U4995)), $U4995<'P&L'!$P$8), $AL4995, 0)","v":0},{"$f":"IF(OR(ISBLANK($U4995), $U4995>'DebitCard Rec '!$E$8), $AL4995, 0)","v":0},0,{"$f":"IF(AND(NOT(ISBLANK($U4995)), $U4995<'P&L'!$P$8), $AO4995, 0)","v":0},{"$f":"IF(OR(ISBLANK($U4995), $U4995>'DebitCard Rec '!$E$8), $AO4995, 0)","v":0},0,{"$f":"IF(AND($A4995<'P&L'!$P$8, $X4995='P&L'!$G$6), $AR4995, 0)","v":0},0,{"$f":"IF(AND($A4995<'P&L'!$P$8, $X4995='P&L'!$G$6), $AT4995, 0)","v":0}," "," "," "]
[null,null,null,null,null,null,null,null,null,null,null,null,null,null,null,null,null,null,null,null,null,null,"Jan-00",1900,{"$f":"IF(AND($A4996<'P&L'!$P$8, YEAR($A4996)=Master!$C$6), $K4996, 0)","v":0},0,{"$f":"IF(AND(NOT(ISBLANK($O4996)), $O4996<'P&L'!$P$8), Z4996, 0)","v":0},{"$f":"IF(OR(ISBLANK($O4996), $O4996>'BankRec Main Acct'!$E$8), Z4996, 0)","v":0},0,{"$f":"IF(AND(NOT(ISBLANK($O4996)), $O4996<'P&L'!$P$8), AC4996, 0)","v":0},{"$f":"IF(OR(ISBLANK($O4996), $O4996>'BankRec Main Acct'!$E$8), AC4996, 0)","v":0},0,{"$f":"IF(AND(NOT(ISBLANK($S4996)), $S4996<'P&L'!$P$8), AF4996, 0)","v":0},{"$f":"IF(OR(ISBLANK($S4996), $S4996>'BankRec Main Acct'!$E$8), AF4996, 0)","v":0},0,{"$f":"IF(AND(NOT(ISBLANK($S4996)), $S4996<'P&L'!$P$8), AI4996, 0)","v":0},{"$f":"IF(OR(ISBLANK($S4996), $S4996>'BankRec Main Acct'!$E$8), AI4996, 0)","v":0},0,{"$f":"IF(AND(NOT(ISBLANK($U4996)), $U4996<'P&L'!$P$8), $AL4996, 0)","v":0},{"$f":"IF(OR(ISBLANK($U4996), $U4996>'DebitCard Rec '!$E$8), $AL4996, 0)","v":0},0,{"$f":"IF(AND(NOT(ISBLANK($U4996)), $U4996<'P&L'!$P$8), $AO4996, 0)","v":0},{"$f":"IF(OR(ISBLANK($U4996), $U4996>'DebitCard Rec '!$E$8), $AO4996, 0)","v":0},{"$f":"IF($AV4996=\"Petty cash Receipt\", $K4996, 0)","v":0},{"$f":"IF(AND($A4996<'P&L'!$P$8, $X4996='P&L'!$G$6), $AR4996, 0)","v":0},{"$f":"IF($AV4996=\"Petty cash Payment\", $K4996, 0)","v":0},{"$f":"IF(AND($A4996<'P&L'!$P$8, $X4996='P&L'!$G$6), $AT4996, 0)","v":0}," ",{"$f":"IF(C4996=\"Receipt\",CONCATENATE(D4996,\" \", F4996), \" \")","v":" "},{"$f":"IF(C4996= \"Payment\", CONCATENATE(F4996,\" \",E4996), \" \")","v":" "}]
[null,null,null,null,null,null,null,null,null,null,null,null,null,null,null,null,null,null,null,null,null,null,"Jan-00",1900,{"$f":"IF(AND($A4997<'P&L'!$P$8, YEAR($A4997)=Master!$C$6), $K4997, 0)","v":0},{"$f":"IF(AND($C4997=\"Receipt\",$B4997<>\"debit card\",$B4997<>\"petty cash\",$B4997<>\"Cash_Sub\",$B4997<>\"Cheque_Sub\", $B4997<>\"EFT_Sub\"),$K4997,0)","v":0},{"$f":"IF(AND(NOT(ISBLANK($O4997)), $O4997<'P&L'!$P$8), Z4997, 0)","v":0},{"$f":"IF(OR(ISBLANK($O4997), $O4997>'BankRec Main Acct'!$E$8), Z4997, 0)","v":0},{"$f":"IF(AND($C4997=\"Payment\", $B4997<>\"debit card\", $B4997<>\"petty cash\", $B4997<>\"Cash_Sub\", $B4997<>\"Cheque_Sub\", $B4997<>\"EFT_Sub\"), $K4997, 0)","v":0},{"$f":"IF(AND(NOT(ISBLANK($O4997)), $O4997<'P&L'!$P$8), AC4997, 0)","v":0},{"$f":"IF(OR(ISBLANK($O4997), $O4997>'BankRec Main Acct'!$E$8), AC4997, 0)","v":0},{"$f":"IF(AND($C4997=\"Receipt\",$B4997<>\"debit card\",$B4997<>\"petty cash\",$B4997<>\"Cash_Main\",$B4997<>\"Cheque_Main\", $B4997<>\"EFT_Main\"),$K4997,0)","v":0},{"$f":"IF(AND(NOT(ISBLANK($S4997)), $S4997<'P&L'!$P$8), AF4997, 0)","v":0},{"$f":"IF(OR(ISBLANK($S4997), $S4997>'BankRec Main Acct'!$E$8), AF4997, 0)","v":0},{"$f":"IF(AND($C4997=\"Payment\", $B4997<>\"debit card\", $B4997<>\"petty cash\", $B4997<>\"Cash_Main\", $B4997<>\"Cheque_Main\", $B4997<>\"EFT_Main\"), $K4997, 0)","v":0},{"$f":"IF(AND(NOT(ISBLANK($S4997)), $S4997<'P&L'!$P$8), AI4997, 0)","v":0},{"$f":"IF(OR(ISBLANK($S4997), $S4997>'BankRec Main Acct'!$E$8), AI4997, 0)","v":0},0,{"$f":"IF(AND(NOT(ISBLANK($U4997)), $U4997<'P&L'!$P$8), $AL4997, 0)","v":0},{"$f":"IF(OR(ISBLANK($U4997), $U4997>'DebitCard Rec '!$E$8), $AL4997, 0)","v":0},0,{"$f":"IF(AND(NOT(ISBLANK($U4997)), $U4997<'P&L'!$P$8), $AO4997, 0)","v":0},{"$f":"IF(OR(ISBLANK($U4997), $U4997>'DebitCard Rec '!$E$8), $AO4997, 0)","v":0},0,{"$f":"IF(AND($A4997<'P&L'!$P$8, $X4997='P&L'!$G$6), $AR4997, 0)","v":0},0,{"$f":"IF(AND($A4997<'P&L'!$P$8, $X4997='P&L'!$G$6), $AT4997, 0)","v":0}," "," "," "]
[null,null,null,null,null,null,null,null,null,null,null,null,null,null,null,null,null,null,null,null,null,null,"Jan-00",1900,{"$f":"IF(AND($A4998<'P&L'!$P$8, YEAR($A4998)=Master!$C$6), $K4998, 0)","v":0},0,{"$f":"IF(AND(NOT(ISBLANK($O4998)), $O4998<'P&L'!$P$8), Z4998, 0)","v":0},{"$f":"IF(OR(ISBLANK($O4998), $O4998>'BankRec Main Acct'!$E$8), Z4998, 0)","v":0},0,{"$f":"IF(AND(NOT(ISBLANK($O4998)), $O4998<'P&L'!$P$8), AC4998, 0)","v":0},{"$f":"IF(OR(ISBLANK($O4998), $O4998>'BankRec Main Acct'!$E$8), AC4998, 0)","v":0},0,{"$f":"IF(AND(NOT(ISBLANK($S4998)), $S4998<'P&L'!$P$8), AF4998, 0)","v":0},{"$f":"IF(OR(ISBLANK($S4998), $S4998>'BankRec Main Acct'!$E$8), AF4998, 0)","v":0},0,{"$f":"IF(AND(NOT(ISBLANK($S4998)), $S4998<'P&L'!$P$8), AI4998, 0)","v":0},{"$f":"IF(OR(ISBLANK($S4998), $S4998>'BankRec Main Acct'!$E$8), AI4998, 0)","v":0},0,{"$f":"IF(AND(NOT(ISBLANK($U4998)), $U4998<'P&L'!$P$8), $AL4998, 0)","v":0},{"$f":"IF(OR(ISBLANK($U4998), $U4998>'DebitCard Rec '!$E$8), $AL4998, 0)","v":0},0,{"$f":"IF(AND(NOT(ISBLANK($U4998)), $U4998<'P&L'!$P$8), $AO4998, 0)","v":0},{"$f":"IF(OR(ISBLANK($U4998), $U4998>'DebitCard Rec '!$E$8), $AO4998, 0)","v":0},0,{"$f":"IF(AND($A4998<'P&L'!$P$8, $X4998='P&L'!$G$6), $AR4998, 0)","v":0},0,{"$f":"IF(AND($A4998<'P&L'!$P$8, $X4998='P&L'!$G$6), $AT4998, 0)","v":0}," "," "," "]
[null,null,null,null,null,null,null,null,null,null,null,null,null,null,null,null,null,null,null,null,null,null,"Jan-00",1900,{"$f":"IF(AND($A4999<'P&L'!$P$8, YEAR($A4999)=Master!$C$6), $K4999, 0)","v":0},0,{"$f":"IF(AND(NOT(ISBLANK($O4999)), $O4999<'P&L'!$P$8), Z4999, 0)","v":0},{"$f":"IF(OR(ISBLANK($O4999), $O4999>'BankRec Main Acct'!$E$8), Z4999, 0)","v":0},0,{"$f":"IF(AND(NOT(ISBLANK($O4999)), $O4999<'P&L'!$P$8), AC4999, 0)","v":0},{"$f":"IF(OR(ISBLANK($O4999), $O4999>'BankRec Main Acct'!$E$8), AC4999, 0)","v":0},0,{"$f":"IF(AND(NOT(ISBLANK($S4999)), $S4999<'P&L'!$P$8), AF4999, 0)","v":0},{"$f":"IF(OR(ISBLANK($S4999), $S4999>'BankRec Main Acct'!$E$8), AF4999, 0)","v":0},0,{"$f":"IF(AND(NOT(ISBLANK($S4999)), $S4999<'P&L'!$P$8), AI4999, 0)","v":0},{"$f":"IF(OR(ISBLANK($S4999), $S4999>'BankRec Main Acct'!$E$8), AI4999, 0)","v":0},0,{"$f":"IF(AND(NOT(ISBLANK($U4999)), $U4999<'P&L'!$P$8), $AL4999, 0)","v":0},{"$f":"IF(OR(ISBLANK($U4999), $U4999>'DebitCard Rec '!$E$8), $AL4999, 0)","v":0},0,{"$f":"IF(AND(NOT(ISBLANK($U4999)), $U4999<'P&L'!$P$8), $AO4999, 0)","v":0},{"$f":"IF(OR(ISBLANK($U4999), $U4999>'DebitCard Rec '!$E$8), $AO4999, 0)","v":0},0,{"$f":"IF(AND($A4999<'P&L'!$P$8, $X4999='P&L'!$G$6), $AR4999, 0)","v":0},0,{"$f":"IF(AND($A4999<'P&L'!$P$8, $X4999='P&L'!$G$6), $AT4999, 0)","v":0}," "," "," "]
[null,null,null,null,null,null,null,null,null,null,null,null,null,null,null,null,null,null,null,null,null,null,"Jan-00",1900,{"$f":"IF(AND($A5000<'P&L'!$P$8, YEAR($A5000)=Master!$C$6), $K5000, 0)","v":0},0,{"$f":"IF(AND(NOT(ISBLANK($O5000)), $O5000<'P&L'!$P$8), Z5000, 0)","v":0},{"$f":"IF(OR(ISBLANK($O5000), $O5000>'BankRec Main Acct'!$E$8), Z5000, 0)","v":0},0,{"$f":"IF(AND(NOT(ISBLANK($O5000)), $O5000<'P&L'!$P$8), AC5000, 0)","v":0},{"$f":"IF(OR(ISBLANK($O5000), $O5000>'BankRec Main Acct'!$E$8), AC5000, 0)","v":0},0,{"$f":"IF(AND(NOT(ISBLANK($S5000)), $S5000<'P&L'!$P$8), AF5000, 0)","v":0},{"$f":"IF(OR(ISBLANK($S5000), $S5000>'BankRec Main Acct'!$E$8), AF5000, 0)","v":0},0,{"$f":"IF(AND(NOT(ISBLANK($S5000)), $S5000<'P&L'!$P$8), AI5000, 0)","v":0},{"$f":"IF(OR(ISBLANK($S5000), $S5000>'BankRec Main Acct'!$E$8), AI5000, 0)","v":0},0,{"$f":"IF(AND(NOT(ISBLANK($U5000)), $U5000<'P&L'!$P$8), $AL5000, 0)","v":0},{"$f":"IF(OR(ISBLANK($U5000), $U5000>'DebitCard Rec '!$E$8), $AL5000, 0)","v":0},0,{"$f":"IF(AND(NOT(ISBLANK($U5000)), $U5000<'P&L'!$P$8), $AO5000, 0)","v":0},{"$f":"IF(OR(ISBLANK($U5000), $U5000>'DebitCard Rec '!$E$8), $AO5000, 0)","v":0},0,{"$f":"IF(AND($A5000<'P&L'!$P$8, $X5000='P&L'!$G$6), $AR5000, 0)","v":0},0,{"$f":"IF(AND($A5000<'P&L'!$P$8, $X5000='P&L'!$G$6), $AT5000, 0)","v":0}," "," "," "]
[null,null,null,null,null,null,null,null,null,null,null,null,null,null,null,null,null,null,null,null,null,null,"Jan-00",1900,{"$f":"IF(AND($A5001<'P&L'!$P$8, YEAR($A5001)=Master!$C$6), $K5001, 0)","v":0},0,{"$f":"IF(AND(NOT(ISBLANK($O5001)), $O5001<'P&L'!$P$8), Z5001, 0)","v":0},{"$f":"IF(OR(ISBLANK($O5001), $O5001>'BankRec Main Acct'!$E$8), Z5001, 0)","v":0},0,{"$f":"IF(AND(NOT(ISBLANK($O5001)), $O5001<'P&L'!$P$8), AC5001, 0)","v":0},{"$f":"IF(OR(ISBLANK($O5001), $O5001>'BankRec Main Acct'!$E$8), AC5001, 0)","v":0},0,{"$f":"IF(AND(NOT(ISBLANK($S5001)), $S5001<'P&L'!$P$8), AF5001, 0)","v":0},{"$f":"IF(OR(ISBLANK($S5001), $S5001>'BankRec Main Acct'!$E$8), AF5001, 0)","v":0},0,{"$f":"IF(AND(NOT(ISBLANK($S5001)), $S5001<'P&L'!$P$8), AI5001, 0)","v":0},{"$f":"IF(OR(ISBLANK($S5001), $S5001>'BankRec Main Acct'!$E$8), AI5001, 0)","v":0},0,{"$f":"IF(AND(NOT(ISBLANK($U5001)), $U5001<'P&L'!$P$8), $AL5001, 0)","v":0},{"$f":"IF(OR(ISBLANK($U5001), $U5001>'DebitCard Rec '!$E$8), $AL5001, 0)","v":0},0,{"$f":"IF(AND(NOT(ISBLANK($U5001)), $U5001<'P&L'!$P$8), $AO5001, 0)","v":0},{"$f":"IF(OR(ISBLANK($U5001), $U5001>'DebitCard Rec '!$E$8), $AO5001, 0)","v":0},0,{"$f":"IF(AND($A5001<'P&L'!$P$8, $X5001='P&L'!$G$6), $AR5001, 0)","v":0},0,{"$f":"IF(AND($A5001<'P&L'!$P$8, $X5001='P&L'!$G$6), $AT5001, 0)","v":0}," "," "," "]
[null,null,null,null,null,null,null,null,null,null,null,null,null,null,null,null,null,null,null,null,null,null,"Jan-00",1900,{"$f":"IF(AND($A5002<'P&L'!$P$8, YEAR($A5002)=Master!$C$6), $K5002, 0)","v":0},0,{"$f":"IF(AND(NOT(ISBLANK($O5002)), $O5002<'P&L'!$P$8), Z5002, 0)","v":0},{"$f":"IF(OR(ISBLANK($O5002), $O5002>'BankRec Main Acct'!$E$8), Z5002, 0)","v":0},0,{"$f":"IF(AND(NOT(ISBLANK($O5002)), $O5002<'P&L'!$P$8), AC5002, 0)","v":0},{"$f":"IF(OR(ISBLANK($O5002), $O5002>'BankRec Main Acct'!$E$8), AC5002, 0)","v":0},0,{"$f":"IF(AND(NOT(ISBLANK($S5002)), $S5002<'P&L'!$P$8), AF5002, 0)","v":0},{"$f":"IF(OR(ISBLANK($S5002), $S5002>'BankRec Main Acct'!$E$8), AF5002, 0)","v":0},0,{"$f":"IF(AND(NOT(ISBLANK($S5002)), $S5002<'P&L'!$P$8), AI5002, 0)","v":0},{"$f":"IF(OR(ISBLANK($S5002), $S5002>'BankRec Main Acct'!$E$8), AI5002, 0)","v":0},0,{"$f":"IF(AND(NOT(ISBLANK($U5002)), $U5002<'P&L'!$P$8), $AL5002, 0)","v":0},{"$f":"IF(OR(ISBLANK($U5002), $U5002>'DebitCard Rec '!$E$8), $AL5002, 0)","v":0},0,{"$f":"IF(AND(NOT(ISBLANK($U5002)), $U5002<'P&L'!$P$8), $AO5002, 0)","v":0},{"$f":"IF(OR(ISBLANK($U5002), $U5002>'DebitCard Rec '!$E$8), $AO5002, 0)","v":0},0,{"$f":"IF(AND($A5002<'P&L'!$P$8, $X5002='P&L'!$G$6), $AR5002, 0)","v":0},0,{"$f":"IF(AND($A5002<'P&L'!$P$8, $X5002='P&L'!$G$6), $AT5002, 0)","v":0}," "," "," "]
[null,null,null,null,null,null,null,null,null,null,null,null,null,null,null,null,null,null,null,null,null,null,"Jan-00",1900,{"$f":"IF(AND($A5003<'P&L'!$P$8, YEAR($A5003)=Master!$C$6), $K5003, 0)","v":0},0,{"$f":"IF(AND(NOT(ISBLANK($O5003)), $O5003<'P&L'!$P$8), Z5003, 0)","v":0},{"$f":"IF(OR(ISBLANK($O5003), $O5003>'BankRec Main Acct'!$E$8), Z5003, 0)","v":0},0,{"$f":"IF(AND(NOT(ISBLANK($O5003)), $O5003<'P&L'!$P$8), AC5003, 0)","v":0},{"$f":"IF(OR(ISBLANK($O5003), $O5003>'BankRec Main Acct'!$E$8), AC5003, 0)","v":0},0,{"$f":"IF(AND(NOT(ISBLANK($S5003)), $S5003<'P&L'!$P$8), AF5003, 0)","v":0},{"$f":"IF(OR(ISBLANK($S5003), $S5003>'BankRec Main Acct'!$E$8), AF5003, 0)","v":0},0,{"$f":"IF(AND(NOT(ISBLANK($S5003)), $S5003<'P&L'!$P$8), AI5003, 0)","v":0},{"$f":"IF(OR(ISBLANK($S5003), $S5003>'BankRec Main Acct'!$E$8), AI5003, 0)","v":0},0,{"$f":"IF(AND(NOT(ISBLANK($U5003)), $U5003<'P&L'!$P$8), $AL5003, 0)","v":0},{"$f":"IF(OR(ISBLANK($U5003), $U5003>'DebitCard Rec '!$E$8), $AL5003, 0)","v":0},0,{"$f":"IF(AND(NOT(ISBLANK($U5003)), $U5003<'P&L'!$P$8), $AO5003, 0)","v":0},{"$f":"IF(OR(ISBLANK($U5003), $U5003>'DebitCard Rec '!$E$8), $AO5003, 0)","v":0},0,{"$f":"IF(AND($A5003<'P&L'!$P$8, $X5003='P&L'!$G$6), $AR5003, 0)","v":0},0,{"$f":"IF(AND($A5003<'P&L'!$P$8, $X5003='P&L'!$G$6), $AT5003, 0)","v":0},{"$f":"CONCATENATE(B5003,\" \",C5003)","v":" "}," "," "]
[null,null,null,null,null,null,null,null,null,null,null,null,null,null,null,null,null,null,null,null,null,null,"Jan-00",1900,{"$f":"IF(AND($A5004<'P&L'!$P$8, YEAR($A5004)=Master!$C$6), $K5004, 0)","v":0},0,{"$f":"IF(AND(NOT(ISBLANK($O5004)), $O5004<'P&L'!$P$8), Z5004, 0)","v":0},{"$f":"IF(OR(ISBLANK($O5004), $O5004>'BankRec Main Acct'!$E$8), Z5004, 0)","v":0},0,{"$f":"IF(AND(NOT(ISBLANK($O5004)), $O5004<'P&L'!$P$8), AC5004, 0)","v":0},{"$f":"IF(OR(ISBLANK($O5004), $O5004>'BankRec Main Acct'!$E$8), AC5004, 0)","v":0},0,{"$f":"IF(AND(NOT(ISBLANK($S5004)), $S5004<'P&L'!$P$8), AF5004, 0)","v":0},{"$f":"IF(OR(ISBLANK($S5004), $S5004>'BankRec Main Acct'!$E$8), AF5004, 0)","v":0},0,{"$f":"IF(AND(NOT(ISBLANK($S5004)), $S5004<'P&L'!$P$8), AI5004, 0)","v":0},{"$f":"IF(OR(ISBLANK($S5004), $S5004>'BankRec Main Acct'!$E$8), AI5004, 0)","v":0},0,{"$f":"IF(AND(NOT(ISBLANK($U5004)), $U5004<'P&L'!$P$8), $AL5004, 0)","v":0},{"$f":"IF(OR(ISBLANK($U5004), $U5004>'DebitCard Rec '!$E$8), $AL5004, 0)","v":0},0,{"$f":"IF(AND(NOT(ISBLANK($U5004)), $U5004<'P&L'!$P$8), $AO5004, 0)","v":0},{"$f":"IF(OR(ISBLANK($U5004), $U5004>'DebitCard Rec '!$E$8), $AO5004, 0)","v":0},0,{"$f":"IF(AND($A5004<'P&L'!$P$8, $X5004='P&L'!$G$6), $AR5004, 0)","v":0},0,{"$f":"IF(AND($A5004<'P&L'!$P$8, $X5004='P&L'!$G$6), $AT5004, 0)","v":0}," "," "," "]
[null,null,null,null,null,null,null,null,null,null,null,null,null,null,null,null,null,null,null,null,null,null,"Jan-00",1900,{"$f":"IF(AND($A5005<'P&L'!$P$8, YEAR($A5005)=Master!$C$6), $K5005, 0)","v":0},0,{"$f":"IF(AND(NOT(ISBLANK($O5005)), $O5005<'P&L'!$P$8), Z5005, 0)","v":0},{"$f":"IF(OR(ISBLANK($O5005), $O5005>'BankRec Main Acct'!$E$8), Z5005, 0)","v":0},0,{"$f":"IF(AND(NOT(ISBLANK($O5005)), $O5005<'P&L'!$P$8), AC5005, 0)","v":0},{"$f":"IF(OR(ISBLANK($O5005), $O5005>'BankRec Main Acct'!$E$8), AC5005, 0)","v":0},0,{"$f":"IF(AND(NOT(ISBLANK($S5005)), $S5005<'P&L'!$P$8), AF5005, 0)","v":0},{"$f":"IF(OR(ISBLANK($S5005), $S5005>'BankRec Main Acct'!$E$8), AF5005, 0)","v":0},0,{"$f":"IF(AND(NOT(ISBLANK($S5005)), $S5005<'P&L'!$P$8), AI5005, 0)","v":0},{"$f":"IF(OR(ISBLANK($S5005), $S5005>'BankRec Main Acct'!$E$8), AI5005, 0)","v":0},0,{"$f":"IF(AND(NOT(ISBLANK($U5005)), $U5005<'P&L'!$P$8), $AL5005, 0)","v":0},{"$f":"IF(OR(ISBLANK($U5005), $U5005>'DebitCard Rec '!$E$8), $AL5005, 0)","v":0},0,{"$f":"IF(AND(NOT(ISBLANK($U5005)), $U5005<'P&L'!$P$8), $AO5005, 0)","v":0},{"$f":"IF(OR(ISBLANK($U5005), $U5005>'DebitCard Rec '!$E$8), $AO5005, 0)","v":0},0,{"$f":"IF(AND($A5005<'P&L'!$P$8, $X5005='P&L'!$G$6), $AR5005, 0)","v":0},0,{"$f":"IF(AND($A5005<'P&L'!$P$8, $X5005='P&L'!$G$6), $AT5005, 0)","v":0}," "," "," "]
[null,null,null,null,null,null,null,null,null,null,null,null,null,null,null,null,null,null,null,null,null,null,"Jan-00",1900,{"$f":"IF(AND($A5006<'P&L'!$P$8, YEAR($A5006)=Master!$C$6), $K5006, 0)","v":0},0,{"$f":"IF(AND(NOT(ISBLANK($O5006)), $O5006<'P&L'!$P$8), Z5006, 0)","v":0},{"$f":"IF(OR(ISBLANK($O5006), $O5006>'BankRec Main Acct'!$E$8), Z5006, 0)","v":0},0,{"$f":"IF(AND(NOT(ISBLANK($O5006)), $O5006<'P&L'!$P$8), AC5006, 0)","v":0},{"$f":"IF(OR(ISBLANK($O5006), $O5006>'BankRec Main Acct'!$E$8), AC5006, 0)","v":0},0,{"$f":"IF(AND(NOT(ISBLANK($S5006)), $S5006<'P&L'!$P$8), AF5006, 0)","v":0},{"$f":"IF(OR(ISBLANK($S5006), $S5006>'BankRec Main Acct'!$E$8), AF5006, 0)","v":0},0,{"$f":"IF(AND(NOT(ISBLANK($S5006)), $S5006<'P&L'!$P$8), AI5006, 0)","v":0},{"$f":"IF(OR(ISBLANK($S5006), $S5006>'BankRec Main Acct'!$E$8), AI5006, 0)","v":0},0,{"$f":"IF(AND(NOT(ISBLANK($U5006)), $U5006<'P&L'!$P$8), $AL5006, 0)","v":0},{"$f":"IF(OR(ISBLANK($U5006), $U5006>'DebitCard Rec '!$E$8), $AL5006, 0)","v":0},0,{"$f":"IF(AND(NOT(ISBLANK($U5006)), $U5006<'P&L'!$P$8), $AO5006, 0)","v":0},{"$f":"IF(OR(ISBLANK($U5006), $U5006>'DebitCard Rec '!$E$8), $AO5006, 0)","v":0},0,{"$f":"IF(AND($A5006<'P&L'!$P$8, $X5006='P&L'!$G$6), $AR5006, 0)","v":0},0,{"$f":"IF(AND($A5006<'P&L'!$P$8, $X5006='P&L'!$G$6), $AT5006, 0)","v":0}," "," "," "]
[null,null,null,null,null,null,null,null,null,null,null,null,null,null,null,null,null,null,null,null,null,null,"Jan-00",1900,{"$f":"IF(AND($A5007<'P&L'!$P$8, YEAR($A5007)=Master!$C$6), $K5007, 0)","v":0},0,{"$f":"IF(AND(NOT(ISBLANK($O5007)), $O5007<'P&L'!$P$8), Z5007, 0)","v":0},{"$f":"IF(OR(ISBLANK($O5007), $O5007>'BankRec Main Acct'!$E$8), Z5007, 0)","v":0},0,{"$f":"IF(AND(NOT(ISBLANK($O5007)), $O5007<'P&L'!$P$8), AC5007, 0)","v":0},{"$f":"IF(OR(ISBLANK($O5007), $O5007>'BankRec Main Acct'!$E$8), AC5007, 0)","v":0},0,{"$f":"IF(AND(NOT(ISBLANK($S5007)), $S5007<'P&L'!$P$8), AF5007, 0)","v":0},{"$f":"IF(OR(ISBLANK($S5007), $S5007>'BankRec Main Acct'!$E$8), AF5007, 0)","v":0},0,{"$f":"IF(AND(NOT(ISBLANK($S5007)), $S5007<'P&L'!$P$8), AI5007, 0)","v":0},{"$f":"IF(OR(ISBLANK($S5007), $S5007>'BankRec Main Acct'!$E$8), AI5007, 0)","v":0},0,{"$f":"IF(AND(NOT(ISBLANK($U5007)), $U5007<'P&L'!$P$8), $AL5007, 0)","v":0},{"$f":"IF(OR(ISBLANK($U5007), $U5007>'DebitCard Rec '!$E$8), $AL5007, 0)","v":0},0,{"$f":"IF(AND(NOT(ISBLANK($U5007)), $U5007<'P&L'!$P$8), $AO5007, 0)","v":0},{"$f":"IF(OR(ISBLANK($U5007), $U5007>'DebitCard Rec '!$E$8), $AO5007, 0)","v":0},0,{"$f":"IF(AND($A5007<'P&L'!$P$8, $X5007='P&L'!$G$6), $AR5007, 0)","v":0},0,{"$f":"IF(AND($A5007<'P&L'!$P$8, $X5007='P&L'!$G$6), $AT5007, 0)","v":0}," "," "," "]
[null,null,null,null,null,null,null,null,null,null,null,null,null,null,null,null,null,null,null,null,null,null,"Jan-00",1900,{"$f":"IF(AND($A5008<'P&L'!$P$8, YEAR($A5008)=Master!$C$6), $K5008, 0)","v":0},0,{"$f":"IF(AND(NOT(ISBLANK($O5008)), $O5008<'P&L'!$P$8), Z5008, 0)","v":0},{"$f":"IF(OR(ISBLANK($O5008), $O5008>'BankRec Main Acct'!$E$8), Z5008, 0)","v":0},0,{"$f":"IF(AND(NOT(ISBLANK($O5008)), $O5008<'P&L'!$P$8), AC5008, 0)","v":0},{"$f":"IF(OR(ISBLANK($O5008), $O5008>'BankRec Main Acct'!$E$8), AC5008, 0)","v":0},0,{"$f":"IF(AND(NOT(ISBLANK($S5008)), $S5008<'P&L'!$P$8), AF5008, 0)","v":0},{"$f":"IF(OR(ISBLANK($S5008), $S5008>'BankRec Main Acct'!$E$8), AF5008, 0)","v":0},0,{"$f":"IF(AND(NOT(ISBLANK($S5008)), $S5008<'P&L'!$P$8), AI5008, 0)","v":0},{"$f":"IF(OR(ISBLANK($S5008), $S5008>'BankRec Main Acct'!$E$8), AI5008, 0)","v":0},0,{"$f":"IF(AND(NOT(ISBLANK($U5008)), $U5008<'P&L'!$P$8), $AL5008, 0)","v":0},{"$f":"IF(OR(ISBLANK($U5008), $U5008>'DebitCard Rec '!$E$8), $AL5008, 0)","v":0},0,{"$f":"IF(AND(NOT(ISBLANK($U5008)), $U5008<'P&L'!$P$8), $AO5008, 0)","v":0},{"$f":"IF(OR(ISBLANK($U5008), $U5008>'DebitCard Rec '!$E$8), $AO5008, 0)","v":0},0,{"$f":"IF(AND($A5008<'P&L'!$P$8, $X5008='P&L'!$G$6), $AR5008, 0)","v":0},0,{"$f":"IF(AND($A5008<'P&L'!$P$8, $X5008='P&L'!$G$6), $AT5008, 0)","v":0}," "," "," "]
[null,null,null,null,null,null,null,null,null,null,null,null,null,null,null,null,null,null,null,null,null,null,"Jan-00",1900,{"$f":"IF(AND($A5009<'P&L'!$P$8, YEAR($A5009)=Master!$C$6), $K5009, 0)","v":0},0,{"$f":"IF(AND(NOT(ISBLANK($O5009)), $O5009<'P&L'!$P$8), Z5009, 0)","v":0},{"$f":"IF(OR(ISBLANK($O5009), $O5009>'BankRec Main Acct'!$E$8), Z5009, 0)","v":0},0,{"$f":"IF(AND(NOT(ISBLANK($O5009)), $O5009<'P&L'!$P$8), AC5009, 0)","v":0},{"$f":"IF(OR(ISBLANK($O5009), $O5009>'BankRec Main Acct'!$E$8), AC5009, 0)","v":0},0,{"$f":"IF(AND(NOT(ISBLANK($S5009)), $S5009<'P&L'!$P$8), AF5009, 0)","v":0},{"$f":"IF(OR(ISBLANK($S5009), $S5009>'BankRec Main Acct'!$E$8), AF5009, 0)","v":0},0,{"$f":"IF(AND(NOT(ISBLANK($S5009)), $S5009<'P&L'!$P$8), AI5009, 0)","v":0},{"$f":"IF(OR(ISBLANK($S5009), $S5009>'BankRec Main Acct'!$E$8), AI5009, 0)","v":0},0,{"$f":"IF(AND(NOT(ISBLANK($U5009)), $U5009<'P&L'!$P$8), $AL5009, 0)","v":0},{"$f":"IF(OR(ISBLANK($U5009), $U5009>'DebitCard Rec '!$E$8), $AL5009, 0)","v":0},0,{"$f":"IF(AND(NOT(ISBLANK($U5009)), $U5009<'P&L'!$P$8), $AO5009, 0)","v":0},{"$f":"IF(OR(ISBLANK($U5009), $U5009>'DebitCard Rec '!$E$8), $AO5009, 0)","v":0},0,{"$f":"IF(AND($A5009<'P&L'!$P$8, $X5009='P&L'!$G$6), $AR5009, 0)","v":0},0,{"$f":"IF(AND($A5009<'P&L'!$P$8, $X5009='P&L'!$G$6), $AT5009, 0)","v":0}," "," "," "]
[null,null,null,null,null,null,null,null,null,null,null,null,null,null,null,null,null,null,null,null,null,null,"Jan-00",1900,{"$f":"IF(AND($A5010<'P&L'!$P$8, YEAR($A5010)=Master!$C$6), $K5010, 0)","v":0},0,{"$f":"IF(AND(NOT(ISBLANK($O5010)), $O5010<'P&L'!$P$8), Z5010, 0)","v":0},{"$f":"IF(OR(ISBLANK($O5010), $O5010>'BankRec Main Acct'!$E$8), Z5010, 0)","v":0},0,{"$f":"IF(AND(NOT(ISBLANK($O5010)), $O5010<'P&L'!$P$8), AC5010, 0)","v":0},{"$f":"IF(OR(ISBLANK($O5010), $O5010>'BankRec Main Acct'!$E$8), AC5010, 0)","v":0},0,{"$f":"IF(AND(NOT(ISBLANK($S5010)), $S5010<'P&L'!$P$8), AF5010, 0)","v":0},{"$f":"IF(OR(ISBLANK($S5010), $S5010>'BankRec Main Acct'!$E$8), AF5010, 0)","v":0},0,{"$f":"IF(AND(NOT(ISBLANK($S5010)), $S5010<'P&L'!$P$8), AI5010, 0)","v":0},{"$f":"IF(OR(ISBLANK($S5010), $S5010>'BankRec Main Acct'!$E$8), AI5010, 0)","v":0},0,{"$f":"IF(AND(NOT(ISBLANK($U5010)), $U5010<'P&L'!$P$8), $AL5010, 0)","v":0},{"$f":"IF(OR(ISBLANK($U5010), $U5010>'DebitCard Rec '!$E$8), $AL5010, 0)","v":0},0,{"$f":"IF(AND(NOT(ISBLANK($U5010)), $U5010<'P&L'!$P$8), $AO5010, 0)","v":0},{"$f":"IF(OR(ISBLANK($U5010), $U5010>'DebitCard Rec '!$E$8), $AO5010, 0)","v":0},0,{"$f":"IF(AND($A5010<'P&L'!$P$8, $X5010='P&L'!$G$6), $AR5010, 0)","v":0},0,{"$f":"IF(AND($A5010<'P&L'!$P$8, $X5010='P&L'!$G$6), $AT5010, 0)","v":0}," "," "," "]
[null,null,null,null,null,null,null,null,null,null,null,null,null,null,null,null,null,null,null,null,null,null,"Jan-00",1900,{"$f":"IF(AND($A5011<'P&L'!$P$8, YEAR($A5011)=Master!$C$6), $K5011, 0)","v":0},0,{"$f":"IF(AND(NOT(ISBLANK($O5011)), $O5011<'P&L'!$P$8), Z5011, 0)","v":0},{"$f":"IF(OR(ISBLANK($O5011), $O5011>'BankRec Main Acct'!$E$8), Z5011, 0)","v":0},0,{"$f":"IF(AND(NOT(ISBLANK($O5011)), $O5011<'P&L'!$P$8), AC5011, 0)","v":0},{"$f":"IF(OR(ISBLANK($O5011), $O5011>'BankRec Main Acct'!$E$8), AC5011, 0)","v":0},0,{"$f":"IF(AND(NOT(ISBLANK($S5011)), $S5011<'P&L'!$P$8), AF5011, 0)","v":0},{"$f":"IF(OR(ISBLANK($S5011), $S5011>'BankRec Main Acct'!$E$8), AF5011, 0)","v":0},0,{"$f":"IF(AND(NOT(ISBLANK($S5011)), $S5011<'P&L'!$P$8), AI5011, 0)","v":0},{"$f":"IF(OR(ISBLANK($S5011), $S5011>'BankRec Main Acct'!$E$8), AI5011, 0)","v":0},0,{"$f":"IF(AND(NOT(ISBLANK($U5011)), $U5011<'P&L'!$P$8), $AL5011, 0)","v":0},{"$f":"IF(OR(ISBLANK($U5011), $U5011>'DebitCard Rec '!$E$8), $AL5011, 0)","v":0},0,{"$f":"IF(AND(NOT(ISBLANK($U5011)), $U5011<'P&L'!$P$8), $AO5011, 0)","v":0},{"$f":"IF(OR(ISBLANK($U5011), $U5011>'DebitCard Rec '!$E$8), $AO5011, 0)","v":0},0,{"$f":"IF(AND($A5011<'P&L'!$P$8, $X5011='P&L'!$G$6), $AR5011, 0)","v":0},0,{"$f":"IF(AND($A5011<'P&L'!$P$8, $X5011='P&L'!$G$6), $AT5011, 0)","v":0}," "," "," "]
[null,null,null,null,null,null,null,null,null,null,null,null,null,null,null,null,null,null,null,null,null,null,{"$f":"TEXT($A5012, \"mmm-yy\")","v":"Jan-00"},{"$f":"YEAR($A5012)","v":1900},{"$f":"IF(AND($A5012<'P&L'!$P$8, YEAR($A5012)=Master!$C$6), $K5012, 0)","v":0},0,{"$f":"IF(AND(NOT(ISBLANK($O5012)), $O5012<'P&L'!$P$8), Z5012, 0)","v":0},{"$f":"IF(OR(ISBLANK($O5012), $O5012>'BankRec Main Acct'!$E$8), Z5012, 0)","v":0},0,{"$f":"IF(AND(NOT(ISBLANK($O5012)), $O5012<'P&L'!$P$8), AC5012, 0)","v":0},{"$f":"IF(OR(ISBLANK($O5012), $O5012>'BankRec Main Acct'!$E$8), AC5012, 0)","v":0},0,{"$f":"IF(AND(NOT(ISBLANK($S5012)), $S5012<'P&L'!$P$8), AF5012, 0)","v":0},{"$f":"IF(OR(ISBLANK($S5012), $S5012>'BankRec Main Acct'!$E$8), AF5012, 0)","v":0},0,{"$f":"IF(AND(NOT(ISBLANK($S5012)), $S5012<'P&L'!$P$8), AI5012, 0)","v":0},{"$f":"IF(OR(ISBLANK($S5012), $S5012>'BankRec Main Acct'!$E$8), AI5012, 0)","v":0},{"$f":"IF(AND($C5012=\"Receipt\",$B5012=\"Debit card\"),$K5012,0)","v":0},{"$f":"IF(AND(NOT(ISBLANK($U5012)), $U5012<'P&L'!$P$8), $AL5012, 0)","v":0},{"$f":"IF(OR(ISBLANK($U5012), $U5012>'DebitCard Rec '!$E$8), $AL5012, 0)","v":0},{"$f":"IF(AND($C5012=\"Payment\",$B5012=\"Debit card\"),$K5012,0)","v":0},{"$f":"IF(AND(NOT(ISBLANK($U5012)), $U5012<'P&L'!$P$8), $AO5012, 0)","v":0},{"$f":"IF(OR(ISBLANK($U5012), $U5012>'DebitCard Rec '!$E$8), $AO5012, 0)","v":0},0,{"$f":"IF(AND($A5012<'P&L'!$P$8, $X5012='P&L'!$G$6), $AR5012, 0)","v":0},0,{"$f":"IF(AND($A5012<'P&L'!$P$8, $X5012='P&L'!$G$6), $AT5012, 0)","v":0},{"$f":"CONCATENATE(B5012,\" \",C5012)","v":" "},{"$f":"IF(C5012=\"Receipt\",CONCATENATE(D5012,\" \", F5012), \" \")","v":" "},{"$f":"IF(C5012= \"Payment\", CONCATENATE(F5012,\" \",E5012), \" \")","v":" "}]
[null,null,null,null,null,null,null,null,null,null,null,null,null,null,null,null,null,null,null,null,null,null,"Jan-00",1900,{"$f":"IF(AND($A5013<'P&L'!$P$8, YEAR($A5013)=Master!$C$6), $K5013, 0)","v":0},0,{"$f":"IF(AND(NOT(ISBLANK($O5013)), $O5013<'P&L'!$P$8), Z5013, 0)","v":0},{"$f":"IF(OR(ISBLANK($O5013), $O5013>'BankRec Main Acct'!$E$8), Z5013, 0)","v":0},0,{"$f":"IF(AND(NOT(ISBLANK($O5013)), $O5013<'P&L'!$P$8), AC5013, 0)","v":0},{"$f":"IF(OR(ISBLANK($O5013), $O5013>'BankRec Main Acct'!$E$8), AC5013, 0)","v":0},0,{"$f":"IF(AND(NOT(ISBLANK($S5013)), $S5013<'P&L'!$P$8), AF5013, 0)","v":0},{"$f":"IF(OR(ISBLANK($S5013), $S5013>'BankRec Main Acct'!$E$8), AF5013, 0)","v":0},0,{"$f":"IF(AND(NOT(ISBLANK($S5013)), $S5013<'P&L'!$P$8), AI5013, 0)","v":0},{"$f":"IF(OR(ISBLANK($S5013), $S5013>'BankRec Main Acct'!$E$8), AI5013, 0)","v":0},0,{"$f":"IF(AND(NOT(ISBLANK($U5013)), $U5013<'P&L'!$P$8), $AL5013, 0)","v":0},{"$f":"IF(OR(ISBLANK($U5013), $U5013>'DebitCard Rec '!$E$8), $AL5013, 0)","v":0},0,{"$f":"IF(AND(NOT(ISBLANK($U5013)), $U5013<'P&L'!$P$8), $AO5013, 0)","v":0},{"$f":"IF(OR(ISBLANK($U5013), $U5013>'DebitCard Rec '!$E$8), $AO5013, 0)","v":0},0,{"$f":"IF(AND($A5013<'P&L'!$P$8, $X5013='P&L'!$G$6), $AR5013, 0)","v":0},0,{"$f":"IF(AND($A5013<'P&L'!$P$8, $X5013='P&L'!$G$6), $AT5013, 0)","v":0}," "," "," "]
[null,null,null,null,null,null,null,null,null,null,null,null,null,null,null,null,null,null,null,null,null,null,"Jan-00",1900,{"$f":"IF(AND($A5014<'P&L'!$P$8, YEAR($A5014)=Master!$C$6), $K5014, 0)","v":0},0,{"$f":"IF(AND(NOT(ISBLANK($O5014)), $O5014<'P&L'!$P$8), Z5014, 0)","v":0},{"$f":"IF(OR(ISBLANK($O5014), $O5014>'BankRec Main Acct'!$E$8), Z5014, 0)","v":0},0,{"$f":"IF(AND(NOT(ISBLANK($O5014)), $O5014<'P&L'!$P$8), AC5014, 0)","v":0},{"$f":"IF(OR(ISBLANK($O5014), $O5014>'BankRec Main Acct'!$E$8), AC5014, 0)","v":0},0,{"$f":"IF(AND(NOT(ISBLANK($S5014)), $S5014<'P&L'!$P$8), AF5014, 0)","v":0},{"$f":"IF(OR(ISBLANK($S5014), $S5014>'BankRec Main Acct'!$E$8), AF5014, 0)","v":0},0,{"$f":"IF(AND(NOT(ISBLANK($S5014)), $S5014<'P&L'!$P$8), AI5014, 0)","v":0},{"$f":"IF(OR(ISBLANK($S5014), $S5014>'BankRec Main Acct'!$E$8), AI5014, 0)","v":0},0,{"$f":"IF(AND(NOT(ISBLANK($U5014)), $U5014<'P&L'!$P$8), $AL5014, 0)","v":0},{"$f":"IF(OR(ISBLANK($U5014), $U5014>'DebitCard Rec '!$E$8), $AL5014, 0)","v":0},0,{"$f":"IF(AND(NOT(ISBLANK($U5014)), $U5014<'P&L'!$P$8), $AO5014, 0)","v":0},{"$f":"IF(OR(ISBLANK($U5014), $U5014>'DebitCard Rec '!$E$8), $AO5014, 0)","v":0},0,{"$f":"IF(AND($A5014<'P&L'!$P$8, $X5014='P&L'!$G$6), $AR5014, 0)","v":0},0,{"$f":"IF(AND($A5014<'P&L'!$P$8, $X5014='P&L'!$G$6), $AT5014, 0)","v":0}," "," "," "]
[null,null,null,null,null,null,null,null,null,null,null,null,null,null,null,null,null,null,null,null,null,null,"Jan-00",1900,{"$f":"IF(AND($A5015<'P&L'!$P$8, YEAR($A5015)=Master!$C$6), $K5015, 0)","v":0},0,{"$f":"IF(AND(NOT(ISBLANK($O5015)), $O5015<'P&L'!$P$8), Z5015, 0)","v":0},{"$f":"IF(OR(ISBLANK($O5015), $O5015>'BankRec Main Acct'!$E$8), Z5015, 0)","v":0},0,{"$f":"IF(AND(NOT(ISBLANK($O5015)), $O5015<'P&L'!$P$8), AC5015, 0)","v":0},{"$f":"IF(OR(ISBLANK($O5015), $O5015>'BankRec Main Acct'!$E$8), AC5015, 0)","v":0},0,{"$f":"IF(AND(NOT(ISBLANK($S5015)), $S5015<'P&L'!$P$8), AF5015, 0)","v":0},{"$f":"IF(OR(ISBLANK($S5015), $S5015>'BankRec Main Acct'!$E$8), AF5015, 0)","v":0},0,{"$f":"IF(AND(NOT(ISBLANK($S5015)), $S5015<'P&L'!$P$8), AI5015, 0)","v":0},{"$f":"IF(OR(ISBLANK($S5015), $S5015>'BankRec Main Acct'!$E$8), AI5015, 0)","v":0},0,{"$f":"IF(AND(NOT(ISBLANK($U5015)), $U5015<'P&L'!$P$8), $AL5015, 0)","v":0},{"$f":"IF(OR(ISBLANK($U5015), $U5015>'DebitCard Rec '!$E$8), $AL5015, 0)","v":0},0,{"$f":"IF(AND(NOT(ISBLANK($U5015)), $U5015<'P&L'!$P$8), $AO5015, 0)","v":0},{"$f":"IF(OR(ISBLANK($U5015), $U5015>'DebitCard Rec '!$E$8), $AO5015, 0)","v":0},0,{"$f":"IF(AND($A5015<'P&L'!$P$8, $X5015='P&L'!$G$6), $AR5015, 0)","v":0},0,{"$f":"IF(AND($A5015<'P&L'!$P$8, $X5015='P&L'!$G$6), $AT5015, 0)","v":0}," "," "," "]
[null,null,null,null,null,null,null,null,null,null,null,1,null,null,null,1,null,null,null,1,null,null,"Jan-00",1900,{"$f":"IF(AND($A5016<'P&L'!$P$8, YEAR($A5016)=Master!$C$6), $K5016, 0)","v":0},0,{"$f":"IF(AND(NOT(ISBLANK($O5016)), $O5016<'P&L'!$P$8), Z5016, 0)","v":0},{"$f":"IF(OR(ISBLANK($O5016), $O5016>'BankRec Main Acct'!$E$8), Z5016, 0)","v":0},0,{"$f":"IF(AND(NOT(ISBLANK($O5016)), $O5016<'P&L'!$P$8), AC5016, 0)","v":0},{"$f":"IF(OR(ISBLANK($O5016), $O5016>'BankRec Main Acct'!$E$8), AC5016, 0)","v":0},0,{"$f":"IF(AND(NOT(ISBLANK($S5016)), $S5016<'P&L'!$P$8), AF5016, 0)","v":0},{"$f":"IF(OR(ISBLANK($S5016), $S5016>'BankRec Main Acct'!$E$8), AF5016, 0)","v":0},0,{"$f":"IF(AND(NOT(ISBLANK($S5016)), $S5016<'P&L'!$P$8), AI5016, 0)","v":0},{"$f":"IF(OR(ISBLANK($S5016), $S5016>'BankRec Main Acct'!$E$8), AI5016, 0)","v":0},0,{"$f":"IF(AND(NOT(ISBLANK($U5016)), $U5016<'P&L'!$P$8), $AL5016, 0)","v":0},{"$f":"IF(OR(ISBLANK($U5016), $U5016>'DebitCard Rec '!$E$8), $AL5016, 0)","v":0},0,{"$f":"IF(AND(NOT(ISBLANK($U5016)), $U5016<'P&L'!$P$8), $AO5016, 0)","v":0},{"$f":"IF(OR(ISBLANK($U5016), $U5016>'DebitCard Rec '!$E$8), $AO5016, 0)","v":0},0,{"$f":"IF(AND($A5016<'P&L'!$P$8, $X5016='P&L'!$G$6), $AR5016, 0)","v":0},0,{"$f":"IF(AND($A5016<'P&L'!$P$8, $X5016='P&L'!$G$6), $AT5016, 0)","v":0}," "," "," "]

{"sheet":"P&L","index":5,"n_rows":57,"n_cols":16,"rows_kept":57,"cut":false,"hidden":false,"merged":[[1,1,1,8],[2,1,2,8],[3,1,3,8],[5,14,5,15],[6,12,8,12]]}
[]
[null,{"$f":"Master!C4","v":"The Sesame St State School \nP&C Association"}]
[null,"Statement of Comprehensive Income "]
[null,{"$f":"CONCATENATE(\"For Period Ending\", \" \", DAY(EOMONTH($E$8, 0)),\" \", TEXT($E$8,\"mmmm, yyyy\"))","v":"For Period Ending 31 March, 2019"}]
[]
[null,null,null,null,"Month",null,{"$f":"Master!$C$6","v":2019},null,{"$f":"Master!$C$6-1","v":2018},null,null,null,null,null,"Calculation"]
[null,null,null,null,"$",null,"$",null,"$",null,null,null,"Formula Type",null,"After","1900-01-01"]
[null,null,null,null,"2019-03-01",null,{"$f":"CONCATENATE(\"YTD ending\",  \" \",  TEXT('P&L'!$E$8, \"MMM-YY\"))","v":"YTD ending Mar-19"},null,"Previous year total",null,null,null,null,null,"Before",{"$f":"E8+DAY(EOMONTH($E$8,0))","v":"2019-04-01"}]
[]
[null,"Income"]
[null,"Sales Tuckshop",null,null,{"$f":"SUMIFS('Transaction Details'!$K$4:$K$10016,'Transaction Details'!$AW$4:$AW$10016,$B11,'Transaction Details'!$W$4:$W$10016,$E$8)","v":530},null,{"$f":"SUMIF('Transaction Details'!$AW$4:$AW$10015, B11, 'Transaction Details'!$Y$4:$Y$10015)","v":9660.2000000000007},null,0,null,null,null,1]
[null,"Sales Uniform Shop",null,null,{"$f":"SUMIFS('Transaction Details'!$K$4:$K$10016,'Transaction Details'!$AW$4:$AW$10016,$B12,'Transaction Details'!$W$4:$W$10016,$E$8)","v":0},null,{"$f":"SUMIF('Transaction Details'!$AW$4:$AW$10015, B12, 'Transaction Details'!$Y$4:$Y$10015)","v":9580},null,0,null,null,null,1]
[null,"Sales Bookshop",null,null,{"$f":"SUMIFS('Transaction Details'!$K$4:$K$10016,'Transaction Details'!$AW$4:$AW$10016,$B13,'Transaction Details'!$W$4:$W$10016,$E$8)","v":0},null,{"$f":"SUMIF('Transaction Details'!$AW$4:$AW$10015, B13, 'Transaction Details'!$Y$4:$Y$10015)","v":0},null,0,null,null,null,1]
[null,"Sales Swim Club",null,null,{"$f":"SUMIFS('Transaction Details'!$K$4:$K$10016,'Transaction Details'!$AW$4:$AW$10016,$B14,'Transaction Details'!$W$4:$W$10016,$E$8)","v":0},null,{"$f":"SUMIF('Transaction Details'!$AW$4:$AW$10015, B14, 'Transaction Details'!$Y$4:$Y$10015)","v":0},null,0,null,null,null,1]
[null,"Fundraising ",null,null,{"$f":"SUMIFS('Transaction Details'!$K$4:$K$10016,'Transaction Details'!$D$4:$D$10016,$B15,'Transaction Details'!$W$4:$W$10016,$E$8)","v":9200},null,{"$f":"SUMIF('Transaction Details'!$D$4:$D$10015, B15, 'Transaction Details'!$Y$4:$Y$10015)","v":19000},null,0,null,null,null,2]
[null,"Donations",null,null,{"$f":"SUMIFS('Transaction Details'!$K$4:$K$10016,'Transaction Details'!$D$4:$D$10016,$B16,'Transaction Details'!$W$4:$W$10016,$E$8)","v":0},null,{"$f":"SUMIF('Transaction Details'!$D$4:$D$10015, B16, 'Transaction Details'!$Y$4:$Y$10015)","v":0},null,0,null,null,null,2]
[null,"Grant ",null,null,{"$f":"SUMIFS('Transaction Details'!$K$4:$K$10016,'Transaction Details'!$D$4:$D$10016,$B17,'Transaction Details'!$W$4:$W$10016,$E$8)","v":0},null,{"$f":"SUMIF('Transaction Details'!$D$4:$D$10015, B17, 'Transaction Details'!$Y$4:$Y$10015)","v":0},null,0,null,null,null,2]
[null,"Interest earned",null,null,{"$f":"SUMIFS('Transaction Details'!$K$4:$K$10016,'Transaction Details'!$D$4:$D$10016,$B18,'Transaction Details'!$W$4:$W$10016,$E$8)","v":0},null,{"$f":"SUMIF('Transaction Details'!$D$4:$D$10015, B18, 'Transaction Details'!$Y$4:$Y$10015)","v":0},null,0,null,null,null,2]
[null,"Other Income",null,null,{"$f":"SUMIFS('Transaction Details'!$K$4:$K$10016,'Transaction Details'!$D$4:$D$10016,$B19,'Transaction Details'!$W$4:$W$10016,$E$8)","v":0},null,{"$f":"SUMIF('Transaction Details'!$D$4:$D$10015, B19, 'Transaction Details'!$Y$4:$Y$10015)","v":0},null,0,null,null,null,2]
[]
[null,"Total Income",null,null,{"$f":"SUM(E11:E20)","v":9730},null,{"$f":"SUM(G11:G20)","v":38240.199999999997},null,{"$f":"SUM(I11:I20)","v":0}]
[]
[null,"Cost of Goods Sold"]
[43497,"Cost of Goods Sold - Tuckshop",null,null,{"$f":"'Tuckshop Stmnt'!$E$16","v":371.00000000000023},null,{"$f":"'Tuckshop Stmnt'!$G$16","v":6762.14},null,0,null,null,null,"3a"]
[null,"Cost of Goods Sold - Uniform shop",null,null,{"$f":"'Uniformshop Stmnt'!$E$16","v":0},null,{"$f":"'Uniformshop Stmnt'!$G$16","v":6706},null,0,null,null,null,"3b"]
[null,"Cost of Goods Sold - Bookshop",null,null,{"$f":"'Bookshop Stmnt'!$E$16","v":0},null,{"$f":"'Bookshop Stmnt'!$G$16","v":0},null,0,null,null,null,"3c"]
[]
[null,"Total Cost of Sales",null,null,{"$f":"SUM(E24:E27)","v":371.00000000000023},null,{"$f":"SUM(G24:G27)","v":13468.14},null,{"$f":"SUM(I24:I27)","v":0}]
[]
[null,"Gross Profit",null,null,{"$f":"E21-E28","v":9359},null,{"$f":"G21-G28","v":24772.059999999998},null,{"$f":"I21-I28","v":0}]
[]
[null,"Expenses"]
[null,"Accountant fees",null,null,{"$f":"SUMIFS('Transaction Details'!$K$4:$K$10109,'Transaction Details'!$E$4:$E$10109,$B33,'Transaction Details'!$W$4:$W$10109,$E$8)","v":0},null,{"$f":"SUMIF('Transaction Details'!$E$4:$E$10015, B33, 'Transaction Details'!$Y$4:$Y$10015)","v":0},null,0,null,null,null,4]
[null,"Advertising and marketing",null,null,{"$f":"SUMIFS('Transaction Details'!$K$4:$K$10109,'Transaction Details'!$E$4:$E$10109,$B34,'Transaction Details'!$W$4:$W$10109,$E$8)","v":0},null,{"$f":"SUMIF('Transaction Details'!$E$4:$E$10015, B34, 'Transaction Details'!$Y$4:$Y$10015)","v":0},null,0,null,null,null,4]
[null,"Audit fees",null,null,{"$f":"SUMIFS('Transaction Details'!$K$4:$K$10109,'Transaction Details'!$E$4:$E$10109,$B35,'Transaction Details'!$W$4:$W$10109,$E$8)","v":0},null,{"$f":"SUMIF('Transaction Details'!$E$4:$E$10015, B35, 'Transaction Details'!$Y$4:$Y$10015)","v":0},null,0,null,null,null,4]
[null,"Bank charges",null,null,{"$f":"SUMIFS('Transaction Details'!$K$4:$K$10109,'Transaction Details'!$E$4:$E$10109,$B36,'Transaction Details'!$W$4:$W$10109,$E$8)","v":10},null,{"$f":"SUMIF('Transaction Details'!$E$4:$E$10015, B36, 'Transaction Details'!$Y$4:$Y$10015)","v":30},null,0,null,null,null,4]
[null,"Donations",null,null,{"$f":"SUMIFS('Transaction Details'!$K$4:$K$10109,'Transaction Details'!$E$4:$E$10109,$B37,'Transaction Details'!$W$4:$W$10109,$E$8)","v":0},null,{"$f":"SUMIF('Transaction Details'!$E$4:$E$10015, B37, 'Transaction Details'!$Y$4:$Y$10015)","v":0},null,0,null,null,null,4]
[null,"Depreciation",null,null,{"$f":"IF(ISERROR(VLOOKUP($E$8, 'Asset Reg'!$B$9:$G$1013, 4, FALSE)), 0, VLOOKUP($E$8, 'Asset Reg'!$B$9:$G$1013, 4, FALSE))","v":250},null,{"$f":"IF(ISERROR(VLOOKUP($E$8, 'Asset Reg'!$B$9:$G$1013, 5, FALSE)), 0, VLOOKUP($E$8, 'Asset Reg'!$B$9:$G$1013, 5, FALSE))","v":750},null,0,null,null,null,5]
[null,"Equipment/tools",null,null,{"$f":"SUMIFS('Transaction Details'!$K$4:$K$10109,'Transaction Details'!$E$4:$E$10109,$B39,'Transaction Details'!$W$4:$W$10109,$E$8)","v":0},null,{"$f":"SUMIF('Transaction Details'!$E$4:$E$10015, B39, 'Transaction Details'!$Y$4:$Y$10015)","v":0},null,0,null,null,null,4]
[null,"Fundraising Expenses",null,null,{"$f":"SUMIFS('Transaction Details'!$K$4:$K$10109,'Transaction Details'!$E$4:$E$10109,$B40,'Transaction Details'!$W$4:$W$10109,$E$8)","v":234.5},null,{"$f":"SUMIF('Transaction Details'!$E$4:$E$10015, B40, 'Transaction Details'!$Y$4:$Y$10015)","v":732.5},null,0,null,null,null,4]
[null,"Insurance",null,null,{"$f":"SUMIFS('Transaction Details'!$K$4:$K$10109,'Transaction Details'!$E$4:$E$10109,$B41,'Transaction Details'!$W$4:$W$10109,$E$8)","v":0},null,{"$f":"SUMIF('Transaction Details'!$E$4:$E$10015, B41, 'Transaction Details'!$Y$4:$Y$10015)","v":0},null,0,null,null,null,4]
[null,"Loan repayment - interest expenses",null,null,{"$f":"SUMIFS('Transaction Details'!$K$4:$K$10109,'Transaction Details'!$E$4:$E$10109,$B42,'Transaction Details'!$W$4:$W$10109,$E$8)","v":100},null,{"$f":"SUMIF('Transaction Details'!$E$4:$E$10015, B42, 'Transaction Details'!$Y$4:$Y$10015)","v":300},null,0,null,null,null,4]
[null,"Membership and subscriptions",null,null,{"$f":"SUMIFS('Transaction Details'!$K$4:$K$10109,'Transaction Details'!$E$4:$E$10109,$B43,'Transaction Details'!$W$4:$W$10109,$E$8)","v":0},null,{"$f":"SUMIF('Transaction Details'!$E$4:$E$10015, B43, 'Transaction Details'!$Y$4:$Y$10015)","v":0},null,0,null,null,null,4]
[null,"Printing",null,null,{"$f":"SUMIFS('Transaction Details'!$K$4:$K$10109,'Transaction Details'!$E$4:$E$10109,$B44,'Transaction Details'!$W$4:$W$10109,$E$8)","v":0},null,{"$f":"SUMIF('Transaction Details'!$E$4:$E$10015, B44, 'Transaction Details'!$Y$4:$Y$10015)","v":0},null,0,null,null,null,4]
[null,"Amortisation of Pre-paid expense ",null,null,{"$f":"IF(ISERROR(VLOOKUP($E$8, 'Prepaid Reg'!$B$10:$G$21, 4, FALSE)), 0, VLOOKUP($E$8, 'Prepaid Reg'!$B$10:$G$21, 4, FALSE))","v":300},null,{"$f":"IF(ISERROR(VLOOKUP($E$8, 'Prepaid Reg'!$B$10:$G$21, 5, FALSE)), 0, VLOOKUP($E$8, 'Prepaid Reg'!$B$10:$G$21, 5, FALSE))","v":900},null,0,null,null,null,6]
[null,"Annual Leave",null,null,{"$f":"IF(ISERROR(VLOOKUP($E$8, 'Provision Reg'!$B$6:$AN$17, 3, FALSE)), 0, VLOOKUP($E$8, 'Provision Reg'!$B$6:$AN$17, 3, FALSE))","v":800},null,{"$f":"IF(ISERROR(VLOOKUP($E$8, 'Provision Reg'!$B$6:$AN$17, 4, FALSE)), 0, VLOOKUP($E$8, 'Provision Reg'!$B$6:$AN$17, 4, FALSE))","v":800},null,0,null,null,null,"7a"]
[null,"Long Service Leave",null,null,{"$f":"IF(ISERROR(VLOOKUP($E$8, 'Provision Reg'!$B$23:$AN$34, 3, FALSE)), 0, VLOOKUP($E$8, 'Provision Reg'!$B$23:$AN$34, 3, FALSE))","v":100},null,{"$f":"IF(ISERROR(VLOOKUP($E$8, 'Provision Reg'!$B$23:$AN$34, 4, FALSE)), 0, VLOOKUP($E$8, 'Provision Reg'!$B$23:$AN$34, 4, FALSE))","v":100},null,0,null,null,null,"7b"]
[null,"Repairs and maintenance",null,null,{"$f":"SUMIFS('Transaction Details'!$K$4:$K$10109,'Transaction Details'!$E$4:$E$10109,$B48,'Transaction Details'!$W$4:$W$10109,$E$8)","v":0},null,{"$f":"SUMIF('Transaction Details'!$E$4:$E$10015, B48, 'Transaction Details'!$Y$4:$Y$10015)","v":0},null,0,null,null,null,4]
[null,"School premise/facility hire",null,null,{"$f":"SUMIFS('Transaction Details'!$K$4:$K$10109,'Transaction Details'!$E$4:$E$10109,$B49,'Transaction Details'!$W$4:$W$10109,$E$8)","v":0},null,{"$f":"SUMIF('Transaction Details'!$E$4:$E$10015, B49, 'Transaction Details'!$Y$4:$Y$10015)","v":0},null,0,null,null,null,4]
[null,"Stationery and postage",null,null,{"$f":"SUMIFS('Transaction Details'!$K$4:$K$10109,'Transaction Details'!$E$4:$E$10109,$B50,'Transaction Details'!$W$4:$W$10109,$E$8)","v":0},null,{"$f":"SUMIF('Transaction Details'!$E$4:$E$10015, B50, 'Transaction Details'!$Y$4:$Y$10015)","v":0},null,0,null,null,null,4]
[null,"Superannuation",null,null,{"$f":"SUMIFS('Transaction Details'!$K$4:$K$10109,'Transaction Details'!$E$4:$E$10109,$B51,'Transaction Details'!$W$4:$W$10109,$E$8)","v":330},null,{"$f":"SUMIF('Transaction Details'!$E$4:$E$10015, B51, 'Transaction Details'!$Y$4:$Y$10015)","v":330},null,0,null,null,null,4]
[null,"Wages",null,null,{"$f":"SUMIFS('Transaction Details'!$K$4:$K$10109,'Transaction Details'!$E$4:$E$10109,$B52,'Transaction Details'!$W$4:$W$10109,$E$8)","v":0},null,{"$f":"SUMIF('Transaction Details'!$E$4:$E$10015, B52, 'Transaction Details'!$Y$4:$Y$10015)","v":1900},null,0,null,null,null,4]
[null,"Other Expenses",null,null,{"$f":"SUMIFS('Transaction Details'!$K$4:$K$10109,'Transaction Details'!$E$4:$E$10109,$B53,'Transaction Details'!$W$4:$W$10109,$E$8)","v":0},null,{"$f":"SUMIF('Transaction Details'!$E$4:$E$10015, B53, 'Transaction Details'!$Y$4:$Y$10015)","v":0},null,0,null,null,null,4]
[]
[null,"Total Expense",null,null,{"$f":"SUM(E33:E54)","v":2124.5},null,{"$f":"SUM(G33:G54)","v":5842.5},null,{"$f":"SUM(I33:I54)","v":0}]
[]
[null,"Net Profit / (Loss)",null,null,{"$f":"E30-E55","v":7234.5},null,{"$f":"G30-G55","v":18929.559999999998},null,{"$f":"I30-I55","v":0}]

{"sheet":"BalSheet","index":6,"n_rows":48,"n_cols":13,"rows_kept":48,"cut":false,"hidden":false,"merged":[[1,1,1,8],[2,1,2,8],[3,1,3,8],[6,12,8,12]]}
[]
[null,{"$f":"Master!C4","v":"The Sesame St State School \nP&C Association"}]
[null,"Statement of Financial Position "]
[null,{"$f":"CONCATENATE(\"As at\", \" \", DAY(EOMONTH(G8, 0)),\" \", TEXT(G8,\"mmmm, yyyy\"))","v":"As at 31 March, 2019"}]
[]
[null,null,null,null,{"$f":"Master!C6-1","v":2018},null,"Opening Balance",null,"Ending Balance"]
[null,null,null,null,"$",null,"$",null,"$",null,null,null,"Formula Type"]
[null,null,null,null,"Ending Balance",null,{"$f":"'P&L'!E8-DAY('P&L'!E8)+1","v":"2019-03-01"},null,{"$f":"EOMONTH('P&L'!E8, 0)","v":"2019-03-31"}]
[]
[null,"Current Assets"]
[]
[null,"Cash in bank - Main Account",null,null,{"$f":"Master!$C$14","v":900},null,{"$f":"'BankRec Main Acct'!$K$20","v":9020.2000000000007},null,{"$f":"'BankRec Main Acct'!$E$26","v":11343},null,null,null,"1a"]
[null,"Cash in bank - Sub Bank Account",null,null,{"$f":"Master!$C$15","v":0},null,{"$f":"'BankRec Sub Bank Acct'!K20","v":0},null,{"$f":"'BankRec Sub Bank Acct'!E26","v":0},null,null,null,"1b"]
[null,"Cash in hand - Petty Cash",null,null,{"$f":"Master!C16","v":100},null,{"$f":"'PettyCash Rec'!$K$15","v":53},null,{"$f":"'PettyCash Rec'!$E$15","v":82.7},null,null,null,"1c"]
[null,"Debit Card Account",null,null,{"$f":"Master!$C$17","v":500},null,{"$f":"'DebitCard Rec '!$K$20","v":27},null,{"$f":"'DebitCard Rec '!$E$26","v":305},null,null,null,"1d"]
[null,"Pre-paid expense",null,null,{"$f":"Master!C18","v":600},null,{"$f":"IF(ISERROR(VLOOKUP('P&L'!$E$8, 'Prepaid Reg'!$B$10:$M$21, 3, FALSE)), 0, VLOOKUP('P&L'!$E$8, 'Prepaid Reg'!$B$10:$M$21, 3, FALSE))","v":0},null,{"$f":"IF(ISERROR(VLOOKUP('P&L'!$E$8, 'Prepaid Reg'!$B$10:$M$21, 6, FALSE)), 0, VLOOKUP('P&L'!$E$8, 'Prepaid Reg'!$B$10:$M$21, 6, FALSE))","v":3300},null,null,null,2]
[null,"Stock on hand - Book Shop",null,null,{"$f":"Master!$C$19","v":0},null,{"$f":"IF(ISERROR(VLOOKUP('P&L'!$E$8, 'Stock Reg'!$B$6:$H$17, 2, FALSE)), 0, VLOOKUP('P&L'!$E$8, 'Stock Reg'!$B$6:$H$17, 2, FALSE))","v":0},null,{"$f":"IF(ISERROR(VLOOKUP('P&L'!$E$8, 'Stock Reg'!$B$6:$H$17, 3, FALSE)), 0, VLOOKUP('P&L'!$E$8, 'Stock Reg'!$B$6:$H$17, 3, FALSE))","v":0},null,null,null,"3a"]
[null,"Stock on hand - Tuckshop",null,null,{"$f":"Master!$C$20","v":120},null,{"$f":"IF(ISERROR(VLOOKUP('P&L'!$E$8, 'Stock Reg'!$B$6:$H$17, 4, FALSE)), 0, VLOOKUP('P&L'!$E$8, 'Stock Reg'!$B$6:$H$17, 4, FALSE))","v":750.86},null,{"$f":"IF(ISERROR(VLOOKUP('P&L'!$E$8, 'Stock Reg'!$B$6:$H$17, 5, FALSE)), 0, VLOOKUP('P&L'!$E$8, 'Stock Reg'!$B$6:$H$17, 5, FALSE))","v":1484.86},null,null,null,"3b"]
[null,"Stock on hand - Uniform Shop",null,null,{"$f":"Master!$C$21","v":1250},null,{"$f":"IF(ISERROR(VLOOKUP('P&L'!$E$8, 'Stock Reg'!$B$6:$H$17, 6, FALSE)), 0, VLOOKUP('P&L'!$E$8, 'Stock Reg'!$B$6:$H$17, 6, FALSE))","v":3314},null,{"$f":"IF(ISERROR(VLOOKUP('P&L'!$E$8, 'Stock Reg'!$B$6:$H$17, 7, FALSE)), 0, VLOOKUP('P&L'!$E$8, 'Stock Reg'!$B$6:$H$17, 7, FALSE))","v":3464},null,null,null,"3c"]
[]
[null,"Total Current Assets",null,null,{"$f":"SUM(E11:E20)","v":3470},null,{"$f":"SUM(G11:G20)","v":13165.060000000001},null,{"$f":"SUM(I11:I20)","v":19979.560000000001}]
[]
[null,"Non-Current Assets"]
[null,"Plant and Equipment",null,null,{"$f":"Master!C24","v":25500},null,{"$f":"IF(ISERROR(VLOOKUP('P&L'!$E$8, 'Asset Reg'!$B$9:$G$1013, 2, FALSE)), 0, VLOOKUP('P&L'!$E$8, 'Asset Reg'!$B$9:$G$1013, 2, FALSE))","v":25000},null,{"$f":"IF(ISERROR(VLOOKUP('P&L'!$E$8, 'Asset Reg'!$B$9:$G$1013, 6, FALSE)), 0, VLOOKUP('P&L'!$E$8, 'Asset Reg'!$B$9:$G$1013, 6, FALSE))","v":24750},null,null,null,4]
[]
[null,"Total Non-Current Assets",null,null,{"$f":"SUM(E24:E25)","v":25500},null,{"$f":"SUM(G24:G25)","v":25000},null,{"$f":"SUM(I24:I25)","v":24750}]
[]
[null,"Total Assets",null,null,{"$f":"E21+E26","v":28970},null,{"$f":"G21+G26","v":38165.06},null,{"$f":"I21+I26","v":44729.56}]
[]
[]
[null,"Liabilities"]
[null,"Balance of Loans",null,null,{"$f":"Master!C30","v":6250},null,{"$f":"IF(ISERROR(VLOOKUP('P&L'!$E$8,'Loan Reg'!$B$11:$H$22,3,FALSE)),0,(VLOOKUP('P&L'!$E$8,'Loan Reg'!$B$11:$H$22,3,FALSE)))","v":3750},null,{"$f":"IF(ISERROR(VLOOKUP('P&L'!$E$8,'Loan Reg'!$B$11:$H$22,7,FALSE)),0,(VLOOKUP('P&L'!$E$8,'Loan Reg'!$B$11:$H$22,7,FALSE)))","v":2500},null,null,null,5]
[null,"Provision for Annual Leave Liability",null,null,{"$f":"Master!$C$32","v":900},null,{"$f":"IF(ISERROR(VLOOKUP('P&L'!$E$8, 'Provision Reg'!$B$6:$AN$17, 5, FALSE)), 0, VLOOKUP('P&L'!$E$8, 'Provision Reg'!$B$6:$AN$17, 5, FALSE))","v":900},null,{"$f":"IF(ISERROR(VLOOKUP('P&L'!$E$8, 'Provision Reg'!$B$6:$AN$17, 7, FALSE)), 0, VLOOKUP('P&L'!$E$8, 'Provision Reg'!$B$6:$AN$17, 7, FALSE))","v":1380},null,null,null,"6a"]
[null,"Provision for LSL Liability",null,null,{"$f":"Master!$C$38","v":500},null,{"$f":"IF(ISERROR(VLOOKUP('P&L'!$E$8, 'Provision Reg'!$B$23:$AN$34, 5, FALSE)), 0, VLOOKUP('P&L'!$E$8, 'Provision Reg'!$B$23:$AN$34, 5, FALSE))","v":500},null,{"$f":"IF(ISERROR(VLOOKUP('P&L'!$E$8, 'Provision Reg'!$B$23:$AN$34, 7, FALSE)), 0, VLOOKUP('P&L'!$E$8, 'Provision Reg'!$B$23:$AN$34, 7, FALSE))","v":600},null,null,null,"6b"]
[]
[null,"Total Liabilities",null,null,{"$f":"SUM(E32:E35)","v":7650},null,{"$f":"SUM(G32:G35)","v":5150},null,{"$f":"SUM(I32:I35)","v":4480}]
[]
[]
[null,"Net Assets",null,null,{"$f":"E28-E36","v":21320},null,{"$f":"G28-G36","v":33015.06},null,{"$f":"I28-I36","v":40249.56}]
[]
[]
[null,"Accumulated Surplus"]
[null,"Opening balance",null,null,{"$f":"Master!C49","v":12750},null,{"$f":"E46","v":21320},null,{"$f":"$E$46","v":21320}]
[null,"Profit/(Loss) for year",null,null,{"$f":"Master!C50","v":8570},null,{"$f":"'P&L'!$G$57-'P&L'!$E$57","v":11695.059999999998},null,{"$f":"'P&L'!$G$57","v":18929.559999999998},null,null,null,7]
[]
[null,"Accumulated Surplus at end of year",null,null,{"$f":"SUM(E43:E45)","v":21320},null,{"$f":"SUM(G43:G45)","v":33015.06},null,{"$f":"SUM(I43:I45)","v":40249.56}]
[]
[null,"Reconciliation",null,null,{"$f":"IF(ABS($E$39-$E$46)<1, \"Yes\", \"No\")","v":"Yes"},null,{"$f":"IF(ABS($G$39-$G$46)<1, \"Yes\", \"No\")","v":"Yes"},null,{"$f":"IF(ABS($I$39-$I$46)<1, \"Yes\", \"No\")","v":"Yes"}]

{"sheet":"Rcpts & Pymts","index":7,"n_rows":114,"n_cols":15,"rows_kept":114,"cut":false,"hidden":false,"merged":[[1,1,1,8],[2,1,2,8],[3,1,3,8],[6,12,8,12]]}
[]
[null,{"$f":"Master!C4","v":"The Sesame St State School \nP&C Association"}]
[null,"Statement of Receipts and Payments"]
[null,{"$f":"'P&L'!B4:I4","v":"For Period Ending 31 March, 2019"}]
[]
[null,null,null,null,{"$f":"Master!$C$6-1","v":2018},null,"Month",null,{"$f":"Master!C6","v":2019}]
[null,null,null,null,"$",null,"$",null,"$",null,null,null,"Formula Type"]
[null,null,null,null,"Previous year total",null,{"$f":"'P&L'!E8","v":"2019-03-01"},null,{"$f":"'P&L'!G8","v":"YTD ending Mar-19"},null,null,null,null,null,"Calculation"]
[]
[null,"Receipts"]
[null,"Sales"]
[null,"Sales Tuckshop",null,null,0,null,{"$f":"SUMIFS('Transaction Details'!$K$4:$K$10109,'Transaction Details'!$AW$4:$AW$10109,$B12,'Transaction Details'!$W$4:$W$10109,$G$8)","v":530},null,{"$f":"SUMIF('Transaction Details'!$AW$4:$AW$1096, B12, 'Transaction Details'!$Y$4:$Y$1096)","v":9660.2000000000007},null,null,null,1,null,{"$f":"IF(AND(G12<1,I12<1,E12<1),\"Yes\",\"\")","v":""}]
[null,"Sales Uniform Shop",null,null,0,null,{"$f":"SUMIFS('Transaction Details'!$K$4:$K$10109,'Transaction Details'!$AW$4:$AW$10109,$B13,'Transaction Details'!$W$4:$W$10109,$G$8)","v":0},null,{"$f":"SUMIF('Transaction Details'!$AW$4:$AW$1096, B13, 'Transaction Details'!$Y$4:$Y$1096)","v":9580},null,null,null,1,null,{"$f":"IF(AND(G13<1,I13<1,E13<1),\"Yes\",\"\")","v":""}]
[null,"Sales Bookshop",null,null,0,null,{"$f":"SUMIFS('Transaction Details'!$K$4:$K$10109,'Transaction Details'!$AW$4:$AW$10109,$B14,'Transaction Details'!$W$4:$W$10109,$G$8)","v":0},null,{"$f":"SUMIF('Transaction Details'!$AW$4:$AW$1096, B14, 'Transaction Details'!$Y$4:$Y$1096)","v":0},null,null,null,1,null,{"$f":"IF(AND(G14<1,I14<1,E14<1),\"Yes\",\"\")","v":"Yes"}]
[null,"Sales Swim Club",null,null,0,null,{"$f":"SUMIFS('Transaction Details'!$K$4:$K$10109,'Transaction Details'!$AW$4:$AW$10109,$B15,'Transaction Details'!$W$4:$W$10109,$G$8)","v":0},null,{"$f":"SUMIF('Transaction Details'!$AW$4:$AW$1096, B15, 'Transaction Details'!$Y$4:$Y$1096)","v":0},null,null,null,1,null,{"$f":"IF(AND(G15<1,I15<1,E15<1),\"Yes\",\"\")","v":"Yes"}]
[null,"Fundraising:"]
[null,"Fundraising  Art show",null,null,0,null,{"$f":"SUMIFS('Transaction Details'!$K$4:$K$10109,'Transaction Details'!$AW$4:$AW$10109,$B17,'Transaction Details'!$W$4:$W$10109,$G$8)","v":0},null,{"$f":"SUMIF('Transaction Details'!$AW$4:$AW$1096, B17, 'Transaction Details'!$Y$4:$Y$1096)","v":0},null,null,null,1,null,{"$f":"IF(AND(G17<1,I17<1,E17<1),\"Yes\",\"\")","v":"Yes"}]
[null,"Fundraising  Auction",null,null,0,null,{"$f":"SUMIFS('Transaction Details'!$K$4:$K$10109,'Transaction Details'!$AW$4:$AW$10109,$B18,'Transaction Details'!$W$4:$W$10109,$G$8)","v":0},null,{"$f":"SUMIF('Transaction Details'!$AW$4:$AW$1096, B18, 'Transaction Details'!$Y$4:$Y$1096)","v":0},null,null,null,1,null,{"$f":"IF(AND(G18<1,I18<1,E18<1),\"Yes\",\"\")","v":"Yes"}]
[null,"Fundraising  Cake stall",null,null,0,null,{"$f":"SUMIFS('Transaction Details'!$K$4:$K$10109,'Transaction Details'!$AW$4:$AW$10109,$B19,'Transaction Details'!$W$4:$W$10109,$G$8)","v":0},null,{"$f":"SUMIF('Transaction Details'!$AW$4:$AW$1096, B19, 'Transaction Details'!$Y$4:$Y$1096)","v":0},null,null,null,1,null,"Yes"]
[null,"Fundraising  Car wash",null,null,0,null,{"$f":"SUMIFS('Transaction Details'!$K$4:$K$10109,'Transaction Details'!$AW$4:$AW$10109,$B20,'Transaction Details'!$W$4:$W$10109,$G$8)","v":0},null,{"$f":"SUMIF('Transaction Details'!$AW$4:$AW$1096, B20, 'Transaction Details'!$Y$4:$Y$1096)","v":9800},null,null,null,1,null,{"$f":"IF(AND(G20<1,I20<1,E20<1),\"Yes\",\"\")","v":""}]
[null,"Fundraising  Chocolate drive",null,null,0,null,{"$f":"SUMIFS('Transaction Details'!$K$4:$K$10109,'Transaction Details'!$AW$4:$AW$10109,$B21,'Transaction Details'!$W$4:$W$10109,$G$8)","v":0},null,{"$f":"SUMIF('Transaction Details'!$AW$4:$AW$1096, B21, 'Transaction Details'!$Y$4:$Y$1096)","v":0},null,null,null,1,null,"Yes"]
[null,"Fundraising  Christmas",null,null,0,null,{"$f":"SUMIFS('Transaction Details'!$K$4:$K$10109,'Transaction Details'!$AW$4:$AW$10109,$B22,'Transaction Details'!$W$4:$W$10109,$G$8)","v":0},null,{"$f":"SUMIF('Transaction Details'!$AW$4:$AW$1096, B22, 'Transaction Details'!$Y$4:$Y$1096)","v":0},null,null,null,1,null,"Yes"]
[null,"Fundraising  Concert",null,null,0,null,{"$f":"SUMIFS('Transaction Details'!$K$4:$K$10109,'Transaction Details'!$AW$4:$AW$10109,$B23,'Transaction Details'!$W$4:$W$10109,$G$8)","v":0},null,{"$f":"SUMIF('Transaction Details'!$AW$4:$AW$1096, B23, 'Transaction Details'!$Y$4:$Y$1096)","v":0},null,null,null,1,null,"Yes"]
[null,"Fundraising  Coin drive",null,null,0,null,{"$f":"SUMIFS('Transaction Details'!$K$4:$K$10109,'Transaction Details'!$AW$4:$AW$10109,$B24,'Transaction Details'!$W$4:$W$10109,$G$8)","v":0},null,{"$f":"SUMIF('Transaction Details'!$AW$4:$AW$1096, B24, 'Transaction Details'!$Y$4:$Y$1096)","v":0},null,null,null,1,null,"Yes"]
[null,"Fundraising  Container Refund Scheme",null,null,0,null,{"$f":"SUMIFS('Transaction Details'!$K$4:$K$10109,'Transaction Details'!$AW$4:$AW$10109,$B25,'Transaction Details'!$W$4:$W$10109,$G$8)","v":0},null,{"$f":"SUMIF('Transaction Details'!$AW$4:$AW$1096, B25, 'Transaction Details'!$Y$4:$Y$1096)","v":0},null,null,null,1,null,"Yes"]
[null,"Fundraising  Cookie dough drive",null,null,0,null,{"$f":"SUMIFS('Transaction Details'!$K$4:$K$10109,'Transaction Details'!$AW$4:$AW$10109,$B26,'Transaction Details'!$W$4:$W$10109,$G$8)","v":0},null,{"$f":"SUMIF('Transaction Details'!$AW$4:$AW$1096, B26, 'Transaction Details'!$Y$4:$Y$1096)","v":0},null,null,null,1,null,"Yes"]
[null,"Fundraising  Disco",null,null,0,null,{"$f":"SUMIFS('Transaction Details'!$K$4:$K$10109,'Transaction Details'!$AW$4:$AW$10109,$B27,'Transaction Details'!$W$4:$W$10109,$G$8)","v":0},null,{"$f":"SUMIF('Transaction Details'!$AW$4:$AW$1096, B27, 'Transaction Details'!$Y$4:$Y$1096)","v":0},null,null,null,1,null,"Yes"]
[null,"Fundraising  Easter",null,null,0,null,{"$f":"SUMIFS('Transaction Details'!$K$4:$K$10109,'Transaction Details'!$AW$4:$AW$10109,$B28,'Transaction Details'!$W$4:$W$10109,$G$8)","v":0},null,{"$f":"SUMIF('Transaction Details'!$AW$4:$AW$1096, B28, 'Transaction Details'!$Y$4:$Y$1096)","v":0},null,null,null,1,null,"Yes"]
[null,"Fundraising  Entertainment book",null,null,0,null,{"$f":"SUMIFS('Transaction Details'!$K$4:$K$10109,'Transaction Details'!$AW$4:$AW$10109,$B29,'Transaction Details'!$W$4:$W$10109,$G$8)","v":0},null,{"$f":"SUMIF('Transaction Details'!$AW$4:$AW$1096, B29, 'Transaction Details'!$Y$4:$Y$1096)","v":0},null,null,null,1,null,"Yes"]
[null,"Fundraising  Fathers day",null,null,0,null,{"$f":"SUMIFS('Transaction Details'!$K$4:$K$10109,'Transaction Details'!$AW$4:$AW$10109,$B30,'Transaction Details'!$W$4:$W$10109,$G$8)","v":0},null,{"$f":"SUMIF('Transaction Details'!$AW$4:$AW$1096, B30, 'Transaction Details'!$Y$4:$Y$1096)","v":0},null,null,null,1,null,"Yes"]
[null,"Fundraising  Fete",null,null,0,null,{"$f":"SUMIFS('Transaction Details'!$K$4:$K$10109,'Transaction Details'!$AW$4:$AW$10109,$B31,'Transaction Details'!$W$4:$W$10109,$G$8)","v":9200},null,{"$f":"SUMIF('Transaction Details'!$AW$4:$AW$1096, B31, 'Transaction Details'!$Y$4:$Y$1096)","v":9200},null,null,null,1,null,""]
[null,"Fundraising  Fun run",null,null,0,null,{"$f":"SUMIFS('Transaction Details'!$K$4:$K$10109,'Transaction Details'!$AW$4:$AW$10109,$B32,'Transaction Details'!$W$4:$W$10109,$G$8)","v":0},null,{"$f":"SUMIF('Transaction Details'!$AW$4:$AW$1096, B32, 'Transaction Details'!$Y$4:$Y$1096)","v":0},null,null,null,1,null,"Yes"]
[null,"Fundraising  Market stall",null,null,0,null,{"$f":"SUMIFS('Transaction Details'!$K$4:$K$10109,'Transaction Details'!$AW$4:$AW$10109,$B33,'Transaction Details'!$W$4:$W$10109,$G$8)","v":0},null,{"$f":"SUMIF('Transaction Details'!$AW$4:$AW$1096, B33, 'Transaction Details'!$Y$4:$Y$1096)","v":0},null,null,null,1,null,"Yes"]
[null,"Fundraising  Mothers day",null,null,0,null,{"$f":"SUMIFS('Transaction Details'!$K$4:$K$10109,'Transaction Details'!$AW$4:$AW$10109,$B34,'Transaction Details'!$W$4:$W$10109,$G$8)","v":0},null,{"$f":"SUMIF('Transaction Details'!$AW$4:$AW$1096, B34, 'Transaction Details'!$Y$4:$Y$1096)","v":0},null,null,null,1,null,"Yes"]
[null,"Fundraising  Movie night",null,null,0,null,{"$f":"SUMIFS('Transaction Details'!$K$4:$K$10109,'Transaction Details'!$AW$4:$AW$10109,$B35,'Transaction Details'!$W$4:$W$10109,$G$8)","v":0},null,{"$f":"SUMIF('Transaction Details'!$AW$4:$AW$1096, B35, 'Transaction Details'!$Y$4:$Y$1096)","v":0},null,null,null,1,null,"Yes"]
[null,"Fundraising  Pie drive",null,null,0,null,{"$f":"SUMIFS('Transaction Details'!$K$4:$K$10109,'Transaction Details'!$AW$4:$AW$10109,$B36,'Transaction Details'!$W$4:$W$10109,$G$8)","v":0},null,{"$f":"SUMIF('Transaction Details'!$AW$4:$AW$1096, B36, 'Transaction Details'!$Y$4:$Y$1096)","v":0},null,null,null,1,null,"Yes"]
[null,"Fundraising  Raffle",null,null,0,null,{"$f":"SUMIFS('Transaction Details'!$K$4:$K$10109,'Transaction Details'!$AW$4:$AW$10109,$B37,'Transaction Details'!$W$4:$W$10109,$G$8)","v":0},null,{"$f":"SUMIF('Transaction Details'!$AW$4:$AW$1096, B37, 'Transaction Details'!$Y$4:$Y$1096)","v":0},null,null,null,1,null,{"$f":"IF(AND(G37<1,I37<1,E37<1),\"Yes\",\"\")","v":"Yes"}]
[null,"Fundraising  Sausage sizzle",null,null,0,null,{"$f":"SUMIFS('Transaction Details'!$K$4:$K$10109,'Transaction Details'!$AW$4:$AW$10109,$B38,'Transaction Details'!$W$4:$W$10109,$G$8)","v":0},null,{"$f":"SUMIF('Transaction Details'!$AW$4:$AW$1096, B38, 'Transaction Details'!$Y$4:$Y$1096)","v":0},null,null,null,1,null,"Yes"]
[null,"Fundraising  School banking",null,null,0,null,{"$f":"SUMIFS('Transaction Details'!$K$4:$K$10109,'Transaction Details'!$AW$4:$AW$10109,$B39,'Transaction Details'!$W$4:$W$10109,$G$8)","v":0},null,{"$f":"SUMIF('Transaction Details'!$AW$4:$AW$1096, B39, 'Transaction Details'!$Y$4:$Y$1096)","v":0},null,null,null,1,null,"Yes"]
[null,"Fundraising  School camp",null,null,0,null,{"$f":"SUMIFS('Transaction Details'!$K$4:$K$10109,'Transaction Details'!$AW$4:$AW$10109,$B40,'Transaction Details'!$W$4:$W$10109,$G$8)","v":0},null,{"$f":"SUMIF('Transaction Details'!$AW$4:$AW$1096, B40, 'Transaction Details'!$Y$4:$Y$1096)","v":0},null,null,null,1,null,"Yes"]
[null,"Fundraising  Sport carnival",null,null,0,null,{"$f":"SUMIFS('Transaction Details'!$K$4:$K$10109,'Transaction Details'!$AW$4:$AW$10109,$B41,'Transaction Details'!$W$4:$W$10109,$G$8)","v":0},null,{"$f":"SUMIF('Transaction Details'!$AW$4:$AW$1096, B41, 'Transaction Details'!$Y$4:$Y$1096)","v":0},null,null,null,1,null,"Yes"]
[null,"Fundraising  Trivia night",null,null,0,null,{"$f":"SUMIFS('Transaction Details'!$K$4:$K$10109,'Transaction Details'!$AW$4:$AW$10109,$B42,'Transaction Details'!$W$4:$W$10109,$G$8)","v":0},null,{"$f":"SUMIF('Transaction Details'!$AW$4:$AW$1096, B42, 'Transaction Details'!$Y$4:$Y$1096)","v":0},null,null,null,1,null,"Yes"]
[null,"Donations",null,null,0,null,{"$f":"SUMIFS('Transaction Details'!$K$4:$K$10109,'Transaction Details'!$D$4:$D$10109,$B43,'Transaction Details'!$W$4:$W$10109,$G$8)","v":0},null,{"$f":"SUMIF('Transaction Details'!$D$4:$D$1096, B43, 'Transaction Details'!$Y$4:$Y$1096)","v":0},null,null,null,2,null,"Yes"]
[null,"Grant ",null,null,0,null,{"$f":"SUMIFS('Transaction Details'!$K$4:$K$10109,'Transaction Details'!$D$4:$D$10109,$B44,'Transaction Details'!$W$4:$W$10109,$G$8)","v":0},null,{"$f":"SUMIF('Transaction Details'!$D$4:$D$1096, B44, 'Transaction Details'!$Y$4:$Y$1096)","v":0},null,null,null,2,null,"Yes"]
[null,"Interest earned",null,null,0,null,{"$f":"SUMIFS('Transaction Details'!$K$4:$K$10109,'Transaction Details'!$D$4:$D$10109,$B45,'Transaction Details'!$W$4:$W$10109,$G$8)","v":0},null,{"$f":"SUMIF('Transaction Details'!$D$4:$D$1096, B45, 'Transaction Details'!$Y$4:$Y$1096)","v":0},null,null,null,2,null,"Yes"]
[null,"Other Income",null,null,0,null,{"$f":"SUMIFS('Transaction Details'!$K$4:$K$10109,'Transaction Details'!$D$4:$D$10109,$B46,'Transaction Details'!$W$4:$W$10109,$G$8)","v":0},null,{"$f":"SUMIF('Transaction Details'!$D$4:$D$1096, B46, 'Transaction Details'!$Y$4:$Y$1096)","v":0},null,null,null,2,null,"Yes"]
[null,"Loan",null,null,0,null,{"$f":"SUMIFS('Transaction Details'!$K$4:$K$10109,'Transaction Details'!$D$4:$D$10109,$B47,'Transaction Details'!$W$4:$W$10109,$G$8)","v":0},null,{"$f":"SUMIF('Transaction Details'!$D$4:$D$1096, B47, 'Transaction Details'!$Y$4:$Y$1096)","v":0},null,null,null,2,null,"Yes"]
[]
[null,"Total Receipts",null,null,{"$f":"SUM(E11:E48)","v":0},null,{"$f":"SUM(G12:G48)","v":9730},null,{"$f":"SUM(I12:I48)","v":38240.199999999997}]
[]
[]
[null,"Payments"]
[null,"Stock purchase"]
[null,"Tuckshop Stock purchase",null,null,0,null,{"$f":"SUMIFS('Transaction Details'!$K$4:$K$10109,'Transaction Details'!$AX$4:$AX$10109,$B54,'Transaction Details'!$W$4:$W$10109,$G$8)","v":1105},null,{"$f":"SUMIF('Transaction Details'!$AX$4:$AX$1096, B54, 'Transaction Details'!$Y$4:$Y$1096)","v":8127},null,null,null,3,null,{"$f":"IF(AND(G54<1,I54<1,E54<1),\"Yes\",\"\")","v":""}]
[null,"Uniform shop Stock purchase",null,null,0,null,{"$f":"SUMIFS('Transaction Details'!$K$4:$K$10109,'Transaction Details'!$AX$4:$AX$10109,$B55,'Transaction Details'!$W$4:$W$10109,$G$8)","v":150},null,{"$f":"SUMIF('Transaction Details'!$AX$4:$AX$1096, B55, 'Transaction Details'!$Y$4:$Y$1096)","v":8920},null,null,null,3,null,{"$f":"IF(AND(G55<1,I55<1,E55<1),\"Yes\",\"\")","v":""}]
[null,"Bookshop Stock purchase",null,null,0,null,{"$f":"SUMIFS('Transaction Details'!$K$4:$K$10109,'Transaction Details'!$AX$4:$AX$10109,$B56,'Transaction Details'!$W$4:$W$10109,$G$8)","v":0},null,{"$f":"SUMIF('Transaction Details'!$AX$4:$AX$1096, B56, 'Transaction Details'!$Y$4:$Y$1096)","v":0},null,null,null,3,null,{"$f":"IF(AND(G56<1,I56<1,E56<1),\"Yes\",\"\")","v":"Yes"}]
[null,"Swim Club Stock purchase",null,null,0,null,{"$f":"SUMIFS('Transaction Details'!$K$4:$K$10109,'Transaction Details'!$AX$4:$AX$10109,$B57,'Transaction Details'!$W$4:$W$10109,$G$8)","v":0},null,{"$f":"SUMIF('Transaction Details'!$AX$4:$AX$1096, B57, 'Transaction Details'!$Y$4:$Y$1096)","v":0},null,null,null,3,null,{"$f":"IF(AND(G57<1,I57<1,E57<1),\"Yes\",\"\")","v":"Yes"}]
[null,"Fundraising Expense"]
[null,"Art show Fundraising Expenses",null,null,0,null,{"$f":"SUMIFS('Transaction Details'!$K$4:$K$10109,'Transaction Details'!$AX$4:$AX$10109,$B59,'Transaction Details'!$W$4:$W$10109,$G$8)","v":0},null,{"$f":"SUMIF('Transaction Details'!$AX$4:$AX$1096, B59, 'Transaction Details'!$Y$4:$Y$1096)","v":0},null,null,null,3,null,{"$f":"IF(AND(G59<1,I59<1,E59<1),\"Yes\",\"\")","v":"Yes"}]
[null,"Auction Fundraising Expenses",null,null,0,null,{"$f":"SUMIFS('Transaction Details'!$K$4:$K$10109,'Transaction Details'!$AX$4:$AX$10109,$B60,'Transaction Details'!$W$4:$W$10109,$G$8)","v":0},null,{"$f":"SUMIF('Transaction Details'!$AX$4:$AX$1096, B60, 'Transaction Details'!$Y$4:$Y$1096)","v":0},null,null,null,3,null,"Yes"]
[null,"Cake stall Fundraising Expenses",null,null,0,null,{"$f":"SUMIFS('Transaction Details'!$K$4:$K$10109,'Transaction Details'!$AX$4:$AX$10109,$B61,'Transaction Details'!$W$4:$W$10109,$G$8)","v":0},null,{"$f":"SUMIF('Transaction Details'!$AX$4:$AX$1096, B61, 'Transaction Details'!$Y$4:$Y$1096)","v":0},null,null,null,3,null,"Yes"]
[null,"Car wash Fundraising Expenses",null,null,0,null,{"$f":"SUMIFS('Transaction Details'!$K$4:$K$10109,'Transaction Details'!$AX$4:$AX$10109,$B62,'Transaction Details'!$W$4:$W$10109,$G$8)","v":0},null,{"$f":"SUMIF('Transaction Details'!$AX$4:$AX$1096, B62, 'Transaction Details'!$Y$4:$Y$1096)","v":498},null,null,null,3,null,{"$f":"IF(AND(G62<1,I62<1,E62<1),\"Yes\",\"\")","v":""}]
[null,"Chocolate drive Fundraising Expenses",null,null,0,null,{"$f":"SUMIFS('Transaction Details'!$K$4:$K$10109,'Transaction Details'!$AX$4:$AX$10109,$B63,'Transaction Details'!$W$4:$W$10109,$G$8)","v":0},null,{"$f":"SUMIF('Transaction Details'!$AX$4:$AX$1096, B63, 'Transaction Details'!$Y$4:$Y$1096)","v":0},null,null,null,3,null,"Yes"]
[null,"Christmas Fundraising Expenses",null,null,0,null,{"$f":"SUMIFS('Transaction Details'!$K$4:$K$10109,'Transaction Details'!$AX$4:$AX$10109,$B64,'Transaction Details'!$W$4:$W$10109,$G$8)","v":0},null,{"$f":"SUMIF('Transaction Details'!$AX$4:$AX$1096, B64, 'Transaction Details'!$Y$4:$Y$1096)","v":0},null,null,null,3,null,"Yes"]
[null,"Coin drive Fundraising Expenses",null,null,0,null,{"$f":"SUMIFS('Transaction Details'!$K$4:$K$10109,'Transaction Details'!$AX$4:$AX$10109,$B65,'Transaction Details'!$W$4:$W$10109,$G$8)","v":0},null,{"$f":"SUMIF('Transaction Details'!$AX$4:$AX$1096, B65, 'Transaction Details'!$Y$4:$Y$1096)","v":0},null,null,null,3,null,"Yes"]
[null,"Concert Fundraising Expenses",null,null,0,null,{"$f":"SUMIFS('Transaction Details'!$K$4:$K$10109,'Transaction Details'!$AX$4:$AX$10109,$B66,'Transaction Details'!$W$4:$W$10109,$G$8)","v":0},null,{"$f":"SUMIF('Transaction Details'!$AX$4:$AX$1096, B66, 'Transaction Details'!$Y$4:$Y$1096)","v":0},null,null,null,3,null,"Yes"]
[null,"Container Refund Scheme Fundraising Expenses",null,null,0,null,{"$f":"SUMIFS('Transaction Details'!$K$4:$K$10109,'Transaction Details'!$AX$4:$AX$10109,$B67,'Transaction Details'!$W$4:$W$10109,$G$8)","v":0},null,{"$f":"SUMIF('Transaction Details'!$AX$4:$AX$1096, B67, 'Transaction Details'!$Y$4:$Y$1096)","v":0},null,null,null,3,null,"Yes"]
[null,"Cookie dough drive Fundraising Expenses",null,null,0,null,{"$f":"SUMIFS('Transaction Details'!$K$4:$K$10109,'Transaction Details'!$AX$4:$AX$10109,$B68,'Transaction Details'!$W$4:$W$10109,$G$8)","v":0},null,{"$f":"SUMIF('Transaction Details'!$AX$4:$AX$1096, B68, 'Transaction Details'!$Y$4:$Y$1096)","v":0},null,null,null,3,null,"Yes"]
[null,"Disco Fundraising Expenses",null,null,0,null,{"$f":"SUMIFS('Transaction Details'!$K$4:$K$10109,'Transaction Details'!$AX$4:$AX$10109,$B69,'Transaction Details'!$W$4:$W$10109,$G$8)","v":0},null,{"$f":"SUMIF('Transaction Details'!$AX$4:$AX$1096, B69, 'Transaction Details'!$Y$4:$Y$1096)","v":0},null,null,null,3,null,"Yes"]
[null,"Easter Fundraising Expenses",null,null,0,null,{"$f":"SUMIFS('Transaction Details'!$K$4:$K$10109,'Transaction Details'!$AX$4:$AX$10109,$B70,'Transaction Details'!$W$4:$W$10109,$G$8)","v":0},null,{"$f":"SUMIF('Transaction Details'!$AX$4:$AX$1096, B70, 'Transaction Details'!$Y$4:$Y$1096)","v":0},null,null,null,3,null,"Yes"]
[null,"Entertainment book Fundraising Expenses",null,null,0,null,{"$f":"SUMIFS('Transaction Details'!$K$4:$K$10109,'Transaction Details'!$AX$4:$AX$10109,$B71,'Transaction Details'!$W$4:$W$10109,$G$8)","v":0},null,{"$f":"SUMIF('Transaction Details'!$AX$4:$AX$1096, B71, 'Transaction Details'!$Y$4:$Y$1096)","v":0},null,null,null,3,null,"Yes"]
[null,"Fathers day Fundraising Expenses",null,null,0,null,{"$f":"SUMIFS('Transaction Details'!$K$4:$K$10109,'Transaction Details'!$AX$4:$AX$10109,$B72,'Transaction Details'!$W$4:$W$10109,$G$8)","v":0},null,{"$f":"SUMIF('Transaction Details'!$AX$4:$AX$1096, B72, 'Transaction Details'!$Y$4:$Y$1096)","v":0},null,null,null,3,null,"Yes"]
[null,"Fete Fundraising Expenses",null,null,0,null,{"$f":"SUMIFS('Transaction Details'!$K$4:$K$10109,'Transaction Details'!$AX$4:$AX$10109,$B73,'Transaction Details'!$W$4:$W$10109,$G$8)","v":234.5},null,{"$f":"SUMIF('Transaction Details'!$AX$4:$AX$1096, B73, 'Transaction Details'!$Y$4:$Y$1096)","v":234.5},null,null,null,3,null,""]
[null,"Fun run Fundraising Expenses",null,null,0,null,{"$f":"SUMIFS('Transaction Details'!$K$4:$K$10109,'Transaction Details'!$AX$4:$AX$10109,$B74,'Transaction Details'!$W$4:$W$10109,$G$8)","v":0},null,{"$f":"SUMIF('Transaction Details'!$AX$4:$AX$1096, B74, 'Transaction Details'!$Y$4:$Y$1096)","v":0},null,null,null,3,null,"Yes"]
[null,"Market stall Fundraising Expenses",null,null,0,null,{"$f":"SUMIFS('Transaction Details'!$K$4:$K$10109,'Transaction Details'!$AX$4:$AX$10109,$B75,'Transaction Details'!$W$4:$W$10109,$G$8)","v":0},null,{"$f":"SUMIF('Transaction Details'!$AX$4:$AX$1096, B75, 'Transaction Details'!$Y$4:$Y$1096)","v":0},null,null,null,3,null,"Yes"]
[null,"Mothers day Fundraising Expenses",null,null,0,null,{"$f":"SUMIFS('Transaction Details'!$K$4:$K$10109,'Transaction Details'!$AX$4:$AX$10109,$B76,'Transaction Details'!$W$4:$W$10109,$G$8)","v":0},null,{"$f":"SUMIF('Transaction Details'!$AX$4:$AX$1096, B76, 'Transaction Details'!$Y$4:$Y$1096)","v":0},null,null,null,3,null,"Yes"]
[null,"Movie night Fundraising Expenses",null,null,0,null,{"$f":"SUMIFS('Transaction Details'!$K$4:$K$10109,'Transaction Details'!$AX$4:$AX$10109,$B77,'Transaction Details'!$W$4:$W$10109,$G$8)","v":0},null,{"$f":"SUMIF('Transaction Details'!$AX$4:$AX$1096, B77, 'Transaction Details'!$Y$4:$Y$1096)","v":0},null,null,null,3,null,"Yes"]
[null,"Pie drive Fundraising Expenses",null,null,0,null,{"$f":"SUMIFS('Transaction Details'!$K$4:$K$10109,'Transaction Details'!$AX$4:$AX$10109,$B78,'Transaction Details'!$W$4:$W$10109,$G$8)","v":0},null,{"$f":"SUMIF('Transaction Details'!$AX$4:$AX$1096, B78, 'Transaction Details'!$Y$4:$Y$1096)","v":0},null,null,null,3,null,"Yes"]
[null,"Raffle Fundraising Expenses",null,null,0,null,{"$f":"SUMIFS('Transaction Details'!$K$4:$K$10109,'Transaction Details'!$AX$4:$AX$10109,$B79,'Transaction Details'!$W$4:$W$10109,$G$8)","v":0},null,{"$f":"SUMIF('Transaction Details'!$AX$4:$AX$1096, B79, 'Transaction Details'!$Y$4:$Y$1096)","v":0},null,null,null,3,null,{"$f":"IF(AND(G79<1,I79<1,E79<1),\"Yes\",\"\")","v":"Yes"}]
[null,"Sausage sizzle Fundraising Expenses",null,null,0,null,{"$f":"SUMIFS('Transaction Details'!$K$4:$K$10109,'Transaction Details'!$AX$4:$AX$10109,$B80,'Transaction Details'!$W$4:$W$10109,$G$8)","v":0},null,{"$f":"SUMIF('Transaction Details'!$AX$4:$AX$1096, B80, 'Transaction Details'!$Y$4:$Y$1096)","v":0},null,null,null,3,null,"Yes"]
[null,"School banking Fundraising Expenses",null,null,0,null,{"$f":"SUMIFS('Transaction Details'!$K$4:$K$10109,'Transaction Details'!$AX$4:$AX$10109,$B81,'Transaction Details'!$W$4:$W$10109,$G$8)","v":0},null,{"$f":"SUMIF('Transaction Details'!$AX$4:$AX$1096, B81, 'Transaction Details'!$Y$4:$Y$1096)","v":0},null,null,null,3,null,"Yes"]
[null,"School camp Fundraising Expenses",null,null,0,null,{"$f":"SUMIFS('Transaction Details'!$K$4:$K$10109,'Transaction Details'!$AX$4:$AX$10109,$B82,'Transaction Details'!$W$4:$W$10109,$G$8)","v":0},null,{"$f":"SUMIF('Transaction Details'!$AX$4:$AX$1096, B82, 'Transaction Details'!$Y$4:$Y$1096)","v":0},null,null,null,3,null,"Yes"]
[null,"Sport carnival Fundraising Expenses",null,null,0,null,{"$f":"SUMIFS('Transaction Details'!$K$4:$K$10109,'Transaction Details'!$AX$4:$AX$10109,$B83,'Transaction Details'!$W$4:$W$10109,$G$8)","v":0},null,{"$f":"SUMIF('Transaction Details'!$AX$4:$AX$1096, B83, 'Transaction Details'!$Y$4:$Y$1096)","v":0},null,null,null,3,null,"Yes"]
[null,"Trivia night Fundraising Expenses",null,null,0,null,{"$f":"SUMIFS('Transaction Details'!$K$4:$K$10109,'Transaction Details'!$AX$4:$AX$10109,$B84,'Transaction Details'!$W$4:$W$10109,$G$8)","v":0},null,{"$f":"SUMIF('Transaction Details'!$AX$4:$AX$1096, B84, 'Transaction Details'!$Y$4:$Y$1096)","v":0},null,null,null,3,null,"Yes"]
[null,"Accountant fees",null,null,0,null,{"$f":"SUMIFS('Transaction Details'!$K$4:$K$10109,'Transaction Details'!$E$4:$E$10109,$B85,'Transaction Details'!$W$4:$W$10109,$G$8)","v":0},null,{"$f":"SUMIF('Transaction Details'!$E$4:$E$1096, B85, 'Transaction Details'!$Y$4:$Y$1096)","v":0},null,null,null,4,null,"Yes"]
[null,"Advertising and marketing",null,null,0,null,{"$f":"SUMIFS('Transaction Details'!$K$4:$K$10109,'Transaction Details'!$E$4:$E$10109,$B86,'Transaction Details'!$W$4:$W$10109,$G$8)","v":0},null,{"$f":"SUMIF('Transaction Details'!$E$4:$E$1096, B86, 'Transaction Details'!$Y$4:$Y$1096)","v":0},null,null,null,4,null,"Yes"]
[null,"Annual Leave",null,null,0,null,{"$f":"SUMIFS('Transaction Details'!$K$4:$K$10109,'Transaction Details'!$E$4:$E$10109,$B87,'Transaction Details'!$W$4:$W$10109,$G$8)","v":320},null,{"$f":"SUMIF('Transaction Details'!$E$4:$E$1096, B87, 'Transaction Details'!$Y$4:$Y$1096)","v":320},null,null,null,5,null,""]
[null,"Audit fees",null,null,0,null,{"$f":"SUMIFS('Transaction Details'!$K$4:$K$10109,'Transaction Details'!$E$4:$E$10109,$B88,'Transaction Details'!$W$4:$W$10109,$G$8)","v":0},null,{"$f":"SUMIF('Transaction Details'!$E$4:$E$1096, B88, 'Transaction Details'!$Y$4:$Y$1096)","v":0},null,null,null,4,null,"Yes"]
[null,"Bank charges",null,null,0,null,{"$f":"SUMIFS('Transaction Details'!$K$4:$K$10109,'Transaction Details'!$E$4:$E$10109,$B89,'Transaction Details'!$W$4:$W$10109,$G$8)","v":10},null,{"$f":"SUMIF('Transaction Details'!$E$4:$E$1096, B89, 'Transaction Details'!$Y$4:$Y$1096)","v":30},null,null,null,4,null,""]
[null,"Donations",null,null,0,null,{"$f":"SUMIFS('Transaction Details'!$K$4:$K$10109,'Transaction Details'!$E$4:$E$10109,$B90,'Transaction Details'!$W$4:$W$10109,$G$8)","v":0},null,{"$f":"SUMIF('Transaction Details'!$E$4:$E$1096, B90, 'Transaction Details'!$Y$4:$Y$1096)","v":0},null,null,null,4,null,"Yes"]
[null,"Equipment/tools",null,null,0,null,{"$f":"SUMIFS('Transaction Details'!$K$4:$K$10109,'Transaction Details'!$E$4:$E$10109,$B91,'Transaction Details'!$W$4:$W$10109,$G$8)","v":0},null,{"$f":"SUMIF('Transaction Details'!$E$4:$E$1096, B91, 'Transaction Details'!$Y$4:$Y$1096)","v":0},null,null,null,4,null,"Yes"]
[null,"Loan repayment - principal component",null,null,0,null,{"$f":"SUMIFS('Transaction Details'!$K$4:$K$10109,'Transaction Details'!$E$4:$E$10109,$B92,'Transaction Details'!$W$4:$W$10109,$G$8)","v":1250},null,{"$f":"SUMIF('Transaction Details'!$E$4:$E$1096, B92, 'Transaction Details'!$Y$4:$Y$1096)","v":3750},null,null,null,4,null,""]
[null,"Loan repayment - interest expenses",null,null,0,null,{"$f":"SUMIFS('Transaction Details'!$K$4:$K$10109,'Transaction Details'!$E$4:$E$10109,$B93,'Transaction Details'!$W$4:$W$10109,$G$8)","v":100},null,{"$f":"SUMIF('Transaction Details'!$E$4:$E$1096, B93, 'Transaction Details'!$Y$4:$Y$1096)","v":300},null,null,null,4,null,""]
[null,"Long Service Leave",null,null,0,null,{"$f":"SUMIFS('Transaction Details'!$K$4:$K$10109,'Transaction Details'!$E$4:$E$10109,$B94,'Transaction Details'!$W$4:$W$10109,$G$8)","v":0},null,{"$f":"SUMIF('Transaction Details'!$E$4:$E$1096, B94, 'Transaction Details'!$Y$4:$Y$1096)","v":0},null,null,null,6,null,"Yes"]
[null,"Insurance",null,null,0,null,{"$f":"SUMIFS('Transaction Details'!$K$4:$K$10109,'Transaction Details'!$E$4:$E$10109,$B95,'Transaction Details'!$W$4:$W$10109,$G$8)","v":0},null,{"$f":"SUMIF('Transaction Details'!$E$4:$E$1096, B95, 'Transaction Details'!$Y$4:$Y$1096)","v":0},null,null,null,4,null,"Yes"]
[null,"Membership and subscriptions",null,null,0,null,{"$f":"SUMIFS('Transaction Details'!$K$4:$K$10109,'Transaction Details'!$E$4:$E$10109,$B96,'Transaction Details'!$W$4:$W$10109,$G$8)","v":0},null,{"$f":"SUMIF('Transaction Details'!$E$4:$E$1096, B96, 'Transaction Details'!$Y$4:$Y$1096)","v":0},null,null,null,4,null,"Yes"]
[null,"Pre-paid expense",null,null,0,null,{"$f":"SUMIFS('Transaction Details'!$K$4:$K$10109,'Transaction Details'!$E$4:$E$10109,$B97,'Transaction Details'!$W$4:$W$10109,$G$8)","v":3600},null,{"$f":"SUMIF('Transaction Details'!$E$4:$E$1096, B97, 'Transaction Details'!$Y$4:$Y$1096)","v":3600},null,null,null,4,null,""]
[null,"Printing",null,null,0,null,{"$f":"SUMIFS('Transaction Details'!$K$4:$K$10109,'Transaction Details'!$E$4:$E$10109,$B98,'Transaction Details'!$W$4:$W$10109,$G$8)","v":0},null,{"$f":"SUMIF('Transaction Details'!$E$4:$E$1096, B98, 'Transaction Details'!$Y$4:$Y$1096)","v":0},null,null,null,4,null,"Yes"]
[null,"Repairs and maintenance",null,null,0,null,{"$f":"SUMIFS('Transaction Details'!$K$4:$K$10109,'Transaction Details'!$E$4:$E$10109,$B99,'Transaction Details'!$W$4:$W$10109,$G$8)","v":0},null,{"$f":"SUMIF('Transaction Details'!$E$4:$E$1096, B99, 'Transaction Details'!$Y$4:$Y$1096)","v":0},null,null,null,4,null,"Yes"]
[null,"School premise/facility hire",null,null,0,null,{"$f":"SUMIFS('Transaction Details'!$K$4:$K$10109,'Transaction Details'!$E$4:$E$10109,$B100,'Transaction Details'!$W$4:$W$10109,$G$8)","v":0},null,{"$f":"SUMIF('Transaction Details'!$E$4:$E$1096, B100, 'Transaction Details'!$Y$4:$Y$1096)","v":0},null,null,null,4,null,"Yes"]
[null,"Stationery and postage",null,null,0,null,{"$f":"SUMIFS('Transaction Details'!$K$4:$K$10109,'Transaction Details'!$E$4:$E$10109,$B101,'Transaction Details'!$W$4:$W$10109,$G$8)","v":0},null,{"$f":"SUMIF('Transaction Details'!$E$4:$E$1096, B101, 'Transaction Details'!$Y$4:$Y$1096)","v":0},null,null,null,4,null,"Yes"]
[null,"Superannuation",null,null,0,null,{"$f":"SUMIFS('Transaction Details'!$K$4:$K$10109,'Transaction Details'!$E$4:$E$10109,$B102,'Transaction Details'!$W$4:$W$10109,$G$8)","v":330},null,{"$f":"SUMIF('Transaction Details'!$E$4:$E$1096, B102, 'Transaction Details'!$Y$4:$Y$1096)","v":330},null,null,null,4,null,""]
[null,"Wages",null,null,0,null,{"$f":"SUMIFS('Transaction Details'!$K$4:$K$10109,'Transaction Details'!$E$4:$E$10109,$B103,'Transaction Details'!$W$4:$W$10109,$G$8)","v":0},null,{"$f":"SUMIF('Transaction Details'!$E$4:$E$1096, B103, 'Transaction Details'!$Y$4:$Y$1096)","v":1900},null,null,null,4,null,""]
[null,"Asset purchases ",null,null,0,null,{"$f":"SUMIFS('Transaction Details'!$K$4:$K$10109,'Transaction Details'!$E$4:$E$10109,$B104,'Transaction Details'!$W$4:$W$10109,$G$8)","v":0},null,{"$f":"SUMIF('Transaction Details'!$E$4:$E$1096, B104, 'Transaction Details'!$Y$4:$Y$1096)","v":0},null,null,null,4,null,"Yes"]
[null,"Other Expenses",null,null,0,null,{"$f":"SUMIFS('Transaction Details'!$K$4:$K$10109,'Transaction Details'!$E$4:$E$10109,$B105,'Transaction Details'!$W$4:$W$10109,$G$8)","v":0},null,{"$f":"SUMIF('Transaction Details'!$E$4:$E$1096, B105, 'Transaction Details'!$Y$4:$Y$1096)","v":0},null,null,null,4,null,"Yes"]
[]
[null,"Total Payments",null,null,{"$f":"SUM(E53:E106)","v":0},null,{"$f":"SUM(G53:G106)","v":7099.5},null,{"$f":"SUM(I53:I106)","v":28009.5}]
[]
[null,"Net Receipts / (Payments)",null,null,{"$f":"E49-E107","v":0},null,{"$f":"G49-G107","v":2630.5},null,{"$f":"I49-I107","v":10230.699999999997}]
[]
[]
[null,"Net Receipts/(Payments) processed by the Bank Account, Debit Card and Petty Cash",null,null,null,null,null,null,{"$f":"'BankRec Main Acct'!$E$26+'BankRec Sub Bank Acct'!$E$26+'DebitCard Rec '!$E$26+'PettyCash Rec'!$E$15-SUM(Master!C14+Master!C15+Master!C17+Master!C16)","v":10230.700000000001}]
[]
[null,"Reconciliation",null,null,null,null,null,null,{"$f":"IF(ABS($I$109-$I$112)<1, \"Yes\", \"No\")","v":"Yes"}]

{"sheet":"BankRec Main Acct","index":8,"n_rows":29,"n_cols":11,"rows_kept":29,"cut":false,"hidden":false,"merged":[[1,1,1,4],[2,1,2,4],[3,1,3,4],[7,8,7,10]]}
[]
[null,{"$f":"Master!C4","v":"The Sesame St State School \nP&C Association"}]
[null,"Bank Reconciliation Statement"]
[null,{"$f":"CONCATENATE(\"For Period Ending\", \" \", DAY(EOMONTH($E$8, 0)),\" \", TEXT($E$8,\"mmmm, yyyy\"))","v":"For Period Ending 31 March, 2019"}]
[]
[null,null,null,null,{"$f":"Master!C6","v":2019}]
[null,null,null,null,"$"]
[null,"Bank Reconciliation Statement for the Month of: ",null,null,{"$f":"'P&L'!$E$8","v":"2019-03-01"},null,null,null,"Calculate Opening Balance for the Reporting Month"]
[]
[null,"Opening Balance on Bank Statement",null,null,{"$f":"$K$15","v":9170.2000000000007},null,null,null,"Opening balance for the financial year",{"$f":"Master!C14","v":900}]
[]
[null,"Add: ","Receipts processed and presented on Bank Statement ",null,{"$f":"SUMIF('Transaction Details'!$O4:$O10083,  $E$8, 'Transaction Details'!$Z4:$Z10083)","v":9730},null,null,null,"YTD receipts processed on bank statements",{"$f":"SUM('Transaction Details'!AA$4:$AA$5016)","v":38240.199999999997}]
[null,"Less: ","Payments processed and presented on Bank Statement",null,{"$f":"SUMIF('Transaction Details'!$O4:$O10084,  $E$8, 'Transaction Details'!$AC4:$AC10084)","v":3627.2},null,null,null,"YTD payments processed on bank statements",{"$f":"SUM('Transaction Details'!$AD$4:$AD$5017)","v":23867.200000000001}]
[]
[null,"Calculated Closing Balance ",null,null,{"$f":"E10+E12-E13","v":15273},null,null,null,"Calculated closing balance",{"$f":"J10+J12-J13","v":15272.999999999996},9170.2000000000007]
[]
[null,"Closing Balance on Bank Statement",null,null,{"$f":"Reporting!$C$30","v":15273},null,null,null,"Add: Unpresented Receipts at reporting date",{"$f":"SUMIFS('Transaction Details'!$AB$4:$AB$10083,'Transaction Details'!$A$4:$A$10083, \">\"&'P&L'!$P$7,'Transaction Details'!$A$4:$A$10083, \"<\"&'P&L'!$P$8 )","v":0}]
[null,null,null,null,null,null,null,null,"Less: Unpresented Payments at reporting date",{"$f":"SUMIFS('Transaction Details'!$AE$4:$AE$10083,'Transaction Details'!$A$4:$A$10083, \">\"&'P&L'!$P$7,'Transaction Details'!$A$4:$A$10083, \"<\"&'P&L'!$P$8 )","v":3930}]
[null,"Difference ","(If balance is not 0.00 double check all entries)",null,{"$f":"E15-E17","v":0}]
[null,null,null,null,null,null,null,null,"Adjusted bank balance",{"$f":"J15+J17-J18","v":11342.999999999996},9020.2000000000007]
[null,"Unpresented Receipts and Payments "]
[]
[null,"Add: ","Unpresented Receipts at reporting date",null,{"$f":"SUMIFS('Transaction Details'!$AB$4:$AB$10083,'Transaction Details'!$A$4:$A$10083, \">\"&'P&L'!$P$7,'Transaction Details'!$A$4:$A$10083, \"<\"&'P&L'!$P$8 )","v":0}]
[null,"Less:","Unpresented Payments at reporting date",null,{"$f":"SUMIFS('Transaction Details'!$AE$4:$AE$10083,'Transaction Details'!$A$4:$A$10083, \">\"&'P&L'!$P$7,'Transaction Details'!$A$4:$A$10083, \"<\"&'P&L'!$P$8 )","v":3930}]
[]
[null,"Adjusted Bank Balance ",null,null,{"$f":"E15+E23-E24","v":11343}]
[]
[]
[null,"Reconciliation",null,null,{"$f":"IF(ABS($E$15-$E$17)<1, \"Yes\", \"No\")","v":"Yes"}]

{"sheet":"BankRec Sub Bank Acct","index":9,"n_rows":29,"n_cols":11,"rows_kept":29,"cut":false,"hidden":false,"merged":[[1,1,1,4],[2,1,2,4],[3,1,3,4],[7,8,7,10]]}
[]
[null,{"$f":"Master!C4","v":"The Sesame St State School \nP&C Association"}]
[null,"Bank Reconciliation Statement"]
[null,{"$f":"CONCATENATE(\"For Period Ending\", \" \", DAY(EOMONTH($E$8, 0)),\" \", TEXT($E$8,\"mmmm, yyyy\"))","v":"For Period Ending 31 March, 2019"}]
[]
[null,null,null,null,{"$f":"Master!C6","v":2019}]
[null,null,null,null,"$"]
[null,"Bank Reconciliation Statement for the Month of: ",null,null,{"$f":"'P&L'!$E$8","v":"2019-03-01"},null,null,null,"Calculate Opening Balance for the Reporting Month"]
[]
[null,"Opening Balance on Bank Statement",null,null,{"$f":"$K$15","v":0},null,null,null,"Opening balance for the financial year",{"$f":"Master!C15","v":0}]
[]
[null,"Add: ","Receipts processed and presented on Bank Statement ",null,{"$f":"SUMIF('Transaction Details'!$S4:$S10083,  $E$8, 'Transaction Details'!$AF4:$AF10083)","v":0},null,null,null,"YTD receipts processed on bank statements",{"$f":"SUM('Transaction Details'!AG$4:$AG$5016)","v":0}]
[null,"Less: ","Payments processed and presented on Bank Statement",null,{"$f":"SUMIF('Transaction Details'!$S4:$S10084,  $E$8, 'Transaction Details'!$AI4:$AI10084)","v":0},null,null,null,"YTD payments processed on bank statements",{"$f":"SUM('Transaction Details'!$AJ$4:$AJ$5017)","v":0}]
[]
[null,"Calculated Closing Balance ",null,null,{"$f":"E10+E12-E13","v":0},null,null,null,"Calculated closing balance",{"$f":"J10+J12-J13","v":0},0]
[]
[null,"Closing Balance on Bank Statement",null,null,{"$f":"Reporting!$C$31","v":0},null,null,null,"Add: Unpresented Receipts at reporting date",{"$f":"SUMIFS('Transaction Details'!$AH$4:$AH$10083,'Transaction Details'!$A$4:$A$10083, \">\"&'P&L'!$P$7,'Transaction Details'!$A$4:$A$10083, \"<\"&'P&L'!$P$8 )","v":0}]
[null,null,null,null,null,null,null,null,"Less: Unpresented Payments at reporting date",{"$f":"SUMIFS('Transaction Details'!$AK$4:$AK$10083,'Transaction Details'!$A$4:$A$10083, \">\"&'P&L'!$P$7,'Transaction Details'!$A$4:$A$10083, \"<\"&'P&L'!$P$8 )","v":0}]
[null,"Difference ","(If balance is not 0.00 double check all entries)",null,{"$f":"E15-E17","v":0}]
[null,null,null,null,null,null,null,null,"Adjusted bank balance",{"$f":"J15+J17-J18","v":0},0]
[null,"Unpresented Receipts and Payments "]
[]
[null,"Add: ","Unpresented Receipts at reporting date",null,{"$f":"SUMIFS('Transaction Details'!$AH$4:$AH$10083,'Transaction Details'!$A$4:$A$10083, \">\"&'P&L'!$P$7,'Transaction Details'!$A$4:$A$10083, \"<\"&'P&L'!$P$8 )","v":0}]
[null,"Less:","Unpresented Payments at reporting date",null,{"$f":"SUMIFS('Transaction Details'!$AK$4:$AK$10083,'Transaction Details'!$A$4:$A$10083, \">\"&'P&L'!$P$7,'Transaction Details'!$A$4:$A$10083, \"<\"&'P&L'!$P$8 )","v":0}]
[]
[null,"Adjusted Bank Balance ",null,null,{"$f":"E15+E23-E24","v":0}]
[]
[]
[null,"Reconciliation",null,null,{"$f":"IF(ABS($E$15-$E$17)<1, \"Yes\", \"No\")","v":"Yes"}]

{"sheet":"DebitCard Rec ","index":10,"n_rows":29,"n_cols":11,"rows_kept":29,"cut":false,"hidden":false,"merged":[[1,1,1,4],[2,1,2,4],[3,1,3,4],[7,8,7,10]]}
[]
[null,{"$f":"Master!C4","v":"The Sesame St State School \nP&C Association"}]
[null,"Debit Card Reconciliation Statement"]
[null,{"$f":"CONCATENATE(\"For Period Ending\", \" \", DAY(EOMONTH(E8, 0)),\" \", TEXT(E8,\"mmmm, yyyy\"))","v":"For Period Ending 31 March, 2019"}]
[]
[null,null,null,null,{"$f":"Master!C6","v":2019}]
[null,null,null,null,"$"]
[null,"Debit Card Statement for the Month of: ",null,null,{"$f":"'P&L'!E8","v":"2019-03-01"},null,null,null,"Calculate Opening Balance for the Reporting Month"]
[]
[null,"Opening Balance on Debit Card Bank Statement",null,null,{"$f":"$K$15","v":27},null,null,null,"Opening balance for the financial year",{"$f":"Master!C17","v":500}]
[]
[null,"Add: ","Receipts processed and presented on Debit Card Statement",null,{"$f":"SUMIF('Transaction Details'!$U$4:$U$1083,  $E$8, 'Transaction Details'!$AL$4:$AL$1083)","v":500},null,null,null,"YTD receipts processed on bank statements",{"$f":"SUM('Transaction Details'!AM$4:$AM$5016)","v":500}]
[null,"Less: ","Payments processed and presented on Debit Card Statement",null,{"$f":"SUMIF('Transaction Details'!$U$4:$U$1083,  $E$8, 'Transaction Details'!$AO$4:$AO$1083)","v":222},null,null,null,"YTD payments processed on bank statements",{"$f":"SUM('Transaction Details'!$AP$4:$AP$5017)","v":695}]
[]
[null,"Calculated Closing Balance ",null,null,{"$f":"E10+E12-E13","v":305},null,null,null,"Calculated closing balance",{"$f":"J10+J12-J13","v":305},27]
[]
[null,"Closing Balance on Debit Card Statement",null,null,{"$f":"Reporting!$C$32","v":305},null,null,null,"Add: Unpresented Receipts at reporting date",{"$f":"SUMIFS('Transaction Details'!$AN$4:$AN$10093,'Transaction Details'!$A$4:$A$10093, \">\"&'P&L'!$P$7,'Transaction Details'!$A$4:$A$10093, \"<\"&'P&L'!$P$8 )","v":0}]
[null,null,null,null,null,null,null,null,"Less: Unpresented Payments at reporting date",{"$f":"SUMIFS('Transaction Details'!$AQ$4:$AQ$10093,'Transaction Details'!$A$4:$A$10093, \">\"&'P&L'!$P$7,'Transaction Details'!$A$4:$A$10093, \"<\"&'P&L'!$P$8 )","v":0}]
[null,"Difference ","(If balance is not 0.00 double check all entries)",null,{"$f":"E15-E17","v":0}]
[null,null,null,null,null,null,null,null,"Adjusted debit card balance",{"$f":"J15+J17-J18","v":305},27]
[null,"Unpresented Receipts and Payments "]
[]
[null,"Add: ","Unpresented Receipts at reporting date",null,{"$f":"SUMIFS('Transaction Details'!$AN$4:$AN$10093,'Transaction Details'!$A$4:$A$10093, \">\"&'P&L'!$P$7,'Transaction Details'!$A$4:$A$10093, \"<\"&'P&L'!$P$8 )","v":0}]
[null,"Less:","Unpresented Payments at reporting date",null,{"$f":"SUMIFS('Transaction Details'!$AQ$4:$AQ$10093,'Transaction Details'!$A$4:$A$10093, \">\"&'P&L'!$P$7,'Transaction Details'!$A$4:$A$10093, \"<\"&'P&L'!$P$8 )","v":0}]
[]
[null,"Adjusted Debit Card Balance ",null,null,{"$f":"E15+E23-E24","v":305}]
[]
[]
[null,"Reconciliation",null,null,{"$f":"IF(ABS($E$15-$E$17)<1, \"Yes\", \"No\")","v":"Yes"}]

{"sheet":"PettyCash Rec","index":11,"n_rows":24,"n_cols":11,"rows_kept":24,"cut":false,"hidden":false,"merged":[[1,1,1,4],[2,1,2,4],[3,1,3,4],[7,8,7,10]]}
[]
[null,{"$f":"Master!C4","v":"The Sesame St State School \nP&C Association"}]
[null,"Petty Cash Reconciliation Statement"]
[null,{"$f":"CONCATENATE(\"For Period Ending\", \" \", DAY(EOMONTH(E8, 0)),\" \", TEXT(E8,\"mmmm, yyyy\"))","v":"For Period Ending 31 March, 2019"}]
[]
[null,null,null,null,{"$f":"Master!C6","v":2019}]
[null,null,null,null,"$"]
[null,"Petty Cash Statement for the Month of: ",null,null,{"$f":"'P&L'!E8","v":"2019-03-01"},null,null,null,"Calculate Opening Balance for the Reporting Month"]
[]
[null,"Petty Cash Opening Balance ",null,null,{"$f":"$K$15","v":53},null,null,null,"Opening balance for the financial year",{"$f":"Master!C16","v":100}]
[]
[null,"Add: ","Petty cash Receipt","(incl. Float top up)",{"$f":"SUMIFS('Transaction Details'!$K$4:$K$10093,'Transaction Details'!$AV$4:$AV$10093, $C$12,'Transaction Details'!$W$4:$W$10093,$E$8)","v":47.2},null,null,null,"YTD receipts ",{"$f":"SUM('Transaction Details'!$AS$4:AS$5016)","v":47.2}]
[null,"Less: ","Petty cash Payment","(purchases made using petty cash)",{"$f":"SUMIFS('Transaction Details'!$K$4:$K$10093,'Transaction Details'!$AV$4:$AV$10093,$C$13,'Transaction Details'!$W$4:$W$10093,$E$8)","v":17.5},null,null,null,"YTD payments ",{"$f":"SUM('Transaction Details'!$AU$4:$AU$5017)","v":64.5}]
[]
[null,"Calculated Petty Cash Closing  Balance",null,null,{"$f":"E10+E12-E13","v":82.7},null,null,null,"Calculated closing balance",{"$f":"J10+J12-J13","v":82.699999999999989},53]
[]
[null,"Total Cash On Hand",null,null,{"$f":"Reporting!$C$33","v":82.7}]
[]
[]
[null,"Cash shortage /over (difference between cash on hand and established fund) ",null,null,{"$f":"E15-E17","v":0}]
[]
[]
[]
[null,"Reconciliation",null,null,{"$f":"IF(ABS($E$15-$E$17)<1, \"Yes\", \"No\")","v":"Yes"}]

{"sheet":"Bookshop Stmnt","index":12,"n_rows":51,"n_cols":15,"rows_kept":51,"cut":false,"hidden":false,"merged":[[1,1,1,8],[2,1,2,8],[3,1,3,8],[6,12,8,12]]}
[]
[null,{"$f":"Master!C4","v":"The Sesame St State School \nP&C Association"}]
[null,"Trading Statement - Bookshop"]
[null,{"$f":"'P&L'!B4:I4","v":"For Period Ending 31 March, 2019"}]
[]
[null,null,null,null,"Month",null,{"$f":"Master!$C$6","v":2019},null,{"$f":"Master!$C$6-1","v":2018}]
[null,null,null,null,"$",null,"$",null,"$",null,null,null,"Formula\nType"]
[null,null,null,null,{"$f":"'P&L'!E8","v":"2019-03-01"},null,{"$f":"CONCATENATE(\"Jan to\",  \" \",  TEXT($E$8, \"MMM-YY\"))","v":"Jan to Mar-19"},null,"Previous year total",null,null,null,null,null,"Calculations"]
[]
[null,"Sales Bookshop",null,null,{"$f":"SUMIFS('Transaction Details'!$K$4:$K$10015,'Transaction Details'!$AW$4:$AW$10015,B10,'Transaction Details'!$W$4:$W$10015,$E$8)","v":0},null,{"$f":"SUMIF('Transaction Details'!$AW$4:$AW$10015, B10, 'Transaction Details'!$Y$4:$Y$10015)","v":0},null,0,null,null,null,1]
[]
[null,"Opening Stock",null,null,{"$f":"IF(ISERROR(VLOOKUP($E$8, 'Stock Reg'!$B$6:$D$17, 2, FALSE)), 0, VLOOKUP($E$8, 'Stock Reg'!$B$6:$D$17, 2, FALSE))","v":0},null,{"$f":"'Stock Reg'!$C$6","v":0},null,0,null,null,null,2]
[null,"Bookshop Stock purchase",null,null,{"$f":"SUMIFS('Transaction Details'!$K$4:$K$10015,'Transaction Details'!$AX$4:$AX$10015,$B$13,'Transaction Details'!$W$4:$W$10015,$E$8)","v":0},null,{"$f":"SUMIF('Transaction Details'!$AX$4:$AX$10015, B13, 'Transaction Details'!$Y$4:$Y$10015)","v":0},null,0,null,null,null,3]
[null,"Closing Stock",null,null,{"$f":"IF(ISERROR(VLOOKUP($E$8, 'Stock Reg'!$B$6:$D$17, 3, FALSE)), 0, VLOOKUP($E$8, 'Stock Reg'!$B$6:$D$17, 3, FALSE))","v":0},null,{"$f":"IF(ISERROR(VLOOKUP($E$8, 'Stock Reg'!$B$6:$D$17, 3, FALSE)), 0, VLOOKUP($E$8, 'Stock Reg'!$B$6:$D$17, 3, FALSE))","v":0},null,0,null,null,null,4]
[]
[null,"Cost of Goods Sold",null,null,{"$f":"E12+E13-E14","v":0},null,{"$f":"G12+G13-G14","v":0},null,{"$f":"I12+I13-I14","v":0}]
[]
[null,"Gross Income / (Loss)",null,null,{"$f":"E10-E16","v":0},null,{"$f":"G10-G16","v":0},null,{"$f":"I10-I16","v":0}]
[]
[]
[null,"Operating Expenses"]
[null,"Bookshop Accountant fees",null,null,{"$f":"SUMIFS('Transaction Details'!$K$4:$K$10109,'Transaction Details'!$AX$4:$AX$10109,$B22,'Transaction Details'!$W$4:$W$10109,$E$8)","v":0},null,{"$f":"SUMIF('Transaction Details'!$AX$4:$AX$1096, B22, 'Transaction Details'!$Y$4:$Y$1096)","v":0},null,0,null,null,null,3,null,{"$f":"IF(AND(E22<1,G22<1,I22<1),\"Yes\",\"\")","v":"Yes"}]
[null,"Bookshop Advertising and marketing",null,null,{"$f":"SUMIFS('Transaction Details'!$K$4:$K$10109,'Transaction Details'!$AX$4:$AX$10109,$B23,'Transaction Details'!$W$4:$W$10109,$E$8)","v":0},null,{"$f":"SUMIF('Transaction Details'!$AX$4:$AX$1096, B23, 'Transaction Details'!$Y$4:$Y$1096)","v":0},null,0,null,null,null,3,null,"Yes"]
[null,"Bookshop Audit fees",null,null,{"$f":"SUMIFS('Transaction Details'!$K$4:$K$10109,'Transaction Details'!$AX$4:$AX$10109,$B24,'Transaction Details'!$W$4:$W$10109,$E$8)","v":0},null,{"$f":"SUMIF('Transaction Details'!$AX$4:$AX$1096, B24, 'Transaction Details'!$Y$4:$Y$1096)","v":0},null,0,null,null,null,3,null,"Yes"]
[null,"Bookshop Bank charges",null,null,{"$f":"SUMIFS('Transaction Details'!$K$4:$K$10109,'Transaction Details'!$AX$4:$AX$10109,$B25,'Transaction Details'!$W$4:$W$10109,$E$8)","v":0},null,{"$f":"SUMIF('Transaction Details'!$AX$4:$AX$1096, B25, 'Transaction Details'!$Y$4:$Y$1096)","v":0},null,0,null,null,null,3,null,"Yes"]
[null,"Bookshop Donations",null,null,{"$f":"SUMIFS('Transaction Details'!$K$4:$K$10109,'Transaction Details'!$AX$4:$AX$10109,$B26,'Transaction Details'!$W$4:$W$10109,$E$8)","v":0},null,{"$f":"SUMIF('Transaction Details'!$AX$4:$AX$1096, B26, 'Transaction Details'!$Y$4:$Y$1096)","v":0},null,0,null,null,null,3,null,"Yes"]
[null,"Bookshop Depreciation",null,null,0,null,0,null,0,null,null,null,4,null,"Yes"]
[null,"Bookshop Equipment/tools",null,null,{"$f":"SUMIFS('Transaction Details'!$K$4:$K$10109,'Transaction Details'!$AX$4:$AX$10109,$B28,'Transaction Details'!$W$4:$W$10109,$E$8)","v":0},null,{"$f":"SUMIF('Transaction Details'!$AX$4:$AX$1096, B28, 'Transaction Details'!$Y$4:$Y$1096)","v":0},null,0,null,null,null,3,null,"Yes"]
[null,"Bookshop Fundraising Expenses",null,null,{"$f":"SUMIFS('Transaction Details'!$K$4:$K$10109,'Transaction Details'!$AX$4:$AX$10109,$B29,'Transaction Details'!$W$4:$W$10109,$E$8)","v":0},null,{"$f":"SUMIF('Transaction Details'!$AX$4:$AX$1096, B29, 'Transaction Details'!$Y$4:$Y$1096)","v":0},null,0,null,null,null,3,null,"Yes"]
[null,"Bookshop Loan repayment - interest expenses",null,null,{"$f":"SUMIFS('Transaction Details'!$K$4:$K$10109,'Transaction Details'!$AX$4:$AX$10109,$B30,'Transaction Details'!$W$4:$W$10109,$E$8)","v":0},null,{"$f":"SUMIF('Transaction Details'!$AX$4:$AX$1096, B30, 'Transaction Details'!$Y$4:$Y$1096)","v":0},null,0,null,null,null,3,null,{"$f":"IF(AND(E30<1,G30<1,I30<1),\"Yes\",\"\")","v":"Yes"}]
[null,"Bookshop Insurance",null,null,{"$f":"SUMIFS('Transaction Details'!$K$4:$K$10109,'Transaction Details'!$AX$4:$AX$10109,$B31,'Transaction Details'!$W$4:$W$10109,$E$8)","v":0},null,{"$f":"SUMIF('Transaction Details'!$AX$4:$AX$1096, B31, 'Transaction Details'!$Y$4:$Y$1096)","v":0},null,0,null,null,null,3,null,"Yes"]
[null,"Bookshop Membership and subscriptions",null,null,{"$f":"SUMIFS('Transaction Details'!$K$4:$K$10109,'Transaction Details'!$AX$4:$AX$10109,$B32,'Transaction Details'!$W$4:$W$10109,$E$8)","v":0},null,{"$f":"SUMIF('Transaction Details'!$AX$4:$AX$1096, B32, 'Transaction Details'!$Y$4:$Y$1096)","v":0},null,0,null,null,null,3,null,"Yes"]
[null,"Bookshop Annual Leave",null,null,{"$f":"IF(ISERROR(VLOOKUP('P&L'!$E$8, 'Provision Reg'!$B$6:$AN$17, 19, FALSE)), 0, VLOOKUP('P&L'!$E$8, 'Provision Reg'!$B$6:$AN$17, 19, FALSE))","v":0},null,{"$f":"IF(ISERROR(VLOOKUP('P&L'!$E$8, 'Provision Reg'!$B$6:$AN$17, 20, FALSE)), 0, VLOOKUP('P&L'!$E$8, 'Provision Reg'!$B$6:$AN$17, 20, FALSE))","v":0},null,0,null,null,null,5,null,"Yes"]
[null,"Bookshop Long Service Leave",null,null,{"$f":"IF(ISERROR(VLOOKUP('P&L'!$E$8, 'Provision Reg'!$B$23:$AN$34, 19, FALSE)), 0, VLOOKUP('P&L'!$E$8, 'Provision Reg'!$B$23:$AN$34, 19, FALSE))","v":0},null,{"$f":"IF(ISERROR(VLOOKUP('P&L'!$E$8, 'Provision Reg'!$B$23:$AN$34, 20, FALSE)), 0, VLOOKUP('P&L'!$E$8, 'Provision Reg'!$B$23:$AN$34, 20, FALSE))","v":0},null,0,null,null,null,6,null,"Yes"]
[null,"Bookshop Printing",null,null,{"$f":"SUMIFS('Transaction Details'!$K$4:$K$10109,'Transaction Details'!$AX$4:$AX$10109,$B35,'Transaction Details'!$W$4:$W$10109,$E$8)","v":0},null,{"$f":"SUMIF('Transaction Details'!$AX$4:$AX$1096, B35, 'Transaction Details'!$Y$4:$Y$1096)","v":0},null,0,null,null,null,3,null,"Yes"]
[null,"Bookshop Repairs and maintenance",null,null,{"$f":"SUMIFS('Transaction Details'!$K$4:$K$10109,'Transaction Details'!$AX$4:$AX$10109,$B36,'Transaction Details'!$W$4:$W$10109,$E$8)","v":0},null,{"$f":"SUMIF('Transaction Details'!$AX$4:$AX$1096, B36, 'Transaction Details'!$Y$4:$Y$1096)","v":0},null,0,null,null,null,3,null,"Yes"]
[null,"Bookshop School premise/facility hire",null,null,{"$f":"SUMIFS('Transaction Details'!$K$4:$K$10109,'Transaction Details'!$AX$4:$AX$10109,$B37,'Transaction Details'!$W$4:$W$10109,$E$8)","v":0},null,{"$f":"SUMIF('Transaction Details'!$AX$4:$AX$1096, B37, 'Transaction Details'!$Y$4:$Y$1096)","v":0},null,0,null,null,null,3,null,"Yes"]
[null,"Bookshop Stationery and postage",null,null,{"$f":"SUMIFS('Transaction Details'!$K$4:$K$10109,'Transaction Details'!$AX$4:$AX$10109,$B38,'Transaction Details'!$W$4:$W$10109,$E$8)","v":0},null,{"$f":"SUMIF('Transaction Details'!$AX$4:$AX$1096, B38, 'Transaction Details'!$Y$4:$Y$1096)","v":0},null,0,null,null,null,3,null,"Yes"]
[null,"Bookshop Superannuation",null,null,{"$f":"SUMIFS('Transaction Details'!$K$4:$K$10109,'Transaction Details'!$AX$4:$AX$10109,$B39,'Transaction Details'!$W$4:$W$10109,$E$8)","v":0},null,{"$f":"SUMIF('Transaction Details'!$AX$4:$AX$1096, B39, 'Transaction Details'!$Y$4:$Y$1096)","v":0},null,0,null,null,null,3,null,"Yes"]
[null,"Bookshop Wages",null,null,{"$f":"SUMIFS('Transaction Details'!$K$4:$K$10109,'Transaction Details'!$AX$4:$AX$10109,$B40,'Transaction Details'!$W$4:$W$10109,$E$8)","v":0},null,{"$f":"SUMIF('Transaction Details'!$AX$4:$AX$1096, B40, 'Transaction Details'!$Y$4:$Y$1096)","v":0},null,0,null,null,null,3,null,"Yes"]
[null,"Bookshop Other Expenses",null,null,{"$f":"SUMIFS('Transaction Details'!$K$4:$K$10109,'Transaction Details'!$AX$4:$AX$10109,$B41,'Transaction Details'!$W$4:$W$10109,$E$8)","v":0},null,{"$f":"SUMIF('Transaction Details'!$AX$4:$AX$1096, B41, 'Transaction Details'!$Y$4:$Y$1096)","v":0},null,0,null,null,null,3,null,"Yes"]
[]
[null,"Total Operating Expenses",null,null,{"$f":"SUM(E22:E42)","v":0},null,{"$f":"SUM(G22:G42)","v":0},null,{"$f":"SUM(I22:I42)","v":0}]
[]
[null,"Bookshop Net Income / (Loss)",null,null,{"$f":"E18-E43","v":0},null,{"$f":"G18-G43","v":0},null,{"$f":"I18-I43","v":0}]
[]
[]
[]
[null,"Formula:"]
[null,"Depreciation for bookshop is currently set to zero"]
[null,"The formula in E27 & G27 needs updating if the bookshop has a depreciated asset."]

{"sheet":"Tuckshop Stmnt","index":13,"n_rows":45,"n_cols":15,"rows_kept":45,"cut":false,"hidden":false,"merged":[[1,1,1,8],[2,1,2,8],[3,1,3,8],[6,12,8,12]]}
[]
[null,{"$f":"Master!C4","v":"The Sesame St State School \nP&C Association"}]
[null,"Trading Statement - Tuckshop"]
[null,{"$f":"'P&L'!B4:I4","v":"For Period Ending 31 March, 2019"}]
[]
[null,null,null,null,"Month",null,{"$f":"Master!C6","v":2019},null,{"$f":"Master!C6-1","v":2018}]
[null,null,null,null,"$",null,"$",null,"$",null,null,null,"Formula\nType"]
[null,null,null,null,{"$f":"'P&L'!E8","v":"2019-03-01"},null,{"$f":"CONCATENATE(\"Jan to\",  \" \",  TEXT(E8, \"MMM-YY\"))","v":"Jan to Mar-19"},null,"Previous year total",null,null,null,null,null,"Calculations"]
[]
[null,"Sales Tuckshop",null,null,{"$f":"SUMIFS('Transaction Details'!$K$4:$K$10109,'Transaction Details'!$AW$4:$AW$10109,B10,'Transaction Details'!$W$4:$W$10109,$E$8)","v":530},null,{"$f":"SUMIF('Transaction Details'!$AW$4:$AW$1096, B10, 'Transaction Details'!$Y$4:$Y$1096)","v":9660.2000000000007},null,0,null,null,null,1]
[]
[null,"Opening Stock",null,null,{"$f":"IF(ISERROR(VLOOKUP($E$8, 'Stock Reg'!$B$6:$H$17, 4, FALSE)), 0, VLOOKUP($E$8, 'Stock Reg'!$B$6:$H$17, 4, FALSE))","v":750.86},null,{"$f":"'Stock Reg'!E6","v":120},null,0,null,null,null,2]
[null,"Tuckshop Stock purchase",null,null,{"$f":"SUMIFS('Transaction Details'!$K$4:$K$10109,'Transaction Details'!$AX$4:$AX$10109,$B$13,'Transaction Details'!$W$4:$W$10109,$E$8)","v":1105},null,{"$f":"SUMIF('Transaction Details'!$AX$4:$AX$1096, B13, 'Transaction Details'!$Y$4:$Y$1096)","v":8127},null,0,null,null,null,3]
[null,"Closing Stock",null,null,{"$f":"IF(ISERROR(VLOOKUP($E$8, 'Stock Reg'!$B$6:$H$17, 5, FALSE)), 0, VLOOKUP($E$8, 'Stock Reg'!$B$6:$H$17, 5, FALSE))","v":1484.86},null,{"$f":"IF(ISERROR(VLOOKUP($E$8, 'Stock Reg'!$B$6:$H$17, 5, FALSE)), 0, VLOOKUP($E$8, 'Stock Reg'!$B$6:$H$17, 5, FALSE))","v":1484.86},null,0,null,null,null,4]
[]
[null,"Cost of Goods Sold",null,null,{"$f":"E12+E13-E14","v":371.00000000000023},null,{"$f":"G12+G13-G14","v":6762.14},null,{"$f":"I12+I13-I14","v":0}]
[]
[null,"Gross Income / (Loss)",null,null,{"$f":"E10-E16","v":158.99999999999977},null,{"$f":"G10-G16","v":2898.0600000000004},null,{"$f":"I10-I16","v":0}]
[]
[]
[null,"Operating Expenses"]
[null,"Tuckshop Accountant fees",null,null,{"$f":"SUMIFS('Transaction Details'!$K$4:$K$10109,'Transaction Details'!$AX$4:$AX$10109,$B22,'Transaction Details'!$W$4:$W$10109,$E$8)","v":0},null,{"$f":"SUMIF('Transaction Details'!$AX$4:$AX$1096, B22, 'Transaction Details'!$Y$4:$Y$1096)","v":0},null,0,null,null,null,3,null,{"$f":"IF(AND(E22<1,G22<1,I22<1),\"Yes\",\"\")","v":"Yes"}]
[null,"Tuckshop Advertising and marketing",null,null,{"$f":"SUMIFS('Transaction Details'!$K$4:$K$10109,'Transaction Details'!$AX$4:$AX$10109,$B23,'Transaction Details'!$W$4:$W$10109,$E$8)","v":0},null,{"$f":"SUMIF('Transaction Details'!$AX$4:$AX$1096, B23, 'Transaction Details'!$Y$4:$Y$1096)","v":0},null,0,null,null,null,3,null,{"$f":"IF(AND(E23<1,G23<1,I23<1),\"Yes\",\"\")","v":"Yes"}]
[null,"Tuckshop Audit fees",null,null,{"$f":"SUMIFS('Transaction Details'!$K$4:$K$10109,'Transaction Details'!$AX$4:$AX$10109,$B24,'Transaction Details'!$W$4:$W$10109,$E$8)","v":0},null,{"$f":"SUMIF('Transaction Details'!$AX$4:$AX$1096, B24, 'Transaction Details'!$Y$4:$Y$1096)","v":0},null,0,null,null,null,3,null,"Yes"]
[null,"Tuckshop Bank charges",null,null,{"$f":"SUMIFS('Transaction Details'!$K$4:$K$10109,'Transaction Details'!$AX$4:$AX$10109,$B25,'Transaction Details'!$W$4:$W$10109,$E$8)","v":0},null,{"$f":"SUMIF('Transaction Details'!$AX$4:$AX$1096, B25, 'Transaction Details'!$Y$4:$Y$1096)","v":0},null,0,null,null,null,3,null,"Yes"]
[null,"Tuckshop Donations",null,null,{"$f":"SUMIFS('Transaction Details'!$K$4:$K$10109,'Transaction Details'!$AX$4:$AX$10109,$B26,'Transaction Details'!$W$4:$W$10109,$E$8)","v":0},null,{"$f":"SUMIF('Transaction Details'!$AX$4:$AX$1096, B26, 'Transaction Details'!$Y$4:$Y$1096)","v":0},null,0,null,null,null,3,null,"Yes"]
[null,"Tuckshop Depreciation",null,null,{"$f":"IF(ISERROR(VLOOKUP('P&L'!$E$8, 'Asset Reg'!$B$9:$G$68, 4, FALSE)), 0, VLOOKUP('P&L'!$E$8, 'Asset Reg'!$B$9:$G$68, 4, FALSE))","v":250},null,{"$f":"IF(ISERROR(VLOOKUP('P&L'!$E$8, 'Asset Reg'!$B$9:$G$68, 5, FALSE)), 0, VLOOKUP('P&L'!$E$8, 'Asset Reg'!$B$9:$G$68, 5, FALSE))","v":750},null,0,null,null,null,4,null,""]
[null,"Tuckshop Equipment/tools",null,null,{"$f":"SUMIFS('Transaction Details'!$K$4:$K$10109,'Transaction Details'!$AX$4:$AX$10109,$B28,'Transaction Details'!$W$4:$W$10109,$E$8)","v":0},null,{"$f":"SUMIF('Transaction Details'!$AX$4:$AX$1096, B28, 'Transaction Details'!$Y$4:$Y$1096)","v":0},null,0,null,null,null,3,null,"Yes"]
[null,"Tuckshop Fundraising Expenses",null,null,{"$f":"SUMIFS('Transaction Details'!$K$4:$K$10109,'Transaction Details'!$AX$4:$AX$10109,$B29,'Transaction Details'!$W$4:$W$10109,$E$8)","v":0},null,{"$f":"SUMIF('Transaction Details'!$AX$4:$AX$1096, B29, 'Transaction Details'!$Y$4:$Y$1096)","v":0},null,0,null,null,null,3,null,"Yes"]
[null,"Tuckshop Loan repayment - interest expenses",null,null,{"$f":"SUMIFS('Transaction Details'!$K$4:$K$10109,'Transaction Details'!$AX$4:$AX$10109,$B30,'Transaction Details'!$W$4:$W$10109,$E$8)","v":100},null,{"$f":"SUMIF('Transaction Details'!$AX$4:$AX$1096, B30, 'Transaction Details'!$Y$4:$Y$1096)","v":300},null,0,null,null,null,3,null,{"$f":"IF(AND(E30<1,G30<1,I30<1),\"Yes\",\"\")","v":""}]
[null,"Tuckshop Insurance",null,null,{"$f":"SUMIFS('Transaction Details'!$K$4:$K$10109,'Transaction Details'!$AX$4:$AX$10109,$B31,'Transaction Details'!$W$4:$W$10109,$E$8)","v":0},null,{"$f":"SUMIF('Transaction Details'!$AX$4:$AX$1096, B31, 'Transaction Details'!$Y$4:$Y$1096)","v":0},null,0,null,null,null,3,null,"Yes"]
[null,"Tuckshop Membership and subscriptions",null,null,{"$f":"SUMIFS('Transaction Details'!$K$4:$K$10109,'Transaction Details'!$AX$4:$AX$10109,$B32,'Transaction Details'!$W$4:$W$10109,$E$8)","v":0},null,{"$f":"SUMIF('Transaction Details'!$AX$4:$AX$1096, B32, 'Transaction Details'!$Y$4:$Y$1096)","v":0},null,0,null,null,null,3,null,"Yes"]
[null,"Tuckshop Annual Leave",null,null,{"$f":"IF(ISERROR(VLOOKUP('P&L'!$E$8, 'Provision Reg'!$B$6:$AN$17, 27, FALSE)), 0, VLOOKUP('P&L'!$E$8, 'Provision Reg'!$B$6:$AN$17, 27, FALSE))","v":800},null,{"$f":"IF(ISERROR(VLOOKUP('P&L'!$E$8, 'Provision Reg'!$B$6:$AN$17, 28, FALSE)), 0, VLOOKUP('P&L'!$E$8, 'Provision Reg'!$B$6:$AN$17, 28, FALSE))","v":800},null,0,null,null,null,5,null,""]
[null,"Tuckshop Long Service Leave",null,null,{"$f":"IF(ISERROR(VLOOKUP('P&L'!$E$8, 'Provision Reg'!$B$23:$AN$34, 27, FALSE)), 0, VLOOKUP('P&L'!$E$8, 'Provision Reg'!$B$23:$AN$34, 27, FALSE))","v":100},null,{"$f":"IF(ISERROR(VLOOKUP('P&L'!$E$8, 'Provision Reg'!$B$23:$AN$34, 28, FALSE)), 0, VLOOKUP('P&L'!$E$8, 'Provision Reg'!$B$23:$AN$34, 28, FALSE))","v":100},null,0,null,null,null,6,null,""]
[null,"Tuckshop Printing",null,null,{"$f":"SUMIFS('Transaction Details'!$K$4:$K$10109,'Transaction Details'!$AX$4:$AX$10109,$B35,'Transaction Details'!$W$4:$W$10109,$E$8)","v":0},null,{"$f":"SUMIF('Transaction Details'!$AX$4:$AX$1096, B35, 'Transaction Details'!$Y$4:$Y$1096)","v":0},null,0,null,null,null,3,null,"Yes"]
[null,"Tuckshop Repairs and maintenance",null,null,{"$f":"SUMIFS('Transaction Details'!$K$4:$K$10109,'Transaction Details'!$AX$4:$AX$10109,$B36,'Transaction Details'!$W$4:$W$10109,$E$8)","v":0},null,{"$f":"SUMIF('Transaction Details'!$AX$4:$AX$1096, B36, 'Transaction Details'!$Y$4:$Y$1096)","v":0},null,0,null,null,null,3,null,"Yes"]
[null,"Tuckshop School premise/facility hire",null,null,{"$f":"SUMIFS('Transaction Details'!$K$4:$K$10109,'Transaction Details'!$AX$4:$AX$10109,$B37,'Transaction Details'!$W$4:$W$10109,$E$8)","v":0},null,{"$f":"SUMIF('Transaction Details'!$AX$4:$AX$1096, B37, 'Transaction Details'!$Y$4:$Y$1096)","v":0},null,0,null,null,null,3,null,"Yes"]
[null,"Tuckshop Stationery and postage",null,null,{"$f":"SUMIFS('Transaction Details'!$K$4:$K$10109,'Transaction Details'!$AX$4:$AX$10109,$B38,'Transaction Details'!$W$4:$W$10109,$E$8)","v":0},null,{"$f":"SUMIF('Transaction Details'!$AX$4:$AX$1096, B38, 'Transaction Details'!$Y$4:$Y$1096)","v":0},null,0,null,null,null,3,null,"Yes"]
[null,"Tuckshop Superannuation",null,null,{"$f":"SUMIFS('Transaction Details'!$K$4:$K$10109,'Transaction Details'!$AX$4:$AX$10109,$B39,'Transaction Details'!$W$4:$W$10109,$E$8)","v":300},null,{"$f":"SUMIF('Transaction Details'!$AX$4:$AX$1096, B39, 'Transaction Details'!$Y$4:$Y$1096)","v":300},null,0,null,null,null,3,null,""]
[null,"Tuckshop Wages",null,null,{"$f":"SUMIFS('Transaction Details'!$K$4:$K$10109,'Transaction Details'!$AX$4:$AX$10109,$B40,'Transaction Details'!$W$4:$W$10109,$E$8)","v":0},null,{"$f":"SUMIF('Transaction Details'!$AX$4:$AX$1096, B40, 'Transaction Details'!$Y$4:$Y$1096)","v":1600},null,0,null,null,null,3,null,""]
[null,"Tuckshop Other Expenses",null,null,{"$f":"SUMIFS('Transaction Details'!$K$4:$K$10109,'Transaction Details'!$AX$4:$AX$10109,$B41,'Transaction Details'!$W$4:$W$10109,$E$8)","v":0},null,{"$f":"SUMIF('Transaction Details'!$AX$4:$AX$1096, B41, 'Transaction Details'!$Y$4:$Y$1096)","v":0},null,0,null,null,null,3,null,"Yes"]
[]
[null,"Total Operating Expenses",null,null,{"$f":"SUM(E22:E42)","v":1550},null,{"$f":"SUM(G22:G42)","v":3850},null,{"$f":"SUM(I22:I42)","v":0}]
[]
[null,"Tuckshop Net Income / (Loss)",null,null,{"$f":"E18-E43","v":-1391.0000000000002},null,{"$f":"G18-G43","v":-951.9399999999996},null,{"$f":"I18-I43","v":0}]

{"sheet":"Uniformshop Stmnt","index":14,"n_rows":51,"n_cols":15,"rows_kept":51,"cut":false,"hidden":false,"merged":[[1,1,1,8],[2,1,2,8],[3,1,3,8],[6,12,8,12]]}
[]
[null,{"$f":"Master!C4","v":"The Sesame St State School \nP&C Association"}]
[null,"Trading Statement - Uniform shop"]
[null,{"$f":"'P&L'!B4:I4","v":"For Period Ending 31 March, 2019"}]
[]
[null,null,null,null,"Month",null,{"$f":"Master!$C$6","v":2019},null,{"$f":"Master!$C$6-1","v":2018}]
[null,null,null,null,"$",null,"$",null,"$",null,null,null,"Formula\nType"]
[null,null,null,null,{"$f":"'P&L'!E8","v":"2019-03-01"},null,{"$f":"CONCATENATE(\"Jan to\",  \" \",  TEXT(E8, \"MMM-YY\"))","v":"Jan to Mar-19"},null,"Previous year total",null,null,null,null,null,"Calculations"]
[]
[null,"Sales Uniform Shop",null,null,{"$f":"SUMIFS('Transaction Details'!$K$4:$K$10109,'Transaction Details'!$AW$4:$AW$10109,B10,'Transaction Details'!$W$4:$W$10109,$E$8)","v":0},null,{"$f":"SUMIF('Transaction Details'!$AW$4:$AW$1096, B10, 'Transaction Details'!$Y$4:$Y$1096)","v":9580},null,0,null,null,null,1]
[]
[null,"Opening Stock",null,null,{"$f":"IF(ISERROR(VLOOKUP($E$8, 'Stock Reg'!$B$6:$H$17, 6, FALSE)), 0, VLOOKUP($E$8, 'Stock Reg'!$B$6:$H$17, 6, FALSE))","v":3314},null,{"$f":"'Stock Reg'!G6","v":1250},null,0,null,null,null,2]
[null,"Uniform shop stock purchase",null,null,{"$f":"SUMIFS('Transaction Details'!$K$4:$K$10109,'Transaction Details'!$AX$4:$AX$10109,$B$13,'Transaction Details'!$W$4:$W$10109,$E$8)","v":150},null,{"$f":"SUMIF('Transaction Details'!$AX$4:$AX$1096, B13, 'Transaction Details'!$Y$4:$Y$1096)","v":8920},null,0,null,null,null,3]
[null,"Closing Stock",null,null,{"$f":"IF(ISERROR(VLOOKUP($E$8, 'Stock Reg'!$B$6:$H$17, 7, FALSE)), 0, VLOOKUP($E$8, 'Stock Reg'!$B$6:$H$17, 7, FALSE))","v":3464},null,{"$f":"IF(ISERROR(VLOOKUP($E$8, 'Stock Reg'!$B$6:$H$17, 7, FALSE)), 0, VLOOKUP($E$8, 'Stock Reg'!$B$6:$H$17, 7, FALSE))","v":3464},null,0,null,null,null,4]
[]
[null,"Cost of Goods Sold",null,null,{"$f":"E12+E13-E14","v":0},null,{"$f":"G12+G13-G14","v":6706},null,{"$f":"I12+I13-I14","v":0}]
[]
[null,"Gross Income / (Loss)",null,null,{"$f":"E10-E16","v":0},null,{"$f":"G10-G16","v":2874},null,{"$f":"I10-I16","v":0}]
[]
[]
[null,"Operating Expenses"]
[null,"Uniform shop Accountant fees",null,null,{"$f":"SUMIFS('Transaction Details'!$K$4:$K$10109,'Transaction Details'!$AX$4:$AX$10109,$B22,'Transaction Details'!$W$4:$W$10109,$E$8)","v":0},null,{"$f":"SUMIF('Transaction Details'!$AX$4:$AX$1096, B22, 'Transaction Details'!$Y$4:$Y$1096)","v":0},null,0,null,null,null,3,null,{"$f":"IF(AND(E22<1,G22<1,I22<1),\"Yes\",\"\")","v":"Yes"}]
[null,"Uniform shop Advertising and marketing",null,null,{"$f":"SUMIFS('Transaction Details'!$K$4:$K$10109,'Transaction Details'!$AX$4:$AX$10109,$B23,'Transaction Details'!$W$4:$W$10109,$E$8)","v":0},null,{"$f":"SUMIF('Transaction Details'!$AX$4:$AX$1096, B23, 'Transaction Details'!$Y$4:$Y$1096)","v":0},null,0,null,null,null,3,null,"Yes"]
[null,"Uniform shop Audit fees",null,null,{"$f":"SUMIFS('Transaction Details'!$K$4:$K$10109,'Transaction Details'!$AX$4:$AX$10109,$B24,'Transaction Details'!$W$4:$W$10109,$E$8)","v":0},null,{"$f":"SUMIF('Transaction Details'!$AX$4:$AX$1096, B24, 'Transaction Details'!$Y$4:$Y$1096)","v":0},null,0,null,null,null,3,null,"Yes"]
[null,"Uniform shop Bank charges",null,null,{"$f":"SUMIFS('Transaction Details'!$K$4:$K$10109,'Transaction Details'!$AX$4:$AX$10109,$B25,'Transaction Details'!$W$4:$W$10109,$E$8)","v":0},null,{"$f":"SUMIF('Transaction Details'!$AX$4:$AX$1096, B25, 'Transaction Details'!$Y$4:$Y$1096)","v":0},null,0,null,null,null,3,null,"Yes"]
[null,"Uniform shop Donations",null,null,{"$f":"SUMIFS('Transaction Details'!$K$4:$K$10109,'Transaction Details'!$AX$4:$AX$10109,$B26,'Transaction Details'!$W$4:$W$10109,$E$8)","v":0},null,{"$f":"SUMIF('Transaction Details'!$AX$4:$AX$1096, B26, 'Transaction Details'!$Y$4:$Y$1096)","v":0},null,0,null,null,null,3,null,"Yes"]
[null,"Uniform shop Depreciation",null,null,0,null,0,null,0,null,null,null,4,null,"Yes"]
[null,"Uniform shop Equipment/tools",null,null,{"$f":"SUMIFS('Transaction Details'!$K$4:$K$10109,'Transaction Details'!$AX$4:$AX$10109,$B28,'Transaction Details'!$W$4:$W$10109,$E$8)","v":0},null,{"$f":"SUMIF('Transaction Details'!$AX$4:$AX$1096, B28, 'Transaction Details'!$Y$4:$Y$1096)","v":0},null,0,null,null,null,3,null,"Yes"]
[null,"Uniform shop Fundraising Expenses",null,null,{"$f":"SUMIFS('Transaction Details'!$K$4:$K$10109,'Transaction Details'!$AX$4:$AX$10109,$B29,'Transaction Details'!$W$4:$W$10109,$E$8)","v":0},null,{"$f":"SUMIF('Transaction Details'!$AX$4:$AX$1096, B29, 'Transaction Details'!$Y$4:$Y$1096)","v":0},null,0,null,null,null,3,null,"Yes"]
[null,"Uniform Shop Loan repayment - interest expenses",null,null,{"$f":"SUMIFS('Transaction Details'!$K$4:$K$10109,'Transaction Details'!$AX$4:$AX$10109,$B30,'Transaction Details'!$W$4:$W$10109,$E$8)","v":0},null,{"$f":"SUMIF('Transaction Details'!$AX$4:$AX$1096, B30, 'Transaction Details'!$Y$4:$Y$1096)","v":0},null,0,null,null,null,3,null,{"$f":"IF(AND(E30<1,G30<1,I30<1),\"Yes\",\"\")","v":"Yes"}]
[null,"Uniform shop Insurance",null,null,{"$f":"SUMIFS('Transaction Details'!$K$4:$K$10109,'Transaction Details'!$AX$4:$AX$10109,$B31,'Transaction Details'!$W$4:$W$10109,$E$8)","v":0},null,{"$f":"SUMIF('Transaction Details'!$AX$4:$AX$1096, B31, 'Transaction Details'!$Y$4:$Y$1096)","v":0},null,0,null,null,null,3,null,"Yes"]
[null,"Uniform shop Membership and subscriptions",null,null,{"$f":"SUMIFS('Transaction Details'!$K$4:$K$10109,'Transaction Details'!$AX$4:$AX$10109,$B32,'Transaction Details'!$W$4:$W$10109,$E$8)","v":0},null,{"$f":"SUMIF('Transaction Details'!$AX$4:$AX$1096, B32, 'Transaction Details'!$Y$4:$Y$1096)","v":0},null,0,null,null,null,3,null,"Yes"]
[null,"Uniform Shop Annual Leave",null,null,{"$f":"IF(ISERROR(VLOOKUP('P&L'!$E$8, 'Provision Reg'!$B$6:$AN$17, 35, FALSE)), 0, VLOOKUP('P&L'!$E$8, 'Provision Reg'!$B$6:$AN$17, 35, FALSE))","v":0},null,{"$f":"IF(ISERROR(VLOOKUP('P&L'!$E$8, 'Provision Reg'!$B$6:$AN$17, 36, FALSE)), 0, VLOOKUP('P&L'!$E$8, 'Provision Reg'!$B$6:$AN$17, 36, FALSE))","v":0},null,0,null,null,null,5,null,{"$f":"IF(AND(E33<1,G33<1,I33<1),\"Yes\",\"\")","v":"Yes"}]
[null,"Uniform Shop Long Service Leave",null,null,{"$f":"IF(ISERROR(VLOOKUP('P&L'!$E$8, 'Provision Reg'!$B$23:$AN$34, 35, FALSE)), 0, VLOOKUP('P&L'!$E$8, 'Provision Reg'!$B$23:$AN$34, 35, FALSE))","v":0},null,{"$f":"IF(ISERROR(VLOOKUP('P&L'!$E$8, 'Provision Reg'!$B$23:$AN$34, 36, FALSE)), 0, VLOOKUP('P&L'!$E$8, 'Provision Reg'!$B$23:$AN$34, 36, FALSE))","v":0},null,0,null,null,null,6,null,"Yes"]
[null,"Uniform shop Printing",null,null,{"$f":"SUMIFS('Transaction Details'!$K$4:$K$10109,'Transaction Details'!$AX$4:$AX$10109,$B35,'Transaction Details'!$W$4:$W$10109,$E$8)","v":0},null,{"$f":"SUMIF('Transaction Details'!$AX$4:$AX$1096, B35, 'Transaction Details'!$Y$4:$Y$1096)","v":0},null,0,null,null,null,3,null,"Yes"]
[null,"Uniform shop Repairs and maintenance",null,null,{"$f":"SUMIFS('Transaction Details'!$K$4:$K$10109,'Transaction Details'!$AX$4:$AX$10109,$B36,'Transaction Details'!$W$4:$W$10109,$E$8)","v":0},null,{"$f":"SUMIF('Transaction Details'!$AX$4:$AX$1096, B36, 'Transaction Details'!$Y$4:$Y$1096)","v":0},null,0,null,null,null,3,null,"Yes"]
[null,"Uniform shop School premise/facility hire",null,null,{"$f":"SUMIFS('Transaction Details'!$K$4:$K$10109,'Transaction Details'!$AX$4:$AX$10109,$B37,'Transaction Details'!$W$4:$W$10109,$E$8)","v":0},null,{"$f":"SUMIF('Transaction Details'!$AX$4:$AX$1096, B37, 'Transaction Details'!$Y$4:$Y$1096)","v":0},null,0,null,null,null,3,null,"Yes"]
[null,"Uniform shop Stationery and postage",null,null,{"$f":"SUMIFS('Transaction Details'!$K$4:$K$10109,'Transaction Details'!$AX$4:$AX$10109,$B38,'Transaction Details'!$W$4:$W$10109,$E$8)","v":0},null,{"$f":"SUMIF('Transaction Details'!$AX$4:$AX$1096, B38, 'Transaction Details'!$Y$4:$Y$1096)","v":0},null,0,null,null,null,3,null,"Yes"]
[null,"Uniform shop Superannuation",null,null,{"$f":"SUMIFS('Transaction Details'!$K$4:$K$10109,'Transaction Details'!$AX$4:$AX$10109,$B39,'Transaction Details'!$W$4:$W$10109,$E$8)","v":0},null,{"$f":"SUMIF('Transaction Details'!$AX$4:$AX$1096, B39, 'Transaction Details'!$Y$4:$Y$1096)","v":0},null,0,null,null,null,3,null,"Yes"]
[null,"Uniform shop Wages",null,null,{"$f":"SUMIFS('Transaction Details'!$K$4:$K$10109,'Transaction Details'!$AX$4:$AX$10109,$B40,'Transaction Details'!$W$4:$W$10109,$E$8)","v":0},null,{"$f":"SUMIF('Transaction Details'!$AX$4:$AX$1096, B40, 'Transaction Details'!$Y$4:$Y$1096)","v":0},null,0,null,null,null,3,null,"Yes"]
[null,"Uniform shop Other Expenses",null,null,{"$f":"SUMIFS('Transaction Details'!$K$4:$K$10109,'Transaction Details'!$AX$4:$AX$10109,$B41,'Transaction Details'!$W$4:$W$10109,$E$8)","v":0},null,{"$f":"SUMIF('Transaction Details'!$AX$4:$AX$1096, B41, 'Transaction Details'!$Y$4:$Y$1096)","v":0},null,0,null,null,null,3,null,"Yes"]
[]
[null,"Total Operating Expenses",null,null,{"$f":"SUM(E22:E42)","v":0},null,{"$f":"SUM(G22:G42)","v":0},null,{"$f":"SUM(I22:I42)","v":0}]
[]
[null,"Uniform shop Net Income / (Loss)",null,null,{"$f":"E18-E43","v":0},null,{"$f":"G18-G43","v":2874},null,{"$f":"I18-I43","v":0}]
[]
[]
[]
[null,"Formula:"]
[null,"Depreciation for Uniform Shop is currently set to zero"]
[null,"The formula in E27 & G27 needs updating if the Uniform shop has a depreciated asset."]

{"sheet":"Stock Reg","index":15,"n_rows":26,"n_cols":12,"rows_kept":26,"cut":false,"hidden":false,"merged":[[3,9,3,11],[3,2,3,3],[3,4,3,5],[3,6,3,7],[1,1,1,7],[2,1,2,7]]}
[]
[null,{"$f":"Master!C4","v":"The Sesame St State School \nP&C Association"}]
[null,"Stock Register"]
[null,"Commercial Activities","Bookshop",null,"Tuckshop",null,"Uniform shop",null,null,"Notional Closing Stock Value Calculator"]
[null,"Month","Opening Stock \n(total $ value)","Closing Stock\n(total $ value)","Opening Stock \n(total $ value)","Closing Stock\n(total $ value)","Opening Stock \n(total $ value)","Closing Stock\n(total $ value)",null,"Commercial Activity","Sales mark up %",{"$f":"CONCATENATE(\"Notional Closing Stock Value for \",\" \",TEXT('P&L'!$E$8,\"mmm-yy\"))","v":"Notional Closing Stock Value for  Mar-19"}]
[null,{"$f":"Master!C7","v":"2019-01-01"},{"$f":"Master!$C$19","v":0},null,{"$f":"Master!$C$20","v":120},670,{"$f":"Master!$C$21","v":1250},3044,null,"Bookshop",0.3,{"$f":"'Bookshop Stmnt'!E12+'Bookshop Stmnt'!E13-'Bookshop Stmnt'!E10*(1-K6)","v":0}]
[null,{"$f":"DATE(YEAR(B6),MONTH(B6)+1,DAY(B6))","v":"2019-02-01"},{"$f":"D6","v":0},null,{"$f":"F6","v":670},750.86,{"$f":"H6","v":3044},3314,null,"Tuckshop",0.3,{"$f":"'Tuckshop Stmnt'!E12+'Tuckshop Stmnt'!E13-'Tuckshop Stmnt'!E10*(1-K7)","v":1484.8600000000001}]
[null,{"$f":"DATE(YEAR(B7),MONTH(B7)+1,DAY(B7))","v":"2019-03-01"},0,null,750.86,1484.86,3314,3464,null,"Uniform Shop",0.3,{"$f":"'Uniformshop Stmnt'!E12+'Uniformshop Stmnt'!E13-'Uniformshop Stmnt'!E10*(1-K8)","v":3464}]
[null,"2019-04-01",0,null,1484.86,null,3464]
[null,"2019-05-01",0,null,0,null,0]
[null,"2019-06-01",0,null,0,null,0]
[null,"2019-07-01",0,null,0,null,0]
[null,"2019-08-01",0,null,0,null,0]
[null,"2019-09-01",0,null,0,null,0]
[null,"2019-10-01",0,null,0,null,0]
[null,"2019-11-01",0,null,0,null,0]
[null,"2019-12-01",0,null,0,null,0]
[]
[]
[null,"Closing Stock Value:"]
[null,"The closing stock value for a normal month end can be based on a physical stock take, your own calculated value or by a notional stock value calculator.  "]
[]
[null,"Steps:"]
[null,"1.  Enter the sales mark up % in K6 to K8"]
[null,"2.  Enter the Closing Stock Value in Column D, F or H."]
[null,"3. An association may choose to use the closing stock value calculated by the Calculator (cells L6 to L8)."]

{"sheet":"Asset Reg","index":16,"n_rows":140,"n_cols":9,"rows_kept":140,"cut":false,"hidden":false,"merged":[[1,1,1,6],[4,1,4,5],[5,1,5,5],[6,1,6,5],[3,1,3,6],[2,1,2,6]]}
[]
[null,{"$f":"CONCATENATE(Master!C4, \" \", \"Asset Register\")","v":"The Sesame St State School \nP&C Association Asset Register"}]
[null,"The Association has borrowed $30,000 from QTC to purchase a big shed next to the tuckshop on 1/7/2017.  The shed has a useful life of 10 years.  The written down value of the shed as at 31/12/2018 was $25,500."]
[null,"A Shed "]
[null,"Useful Life in Months",null,null,null,null,120]
[null,"Asset Purchase Value",null,null,null,null,30000]
[null,"Date of Purchase (enter 1st date of the month)",null,null,null,null,"2017-07-01"]
[null,"Month","Adjusted Opening Balance","Notional Opening Balance","Monthly Depreciation","YTD Depreciation","Ending Balance",null,"Formula\nType"]
[null,{"$f":"G7","v":"2017-07-01"},{"$f":"IF(G$7=B9, 0, D9)","v":0},{"$f":"IF($G$7=$B9, $G$6, 0)","v":30000},{"$f":"IF($D9>=$G$6/$G$5, $G$6/$G$5, IF(AND($D9>0, $D9<$G$6/$G$5), $D9, 0))","v":250},{"$f":"E9","v":250},{"$f":"D9-E9","v":29750},null,1]
[null,{"$f":"DATE(YEAR(B9),MONTH(B9)+1,DAY(B9))","v":"2017-08-01"},{"$f":"IF(G$7=B10, 0, D10)","v":29750},{"$f":"IF($G$7=$B10, $G$6, $G9)","v":29750},{"$f":"IF($D10>=$G$6/$G$5, $G$6/$G$5, IF(AND($D10>0, $D10<$G$6/$G$5), $D10, 0))","v":250},{"$f":"IF(MONTH(B10)=1, E10, F9+E10)","v":500},{"$f":"D10-E10","v":29500},null,2]
[null,{"$f":"DATE(YEAR(B10),MONTH(B10)+1,DAY(B10))","v":"2017-09-01"},29500,{"$f":"IF($G$7=$B11, $G$6, $G10)","v":29500},250,{"$f":"IF(MONTH(B11)=1, E11, F10+E11)","v":750},29250,null,2]
[null,"2017-10-01",{"$f":"IF(G$7=B12, 0, D12)","v":29250},29250,250,1000,29000,null,2]
[null,"2017-11-01",29000,29000,250,1250,28750,null,2]
[null,"2017-12-01",28750,28750,250,1500,28500,null,2]
[null,"2018-01-01",28500,28500,250,250,28250,null,2]
[null,"2018-02-01",28250,28250,250,500,28000,null,2]
[null,"2018-03-01",28000,28000,250,750,27750,null,2]
[null,"2018-04-01",27750,27750,250,1000,27500,null,2]
[null,"2018-05-01",27500,27500,250,1250,27250,null,2]
[null,"2018-06-01",27250,27250,250,1500,27000,null,2]
[null,"2018-07-01",27000,27000,250,1750,{"$f":"D21-E21","v":26750},null,2]
[null,"2018-08-01",26750,26750,250,2000,26500,null,2]
[null,"2018-09-01",26500,26500,250,2250,26250,null,2]
[null,"2018-10-01",26250,26250,250,2500,26000,null,2]
[null,"2018-11-01",26000,26000,250,2750,25750,null,2]
[null,"2018-12-01",25750,25750,250,3000,25500,null,2]
[null,"2019-01-01",25500,25500,250,250,25250,null,2]
[null,"2019-02-01",25250,25250,250,500,25000,null,2]
[null,"2019-03-01",25000,25000,250,750,24750,null,2]
[null,"2019-04-01",24750,24750,250,1000,24500,null,2]
[null,"2019-05-01",24500,24500,250,1250,24250,null,2]
[null,"2019-06-01",24250,24250,250,1500,24000,null,2]
[null,"2019-07-01",24000,24000,250,1750,23750,null,2]
[null,"2019-08-01",23750,23750,250,2000,23500,null,2]
[null,"2019-09-01",23500,23500,250,2250,23250,null,2]
[null,"2019-10-01",23250,23250,250,2500,23000,null,2]
[null,"2019-11-01",23000,23000,250,2750,22750,null,2]
[null,"2019-12-01",22750,22750,250,3000,22500,null,2]
[null,"2020-01-01",22500,22500,250,250,22250,null,2]
[null,"2020-02-01",22250,22250,250,500,22000,null,2]
[null,"2020-03-01",22000,22000,250,750,21750,null,2]
[null,"2020-04-01",21750,21750,250,1000,21500,null,2]
[null,"2020-05-01",21500,21500,250,1250,21250,null,2]
[null,"2020-06-01",21250,21250,250,1500,21000,null,2]
[null,"2020-07-01",21000,21000,250,1750,20750,null,2]
[null,"2020-08-01",20750,20750,250,2000,20500,null,2]
[null,"2020-09-01",20500,20500,250,2250,20250,null,2]
[null,"2020-10-01",20250,20250,250,2500,20000,null,2]
[null,"2020-11-01",20000,20000,250,2750,19750,null,2]
[null,"2020-12-01",19750,19750,250,3000,19500,null,2]
[null,"2021-01-01",19500,19500,250,250,19250,null,2]
[null,"2021-02-01",19250,19250,250,500,19000,null,2]
[null,"2021-03-01",19000,19000,250,750,18750,null,2]
[null,"2021-04-01",18750,18750,250,1000,18500,null,2]
[null,"2021-05-01",18500,18500,250,1250,18250,null,2]
[null,"2021-06-01",18250,18250,250,1500,18000,null,2]
[null,"2021-07-01",18000,18000,250,1750,17750,null,2]
[null,"2021-08-01",17750,17750,250,2000,17500,null,2]
[null,"2021-09-01",17500,17500,250,2250,17250,null,2]
[null,"2021-10-01",17250,17250,250,2500,17000,null,2]
[null,"2021-11-01",17000,17000,250,2750,16750,null,2]
[null,"2021-12-01",16750,16750,250,3000,16500,null,2]
[null,"2022-01-01",16500,16500,250,250,16250,null,2]
[null,"2022-02-01",16250,16250,250,500,16000,null,2]
[null,"2022-03-01",16000,16000,250,750,15750,null,2]
[null,"2022-04-01",15750,15750,250,1000,15500,null,2]
[null,"2022-05-01",15500,15500,250,1250,15250,null,2]
[null,"2022-06-01",15250,15250,250,1500,15000,null,2]
[null,"2022-07-01",15000,15000,250,1750,{"$f":"D69-E69","v":14750},null,2]
[null,"2022-08-01",14750,14750,250,2000,14500,null,2]
[null,"2022-09-01",14500,14500,250,2250,14250,null,2]
[null,"2022-10-01",14250,14250,250,2500,14000,null,2]
[null,"2022-11-01",14000,14000,250,2750,13750,null,2]
[null,"2022-12-01",{"$f":"IF(G$7=B74, 0, D74)","v":13750},13750,{"$f":"IF($D74>=$G$6/$G$5, $G$6/$G$5, IF(AND($D74>0, $D74<$G$6/$G$5), $D74, 0))","v":250},3000,13500,null,2]
[null,{"$f":"DATE(YEAR(B74),MONTH(B74)+1,DAY(B74))","v":"2023-01-01"},13500,{"$f":"IF($G$7=$B75, $G$6, $G74)","v":13500},250,{"$f":"IF(MONTH(B75)=1, E75, F74+E75)","v":250},13250,null,2]
[null,"2023-02-01",13250,13250,250,500,13000,null,2]
[null,"2023-03-01",13000,13000,250,750,12750,null,2]
[null,"2023-04-01",12750,12750,250,1000,12500,null,2]
[null,"2023-05-01",12500,12500,250,1250,12250,null,2]
[null,"2023-06-01",12250,12250,250,1500,12000,null,2]
[null,"2023-07-01",12000,12000,250,1750,11750,null,2]
[null,"2023-08-01",11750,11750,250,2000,11500,null,2]
[null,"2023-09-01",11500,11500,250,2250,11250,null,2]
[null,"2023-10-01",11250,11250,250,2500,11000,null,2]
[null,"2023-11-01",11000,11000,250,2750,10750,null,2]
[null,"2023-12-01",10750,10750,250,3000,10500,null,2]
[null,"2024-01-01",10500,10500,250,250,10250,null,2]
[null,"2024-02-01",10250,10250,250,500,10000,null,2]
[null,"2024-03-01",10000,10000,250,750,9750,null,2]
[null,"2024-04-01",9750,9750,250,1000,9500,null,2]
[null,"2024-05-01",9500,9500,250,1250,9250,null,2]
[null,"2024-06-01",9250,9250,250,1500,9000,null,2]
[null,"2024-07-01",9000,9000,250,1750,8750,null,2]
[null,"2024-08-01",8750,8750,250,2000,8500,null,2]
[null,"2024-09-01",8500,8500,250,2250,8250,null,2]
[null,"2024-10-01",8250,8250,250,2500,8000,null,2]
[null,"2024-11-01",8000,8000,250,2750,7750,null,2]
[null,"2024-12-01",7750,7750,250,3000,7500,null,2]
[null,"2025-01-01",7500,7500,250,250,7250,null,2]
[null,"2025-02-01",7250,7250,250,500,7000,null,2]
[null,"2025-03-01",7000,7000,250,750,6750,null,2]
[null,"2025-04-01",6750,6750,250,1000,6500,null,2]
[null,"2025-05-01",6500,6500,250,1250,6250,null,2]
[null,"2025-06-01",6250,6250,250,1500,6000,null,2]
[null,"2025-07-01",6000,6000,250,1750,5750,null,2]
[null,"2025-08-01",5750,5750,250,2000,5500,null,2]
[null,"2025-09-01",5500,5500,250,2250,5250,null,2]
[null,"2025-10-01",5250,5250,250,2500,5000,null,2]
[null,"2025-11-01",5000,5000,250,2750,4750,null,2]
[null,"2025-12-01",4750,4750,250,3000,4500,null,2]
[null,"2026-01-01",4500,4500,250,250,4250,null,2]
[null,"2026-02-01",4250,4250,250,500,4000,null,2]
[null,"2026-03-01",4000,4000,250,750,3750,null,2]
[null,"2026-04-01",3750,3750,250,1000,3500,null,2]
[null,"2026-05-01",3500,3500,250,1250,3250,null,2]
[null,"2026-06-01",3250,3250,250,1500,3000,null,2]
[null,"2026-07-01",3000,3000,250,1750,2750,null,2]
[null,"2026-08-01",2750,2750,250,2000,2500,null,2]
[null,"2026-09-01",2500,2500,250,2250,2250,null,2]
[null,"2026-10-01",2250,2250,250,2500,2000,null,2]
[null,"2026-11-01",2000,2000,250,2750,1750,null,2]
[null,"2026-12-01",1750,1750,250,3000,1500,null,2]
[null,"2027-01-01",1500,1500,250,250,1250,null,2]
[null,"2027-02-01",1250,1250,250,500,1000,null,2]
[null,"2027-03-01",1000,1000,250,750,750,null,2]
[null,"2027-04-01",750,750,250,1000,500,null,2]
[null,"2027-05-01",500,500,250,1250,250,null,2]
[null,"2027-06-01",250,250,250,1500,0,null,2]
[null,"2027-07-01",0,0,0,1500,0,null,2]
[null,"2027-08-01",0,0,0,1500,0,null,2]
[null,"2027-09-01",0,0,0,1500,0,null,2]
[null,"2027-10-01",0,0,0,1500,0,null,2]
[null,"2027-11-01",0,0,0,1500,{"$f":"D133-E133","v":0},null,2]
[null,"2027-12-01",0,0,0,1500,0,null,2]
[null,"2028-01-01",0,0,0,0,0,null,2]
[null,"2028-02-01",0,0,0,0,0,null,2]
[null,"2028-03-01",0,0,0,0,0,null,2]
[null,"2028-04-01",{"$f":"IF(G$7=B138, 0, D138)","v":0},0,{"$f":"IF($D138>=$G$6/$G$5, $G$6/$G$5, IF(AND($D138>0, $D138<$G$6/$G$5), $D138, 0))","v":0},0,0,null,2]
[null,{"$f":"DATE(YEAR(B138),MONTH(B138)+1,DAY(B138))","v":"2028-05-01"},0,{"$f":"IF($G$7=$B139, $G$6, $G138)","v":0},0,{"$f":"IF(MONTH(B139)=1, E139, F138+E139)","v":0},0,null,2]
[null,"2028-06-01",0,0,0,0,0,null,2]

{"sheet":"Loan Reg","index":17,"n_rows":22,"n_cols":10,"rows_kept":22,"cut":false,"hidden":false,"merged":[[27,1,27,7],[28,1,28,7],[41,1,41,7],[44,1,44,7],[1,1,1,7],[2,1,2,7],[5,1,5,6],[6,1,6,6],[8,9,9,9],[7,1,7,6],[8,1,8,6],[3,1,3,6],[4,1,4,6]]}
[]
[null,{"$f":"CONCATENATE(Master!C4, \" \",\"Loan Register\")","v":"The Sesame St State School \nP&C Association Loan Register"}]
[null,"The Association has borrowed $30,000 from QTC in June 2017 to purchase a shed for the tuckshop.  The interest rate is 4%.  The loan is for 2 years with a monthly repayment of $1,350 i.e. $1,250 represents the monthly repayment of the loan and $100 is the interest expense."]
[null,"Lender",null,null,null,null,null,"QTC"]
[null,"Interest Rate",null,null,null,null,null,0.04]
[null,"Total Loan Period in Months",null,null,null,null,null,24]
[null,"Total Loan Amount",null,null,null,null,null,30000]
[null,"Loan Start Date (enter the 1st date of the month)",null,null,null,null,null,"2017-06-01"]
[null,"For a loan that has existed before the start of this financial year, enter the previous year's closing balance.",null,null,null,null,null,6250,null,"Formula\nType"]
[null,"Month","Loan","Adjusted Opening Balance","Notional Opening Balance","Tuckshop Loan repayment - principal component","Tuckshop Loan repayment - Interest Expenses","Closing Balance"]
[null,{"$f":"Master!C7","v":"2019-01-01"},{"$f":"SUMIFS('Transaction Details'!$K$4:$K$10109,'Transaction Details'!$D$4:$D$10109,$C$10,'Transaction Details'!$W$4:$W$10109,$B11)","v":0},{"$f":"IF(H$8=$B11, 0, E11)","v":6250},{"$f":"IF($H$8=$B11,$H$7, IF($H$8<B11,$H$9, IF($H$8>B11, 0)))","v":6250},{"$f":"SUMIFS('Transaction Details'!$K$4:$K$10109,'Transaction Details'!$AX$4:$AX$10109,$F$10,'Transaction Details'!$W$4:$W$10109,$B11)","v":1250},{"$f":"SUMIFS('Transaction Details'!$K$4:$K$10109,'Transaction Details'!$AX$4:$AX$10109,$G$10,'Transaction Details'!$W$4:$W$10109,$B11)","v":100},{"$f":"E11-F11","v":5000},null,1]
[null,{"$f":"DATE(YEAR(B11),MONTH(B11)+1,DAY(B11))","v":"2019-02-01"},{"$f":"SUMIFS('Transaction Details'!$K$4:$K$10109,'Transaction Details'!$D$4:$D$10109,$C$10,'Transaction Details'!$W$4:$W$10109,$B12)","v":0},{"$f":"IF(H$8=$B12, 0, E12)","v":5000},{"$f":"IF(H11>0, H11, IF($H$8=$B12,$H$7, IF($H$8<B12,$H$9, IF($H$8>B12, 0))))","v":5000},{"$f":"SUMIFS('Transaction Details'!$K$4:$K$10109,'Transaction Details'!$AX$4:$AX$10109,$F$10,'Transaction Details'!$W$4:$W$10109,$B12)","v":1250},{"$f":"SUMIFS('Transaction Details'!$K$4:$K$10109,'Transaction Details'!$AX$4:$AX$10109,$G$10,'Transaction Details'!$W$4:$W$10109,$B12)","v":100},{"$f":"E12-F12","v":3750},null,2]
[null,{"$f":"DATE(YEAR(B12),MONTH(B12)+1,DAY(B12))","v":"2019-03-01"},{"$f":"SUMIFS('Transaction Details'!$K$4:$K$10109,'Transaction Details'!$D$4:$D$10109,$C$10,'Transaction Details'!$W$4:$W$10109,$B13)","v":0},3750,{"$f":"IF(H12>0, H12, IF($H$8=$B13,$H$7, IF($H$8<B13,$H$9, IF($H$8>B13, 0))))","v":3750},{"$f":"SUMIFS('Transaction Details'!$K$4:$K$10109,'Transaction Details'!$AX$4:$AX$10109,$F$10,'Transaction Details'!$W$4:$W$10109,$B13)","v":1250},{"$f":"SUMIFS('Transaction Details'!$K$4:$K$10109,'Transaction Details'!$AX$4:$AX$10109,$G$10,'Transaction Details'!$W$4:$W$10109,$B13)","v":100},2500,null,2]
[null,"2019-04-01",{"$f":"SUMIFS('Transaction Details'!$K$4:$K$10109,'Transaction Details'!$D$4:$D$10109,$C$10,'Transaction Details'!$W$4:$W$10109,$B14)","v":0},2500,2500,{"$f":"SUMIFS('Transaction Details'!$K$4:$K$10109,'Transaction Details'!$AX$4:$AX$10109,$F$10,'Transaction Details'!$W$4:$W$10109,$B14)","v":0},{"$f":"SUMIFS('Transaction Details'!$K$4:$K$10109,'Transaction Details'!$AX$4:$AX$10109,$G$10,'Transaction Details'!$W$4:$W$10109,$B14)","v":0},2500,null,2]
[null,"2019-05-01",{"$f":"SUMIFS('Transaction Details'!$K$4:$K$10109,'Transaction Details'!$D$4:$D$10109,$C$10,'Transaction Details'!$W$4:$W$10109,$B15)","v":0},2500,2500,{"$f":"SUMIFS('Transaction Details'!$K$4:$K$10109,'Transaction Details'!$AX$4:$AX$10109,$F$10,'Transaction Details'!$W$4:$W$10109,$B15)","v":0},{"$f":"SUMIFS('Transaction Details'!$K$4:$K$10109,'Transaction Details'!$AX$4:$AX$10109,$G$10,'Transaction Details'!$W$4:$W$10109,$B15)","v":0},2500,null,2]
[null,"2019-06-01",{"$f":"SUMIFS('Transaction Details'!$K$4:$K$10109,'Transaction Details'!$D$4:$D$10109,$C$10,'Transaction Details'!$W$4:$W$10109,$B16)","v":0},2500,2500,{"$f":"SUMIFS('Transaction Details'!$K$4:$K$10109,'Transaction Details'!$AX$4:$AX$10109,$F$10,'Transaction Details'!$W$4:$W$10109,$B16)","v":0},{"$f":"SUMIFS('Transaction Details'!$K$4:$K$10109,'Transaction Details'!$AX$4:$AX$10109,$G$10,'Transaction Details'!$W$4:$W$10109,$B16)","v":0},2500,null,2]
[null,"2019-07-01",{"$f":"SUMIFS('Transaction Details'!$K$4:$K$10109,'Transaction Details'!$D$4:$D$10109,$C$10,'Transaction Details'!$W$4:$W$10109,$B17)","v":0},2500,2500,{"$f":"SUMIFS('Transaction Details'!$K$4:$K$10109,'Transaction Details'!$AX$4:$AX$10109,$F$10,'Transaction Details'!$W$4:$W$10109,$B17)","v":0},{"$f":"SUMIFS('Transaction Details'!$K$4:$K$10109,'Transaction Details'!$AX$4:$AX$10109,$G$10,'Transaction Details'!$W$4:$W$10109,$B17)","v":0},2500,null,2]
[null,"2019-08-01",{"$f":"SUMIFS('Transaction Details'!$K$4:$K$10109,'Transaction Details'!$D$4:$D$10109,$C$10,'Transaction Details'!$W$4:$W$10109,$B18)","v":0},2500,2500,{"$f":"SUMIFS('Transaction Details'!$K$4:$K$10109,'Transaction Details'!$AX$4:$AX$10109,$F$10,'Transaction Details'!$W$4:$W$10109,$B18)","v":0},{"$f":"SUMIFS('Transaction Details'!$K$4:$K$10109,'Transaction Details'!$AX$4:$AX$10109,$G$10,'Transaction Details'!$W$4:$W$10109,$B18)","v":0},2500,null,2]
[null,"2019-09-01",{"$f":"SUMIFS('Transaction Details'!$K$4:$K$10109,'Transaction Details'!$D$4:$D$10109,$C$10,'Transaction Details'!$W$4:$W$10109,$B19)","v":0},2500,2500,{"$f":"SUMIFS('Transaction Details'!$K$4:$K$10109,'Transaction Details'!$AX$4:$AX$10109,$F$10,'Transaction Details'!$W$4:$W$10109,$B19)","v":0},{"$f":"SUMIFS('Transaction Details'!$K$4:$K$10109,'Transaction Details'!$AX$4:$AX$10109,$G$10,'Transaction Details'!$W$4:$W$10109,$B19)","v":0},2500,null,2]
[null,"2019-10-01",{"$f":"SUMIFS('Transaction Details'!$K$4:$K$10109,'Transaction Details'!$D$4:$D$10109,$C$10,'Transaction Details'!$W$4:$W$10109,$B20)","v":0},2500,2500,{"$f":"SUMIFS('Transaction Details'!$K$4:$K$10109,'Transaction Details'!$AX$4:$AX$10109,$F$10,'Transaction Details'!$W$4:$W$10109,$B20)","v":0},{"$f":"SUMIFS('Transaction Details'!$K$4:$K$10109,'Transaction Details'!$AX$4:$AX$10109,$G$10,'Transaction Details'!$W$4:$W$10109,$B20)","v":0},2500,null,2]
[null,"2019-11-01",{"$f":"SUMIFS('Transaction Details'!$K$4:$K$10109,'Transaction Details'!$D$4:$D$10109,$C$10,'Transaction Details'!$W$4:$W$10109,$B21)","v":0},2500,2500,{"$f":"SUMIFS('Transaction Details'!$K$4:$K$10109,'Transaction Details'!$AX$4:$AX$10109,$F$10,'Transaction Details'!$W$4:$W$10109,$B21)","v":0},{"$f":"SUMIFS('Transaction Details'!$K$4:$K$10109,'Transaction Details'!$AX$4:$AX$10109,$G$10,'Transaction Details'!$W$4:$W$10109,$B21)","v":0},2500,null,2]
[null,"2019-12-01",{"$f":"SUMIFS('Transaction Details'!$K$4:$K$10109,'Transaction Details'!$D$4:$D$10109,$C$10,'Transaction Details'!$W$4:$W$10109,$B22)","v":0},2500,2500,{"$f":"SUMIFS('Transaction Details'!$K$4:$K$10109,'Transaction Details'!$AX$4:$AX$10109,$F$10,'Transaction Details'!$W$4:$W$10109,$B22)","v":0},{"$f":"SUMIFS('Transaction Details'!$K$4:$K$10109,'Transaction Details'!$AX$4:$AX$10109,$G$10,'Transaction Details'!$W$4:$W$10109,$B22)","v":0},2500,null,2]

{"sheet":"Prepaid Reg","index":18,"n_rows":21,"n_cols":19,"rows_kept":21,"cut":false,"hidden":false,"merged":[[49,1,49,8],[38,1,38,12],[39,1,39,12],[44,1,44,13],[6,8,6,11],[7,8,7,11],[6,1,6,6],[7,1,7,6],[1,8,1,12],[2,8,2,12],[3,8,3,11],[4,8,4,11],[5,8,5,11],[1,14,1,18],[2,14,2,18],[3,14,3,17],[4,14,4,17],[7,14,7,17],[5,14,5,17],[6,14,6,17]]}
[]
[null,null,null,null,null,null,null,null,"Prepaid Expenses Register 1",null,null,null,null,null,"Prepaid Expenses Register 2"]
[null,null,null,null,null,null,null,null,"The Association paid an annual franchise fee of $3,600 to Blue Mountain Coffee Co., Ltd in March 2018.  The next subscription is due in March 2019.",null,null,null,null,null,"The Association paid an annual franchise fee of $3,600 to Blue Mountain Coffee Co., Ltd in March 2019.  The next subscription is due in March 2020."]
[null,null,null,null,null,null,null,null,"Prepaid Period in Months",null,null,null,12,null,"Prepaid Period in Months",null,null,null,12]
[null,null,null,null,null,null,null,null,"Total Prepaid Amount",null,null,null,3600,null,"Total Prepaid Amount",null,null,null,3600]
[null,null,null,null,null,null,null,null,"Month - Prepayment Amortisation Starts ",null,null,null,"2018-03-01",null,"Month - Prepayment Amortisation Starts ",null,null,null,"2019-03-01"]
[null,{"$f":"CONCATENATE(Master!C4, \" \", \"Prepaid Register\")","v":"The Sesame St State School \nP&C Association Prepaid Register"},null,null,null,null,null,null,"Date - Prepayment paid",null,null,null,null,null,"Date - Prepayment paid"]
[null,"Consolidated Prepaid Expenses",null,null,null,null,null,null,"If the prepayment is carried over from the previous financial year, enter the previous year prepayment closing balance as shown in the previous year balance sheet",null,null,null,600,null,"If the prepayment is carried over from the previous financial year, enter the previous year prepayment closing balance as shown in the previous year balance sheet",null,null,null,0]
[null,"Month","Pre-paid expense","Adjusted Opening Balance","Monthly Amortisation Expenses","YTD Expenses","Ending Balance",null,"Adjusted Opening Balance","Notional Opening Balance","Monthly Amortisation Expenses","YTD Expenses","Ending Balance",null,"Adjusted Opening Balance","Notional Opening Balance","Monthly Amortisation Expenses","YTD Expenses","Ending Balance"]
[null,{"$f":"Master!C7","v":"2019-01-01"},{"$f":"SUMIFS('Transaction Details'!$K$4:$K$10109,'Transaction Details'!$E$4:$E$10109,$C$9,'Transaction Details'!$W$4:$W$10109,$B10)","v":0},{"$f":"I10+O10","v":600},{"$f":"K10+Q10","v":300},{"$f":"L10+R10","v":300},{"$f":"M10+S10","v":300},null,{"$f":"IF(M$6=$B10, 0, J10)","v":600},{"$f":"IF(M$6=$B10,M$5, IF(M$6<$B10,M$8, IF(M$6>$B10, 0)))","v":600},{"$f":"IF(ISERROR(IF(J10>=M$5/M$4,M$5/M$4,IF(AND(J10>0,J10<M$5/M$4),J10,0))),0,IF(J10>=M$5/M$4,M$5/M$4,IF(AND(J10>0,J10<M$5/M$4),J10,0)))","v":300},{"$f":"K10","v":300},{"$f":"J10-K10","v":300},null,{"$f":"IF(S$6=$B10, 0, P10)","v":0},{"$f":"IF(S$6=$B10,S$5, IF(S$6<$B10,S$8, IF(S$6>$B10, 0)))","v":0},{"$f":"IF(ISERROR(IF(P10>=S$5/S$4,S$5/S$4,IF(AND(P10>0,P10<S$5/S$4),P10,0))),0,IF(P10>=S$5/S$4,S$5/S$4,IF(AND(P10>0,P10<S$5/S$4),P10,0)))","v":0},{"$f":"Q10","v":0},{"$f":"P10-Q10","v":0}]
[null,{"$f":"DATE(YEAR(B10),MONTH(B10)+1,DAY(B10))","v":"2019-02-01"},{"$f":"SUMIFS('Transaction Details'!$K$4:$K$10109,'Transaction Details'!$E$4:$E$10109,$C$9,'Transaction Details'!$W$4:$W$10109,$B11)","v":0},{"$f":"I11+O11","v":300},{"$f":"K11+Q11","v":300},{"$f":"L11+R11","v":600},{"$f":"M11+S11","v":0},null,{"$f":"IF(M$6=$B11, 0, J11)","v":300},{"$f":"IF(OR(J10>0,L10>0), M10, IF(M$6=$B11,M$5, IF(M$6<$B11,M$8, IF(M$6>$B11, 0))))","v":300},{"$f":"IF(ISERROR(IF(J11>=M$5/M$4,M$5/M$4,IF(AND(J11>0,J11<M$5/M$4),J11,0))),0,IF(J11>=M$5/M$4,M$5/M$4,IF(AND(J11>0,J11<M$5/M$4),J11,0)))","v":300},{"$f":"L10+K11","v":600},{"$f":"J11-K11","v":0},null,{"$f":"IF(S$6=$B11, 0, P11)","v":0},{"$f":"IF(OR(P10>0,R10>0), S10, IF(S$6=$B11,S$5, IF(S$6<$B11,S$8, IF(S$6>$B11, 0))))","v":0},{"$f":"IF(ISERROR(IF(P11>=S$5/S$4,S$5/S$4,IF(AND(P11>0,P11<S$5/S$4),P11,0))),0,IF(P11>=S$5/S$4,S$5/S$4,IF(AND(P11>0,P11<S$5/S$4),P11,0)))","v":0},{"$f":"R10+Q11","v":0},{"$f":"P11-Q11","v":0}]
[null,{"$f":"DATE(YEAR(B11),MONTH(B11)+1,DAY(B11))","v":"2019-03-01"},{"$f":"SUMIFS('Transaction Details'!$K$4:$K$10109,'Transaction Details'!$E$4:$E$10109,$C$9,'Transaction Details'!$W$4:$W$10109,$B12)","v":3600},0,300,900,3300,null,0,0,0,{"$f":"L11+K12","v":600},0,null,0,3600,300,{"$f":"R11+Q12","v":300},3300]
[null,"2019-04-01",{"$f":"SUMIFS('Transaction Details'!$K$4:$K$10109,'Transaction Details'!$E$4:$E$10109,$C$9,'Transaction Details'!$W$4:$W$10109,$B13)","v":0},3300,300,1200,3000,null,0,0,0,600,0,null,3300,3300,300,600,3000]
[null,"2019-05-01",{"$f":"SUMIFS('Transaction Details'!$K$4:$K$10109,'Transaction Details'!$E$4:$E$10109,$C$9,'Transaction Details'!$W$4:$W$10109,$B14)","v":0},3000,300,1500,2700,null,0,0,0,600,0,null,3000,3000,300,900,2700]
[null,"2019-06-01",{"$f":"SUMIFS('Transaction Details'!$K$4:$K$10109,'Transaction Details'!$E$4:$E$10109,$C$9,'Transaction Details'!$W$4:$W$10109,$B15)","v":0},2700,300,1800,2400,null,0,0,0,600,0,null,2700,2700,300,1200,2400]
[null,"2019-07-01",{"$f":"SUMIFS('Transaction Details'!$K$4:$K$10109,'Transaction Details'!$E$4:$E$10109,$C$9,'Transaction Details'!$W$4:$W$10109,$B16)","v":0},2400,300,2100,2100,null,0,0,0,600,0,null,2400,2400,300,1500,2100]
[null,"2019-08-01",{"$f":"SUMIFS('Transaction Details'!$K$4:$K$10109,'Transaction Details'!$E$4:$E$10109,$C$9,'Transaction Details'!$W$4:$W$10109,$B17)","v":0},2100,300,2400,1800,null,0,0,0,600,0,null,2100,2100,300,1800,1800]
[null,"2019-09-01",{"$f":"SUMIFS('Transaction Details'!$K$4:$K$10109,'Transaction Details'!$E$4:$E$10109,$C$9,'Transaction Details'!$W$4:$W$10109,$B18)","v":0},1800,300,2700,1500,null,0,0,0,600,0,null,1800,1800,300,2100,1500]
[null,"2019-10-01",{"$f":"SUMIFS('Transaction Details'!$K$4:$K$10109,'Transaction Details'!$E$4:$E$10109,$C$9,'Transaction Details'!$W$4:$W$10109,$B19)","v":0},1500,300,3000,1200,null,0,0,0,600,0,null,1500,1500,300,2400,1200]
[null,"2019-11-01",{"$f":"SUMIFS('Transaction Details'!$K$4:$K$10109,'Transaction Details'!$E$4:$E$10109,$C$9,'Transaction Details'!$W$4:$W$10109,$B20)","v":0},1200,300,3300,900,null,0,0,0,600,0,null,1200,1200,300,2700,900]
[null,"2019-12-01",{"$f":"SUMIFS('Transaction Details'!$K$4:$K$10109,'Transaction Details'!$E$4:$E$10109,$C$9,'Transaction Details'!$W$4:$W$10109,$B21)","v":0},900,300,3600,600,null,0,0,0,600,0,null,900,900,300,3000,600]

{"sheet":"Provision Reg","index":19,"n_rows":34,"n_cols":54,"rows_kept":34,"cut":false,"hidden":false,"merged":[[20,13,20,15],[2,17,2,23],[2,25,2,31],[2,33,2,39],[3,3,3,4],[3,5,3,7],[3,19,3,20],[3,21,3,23],[3,27,3,28],[3,29,3,31],[3,35,3,36],[3,37,3,39],[2,1,2,7],[2,9,2,15],[3,11,3,12],[3,13,3,15],[20,1,21,1],[3,1,4,1],[19,33,19,39],[20,35,20,36],[20,37,20,39],[20,3,20,4],[20,5,20,7],[19,1,19,7],[19,17,19,23],[20,19,20,20],[20,21,20,23],[19,25,19,31],[20,27,20,28],[20,29,20,31],[19,9,19,15],[20,11,20,12]]}
[]
[null,"Annual Leave (AL)"]
[null,"Consolidated",null,null,null,null,null,null,null,"The Association",null,null,null,null,null,null,null,"Bookshop",null,null,null,null,null,null,null,"Tuckshop ",null,null,null,null,null,null,null,"Uniform Shop"]
[null,"Total Annual Leave","Cash Payment","Accrued AL Expenses",null,"Provision for AL Liability",null,null,null,null,"Cash Payment","Accrual AL Expenses",null,"Provision for AL Liability",null,null,null,null,"Cash Payment","Accrual AL Expenses",null,"Provision for AL Liability",null,null,null,null,"Cash Payment","Accrual AL Expenses",null,"Provision for AL Liability",null,null,null,null,"Cash Payment","Accrual AL Expenses",null,"Provision for AL Liability"]
[null,null,"Annual Leave","Month","YTD","Opening Balance","Monthly Movement","Ending Balance",null,"Month"," Annual Leave","Month","YTD","Opening Balance","Monthly Movement","Ending Balance",null,"Month","Bookshop Annual Leave","Month","YTD","Opening Balance","Monthly Movement","Ending Balance",null,"Month","Tuckshop Annual Leave","Month","YTD","Opening Balance","Monthly Movement","Ending Balance",null,"Month","Uniform Shop Annual Leave","Month","YTD","Opening Balance","Monthly Movement","Ending Balance"]
[null,{"$f":"Master!$C$7","v":"2019-01-01"},{"$f":"SUMIFS('Transaction Details'!$K$4:$K$10109,'Transaction Details'!$E$4:$E$10109,$C$5,'Transaction Details'!$W$4:$W$10109,$R6)","v":0},{"$f":"L6+T6+AB6+AJ6","v":0},{"$f":"M6+U6+AC6+AK6","v":0},{"$f":"N6+V6+AD6+AL6","v":900},{"$f":"O6+W6+AE6+AM6","v":0},{"$f":"P6+X6+AF6+AN6","v":900},null,{"$f":"Master!$C$7","v":"2019-01-01"},{"$f":"SUMIFS('Transaction Details'!$K$4:$K$10109,'Transaction Details'!$AX$4:$AX$10109,$K$5,'Transaction Details'!$W$4:$W$10109,$J6)","v":0},null,{"$f":"L6","v":0},{"$f":"Master!$C$33","v":0},{"$f":"L6-K6","v":0},{"$f":"N6+O6","v":0},null,{"$f":"Master!$C$7","v":"2019-01-01"},{"$f":"SUMIFS('Transaction Details'!$K$4:$K$10109,'Transaction Details'!$AX$4:$AX$10109,$S$5,'Transaction Details'!$W$4:$W$10109,$R6)","v":0},null,{"$f":"T6","v":0},{"$f":"Master!$C$34","v":0},{"$f":"T6-S6","v":0},{"$f":"V6+W6","v":0},null,{"$f":"Master!$C$7","v":"2019-01-01"},{"$f":"SUMIFS('Transaction Details'!$K$4:$K$10109,'Transaction Details'!$AX$4:$AX$10109,$AA$5,'Transaction Details'!$W$4:$W$10109,$Z6)","v":0},null,{"$f":"AB6","v":0},{"$f":"Master!$C$35","v":900},{"$f":"AB6-AA6","v":0},{"$f":"AD6+AE6","v":900},null,{"$f":"Master!$C$7","v":"2019-01-01"},{"$f":"SUMIFS('Transaction Details'!$K$4:$K$10109,'Transaction Details'!$AX$4:$AX$10109,$AI$5,'Transaction Details'!$W$4:$W$10109,$Z6)","v":0},null,{"$f":"AJ6","v":0},{"$f":"Master!$C$36","v":0},{"$f":"AJ6-AI6","v":0},{"$f":"AL6+AM6","v":0}]
[null,{"$f":"DATE(YEAR(B6),MONTH(B6)+1,DAY(B6))","v":"2019-02-01"},{"$f":"SUMIFS('Transaction Details'!$K$4:$K$10109,'Transaction Details'!$E$4:$E$10109,$C$5,'Transaction Details'!$W$4:$W$10109,$R7)","v":0},{"$f":"L7+T7+AB7+AJ7","v":0},{"$f":"M7+U7+AC7+AK7","v":0},{"$f":"N7+V7+AD7+AL7","v":900},{"$f":"O7+W7+AE7+AM7","v":0},{"$f":"P7+X7+AF7+AN7","v":900},null,{"$f":"DATE(YEAR(J6),MONTH(J6)+1,DAY(J6))","v":"2019-02-01"},{"$f":"SUMIFS('Transaction Details'!$K$4:$K$10109,'Transaction Details'!$AX$4:$AX$10109,$K$5,'Transaction Details'!$W$4:$W$10109,$J7)","v":0},null,{"$f":"M6+L7","v":0},{"$f":"P6","v":0},{"$f":"L7-K7","v":0},{"$f":"N7+O7","v":0},null,{"$f":"DATE(YEAR(R6),MONTH(R6)+1,DAY(R6))","v":"2019-02-01"},{"$f":"SUMIFS('Transaction Details'!$K$4:$K$10109,'Transaction Details'!$AX$4:$AX$10109,$S$5,'Transaction Details'!$W$4:$W$10109,$R7)","v":0},null,{"$f":"U6+T7","v":0},{"$f":"X6","v":0},{"$f":"T7-S7","v":0},{"$f":"V7+W7","v":0},null,{"$f":"DATE(YEAR(Z6),MONTH(Z6)+1,DAY(Z6))","v":"2019-02-01"},{"$f":"SUMIFS('Transaction Details'!$K$4:$K$10109,'Transaction Details'!$AX$4:$AX$10109,$AA$5,'Transaction Details'!$W$4:$W$10109,$Z7)","v":0},null,{"$f":"AC6+AB7","v":0},{"$f":"AF6","v":900},{"$f":"AB7-AA7","v":0},{"$f":"AD7+AE7","v":900},null,{"$f":"$B7","v":"2019-02-01"},{"$f":"SUMIFS('Transaction Details'!$K$4:$K$10109,'Transaction Details'!$AX$4:$AX$10109,$AI$5,'Transaction Details'!$W$4:$W$10109,$Z7)","v":0},null,{"$f":"AK6+AJ7","v":0},{"$f":"AN6","v":0},{"$f":"AJ7-AI7","v":0},{"$f":"AL7+AM7","v":0}]
[null,{"$f":"DATE(YEAR(B7),MONTH(B7)+1,DAY(B7))","v":"2019-03-01"},{"$f":"SUMIFS('Transaction Details'!$K$4:$K$10109,'Transaction Details'!$E$4:$E$10109,$C$5,'Transaction Details'!$W$4:$W$10109,$R8)","v":320},800,800,900,480,1380,null,{"$f":"DATE(YEAR(J7),MONTH(J7)+1,DAY(J7))","v":"2019-03-01"},{"$f":"SUMIFS('Transaction Details'!$K$4:$K$10109,'Transaction Details'!$AX$4:$AX$10109,$K$5,'Transaction Details'!$W$4:$W$10109,$J8)","v":0},null,0,{"$f":"P7","v":0},0,0,null,{"$f":"DATE(YEAR(R7),MONTH(R7)+1,DAY(R7))","v":"2019-03-01"},{"$f":"SUMIFS('Transaction Details'!$K$4:$K$10109,'Transaction Details'!$AX$4:$AX$10109,$S$5,'Transaction Details'!$W$4:$W$10109,$R8)","v":0},null,0,{"$f":"X7","v":0},0,0,null,{"$f":"DATE(YEAR(Z7),MONTH(Z7)+1,DAY(Z7))","v":"2019-03-01"},{"$f":"SUMIFS('Transaction Details'!$K$4:$K$10109,'Transaction Details'!$AX$4:$AX$10109,$AA$5,'Transaction Details'!$W$4:$W$10109,$Z8)","v":320},800,{"$f":"AC7+AB8","v":800},{"$f":"AF7","v":900},480,1380,null,"2019-03-01",{"$f":"SUMIFS('Transaction Details'!$K$4:$K$10109,'Transaction Details'!$AX$4:$AX$10109,$AI$5,'Transaction Details'!$W$4:$W$10109,$Z8)","v":0},null,{"$f":"AK7+AJ8","v":0},{"$f":"AN7","v":0},0,0]
[null,"2019-04-01",{"$f":"SUMIFS('Transaction Details'!$K$4:$K$10109,'Transaction Details'!$E$4:$E$10109,$C$5,'Transaction Details'!$W$4:$W$10109,$R9)","v":0},0,800,1380,0,1380,null,"2019-04-01",{"$f":"SUMIFS('Transaction Details'!$K$4:$K$10109,'Transaction Details'!$AX$4:$AX$10109,$K$5,'Transaction Details'!$W$4:$W$10109,$J9)","v":0},null,0,0,0,0,null,"2019-04-01",{"$f":"SUMIFS('Transaction Details'!$K$4:$K$10109,'Transaction Details'!$AX$4:$AX$10109,$S$5,'Transaction Details'!$W$4:$W$10109,$R9)","v":0},null,0,0,0,0,null,"2019-04-01",{"$f":"SUMIFS('Transaction Details'!$K$4:$K$10109,'Transaction Details'!$AX$4:$AX$10109,$AA$5,'Transaction Details'!$W$4:$W$10109,$Z9)","v":0},null,800,1380,0,1380,null,"2019-04-01",{"$f":"SUMIFS('Transaction Details'!$K$4:$K$10109,'Transaction Details'!$AX$4:$AX$10109,$AI$5,'Transaction Details'!$W$4:$W$10109,$Z9)","v":0},null,0,0,0,0]
[null,"2019-05-01",{"$f":"SUMIFS('Transaction Details'!$K$4:$K$10109,'Transaction Details'!$E$4:$E$10109,$C$5,'Transaction Details'!$W$4:$W$10109,$R10)","v":0},0,800,1380,0,1380,null,"2019-05-01",{"$f":"SUMIFS('Transaction Details'!$K$4:$K$10109,'Transaction Details'!$AX$4:$AX$10109,$K$5,'Transaction Details'!$W$4:$W$10109,$J10)","v":0},null,0,0,0,0,null,"2019-05-01",{"$f":"SUMIFS('Transaction Details'!$K$4:$K$10109,'Transaction Details'!$AX$4:$AX$10109,$S$5,'Transaction Details'!$W$4:$W$10109,$R10)","v":0},null,0,0,0,0,null,"2019-05-01",{"$f":"SUMIFS('Transaction Details'!$K$4:$K$10109,'Transaction Details'!$AX$4:$AX$10109,$AA$5,'Transaction Details'!$W$4:$W$10109,$Z10)","v":0},null,800,1380,0,1380,null,"2019-05-01",{"$f":"SUMIFS('Transaction Details'!$K$4:$K$10109,'Transaction Details'!$AX$4:$AX$10109,$AI$5,'Transaction Details'!$W$4:$W$10109,$Z10)","v":0},null,0,0,0,0]
[null,"2019-06-01",{"$f":"SUMIFS('Transaction Details'!$K$4:$K$10109,'Transaction Details'!$E$4:$E$10109,$C$5,'Transaction Details'!$W$4:$W$10109,$R11)","v":0},0,800,1380,0,1380,null,"2019-06-01",{"$f":"SUMIFS('Transaction Details'!$K$4:$K$10109,'Transaction Details'!$AX$4:$AX$10109,$K$5,'Transaction Details'!$W$4:$W$10109,$J11)","v":0},null,0,0,0,0,null,"2019-06-01",{"$f":"SUMIFS('Transaction Details'!$K$4:$K$10109,'Transaction Details'!$AX$4:$AX$10109,$S$5,'Transaction Details'!$W$4:$W$10109,$R11)","v":0},null,0,0,0,0,null,"2019-06-01",{"$f":"SUMIFS('Transaction Details'!$K$4:$K$10109,'Transaction Details'!$AX$4:$AX$10109,$AA$5,'Transaction Details'!$W$4:$W$10109,$Z11)","v":0},null,800,1380,0,1380,null,"2019-06-01",{"$f":"SUMIFS('Transaction Details'!$K$4:$K$10109,'Transaction Details'!$AX$4:$AX$10109,$AI$5,'Transaction Details'!$W$4:$W$10109,$Z11)","v":0},null,0,0,0,0]
[null,"2019-07-01",{"$f":"SUMIFS('Transaction Details'!$K$4:$K$10109,'Transaction Details'!$E$4:$E$10109,$C$5,'Transaction Details'!$W$4:$W$10109,$R12)","v":0},0,800,1380,0,1380,null,"2019-07-01",{"$f":"SUMIFS('Transaction Details'!$K$4:$K$10109,'Transaction Details'!$AX$4:$AX$10109,$K$5,'Transaction Details'!$W$4:$W$10109,$J12)","v":0},null,0,0,0,0,null,"2019-07-01",{"$f":"SUMIFS('Transaction Details'!$K$4:$K$10109,'Transaction Details'!$AX$4:$AX$10109,$S$5,'Transaction Details'!$W$4:$W$10109,$R12)","v":0},null,0,0,0,0,null,"2019-07-01",{"$f":"SUMIFS('Transaction Details'!$K$4:$K$10109,'Transaction Details'!$AX$4:$AX$10109,$AA$5,'Transaction Details'!$W$4:$W$10109,$Z12)","v":0},null,800,1380,0,1380,null,"2019-07-01",{"$f":"SUMIFS('Transaction Details'!$K$4:$K$10109,'Transaction Details'!$AX$4:$AX$10109,$AI$5,'Transaction Details'!$W$4:$W$10109,$Z12)","v":0},null,0,0,0,0]
[null,"2019-08-01",{"$f":"SUMIFS('Transaction Details'!$K$4:$K$10109,'Transaction Details'!$E$4:$E$10109,$C$5,'Transaction Details'!$W$4:$W$10109,$R13)","v":0},0,800,1380,0,1380,null,"2019-08-01",{"$f":"SUMIFS('Transaction Details'!$K$4:$K$10109,'Transaction Details'!$AX$4:$AX$10109,$K$5,'Transaction Details'!$W$4:$W$10109,$J13)","v":0},null,0,0,0,0,null,"2019-08-01",{"$f":"SUMIFS('Transaction Details'!$K$4:$K$10109,'Transaction Details'!$AX$4:$AX$10109,$S$5,'Transaction Details'!$W$4:$W$10109,$R13)","v":0},null,0,0,0,0,null,"2019-08-01",{"$f":"SUMIFS('Transaction Details'!$K$4:$K$10109,'Transaction Details'!$AX$4:$AX$10109,$AA$5,'Transaction Details'!$W$4:$W$10109,$Z13)","v":0},null,800,1380,0,1380,null,"2019-08-01",{"$f":"SUMIFS('Transaction Details'!$K$4:$K$10109,'Transaction Details'!$AX$4:$AX$10109,$AI$5,'Transaction Details'!$W$4:$W$10109,$Z13)","v":0},null,0,0,0,0]
[null,"2019-09-01",{"$f":"SUMIFS('Transaction Details'!$K$4:$K$10109,'Transaction Details'!$E$4:$E$10109,$C$5,'Transaction Details'!$W$4:$W$10109,$R14)","v":0},0,800,1380,0,1380,null,"2019-09-01",{"$f":"SUMIFS('Transaction Details'!$K$4:$K$10109,'Transaction Details'!$AX$4:$AX$10109,$K$5,'Transaction Details'!$W$4:$W$10109,$J14)","v":0},null,0,0,0,0,null,"2019-09-01",{"$f":"SUMIFS('Transaction Details'!$K$4:$K$10109,'Transaction Details'!$AX$4:$AX$10109,$S$5,'Transaction Details'!$W$4:$W$10109,$R14)","v":0},null,0,0,0,0,null,"2019-09-01",{"$f":"SUMIFS('Transaction Details'!$K$4:$K$10109,'Transaction Details'!$AX$4:$AX$10109,$AA$5,'Transaction Details'!$W$4:$W$10109,$Z14)","v":0},null,800,1380,0,1380,null,"2019-09-01",{"$f":"SUMIFS('Transaction Details'!$K$4:$K$10109,'Transaction Details'!$AX$4:$AX$10109,$AI$5,'Transaction Details'!$W$4:$W$10109,$Z14)","v":0},null,0,0,0,0]
[null,"2019-10-01",{"$f":"SUMIFS('Transaction Details'!$K$4:$K$10109,'Transaction Details'!$E$4:$E$10109,$C$5,'Transaction Details'!$W$4:$W$10109,$R15)","v":0},0,800,1380,0,1380,null,"2019-10-01",{"$f":"SUMIFS('Transaction Details'!$K$4:$K$10109,'Transaction Details'!$AX$4:$AX$10109,$K$5,'Transaction Details'!$W$4:$W$10109,$J15)","v":0},null,0,0,0,0,null,"2019-10-01",{"$f":"SUMIFS('Transaction Details'!$K$4:$K$10109,'Transaction Details'!$AX$4:$AX$10109,$S$5,'Transaction Details'!$W$4:$W$10109,$R15)","v":0},null,0,0,0,0,null,"2019-10-01",{"$f":"SUMIFS('Transaction Details'!$K$4:$K$10109,'Transaction Details'!$AX$4:$AX$10109,$AA$5,'Transaction Details'!$W$4:$W$10109,$Z15)","v":0},null,800,1380,0,1380,null,"2019-10-01",{"$f":"SUMIFS('Transaction Details'!$K$4:$K$10109,'Transaction Details'!$AX$4:$AX$10109,$AI$5,'Transaction Details'!$W$4:$W$10109,$Z15)","v":0},null,0,0,0,0]
[null,"2019-11-01",{"$f":"SUMIFS('Transaction Details'!$K$4:$K$10109,'Transaction Details'!$E$4:$E$10109,$C$5,'Transaction Details'!$W$4:$W$10109,$R16)","v":0},0,800,1380,0,1380,null,"2019-11-01",{"$f":"SUMIFS('Transaction Details'!$K$4:$K$10109,'Transaction Details'!$AX$4:$AX$10109,$K$5,'Transaction Details'!$W$4:$W$10109,$J16)","v":0},null,0,0,0,0,null,"2019-11-01",{"$f":"SUMIFS('Transaction Details'!$K$4:$K$10109,'Transaction Details'!$AX$4:$AX$10109,$S$5,'Transaction Details'!$W$4:$W$10109,$R16)","v":0},null,0,0,0,0,null,"2019-11-01",{"$f":"SUMIFS('Transaction Details'!$K$4:$K$10109,'Transaction Details'!$AX$4:$AX$10109,$AA$5,'Transaction Details'!$W$4:$W$10109,$Z16)","v":0},null,800,1380,0,1380,null,"2019-11-01",{"$f":"SUMIFS('Transaction Details'!$K$4:$K$10109,'Transaction Details'!$AX$4:$AX$10109,$AI$5,'Transaction Details'!$W$4:$W$10109,$Z16)","v":0},null,0,0,0,0]
[null,"2019-12-01",{"$f":"SUMIFS('Transaction Details'!$K$4:$K$10109,'Transaction Details'!$E$4:$E$10109,$C$5,'Transaction Details'!$W$4:$W$10109,$R17)","v":0},0,800,1380,0,1380,null,"2019-12-01",{"$f":"SUMIFS('Transaction Details'!$K$4:$K$10109,'Transaction Details'!$AX$4:$AX$10109,$K$5,'Transaction Details'!$W$4:$W$10109,$J17)","v":0},null,0,0,0,0,null,"2019-12-01",{"$f":"SUMIFS('Transaction Details'!$K$4:$K$10109,'Transaction Details'!$AX$4:$AX$10109,$S$5,'Transaction Details'!$W$4:$W$10109,$R17)","v":0},null,0,0,0,0,null,"2019-12-01",{"$f":"SUMIFS('Transaction Details'!$K$4:$K$10109,'Transaction Details'!$AX$4:$AX$10109,$AA$5,'Transaction Details'!$W$4:$W$10109,$Z17)","v":0},null,800,1380,0,1380,null,"2019-12-01",{"$f":"SUMIFS('Transaction Details'!$K$4:$K$10109,'Transaction Details'!$AX$4:$AX$10109,$AI$5,'Transaction Details'!$W$4:$W$10109,$Z17)","v":0},null,0,0,0,0]
[]
[null,"Long Service Leave (LSL)"]
[null,"Consolidated",null,null,null,null,null,null,null,"The Association",null,null,null,null,null,null,null,"Bookshop",null,null,null,null,null,null,null,"Tuckshop",null,null,null,null,null,null,null,"Uniform Shop"]
[null,"Total Long Service Leave","Cash Payment","Accrued LSL Expenses",null,"Provision for LSL Liability",null,null,null,null,"Cash Payment","Accrual LSL Expenses",null,"Provision for LSL Liability",null,null,null,null,"Cash Payment","Accrual LSL Expenses",null,"Provision for LSL Liability",null,null,null,null,"Cash Payment","Accrual LSL Expenses",null,"Provision for LSL Liability",null,null,null,null,"Cash Payment","Accrual LSL Expenses",null,"Provision for LSL Liability"]
[null,null,"Long Service Leave","Month","YTD","Opening Balance","Monthly Movement","Ending Balance",null,"Month"," Long Service Leave","Month","YTD","Opening Balance","Monthly Movement","Ending Balance",null,"Month","Bookshop Long Service Leave","Month","YTD","Opening Balance","Monthly Movement","Ending Balance",null,"Month","Tuckshop Long Service Leave","Month","YTD","Opening Balance","Monthly Movement","Ending Balance",null,"Month","Uniform Shop Long Service Leave","Month","YTD","Opening Balance","Monthly Movement","Ending Balance",null,null,null,null,null,null,null,null,null,null,null,null,null,"Remarks"]
[null,{"$f":"Master!$C$7","v":"2019-01-01"},{"$f":"SUMIFS('Transaction Details'!$K$4:$K$10109,'Transaction Details'!$E$4:$E$10109,$C$22,'Transaction Details'!$W$4:$W$10109,$R23)","v":0},{"$f":"L23+T23+AB23+AJ23","v":0},{"$f":"M23+U23+AC23+AK23","v":0},{"$f":"N23+V23+AD23+AL23","v":500},{"$f":"O23+W23+AE23+AM23","v":0},{"$f":"P23+X23+AF23+AN23","v":500},null,{"$f":"Master!$C$7","v":"2019-01-01"},{"$f":"SUMIFS('Transaction Details'!$K$4:$K$10109,'Transaction Details'!$AX$4:$AX$10109,$K$22,'Transaction Details'!$W$4:$W$10109,$J23)","v":0},0,{"$f":"L23","v":0},{"$f":"Master!$C$39","v":0},{"$f":"L23-K23","v":0},{"$f":"N23+O23","v":0},null,{"$f":"Master!$C$7","v":"2019-01-01"},{"$f":"SUMIFS('Transaction Details'!$K$4:$K$10109,'Transaction Details'!$AX$4:$AX$10109,$S$22,'Transaction Details'!$W$4:$W$10109,$R23)","v":0},0,{"$f":"T23","v":0},{"$f":"Master!$C$40","v":0},{"$f":"T23-S23","v":0},{"$f":"V23+W23","v":0},null,{"$f":"Master!$C$7","v":"2019-01-01"},{"$f":"SUMIFS('Transaction Details'!$K$4:$K$10109,'Transaction Details'!$AX$4:$AX$10109,$AA$22,'Transaction Details'!$W$4:$W$10109,$Z23)","v":0},null,{"$f":"AB23","v":0},{"$f":"Master!$C$41","v":500},{"$f":"AB23-AA23","v":0},{"$f":"AD23+AE23","v":500},null,{"$f":"Master!$C$7","v":"2019-01-01"},{"$f":"SUMIFS('Transaction Details'!$K$4:$K$10109,'Transaction Details'!$AX$4:$AX$10109,$AI$22,'Transaction Details'!$W$4:$W$10109,$Z23)","v":0},0,{"$f":"AJ23","v":0},{"$f":"Master!$C$42","v":0},{"$f":"AJ23-AI23","v":0},{"$f":"AL23+AM23","v":0},null,null,null,null,null,null,null,null,null,null,null,null,null,1]
[null,{"$f":"DATE(YEAR(B23),MONTH(B23)+1,DAY(B23))","v":"2019-02-01"},{"$f":"SUMIFS('Transaction Details'!$K$4:$K$10109,'Transaction Details'!$E$4:$E$10109,$C$22,'Transaction Details'!$W$4:$W$10109,$R24)","v":0},{"$f":"L24+T24+AB24+AJ24","v":0},{"$f":"M24+U24+AC24+AK24","v":0},{"$f":"N24+V24+AD24+AL24","v":500},{"$f":"O24+W24+AE24+AM24","v":0},{"$f":"P24+X24+AF24+AN24","v":500},null,{"$f":"DATE(YEAR(J23),MONTH(J23)+1,DAY(J23))","v":"2019-02-01"},{"$f":"SUMIFS('Transaction Details'!$K$4:$K$10109,'Transaction Details'!$AX$4:$AX$10109,$K$22,'Transaction Details'!$W$4:$W$10109,$J24)","v":0},null,{"$f":"M23+L24","v":0},{"$f":"P23","v":0},{"$f":"L24-K24","v":0},{"$f":"N24+O24","v":0},null,{"$f":"DATE(YEAR(R23),MONTH(R23)+1,DAY(R23))","v":"2019-02-01"},{"$f":"SUMIFS('Transaction Details'!$K$4:$K$10109,'Transaction Details'!$AX$4:$AX$10109,$S$22,'Transaction Details'!$W$4:$W$10109,$R24)","v":0},null,{"$f":"U23+T24","v":0},{"$f":"X23","v":0},{"$f":"T24-S24","v":0},{"$f":"V24+W24","v":0},null,{"$f":"DATE(YEAR(Z23),MONTH(Z23)+1,DAY(Z23))","v":"2019-02-01"},{"$f":"SUMIFS('Transaction Details'!$K$4:$K$10109,'Transaction Details'!$AX$4:$AX$10109,$AA$22,'Transaction Details'!$W$4:$W$10109,$Z24)","v":0},null,{"$f":"AC23+AB24","v":0},{"$f":"AF23","v":500},{"$f":"AB24-AA24","v":0},{"$f":"AD24+AE24","v":500},null,{"$f":"$B24","v":"2019-02-01"},{"$f":"SUMIFS('Transaction Details'!$K$4:$K$10109,'Transaction Details'!$AX$4:$AX$10109,$AI$22,'Transaction Details'!$W$4:$W$10109,$Z24)","v":0},null,{"$f":"AK23+AJ24","v":0},{"$f":"AN23","v":0},{"$f":"AJ24-AI24","v":0},{"$f":"AL24+AM24","v":0},null,null,null,null,null,null,null,null,null,null,null,null,null,2]
[null,{"$f":"DATE(YEAR(B24),MONTH(B24)+1,DAY(B24))","v":"2019-03-01"},{"$f":"SUMIFS('Transaction Details'!$K$4:$K$10109,'Transaction Details'!$E$4:$E$10109,$C$22,'Transaction Details'!$W$4:$W$10109,$R25)","v":0},100,100,500,100,600,null,{"$f":"DATE(YEAR(J24),MONTH(J24)+1,DAY(J24))","v":"2019-03-01"},{"$f":"SUMIFS('Transaction Details'!$K$4:$K$10109,'Transaction Details'!$AX$4:$AX$10109,$K$22,'Transaction Details'!$W$4:$W$10109,$J25)","v":0},null,0,{"$f":"P24","v":0},0,0,null,{"$f":"DATE(YEAR(R24),MONTH(R24)+1,DAY(R24))","v":"2019-03-01"},{"$f":"SUMIFS('Transaction Details'!$K$4:$K$10109,'Transaction Details'!$AX$4:$AX$10109,$S$22,'Transaction Details'!$W$4:$W$10109,$R25)","v":0},null,0,{"$f":"X24","v":0},0,0,null,{"$f":"DATE(YEAR(Z24),MONTH(Z24)+1,DAY(Z24))","v":"2019-03-01"},{"$f":"SUMIFS('Transaction Details'!$K$4:$K$10109,'Transaction Details'!$AX$4:$AX$10109,$AA$22,'Transaction Details'!$W$4:$W$10109,$Z25)","v":0},100,{"$f":"AC24+AB25","v":100},{"$f":"AF24","v":500},{"$f":"AB25-AA25","v":100},{"$f":"AD25+AE25","v":600},null,"2019-03-01",{"$f":"SUMIFS('Transaction Details'!$K$4:$K$10109,'Transaction Details'!$AX$4:$AX$10109,$AI$22,'Transaction Details'!$W$4:$W$10109,$Z25)","v":0},null,{"$f":"AK24+AJ25","v":0},{"$f":"AN24","v":0},0,0,null,null,null,null,null,null,null,null,null,null,null,null,null,2]
[null,"2019-04-01",{"$f":"SUMIFS('Transaction Details'!$K$4:$K$10109,'Transaction Details'!$E$4:$E$10109,$C$22,'Transaction Details'!$W$4:$W$10109,$R26)","v":0},0,100,600,0,600,null,"2019-04-01",{"$f":"SUMIFS('Transaction Details'!$K$4:$K$10109,'Transaction Details'!$AX$4:$AX$10109,$K$22,'Transaction Details'!$W$4:$W$10109,$J26)","v":0},null,0,0,0,0,null,"2019-04-01",{"$f":"SUMIFS('Transaction Details'!$K$4:$K$10109,'Transaction Details'!$AX$4:$AX$10109,$S$22,'Transaction Details'!$W$4:$W$10109,$R26)","v":0},null,0,0,0,0,null,"2019-04-01",{"$f":"SUMIFS('Transaction Details'!$K$4:$K$10109,'Transaction Details'!$AX$4:$AX$10109,$AA$22,'Transaction Details'!$W$4:$W$10109,$Z26)","v":0},null,100,600,0,600,null,"2019-04-01",{"$f":"SUMIFS('Transaction Details'!$K$4:$K$10109,'Transaction Details'!$AX$4:$AX$10109,$AI$22,'Transaction Details'!$W$4:$W$10109,$Z26)","v":0},null,0,0,0,0,null,null,null,null,null,null,null,null,null,null,null,null,null,2]
[null,"2019-05-01",{"$f":"SUMIFS('Transaction Details'!$K$4:$K$10109,'Transaction Details'!$E$4:$E$10109,$C$22,'Transaction Details'!$W$4:$W$10109,$R27)","v":0},0,100,600,0,600,null,"2019-05-01",{"$f":"SUMIFS('Transaction Details'!$K$4:$K$10109,'Transaction Details'!$AX$4:$AX$10109,$K$22,'Transaction Details'!$W$4:$W$10109,$J27)","v":0},null,0,0,0,0,null,"2019-05-01",{"$f":"SUMIFS('Transaction Details'!$K$4:$K$10109,'Transaction Details'!$AX$4:$AX$10109,$S$22,'Transaction Details'!$W$4:$W$10109,$R27)","v":0},null,0,0,0,0,null,"2019-05-01",{"$f":"SUMIFS('Transaction Details'!$K$4:$K$10109,'Transaction Details'!$AX$4:$AX$10109,$AA$22,'Transaction Details'!$W$4:$W$10109,$Z27)","v":0},null,100,600,0,600,null,"2019-05-01",{"$f":"SUMIFS('Transaction Details'!$K$4:$K$10109,'Transaction Details'!$AX$4:$AX$10109,$AI$22,'Transaction Details'!$W$4:$W$10109,$Z27)","v":0},null,0,0,0,0,null,null,null,null,null,null,null,null,null,null,null,null,null,2]
[null,"2019-06-01",{"$f":"SUMIFS('Transaction Details'!$K$4:$K$10109,'Transaction Details'!$E$4:$E$10109,$C$22,'Transaction Details'!$W$4:$W$10109,$R28)","v":0},0,100,600,0,600,null,"2019-06-01",{"$f":"SUMIFS('Transaction Details'!$K$4:$K$10109,'Transaction Details'!$AX$4:$AX$10109,$K$22,'Transaction Details'!$W$4:$W$10109,$J28)","v":0},null,0,0,0,0,null,"2019-06-01",{"$f":"SUMIFS('Transaction Details'!$K$4:$K$10109,'Transaction Details'!$AX$4:$AX$10109,$S$22,'Transaction Details'!$W$4:$W$10109,$R28)","v":0},null,0,0,0,0,null,"2019-06-01",{"$f":"SUMIFS('Transaction Details'!$K$4:$K$10109,'Transaction Details'!$AX$4:$AX$10109,$AA$22,'Transaction Details'!$W$4:$W$10109,$Z28)","v":0},null,100,600,0,600,null,"2019-06-01",{"$f":"SUMIFS('Transaction Details'!$K$4:$K$10109,'Transaction Details'!$AX$4:$AX$10109,$AI$22,'Transaction Details'!$W$4:$W$10109,$Z28)","v":0},null,0,0,0,0,null,null,null,null,null,null,null,null,null,null,null,null,null,2]
[null,"2019-07-01",{"$f":"SUMIFS('Transaction Details'!$K$4:$K$10109,'Transaction Details'!$E$4:$E$10109,$C$22,'Transaction Details'!$W$4:$W$10109,$R29)","v":0},0,100,600,0,600,null,"2019-07-01",{"$f":"SUMIFS('Transaction Details'!$K$4:$K$10109,'Transaction Details'!$AX$4:$AX$10109,$K$22,'Transaction Details'!$W$4:$W$10109,$J29)","v":0},null,0,0,0,0,null,"2019-07-01",{"$f":"SUMIFS('Transaction Details'!$K$4:$K$10109,'Transaction Details'!$AX$4:$AX$10109,$S$22,'Transaction Details'!$W$4:$W$10109,$R29)","v":0},null,0,0,0,0,null,"2019-07-01",{"$f":"SUMIFS('Transaction Details'!$K$4:$K$10109,'Transaction Details'!$AX$4:$AX$10109,$AA$22,'Transaction Details'!$W$4:$W$10109,$Z29)","v":0},null,100,600,0,600,null,"2019-07-01",{"$f":"SUMIFS('Transaction Details'!$K$4:$K$10109,'Transaction Details'!$AX$4:$AX$10109,$AI$22,'Transaction Details'!$W$4:$W$10109,$Z29)","v":0},null,0,0,0,0,null,null,null,null,null,null,null,null,null,null,null,null,null,2]
[null,"2019-08-01",{"$f":"SUMIFS('Transaction Details'!$K$4:$K$10109,'Transaction Details'!$E$4:$E$10109,$C$22,'Transaction Details'!$W$4:$W$10109,$R30)","v":0},0,100,600,0,600,null,"2019-08-01",{"$f":"SUMIFS('Transaction Details'!$K$4:$K$10109,'Transaction Details'!$AX$4:$AX$10109,$K$22,'Transaction Details'!$W$4:$W$10109,$J30)","v":0},null,0,0,0,0,null,"2019-08-01",{"$f":"SUMIFS('Transaction Details'!$K$4:$K$10109,'Transaction Details'!$AX$4:$AX$10109,$S$22,'Transaction Details'!$W$4:$W$10109,$R30)","v":0},null,0,0,0,0,null,"2019-08-01",{"$f":"SUMIFS('Transaction Details'!$K$4:$K$10109,'Transaction Details'!$AX$4:$AX$10109,$AA$22,'Transaction Details'!$W$4:$W$10109,$Z30)","v":0},null,100,600,0,600,null,"2019-08-01",{"$f":"SUMIFS('Transaction Details'!$K$4:$K$10109,'Transaction Details'!$AX$4:$AX$10109,$AI$22,'Transaction Details'!$W$4:$W$10109,$Z30)","v":0},null,0,0,0,0,null,null,null,null,null,null,null,null,null,null,null,null,null,2]
[null,"2019-09-01",{"$f":"SUMIFS('Transaction Details'!$K$4:$K$10109,'Transaction Details'!$E$4:$E$10109,$C$22,'Transaction Details'!$W$4:$W$10109,$R31)","v":0},0,100,600,0,600,null,"2019-09-01",{"$f":"SUMIFS('Transaction Details'!$K$4:$K$10109,'Transaction Details'!$AX$4:$AX$10109,$K$22,'Transaction Details'!$W$4:$W$10109,$J31)","v":0},null,0,0,0,0,null,"2019-09-01",{"$f":"SUMIFS('Transaction Details'!$K$4:$K$10109,'Transaction Details'!$AX$4:$AX$10109,$S$22,'Transaction Details'!$W$4:$W$10109,$R31)","v":0},null,0,0,0,0,null,"2019-09-01",{"$f":"SUMIFS('Transaction Details'!$K$4:$K$10109,'Transaction Details'!$AX$4:$AX$10109,$AA$22,'Transaction Details'!$W$4:$W$10109,$Z31)","v":0},null,100,600,0,600,null,"2019-09-01",{"$f":"SUMIFS('Transaction Details'!$K$4:$K$10109,'Transaction Details'!$AX$4:$AX$10109,$AI$22,'Transaction Details'!$W$4:$W$10109,$Z31)","v":0},null,0,0,0,0,null,null,null,null,null,null,null,null,null,null,null,null,null,2]
[null,"2019-10-01",{"$f":"SUMIFS('Transaction Details'!$K$4:$K$10109,'Transaction Details'!$E$4:$E$10109,$C$22,'Transaction Details'!$W$4:$W$10109,$R32)","v":0},0,100,600,0,600,null,"2019-10-01",{"$f":"SUMIFS('Transaction Details'!$K$4:$K$10109,'Transaction Details'!$AX$4:$AX$10109,$K$22,'Transaction Details'!$W$4:$W$10109,$J32)","v":0},null,0,0,0,0,null,"2019-10-01",{"$f":"SUMIFS('Transaction Details'!$K$4:$K$10109,'Transaction Details'!$AX$4:$AX$10109,$S$22,'Transaction Details'!$W$4:$W$10109,$R32)","v":0},null,0,0,0,0,null,"2019-10-01",{"$f":"SUMIFS('Transaction Details'!$K$4:$K$10109,'Transaction Details'!$AX$4:$AX$10109,$AA$22,'Transaction Details'!$W$4:$W$10109,$Z32)","v":0},null,100,600,0,600,null,"2019-10-01",{"$f":"SUMIFS('Transaction Details'!$K$4:$K$10109,'Transaction Details'!$AX$4:$AX$10109,$AI$22,'Transaction Details'!$W$4:$W$10109,$Z32)","v":0},null,0,0,0,0,null,null,null,null,null,null,null,null,null,null,null,null,null,2]
[null,"2019-11-01",{"$f":"SUMIFS('Transaction Details'!$K$4:$K$10109,'Transaction Details'!$E$4:$E$10109,$C$22,'Transaction Details'!$W$4:$W$10109,$R33)","v":0},0,100,600,0,600,null,"2019-11-01",{"$f":"SUMIFS('Transaction Details'!$K$4:$K$10109,'Transaction Details'!$AX$4:$AX$10109,$K$22,'Transaction Details'!$W$4:$W$10109,$J33)","v":0},null,0,0,0,0,null,"2019-11-01",{"$f":"SUMIFS('Transaction Details'!$K$4:$K$10109,'Transaction Details'!$AX$4:$AX$10109,$S$22,'Transaction Details'!$W$4:$W$10109,$R33)","v":0},null,0,0,0,0,null,"2019-11-01",{"$f":"SUMIFS('Transaction Details'!$K$4:$K$10109,'Transaction Details'!$AX$4:$AX$10109,$AA$22,'Transaction Details'!$W$4:$W$10109,$Z33)","v":0},null,100,600,0,600,null,"2019-11-01",{"$f":"SUMIFS('Transaction Details'!$K$4:$K$10109,'Transaction Details'!$AX$4:$AX$10109,$AI$22,'Transaction Details'!$W$4:$W$10109,$Z33)","v":0},null,0,0,0,0,null,null,null,null,null,null,null,null,null,null,null,null,null,2]
[null,"2019-12-01",{"$f":"SUMIFS('Transaction Details'!$K$4:$K$10109,'Transaction Details'!$E$4:$E$10109,$C$22,'Transaction Details'!$W$4:$W$10109,$R34)","v":0},0,100,600,0,600,null,"2019-12-01",{"$f":"SUMIFS('Transaction Details'!$K$4:$K$10109,'Transaction Details'!$AX$4:$AX$10109,$K$22,'Transaction Details'!$W$4:$W$10109,$J34)","v":0},null,0,0,0,0,null,"2019-12-01",{"$f":"SUMIFS('Transaction Details'!$K$4:$K$10109,'Transaction Details'!$AX$4:$AX$10109,$S$22,'Transaction Details'!$W$4:$W$10109,$R34)","v":0},null,0,0,0,0,null,"2019-12-01",{"$f":"SUMIFS('Transaction Details'!$K$4:$K$10109,'Transaction Details'!$AX$4:$AX$10109,$AA$22,'Transaction Details'!$W$4:$W$10109,$Z34)","v":0},null,100,600,0,600,null,"2019-12-01",{"$f":"SUMIFS('Transaction Details'!$K$4:$K$10109,'Transaction Details'!$AX$4:$AX$10109,$AI$22,'Transaction Details'!$W$4:$W$10109,$Z34)","v":0},null,0,0,0,0,null,null,null,null,null,null,null,null,null,null,null,null,null,2]

{"sheet":"Annual P&L","index":20,"n_rows":57,"n_cols":7,"rows_kept":57,"cut":false,"hidden":false,"merged":[[1,1,1,7],[2,1,2,7],[3,1,3,7]]}
[]
[null,{"$f":"Master!C4","v":"The Sesame St State School \nP&C Association"}]
[null,"Statement of Comprehensive Income "]
[null,{"$f":"CONCATENATE(\"Year ended\", \" \", DAY(EOMONTH('P&L'!$E$8, 0)),\" \", TEXT('P&L'!$E$8,\"mmmm, yyyy\"))","v":"Year ended 31 March, 2019"}]
[]
[]
[null,null,null,null,{"$f":"Master!$C$6","v":2019},null,{"$f":"Master!$C$6-1","v":2018}]
[null,null,null,null,"$",null,"$"]
[]
[null,"Income"]
[null,{"$f":"'P&L'!B11","v":"Sales Tuckshop"},null,null,{"$f":"'P&L'!G11","v":9660.2000000000007},null,{"$f":"'P&L'!I11","v":0}]
[null,{"$f":"'P&L'!B12","v":"Sales Uniform Shop"},null,null,{"$f":"'P&L'!G12","v":9580},null,{"$f":"'P&L'!I12","v":0}]
[null,{"$f":"'P&L'!B13","v":"Sales Bookshop"},null,null,{"$f":"'P&L'!G13","v":0},null,{"$f":"'P&L'!I13","v":0}]
[null,{"$f":"'P&L'!B14","v":"Sales Swim Club"},null,null,{"$f":"'P&L'!G14","v":0},null,{"$f":"'P&L'!I14","v":0}]
[null,{"$f":"'P&L'!B15","v":"Fundraising "},null,null,{"$f":"'P&L'!G15","v":19000},null,{"$f":"'P&L'!I15","v":0}]
[null,{"$f":"'P&L'!B16","v":"Donations"},null,null,{"$f":"'P&L'!G16","v":0},null,{"$f":"'P&L'!I16","v":0}]
[null,{"$f":"'P&L'!B17","v":"Grant "},null,null,{"$f":"'P&L'!G17","v":0},null,{"$f":"'P&L'!I17","v":0}]
[null,{"$f":"'P&L'!B18","v":"Interest earned"},null,null,{"$f":"'P&L'!G18","v":0},null,{"$f":"'P&L'!I18","v":0}]
[null,{"$f":"'P&L'!B19","v":"Other Income"},null,null,{"$f":"'P&L'!G19","v":0},null,{"$f":"'P&L'!I19","v":0}]
[]
[null,"Total Income",null,null,{"$f":"SUM(E11:E20)","v":38240.199999999997},null,{"$f":"SUM(G11:G20)","v":0}]
[]
[null,"Cost of Goods Sold"]
[null,{"$f":"'P&L'!B24","v":"Cost of Goods Sold - Tuckshop"},null,null,{"$f":"'P&L'!G24","v":6762.14},null,{"$f":"'P&L'!I24","v":0}]
[null,{"$f":"'P&L'!B25","v":"Cost of Goods Sold - Uniform shop"},null,null,{"$f":"'P&L'!G25","v":6706},null,{"$f":"'P&L'!I25","v":0}]
[null,{"$f":"'P&L'!B26","v":"Cost of Goods Sold - Bookshop"},null,null,{"$f":"'P&L'!G26","v":0},null,{"$f":"'P&L'!I26","v":0}]
[]
[null,"Total Cost of Sales",null,null,{"$f":"SUM(E24:E27)","v":13468.14},null,{"$f":"SUM(G24:G27)","v":0}]
[]
[null,"Gross Profit",null,null,{"$f":"E21-E28","v":24772.059999999998},null,{"$f":"G21-G28","v":0}]
[]
[null,"Expenses"]
[null,{"$f":"'P&L'!B33","v":"Accountant fees"},null,null,{"$f":"'P&L'!G33","v":0},null,{"$f":"'P&L'!I33","v":0}]
[null,{"$f":"'P&L'!B34","v":"Advertising and marketing"},null,null,{"$f":"'P&L'!G34","v":0},null,{"$f":"'P&L'!I34","v":0}]
[null,{"$f":"'P&L'!B35","v":"Audit fees"},null,null,{"$f":"'P&L'!G35","v":0},null,{"$f":"'P&L'!I35","v":0}]
[null,{"$f":"'P&L'!B36","v":"Bank charges"},null,null,{"$f":"'P&L'!G36","v":30},null,{"$f":"'P&L'!I36","v":0}]
[null,{"$f":"'P&L'!B37","v":"Donations"},null,null,{"$f":"'P&L'!G37","v":0},null,{"$f":"'P&L'!I37","v":0}]
[null,{"$f":"'P&L'!B38","v":"Depreciation"},null,null,{"$f":"'P&L'!G38","v":750},null,{"$f":"'P&L'!I38","v":0}]
[null,{"$f":"'P&L'!B39","v":"Equipment/tools"},null,null,{"$f":"'P&L'!G39","v":0},null,{"$f":"'P&L'!I39","v":0}]
[null,{"$f":"'P&L'!B40","v":"Fundraising Expenses"},null,null,{"$f":"'P&L'!G40","v":732.5},null,{"$f":"'P&L'!I40","v":0}]
[null,{"$f":"'P&L'!B41","v":"Insurance"},null,null,{"$f":"'P&L'!G41","v":0},null,{"$f":"'P&L'!I41","v":0}]
[null,{"$f":"'P&L'!B42","v":"Loan repayment - interest expenses"},null,null,{"$f":"'P&L'!G42","v":300},null,{"$f":"'P&L'!I42","v":0}]
[null,{"$f":"'P&L'!B43","v":"Membership and subscriptions"},null,null,{"$f":"'P&L'!G43","v":0},null,{"$f":"'P&L'!I43","v":0}]
[null,{"$f":"'P&L'!B44","v":"Printing"},null,null,{"$f":"'P&L'!G44","v":0},null,{"$f":"'P&L'!I44","v":0}]
[null,{"$f":"'P&L'!B45","v":"Amortisation of Pre-paid expense "},null,null,{"$f":"'P&L'!G45","v":900},null,{"$f":"'P&L'!I45","v":0}]
[null,{"$f":"'P&L'!B46","v":"Annual Leave"},null,null,{"$f":"'P&L'!G46","v":800},null,{"$f":"'P&L'!I46","v":0}]
[null,{"$f":"'P&L'!B47","v":"Long Service Leave"},null,null,{"$f":"'P&L'!G47","v":100},null,{"$f":"'P&L'!I47","v":0}]
[null,{"$f":"'P&L'!B48","v":"Repairs and maintenance"},null,null,{"$f":"'P&L'!G48","v":0},null,{"$f":"'P&L'!I48","v":0}]
[null,{"$f":"'P&L'!B49","v":"School premise/facility hire"},null,null,{"$f":"'P&L'!G49","v":0},null,{"$f":"'P&L'!I49","v":0}]
[null,{"$f":"'P&L'!B50","v":"Stationery and postage"},null,null,{"$f":"'P&L'!G50","v":0},null,{"$f":"'P&L'!I50","v":0}]
[null,{"$f":"'P&L'!B51","v":"Superannuation"},null,null,{"$f":"'P&L'!G51","v":330},null,{"$f":"'P&L'!I51","v":0}]
[null,{"$f":"'P&L'!B52","v":"Wages"},null,null,{"$f":"'P&L'!G52","v":1900},null,{"$f":"'P&L'!I52","v":0}]
[null,{"$f":"'P&L'!B53","v":"Other Expenses"},null,null,{"$f":"'P&L'!G53","v":0},null,{"$f":"'P&L'!I53","v":0}]
[]
[null,"Total Expense",null,null,{"$f":"SUM(E33:E54)","v":5842.5},null,{"$f":"SUM(G33:G54)","v":0}]
[]
[null,"Net Profit / (Loss)",null,null,{"$f":"E30-E55","v":18929.559999999998},null,{"$f":"G30-G55","v":0}]

{"sheet":"Annual BalSheet","index":21,"n_rows":48,"n_cols":8,"rows_kept":48,"cut":false,"hidden":false,"merged":[[1,1,1,7],[2,1,2,7],[3,1,3,7]]}
[]
[null,{"$f":"Master!C4","v":"The Sesame St State School \nP&C Association"}]
[null,"Statement of Financial Position "]
[null,{"$f":"CONCATENATE(\"Year ended\", \" \", DAY(EOMONTH('P&L'!E8, 0)),\" \", TEXT('P&L'!E8,\"mmmm, yyyy\"))","v":"Year ended 31 March, 2019"}]
[]
[]
[null,null,null,null,null,{"$f":"Master!$C$6","v":2019},null,{"$f":"Master!$C$6-1","v":2018}]
[null,null,null,null,null,"$",null,"$"]
[]
[null,"Current Assets"]
[]
[null,{"$f":"BalSheet!B12","v":"Cash in bank - Main Account"},null,null,null,{"$f":"BalSheet!I12","v":11343},null,{"$f":"BalSheet!E12","v":900}]
[null,{"$f":"BalSheet!B13","v":"Cash in bank - Sub Bank Account"},null,null,null,{"$f":"BalSheet!I13","v":0},null,{"$f":"BalSheet!E13","v":0}]
[null,{"$f":"BalSheet!B14","v":"Cash in hand - Petty Cash"},null,null,null,{"$f":"BalSheet!I14","v":82.7},null,{"$f":"BalSheet!E14","v":100}]
[null,{"$f":"BalSheet!B15","v":"Debit Card Account"},null,null,null,{"$f":"BalSheet!I15","v":305},null,{"$f":"BalSheet!E15","v":500}]
[null,{"$f":"BalSheet!B16","v":"Pre-paid expense"},null,null,null,{"$f":"BalSheet!I16","v":3300},null,{"$f":"BalSheet!E16","v":600}]
[null,{"$f":"BalSheet!B17","v":"Stock on hand - Book Shop"},null,null,null,{"$f":"BalSheet!I17","v":0},null,{"$f":"BalSheet!E17","v":0}]
[null,{"$f":"BalSheet!B18","v":"Stock on hand - Tuckshop"},null,null,null,{"$f":"BalSheet!I18","v":1484.86},null,{"$f":"BalSheet!E18","v":120}]
[null,{"$f":"BalSheet!B19","v":"Stock on hand - Uniform Shop"},null,null,null,{"$f":"BalSheet!I19","v":3464},null,{"$f":"BalSheet!E19","v":1250}]
[]
[null,"Total Current Assets",null,null,null,{"$f":"SUM(F11:F20)","v":19979.560000000001},null,{"$f":"SUM(H11:H20)","v":3470}]
[]
[null,"Non-Current Assets"]
[null,{"$f":"BalSheet!B24","v":"Plant and Equipment"},null,null,null,{"$f":"BalSheet!I24","v":24750},null,{"$f":"BalSheet!E24","v":25500}]
[]
[null,"Total Non-Current Assets",null,null,null,{"$f":"SUM(F24:F25)","v":24750},null,{"$f":"SUM(H24:H25)","v":25500}]
[]
[null,"Total Assets",null,null,null,{"$f":"F21+F26","v":44729.56},null,{"$f":"H21+H26","v":28970}]
[]
[]
[null,"Liabilities"]
[null,{"$f":"BalSheet!B32","v":"Balance of Loans"},null,null,null,{"$f":"BalSheet!I32","v":2500},null,{"$f":"BalSheet!E32","v":6250}]
[null,{"$f":"BalSheet!B33","v":"Provision for Annual Leave Liability"},null,null,null,{"$f":"BalSheet!I33","v":1380},null,{"$f":"BalSheet!E33","v":900}]
[null,{"$f":"BalSheet!B34","v":"Provision for LSL Liability"},null,null,null,{"$f":"BalSheet!I34","v":600},null,{"$f":"BalSheet!E34","v":500}]
[]
[null,"Total Liabilities",null,null,null,{"$f":"SUM(F32:F35)","v":4480},null,{"$f":"SUM(H32:H35)","v":7650}]
[]
[]
[null,"Net Assets",null,null,null,{"$f":"F28-F36","v":40249.56},null,{"$f":"H28-H36","v":21320}]
[]
[]
[null,"Accumulated Surplus"]
[null,{"$f":"BalSheet!B43","v":"Opening balance"},null,null,null,{"$f":"BalSheet!I43","v":21320},null,{"$f":"BalSheet!E43","v":12750}]
[null,{"$f":"BalSheet!B44","v":"Profit/(Loss) for year"},null,null,null,{"$f":"BalSheet!I44","v":18929.559999999998},null,{"$f":"BalSheet!E44","v":8570}]
[]
[null,"Accumulated Surplus at end of year",null,null,null,{"$f":"SUM(F43:F45)","v":40249.56},null,{"$f":"SUM(H43:H45)","v":21320}]
[]
[null,"Reconciliation",null,null,null,{"$f":"IF(ABS($F$39-$F$46)<1, \"Yes\", \"No\")","v":"Yes"},null,{"$f":"IF(ABS($H$39-$H$46)<1, \"Yes\", \"No\")","v":"Yes"}]

{"sheet":"Annual Rcpts & Pymts","index":22,"n_rows":109,"n_cols":15,"rows_kept":109,"cut":false,"hidden":false,"merged":[[1,1,1,7],[2,1,2,7],[3,1,3,7]]}
[]
[null,{"$f":"Master!C4","v":"The Sesame St State School \nP&C Association"}]
[null,"Statement of Receipts and Payments"]
[null,{"$f":"CONCATENATE(\"Year ended\", \" \", DAY(EOMONTH('P&L'!E8, 0)),\" \", TEXT('P&L'!E8,\"mmmm, yyyy\"))","v":"Year ended 31 March, 2019"}]
[]
[]
[null,null,null,null,null,{"$f":"Master!$C$6","v":2019},null,{"$f":"Master!$C$6-1","v":2018}]
[null,null,null,null,null,"$",null,"$",null,null,null,null,null,null,"Calculation"]
[]
[null,"Receipts"]
[null,"Sales"]
[null,{"$f":"'Rcpts & Pymts'!B12","v":"Sales Tuckshop"},null,null,null,{"$f":"'Rcpts & Pymts'!I12","v":9660.2000000000007},null,{"$f":"'Rcpts & Pymts'!E12","v":0},null,null,null,null,null,null,{"$f":"IF(AND(F12<1,H12<1),\"Yes\",\"\")","v":""}]
[null,{"$f":"'Rcpts & Pymts'!B13","v":"Sales Uniform Shop"},null,null,null,{"$f":"'Rcpts & Pymts'!I13","v":9580},null,{"$f":"'Rcpts & Pymts'!E13","v":0},null,null,null,null,null,null,{"$f":"IF(AND(F13<1,H13<1),\"Yes\",\"\")","v":""}]
[null,{"$f":"'Rcpts & Pymts'!B14","v":"Sales Bookshop"},null,null,null,{"$f":"'Rcpts & Pymts'!I14","v":0},null,{"$f":"'Rcpts & Pymts'!E14","v":0},null,null,null,null,null,null,"Yes"]
[null,{"$f":"'Rcpts & Pymts'!B15","v":"Sales Swim Club"},null,null,null,{"$f":"'Rcpts & Pymts'!I15","v":0},null,{"$f":"'Rcpts & Pymts'!E15","v":0},null,null,null,null,null,null,"Yes"]
[null,{"$f":"'Rcpts & Pymts'!B16","v":"Fundraising:"}]
[null,{"$f":"'Rcpts & Pymts'!B17","v":"Fundraising  Art show"},null,null,null,{"$f":"'Rcpts & Pymts'!I17","v":0},null,{"$f":"'Rcpts & Pymts'!E17","v":0},null,null,null,null,null,null,{"$f":"IF(AND(F17<1,H17<1),\"Yes\",\"\")","v":"Yes"}]
[null,{"$f":"'Rcpts & Pymts'!B18","v":"Fundraising  Auction"},null,null,null,{"$f":"'Rcpts & Pymts'!I18","v":0},null,{"$f":"'Rcpts & Pymts'!E18","v":0},null,null,null,null,null,null,{"$f":"IF(AND(F18<1,H18<1),\"Yes\",\"\")","v":"Yes"}]
[null,{"$f":"'Rcpts & Pymts'!B19","v":"Fundraising  Cake stall"},null,null,null,{"$f":"'Rcpts & Pymts'!I19","v":0},null,{"$f":"'Rcpts & Pymts'!E19","v":0},null,null,null,null,null,null,"Yes"]
[null,{"$f":"'Rcpts & Pymts'!B20","v":"Fundraising  Car wash"},null,null,null,{"$f":"'Rcpts & Pymts'!I20","v":9800},null,{"$f":"'Rcpts & Pymts'!E20","v":0},null,null,null,null,null,null,{"$f":"IF(AND(F20<1,H20<1),\"Yes\",\"\")","v":""}]
[null,{"$f":"'Rcpts & Pymts'!B21","v":"Fundraising  Chocolate drive"},null,null,null,{"$f":"'Rcpts & Pymts'!I21","v":0},null,{"$f":"'Rcpts & Pymts'!E21","v":0},null,null,null,null,null,null,"Yes"]
[null,{"$f":"'Rcpts & Pymts'!B22","v":"Fundraising  Christmas"},null,null,null,{"$f":"'Rcpts & Pymts'!I22","v":0},null,{"$f":"'Rcpts & Pymts'!E22","v":0},null,null,null,null,null,null,"Yes"]
[null,{"$f":"'Rcpts & Pymts'!B23","v":"Fundraising  Concert"},null,null,null,{"$f":"'Rcpts & Pymts'!I23","v":0},null,{"$f":"'Rcpts & Pymts'!E23","v":0},null,null,null,null,null,null,"Yes"]
[null,{"$f":"'Rcpts & Pymts'!B24","v":"Fundraising  Coin drive"},null,null,null,{"$f":"'Rcpts & Pymts'!I24","v":0},null,{"$f":"'Rcpts & Pymts'!E24","v":0},null,null,null,null,null,null,"Yes"]
[null,{"$f":"'Rcpts & Pymts'!B25","v":"Fundraising  Container Refund Scheme"},null,null,null,{"$f":"'Rcpts & Pymts'!I25","v":0},null,{"$f":"'Rcpts & Pymts'!E25","v":0},null,null,null,null,null,null,"Yes"]
[null,{"$f":"'Rcpts & Pymts'!B26","v":"Fundraising  Cookie dough drive"},null,null,null,{"$f":"'Rcpts & Pymts'!I26","v":0},null,{"$f":"'Rcpts & Pymts'!E26","v":0},null,null,null,null,null,null,"Yes"]
[null,{"$f":"'Rcpts & Pymts'!B27","v":"Fundraising  Disco"},null,null,null,{"$f":"'Rcpts & Pymts'!I27","v":0},null,{"$f":"'Rcpts & Pymts'!E27","v":0},null,null,null,null,null,null,"Yes"]
[null,{"$f":"'Rcpts & Pymts'!B28","v":"Fundraising  Easter"},null,null,null,{"$f":"'Rcpts & Pymts'!I28","v":0},null,{"$f":"'Rcpts & Pymts'!E28","v":0},null,null,null,null,null,null,"Yes"]
[null,{"$f":"'Rcpts & Pymts'!B29","v":"Fundraising  Entertainment book"},null,null,null,{"$f":"'Rcpts & Pymts'!I29","v":0},null,{"$f":"'Rcpts & Pymts'!E29","v":0},null,null,null,null,null,null,"Yes"]
[null,{"$f":"'Rcpts & Pymts'!B30","v":"Fundraising  Fathers day"},null,null,null,{"$f":"'Rcpts & Pymts'!I30","v":0},null,{"$f":"'Rcpts & Pymts'!E30","v":0},null,null,null,null,null,null,"Yes"]
[null,{"$f":"'Rcpts & Pymts'!B31","v":"Fundraising  Fete"},null,null,null,{"$f":"'Rcpts & Pymts'!I31","v":9200},null,{"$f":"'Rcpts & Pymts'!E31","v":0},null,null,null,null,null,null,""]
[null,{"$f":"'Rcpts & Pymts'!B32","v":"Fundraising  Fun run"},null,null,null,{"$f":"'Rcpts & Pymts'!I32","v":0},null,{"$f":"'Rcpts & Pymts'!E32","v":0},null,null,null,null,null,null,"Yes"]
[null,{"$f":"'Rcpts & Pymts'!B33","v":"Fundraising  Market stall"},null,null,null,{"$f":"'Rcpts & Pymts'!I33","v":0},null,{"$f":"'Rcpts & Pymts'!E33","v":0},null,null,null,null,null,null,"Yes"]
[null,{"$f":"'Rcpts & Pymts'!B34","v":"Fundraising  Mothers day"},null,null,null,{"$f":"'Rcpts & Pymts'!I34","v":0},null,{"$f":"'Rcpts & Pymts'!E34","v":0},null,null,null,null,null,null,"Yes"]
[null,{"$f":"'Rcpts & Pymts'!B35","v":"Fundraising  Movie night"},null,null,null,{"$f":"'Rcpts & Pymts'!I35","v":0},null,{"$f":"'Rcpts & Pymts'!E35","v":0},null,null,null,null,null,null,"Yes"]
[null,{"$f":"'Rcpts & Pymts'!B36","v":"Fundraising  Pie drive"},null,null,null,{"$f":"'Rcpts & Pymts'!I36","v":0},null,{"$f":"'Rcpts & Pymts'!E36","v":0},null,null,null,null,null,null,"Yes"]
[null,{"$f":"'Rcpts & Pymts'!B37","v":"Fundraising  Raffle"},null,null,null,{"$f":"'Rcpts & Pymts'!I37","v":0},null,{"$f":"'Rcpts & Pymts'!E37","v":0},null,null,null,null,null,null,"Yes"]
[null,{"$f":"'Rcpts & Pymts'!B38","v":"Fundraising  Sausage sizzle"},null,null,null,{"$f":"'Rcpts & Pymts'!I38","v":0},null,{"$f":"'Rcpts & Pymts'!E38","v":0},null,null,null,null,null,null,"Yes"]
[null,{"$f":"'Rcpts & Pymts'!B39","v":"Fundraising  School banking"},null,null,null,{"$f":"'Rcpts & Pymts'!I39","v":0},null,{"$f":"'Rcpts & Pymts'!E39","v":0},null,null,null,null,null,null,"Yes"]
[null,{"$f":"'Rcpts & Pymts'!B40","v":"Fundraising  School camp"},null,null,null,{"$f":"'Rcpts & Pymts'!I40","v":0},null,{"$f":"'Rcpts & Pymts'!E40","v":0},null,null,null,null,null,null,"Yes"]
[null,{"$f":"'Rcpts & Pymts'!B41","v":"Fundraising  Sport carnival"},null,null,null,{"$f":"'Rcpts & Pymts'!I41","v":0},null,{"$f":"'Rcpts & Pymts'!E41","v":0},null,null,null,null,null,null,"Yes"]
[null,{"$f":"'Rcpts & Pymts'!B42","v":"Fundraising  Trivia night"},null,null,null,{"$f":"'Rcpts & Pymts'!I42","v":0},null,{"$f":"'Rcpts & Pymts'!E42","v":0},null,null,null,null,null,null,{"$f":"IF(AND(F42<1,H42<1),\"Yes\",\"\")","v":"Yes"}]
[null,{"$f":"'Rcpts & Pymts'!B43","v":"Donations"},null,null,null,{"$f":"'Rcpts & Pymts'!I43","v":0},null,{"$f":"'Rcpts & Pymts'!E43","v":0},null,null,null,null,null,null,"Yes"]
[null,{"$f":"'Rcpts & Pymts'!B44","v":"Grant "},null,null,null,{"$f":"'Rcpts & Pymts'!I44","v":0},null,{"$f":"'Rcpts & Pymts'!E44","v":0},null,null,null,null,null,null,"Yes"]
[null,{"$f":"'Rcpts & Pymts'!B45","v":"Interest earned"},null,null,null,{"$f":"'Rcpts & Pymts'!I45","v":0},null,{"$f":"'Rcpts & Pymts'!E45","v":0},null,null,null,null,null,null,"Yes"]
[null,{"$f":"'Rcpts & Pymts'!B46","v":"Other Income"},null,null,null,{"$f":"'Rcpts & Pymts'!I46","v":0},null,{"$f":"'Rcpts & Pymts'!E46","v":0},null,null,null,null,null,null,"Yes"]
[null,{"$f":"'Rcpts & Pymts'!B47","v":"Loan"},null,null,null,{"$f":"'Rcpts & Pymts'!I47","v":0},null,{"$f":"'Rcpts & Pymts'!E47","v":0},null,null,null,null,null,null,"Yes"]
[]
[null,"Total Receipts",null,null,null,{"$f":"SUM(F12:F48)","v":38240.199999999997},null,{"$f":"SUM(H12:H48)","v":0}]
[]
[]
[null,"Payments"]
[null,{"$f":"'Rcpts & Pymts'!B53","v":"Stock purchase"}]
[null,{"$f":"'Rcpts & Pymts'!B54","v":"Tuckshop Stock purchase"},null,null,null,{"$f":"'Rcpts & Pymts'!I54","v":8127},null,{"$f":"'Rcpts & Pymts'!E54","v":0},null,null,null,null,null,null,{"$f":"IF(AND(F54<1,H54<1),\"Yes\",\"\")","v":""}]
[null,{"$f":"'Rcpts & Pymts'!B55","v":"Uniform shop Stock purchase"},null,null,null,{"$f":"'Rcpts & Pymts'!I55","v":8920},null,{"$f":"'Rcpts & Pymts'!E55","v":0},null,null,null,null,null,null,""]
[null,{"$f":"'Rcpts & Pymts'!B56","v":"Bookshop Stock purchase"},null,null,null,{"$f":"'Rcpts & Pymts'!I56","v":0},null,{"$f":"'Rcpts & Pymts'!E56","v":0},null,null,null,null,null,null,"Yes"]
[null,{"$f":"'Rcpts & Pymts'!B57","v":"Swim Club Stock purchase"},null,null,null,{"$f":"'Rcpts & Pymts'!I57","v":0},null,{"$f":"'Rcpts & Pymts'!E57","v":0},null,null,null,null,null,null,"Yes"]
[null,{"$f":"'Rcpts & Pymts'!B58","v":"Fundraising Expense"}]
[null,{"$f":"'Rcpts & Pymts'!B59","v":"Art show Fundraising Expenses"},null,null,null,{"$f":"'Rcpts & Pymts'!I59","v":0},null,{"$f":"'Rcpts & Pymts'!E59","v":0},null,null,null,null,null,null,"Yes"]
[null,{"$f":"'Rcpts & Pymts'!B60","v":"Auction Fundraising Expenses"},null,null,null,{"$f":"'Rcpts & Pymts'!I60","v":0},null,{"$f":"'Rcpts & Pymts'!E60","v":0},null,null,null,null,null,null,{"$f":"IF(AND(F60<1,H60<1),\"Yes\",\"\")","v":"Yes"}]
[null,{"$f":"'Rcpts & Pymts'!B61","v":"Cake stall Fundraising Expenses"},null,null,null,{"$f":"'Rcpts & Pymts'!I61","v":0},null,{"$f":"'Rcpts & Pymts'!E61","v":0},null,null,null,null,null,null,"Yes"]
[null,{"$f":"'Rcpts & Pymts'!B62","v":"Car wash Fundraising Expenses"},null,null,null,{"$f":"'Rcpts & Pymts'!I62","v":498},null,{"$f":"'Rcpts & Pymts'!E62","v":0},null,null,null,null,null,null,{"$f":"IF(AND(F62<1,H62<1),\"Yes\",\"\")","v":""}]
[null,{"$f":"'Rcpts & Pymts'!B63","v":"Chocolate drive Fundraising Expenses"},null,null,null,{"$f":"'Rcpts & Pymts'!I63","v":0},null,{"$f":"'Rcpts & Pymts'!E63","v":0},null,null,null,null,null,null,"Yes"]
[null,{"$f":"'Rcpts & Pymts'!B64","v":"Christmas Fundraising Expenses"},null,null,null,{"$f":"'Rcpts & Pymts'!I64","v":0},null,{"$f":"'Rcpts & Pymts'!E64","v":0},null,null,null,null,null,null,"Yes"]
[null,{"$f":"'Rcpts & Pymts'!B65","v":"Coin drive Fundraising Expenses"},null,null,null,{"$f":"'Rcpts & Pymts'!I65","v":0},null,{"$f":"'Rcpts & Pymts'!E65","v":0},null,null,null,null,null,null,"Yes"]
[null,{"$f":"'Rcpts & Pymts'!B66","v":"Concert Fundraising Expenses"},null,null,null,{"$f":"'Rcpts & Pymts'!I66","v":0},null,{"$f":"'Rcpts & Pymts'!E66","v":0},null,null,null,null,null,null,"Yes"]
[null,{"$f":"'Rcpts & Pymts'!B67","v":"Container Refund Scheme Fundraising Expenses"},null,null,null,{"$f":"'Rcpts & Pymts'!I67","v":0},null,{"$f":"'Rcpts & Pymts'!E67","v":0},null,null,null,null,null,null,"Yes"]
[null,{"$f":"'Rcpts & Pymts'!B68","v":"Cookie dough drive Fundraising Expenses"},null,null,null,{"$f":"'Rcpts & Pymts'!I68","v":0},null,{"$f":"'Rcpts & Pymts'!E68","v":0},null,null,null,null,null,null,"Yes"]
[null,{"$f":"'Rcpts & Pymts'!B69","v":"Disco Fundraising Expenses"},null,null,null,{"$f":"'Rcpts & Pymts'!I69","v":0},null,{"$f":"'Rcpts & Pymts'!E69","v":0},null,null,null,null,null,null,"Yes"]
[null,{"$f":"'Rcpts & Pymts'!B70","v":"Easter Fundraising Expenses"},null,null,null,{"$f":"'Rcpts & Pymts'!I70","v":0},null,{"$f":"'Rcpts & Pymts'!E70","v":0},null,null,null,null,null,null,"Yes"]
[null,{"$f":"'Rcpts & Pymts'!B71","v":"Entertainment book Fundraising Expenses"},null,null,null,{"$f":"'Rcpts & Pymts'!I71","v":0},null,{"$f":"'Rcpts & Pymts'!E71","v":0},null,null,null,null,null,null,"Yes"]
[null,{"$f":"'Rcpts & Pymts'!B72","v":"Fathers day Fundraising Expenses"},null,null,null,{"$f":"'Rcpts & Pymts'!I72","v":0},null,{"$f":"'Rcpts & Pymts'!E72","v":0},null,null,null,null,null,null,"Yes"]
[null,{"$f":"'Rcpts & Pymts'!B73","v":"Fete Fundraising Expenses"},null,null,null,{"$f":"'Rcpts & Pymts'!I73","v":234.5},null,{"$f":"'Rcpts & Pymts'!E73","v":0},null,null,null,null,null,null,""]
[null,{"$f":"'Rcpts & Pymts'!B74","v":"Fun run Fundraising Expenses"},null,null,null,{"$f":"'Rcpts & Pymts'!I74","v":0},null,{"$f":"'Rcpts & Pymts'!E74","v":0},null,null,null,null,null,null,"Yes"]
[null,{"$f":"'Rcpts & Pymts'!B75","v":"Market stall Fundraising Expenses"},null,null,null,{"$f":"'Rcpts & Pymts'!I75","v":0},null,{"$f":"'Rcpts & Pymts'!E75","v":0},null,null,null,null,null,null,"Yes"]
[null,{"$f":"'Rcpts & Pymts'!B76","v":"Mothers day Fundraising Expenses"},null,null,null,{"$f":"'Rcpts & Pymts'!I76","v":0},null,{"$f":"'Rcpts & Pymts'!E76","v":0},null,null,null,null,null,null,"Yes"]
[null,{"$f":"'Rcpts & Pymts'!B77","v":"Movie night Fundraising Expenses"},null,null,null,{"$f":"'Rcpts & Pymts'!I77","v":0},null,{"$f":"'Rcpts & Pymts'!E77","v":0},null,null,null,null,null,null,"Yes"]
[null,{"$f":"'Rcpts & Pymts'!B78","v":"Pie drive Fundraising Expenses"},null,null,null,{"$f":"'Rcpts & Pymts'!I78","v":0},null,{"$f":"'Rcpts & Pymts'!E78","v":0},null,null,null,null,null,null,"Yes"]
[null,{"$f":"'Rcpts & Pymts'!B79","v":"Raffle Fundraising Expenses"},null,null,null,{"$f":"'Rcpts & Pymts'!I79","v":0},null,{"$f":"'Rcpts & Pymts'!E79","v":0},null,null,null,null,null,null,"Yes"]
[null,{"$f":"'Rcpts & Pymts'!B80","v":"Sausage sizzle Fundraising Expenses"},null,null,null,{"$f":"'Rcpts & Pymts'!I80","v":0},null,{"$f":"'Rcpts & Pymts'!E80","v":0},null,null,null,null,null,null,"Yes"]
[null,{"$f":"'Rcpts & Pymts'!B81","v":"School banking Fundraising Expenses"},null,null,null,{"$f":"'Rcpts & Pymts'!I81","v":0},null,{"$f":"'Rcpts & Pymts'!E81","v":0},null,null,null,null,null,null,"Yes"]
[null,{"$f":"'Rcpts & Pymts'!B82","v":"School camp Fundraising Expenses"},null,null,null,{"$f":"'Rcpts & Pymts'!I82","v":0},null,{"$f":"'Rcpts & Pymts'!E82","v":0},null,null,null,null,null,null,"Yes"]
[null,{"$f":"'Rcpts & Pymts'!B83","v":"Sport carnival Fundraising Expenses"},null,null,null,{"$f":"'Rcpts & Pymts'!I83","v":0},null,{"$f":"'Rcpts & Pymts'!E83","v":0},null,null,null,null,null,null,"Yes"]
[null,{"$f":"'Rcpts & Pymts'!B84","v":"Trivia night Fundraising Expenses"},null,null,null,{"$f":"'Rcpts & Pymts'!I84","v":0},null,{"$f":"'Rcpts & Pymts'!E84","v":0},null,null,null,null,null,null,"Yes"]
[null,{"$f":"'Rcpts & Pymts'!B85","v":"Accountant fees"},null,null,null,{"$f":"'Rcpts & Pymts'!I85","v":0},null,{"$f":"'Rcpts & Pymts'!E85","v":0},null,null,null,null,null,null,"Yes"]
[null,{"$f":"'Rcpts & Pymts'!B86","v":"Advertising and marketing"},null,null,null,{"$f":"'Rcpts & Pymts'!I86","v":0},null,{"$f":"'Rcpts & Pymts'!E86","v":0},null,null,null,null,null,null,"Yes"]
[null,{"$f":"'Rcpts & Pymts'!B87","v":"Annual Leave"},null,null,null,{"$f":"'Rcpts & Pymts'!I87","v":320},null,{"$f":"'Rcpts & Pymts'!E87","v":0},null,null,null,null,null,null,""]
[null,{"$f":"'Rcpts & Pymts'!B88","v":"Audit fees"},null,null,null,{"$f":"'Rcpts & Pymts'!I88","v":0},null,{"$f":"'Rcpts & Pymts'!E88","v":0},null,null,null,null,null,null,"Yes"]
[null,{"$f":"'Rcpts & Pymts'!B89","v":"Bank charges"},null,null,null,{"$f":"'Rcpts & Pymts'!I89","v":30},null,{"$f":"'Rcpts & Pymts'!E89","v":0},null,null,null,null,null,null,""]
[null,{"$f":"'Rcpts & Pymts'!B90","v":"Donations"},null,null,null,{"$f":"'Rcpts & Pymts'!I90","v":0},null,{"$f":"'Rcpts & Pymts'!E90","v":0},null,null,null,null,null,null,"Yes"]
[null,{"$f":"'Rcpts & Pymts'!B91","v":"Equipment/tools"},null,null,null,{"$f":"'Rcpts & Pymts'!I91","v":0},null,{"$f":"'Rcpts & Pymts'!E91","v":0},null,null,null,null,null,null,"Yes"]
[null,{"$f":"'Rcpts & Pymts'!B92","v":"Loan repayment - principal component"},null,null,null,{"$f":"'Rcpts & Pymts'!I92","v":3750},null,{"$f":"'Rcpts & Pymts'!E92","v":0},null,null,null,null,null,null,""]
[null,{"$f":"'Rcpts & Pymts'!B93","v":"Loan repayment - interest expenses"},null,null,null,{"$f":"'Rcpts & Pymts'!I93","v":300},null,{"$f":"'Rcpts & Pymts'!E93","v":0},null,null,null,null,null,null,""]
[null,{"$f":"'Rcpts & Pymts'!B94","v":"Long Service Leave"},null,null,null,{"$f":"'Rcpts & Pymts'!I94","v":0},null,{"$f":"'Rcpts & Pymts'!E94","v":0},null,null,null,null,null,null,"Yes"]
[null,{"$f":"'Rcpts & Pymts'!B95","v":"Insurance"},null,null,null,{"$f":"'Rcpts & Pymts'!I95","v":0},null,{"$f":"'Rcpts & Pymts'!E95","v":0},null,null,null,null,null,null,"Yes"]
[null,{"$f":"'Rcpts & Pymts'!B96","v":"Membership and subscriptions"},null,null,null,{"$f":"'Rcpts & Pymts'!I96","v":0},null,{"$f":"'Rcpts & Pymts'!E96","v":0},null,null,null,null,null,null,"Yes"]
[null,{"$f":"'Rcpts & Pymts'!B97","v":"Pre-paid expense"},null,null,null,{"$f":"'Rcpts & Pymts'!I97","v":3600},null,{"$f":"'Rcpts & Pymts'!E97","v":0},null,null,null,null,null,null,""]
[null,{"$f":"'Rcpts & Pymts'!B98","v":"Printing"},null,null,null,{"$f":"'Rcpts & Pymts'!I98","v":0},null,{"$f":"'Rcpts & Pymts'!E98","v":0},null,null,null,null,null,null,"Yes"]
[null,{"$f":"'Rcpts & Pymts'!B99","v":"Repairs and maintenance"},null,null,null,{"$f":"'Rcpts & Pymts'!I99","v":0},null,{"$f":"'Rcpts & Pymts'!E99","v":0},null,null,null,null,null,null,"Yes"]
[null,{"$f":"'Rcpts & Pymts'!B100","v":"School premise/facility hire"},null,null,null,{"$f":"'Rcpts & Pymts'!I100","v":0},null,{"$f":"'Rcpts & Pymts'!E100","v":0},null,null,null,null,null,null,"Yes"]
[null,{"$f":"'Rcpts & Pymts'!B101","v":"Stationery and postage"},null,null,null,{"$f":"'Rcpts & Pymts'!I101","v":0},null,{"$f":"'Rcpts & Pymts'!E101","v":0},null,null,null,null,null,null,"Yes"]
[null,{"$f":"'Rcpts & Pymts'!B102","v":"Superannuation"},null,null,null,{"$f":"'Rcpts & Pymts'!I102","v":330},null,{"$f":"'Rcpts & Pymts'!E102","v":0},null,null,null,null,null,null,""]
[null,{"$f":"'Rcpts & Pymts'!B103","v":"Wages"},null,null,null,{"$f":"'Rcpts & Pymts'!I103","v":1900},null,{"$f":"'Rcpts & Pymts'!E103","v":0},null,null,null,null,null,null,""]
[null,{"$f":"'Rcpts & Pymts'!B104","v":"Asset purchases "},null,null,null,{"$f":"'Rcpts & Pymts'!I104","v":0},null,{"$f":"'Rcpts & Pymts'!E104","v":0},null,null,null,null,null,null,"Yes"]
[null,{"$f":"'Rcpts & Pymts'!B105","v":"Other Expenses"},null,null,null,{"$f":"'Rcpts & Pymts'!I105","v":0},null,{"$f":"'Rcpts & Pymts'!E105","v":0},null,null,null,null,null,null,"Yes"]
[]
[null,"Total Payments",null,null,null,{"$f":"SUM(F53:F106)","v":28009.5},null,{"$f":"SUM(H53:H106)","v":0}]
[]
[null,"Net Receipts / (Payments)",null,null,null,{"$f":"F49-F107","v":10230.699999999997},null,{"$f":"H49-H107","v":0}]